{"text_format":"1","workbook":"xlsx","n_sheets":17,"sheets":["1","2-4","5-7","8","9","10-11","12-14","15-16","17-19","dod 1-2","dod 3-4","Титульний","Помилки","Довідки","Довідки1","Довідки2","Dov"],"not_rendered":{"charts":0,"images":0,"macros":1,"external_links":4,"defined_names":63,"comments":0,"pivot_tables":0},"unopened":[{"sheet":"Dov","index":16,"reason":"not_a_worksheet"}],"bounds":{"document_bytes":16777216,"sheet_cells":100000,"rows_first":2000,"rows_last":500,"rows_between":2000,"halvings":0,"cell_chars":16384,"cell_head_chars":4096},"cells_cut":0,"cells_raw":0,"read":"whole","date_system":"1900"}

{"sheet":"1","index":0,"n_rows":27,"n_cols":40,"rows_kept":27,"cut":false,"hidden":false,"merged":[[26,0,26,2],[26,13,26,15],[22,14,22,15],[24,1,24,2],[24,14,24,15],[15,13,25,13],[15,14,15,15],[16,1,18,1],[16,14,18,14],[15,0,25,0],[15,1,15,2],[19,1,19,2],[19,14,19,15],[20,1,20,2],[20,14,20,15],[22,1,22,2],[10,13,10,15],[11,0,11,2],[11,13,11,15],[12,0,14,0],[12,1,12,2],[12,13,14,13],[12,14,12,15],[13,1,13,2],[13,14,13,15],[14,1,14,2],[14,14,14,15],[10,0,10,2],[5,13,5,15],[6,0,6,2],[6,13,6,15],[7,0,9,0],[7,1,7,2],[7,13,9,13],[7,14,7,15],[8,1,8,2],[8,14,8,15],[9,1,9,2],[9,14,9,15],[5,0,5,2],[2,30,4,30],[3,4,4,4],[3,5,4,5],[3,9,3,10],[3,11,4,11],[3,19,3,20],[3,21,3,22],[3,23,3,24],[3,25,3,26],[3,27,4,27],[2,9,2,11],[2,12,4,12],[2,13,4,15],[2,16,4,16],[2,17,4,17],[2,18,4,18],[2,19,2,27],[2,28,4,28],[2,29,4,29],[2,0,4,2],[2,3,4,3],[2,4,2,5],[2,6,3,7],[2,8,4,8]]}
[null,null,null,null,null,null,null,2015,"року",null,null,null,null,null,null,null,null,null,null,null,null,null,null,null,null,null,null,null,null,null,null,"D:\\Звіти за 2015 рік\\",null,null,null,null,"Прокуратура Бахмацького району",null,null,"3 місяці"]
["РОЗДІЛ 1. Представництво інтересів громадян та держави в судах",null,null,null,null,null,null,null,null,null,null,null,null,"РОЗДІЛ 1. Представництво інтересів громадян та держави в судах",null,null,null,null,null,null,null,null,null,null,null,null,null,null,null,null,null,null,null,null,null,null,"Прокуратура Бобровицького району",null,null,"6 місяців"]
["Таблиця 1",null,null,"рядок","Досудове врегулювання спорів",null,"Кількість справ, що перебувають у провадженні суду",null,"Сума у справах, за якими судом відкрито провадження з початку звітного року (тис.грн.)","Розгляд справи судом",null,null,"Сума за рішеннями, які передано на примусове виконання (тис.грн.)","Таблиця 1",null,null,"рядок","Кількість справ у яких забезпечено участь прокурора","Сума за рішеннями прийнятими на користь сторони, в інтересах якої прокурор вступив у справу (тис.грн.)","Ініціювання перегляду судових рішень",null,null,null,null,null,null,null,null,"Кількість громадян права яких поновлено у судовому порядку","Площа повернутих земель та незаконне надання яких попереджено","Розпочато кримінальних проваджень",null,null,null,null,null,"Прокуратура Борзнянського району",null,null,"9 місяців"]
[null,null,null,null,"Кількість направлених звернень","Кількість позовів (заяв, скарг, подань), внесених у разі неврегулювання спору",null,null,null,"Задоволено позовів, заяв, скарг, подань",null,"Сума, яку добровільно відшкодовано за закритими справами (тис.грн.)",null,null,null,null,null,null,null,"Апеляційні скарги",null,"Касаційні скарги",null,"Заяви до Верховного Суду України",null,"Заяви про перегляд судових рішень за нововиявленими обставинами",null,"Сума за рішеннями, скасованими за скаргами, заявами прокурора (тис.грн.)",null,null,null,null,null,null,null,null,"Прокуратура Варвинського району",null,null,"12 місяців"]
[null,null,null,null,null,null,"Усього","Сума, на яку заявлено позови, заяви у цих справах (тис.грн.)",null,"Усього","Сума по них (тис.грн.)",null,null,null,null,null,null,null,null,"Розглянуто","Задоволено ","Розглянуто","Задоволено ","Розглянуто","Задоволено ","Розглянуто","Задоволено ",null,null,null,null,null,null,null,null,null,"Прокуратура Городнянського району",null,null,3]
["а",null,null,"б",1,2,3,4,5,6,7,8,9,"а",null,null,"б",10,11,12,13,14,15,16,17,18,19,20,21,22,23,null,null,null,null,null,"Прокуратура Ічнянського району",null,null,3]
["УСЬОГО",null,null,1,null,null,67,106405,354656,620,210545,10787,10228,"УСЬОГО",null,null,1,774,1305,40,27,6,4,null,null,null,null,922,153,10513.529999999999,84,null,null,null,null,null,"Прокуратура Козелецького району",null,null,3]
["з них:","у цивільному судочинстві",null,2,"x","x",41,43471,86069,314,39642,2347,2930,"з них:","у цивільному судочинстві",null,2,494,214,17,13,3,2,null,null,null,null,527,122,888.53,"x",null,null,null,null,null,"Прокуратура Коропського району"]
[null,"у господарському судочистві",null,3,"x","x",17,60682,134548,108,54702,6587,2772,null,"у господарському судочистві",null,3,148,1090,11,7,3,2,null,null,null,null,383,2,844,"x",null,null,null,null,null,"Прокуратура Корюківського району"]
[null,"в адміністративному судочинстві",null,4,"x","x",4,2217,128205,143,115920,1838,4411,null,"в адміністративному судочинстві",null,4,132,1,12,7,null,null,null,null,null,null,12,29,8781,"x",null,null,null,null,null,"Прокуратура Куликівського району"]
["В інтересах громадян",null,null,5,null,null,5,null,14405,154,12913,1305,1080,"В інтересах громадян",null,null,5,274,14,9,7,null,null,null,null,null,null,303,153,58,7,null,null,null,null,null,"Прокуратура Менського району"]
["На захист інтересів держави",null,null,6,null,null,57,106370,334367,406,197301,9467,8907,"На захист інтересів держави",null,null,6,481,1291,31,20,6,4,null,null,null,null,619,null,10451.529999999999,75,null,null,null,null,null,"Ніжинського міжрайонна прокуратура"]
["з них: ","У бюджетній сфері",null,7,null,null,3,11063,27371,58,4127,161,1543,"з них: ","У бюджетній сфері",null,7,46,16,3,1,null,null,null,null,null,null,null,null,null,22,null,null,null,null,null,"Прокуратура Новгород-Сіверського району"]
[null,"З питань державної та комунальної власності",null,8,null,null,19,20146,37694,67,15272,389,2292,null,"З питань державної та комунальної власності",null,8,108,94,6,4,3,2,null,null,null,null,null,null,43.53,8,null,null,null,null,null,"Прокуратура Носівського району"]
[null,"У сфері охорони навколишнього природного середовища",null,9,null,null,4,350,1421,31,1279,82,313,null,"У сфері охорони навколишнього природного середовища",null,9,29,null,2,2,null,null,null,null,null,null,369,null,null,21,null,null,null,null,null,"Прилуцька міжрайонна прокуратура"]
["з рядка 1:","Про відшкодування шкоди, заподіяної кримінальними правопорушеннями",null,10,null,null,7,43,6139,76,484,19,292,"з рядка 1:","Про відшкодування шкоди, заподіяної кримінальними правопорушеннями",null,10,25,76,null,null,null,null,null,null,null,null,null,null,null,null,null,null,null,null,null,"Прокуратура Ріпкинська району"]
[null,"у т.ч.","у кримінальному судочинстві",11,"x","x",5,35,5834,57,281,15,115,null,"у т.ч.","у кримінальному судочинстві",11,"x","x",null,null,null,null,null,null,null,null,null,null,null,null,null,null,null,null,null,"Прокуратура Семенівського району"]
[null,null,"з ознаками корупції",12,null,null,1,11,11,null,null,null,null,null,null,"з ознаками корупції",12,null,null,null,null,null,null,null,null,null,null,null,null,null,null,null,null,null,null,null,"Прокуратура Сосницького району"]
[null,null,"що вчинені неповнолітніми",13,null,null,null,null,null,null,null,null,null,null,null,"що вчинені неповнолітніми",13,null,null,null,null,null,null,null,null,null,null,null,null,null,null,null,null,null,null,null,"Прокуратура Срібнянського району"]
[null,"З питань виконання судових рішень",null,14,null,null,null,null,50,3,50,null,126,null,"З питань виконання судових рішень",null,14,19,null,null,null,null,null,null,null,null,null,null,null,4,2,null,null,null,null,null,"Прокуратура Талалаївського району"]
[null,"З питань захисту інтересів дітей",null,15,null,null,1,1,692,58,587,61,441,null,"З питань захисту інтересів дітей",null,15,202,null,5,5,null,null,null,null,null,null,38,50,null,5,null,null,null,null,null,"Прокуратура Чернігівського району"]
[null,"у т.ч.:","щодо інтересів держави у сфері охорони дитинства",16,null,null,1,1,145,10,80,61,219,null,"у т.ч.:","щодо інтересів держави у сфері охорони дитинства",16,12,null,2,2,null,null,null,null,null,null,14,null,null,3,null,null,null,null,null,"Прокуратура м.Чернігова"]
[null,"У воєнній сфері",null,17,null,null,null,null,null,null,null,null,null,null,"У воєнній сфері",null,17,null,null,null,null,null,null,null,null,null,null,null,null,null,null,null,null,null,null,null,"Прокуратура Щорського району"]
[null,"у т.ч.:","у сфері оборонно промислового комплексу",18,null,null,null,null,null,null,null,null,null,null,"у т.ч.:","у сфері оборонно промислового комплексу",18,null,null,null,null,null,null,null,null,null,null,null,null,null,null,null,null,null,null,null,"Апарат прокуратури Чернігівської області"]
[null,"З питань земельних відносин",null,19,null,null,30,46405,224386,184,172324,6722,1096,null,"З питань земельних відносин",null,19,198,null,12,9,null,null,null,null,null,null,212,6,10513.029999999999,15,null,null,null,null,null,"Прокуратура Чернігівської області"]
[null,"у т.ч.:","в інтересах держави",20,null,null,29,46405,212826,168,160895,6680,1051,null,"у т.ч.:","в інтересах держави",20,183,null,11,8,null,null,null,null,null,null,212,null,10455.029999999999,13,null,null,null,null,null,25]
["Контрольний рядок",null,null,21,{"$f":"SUM(E7:E26)","v":0},{"$f":"SUM(F7:F26)","v":0},291,443605,1568819,2457,986402,46521,37816,"Контрольний рядок",null,null,21,{"$f":"SUM(R7:R26)","v":3125},{"$f":"SUM(S7:S26)","v":4101},161,112,21,14,0,0,0,0,3611,515,52552.179999999993,255,null,null,null,null,null,1]

{"sheet":"2-4","index":1,"n_rows":29,"n_cols":27,"rows_kept":29,"cut":false,"hidden":false,"merged":[[24,0,24,3],[24,5,24,6],[23,0,23,3],[13,18,13,19],[15,18,15,19],[16,18,17,18],[10,17,14,17],[11,18,12,18],[10,18,10,19],[14,18,14,19],[19,18,19,19],[7,0,17,0],[15,1,15,3],[19,0,19,3],[22,5,22,6],[21,0,22,3],[28,7,28,8],[27,7,27,8],[26,7,26,8],[25,7,25,8],[15,17,19,17],[23,7,23,8],[20,17,20,19],[22,7,22,8],[24,7,24,8],[21,5,21,8],[28,0,28,3],[28,5,28,6],[25,0,27,0],[26,2,26,3],[25,5,25,6],[27,1,27,3],[27,5,27,6],[25,1,25,3],[26,5,26,6],[0,0,0,15],[1,6,2,7],[1,8,3,8],[1,9,3,9],[2,0,3,3],[2,13,3,13],[2,15,3,15],[1,12,3,12],[1,11,3,11],[1,14,3,14],[1,4,3,4],[1,10,3,10],[1,5,3,5],[5,0,5,3],[23,5,23,6],[1,17,1,19],[4,17,4,19],[5,18,5,19],[4,0,4,3],[2,17,3,19],[5,17,9,17],[9,18,9,19],[8,18,8,19],[6,18,7,18],[6,0,6,3],[7,1,7,3],[8,1,8,3],[18,18,18,19],[21,4,22,4],[1,22,1,26],[1,20,3,20],[2,25,3,25],[2,26,3,26],[1,21,3,21],[2,22,3,22],[2,23,3,23],[2,24,3,24],[18,0,18,3],[16,1,16,3],[17,2,17,3],[9,2,9,3],[9,1,14,1],[10,2,11,2],[13,2,14,2],[12,2,12,3]]}
["РОЗДІЛ 2. Нагляд за додержанням законів органами, які проводять оперативно-розшукову діяльність та досудове розслідування "]
["Таблиця 2",null,null,null,"рядок","Виявлено та внесено до Реєстру відомості про вчинені кримінальні правопорушення, раніше не обліковані ","з числа укритих від обліку: ",null,"Скасовано постанов про закриття \nкримінальних проваджень","у т.ч. направлено до суду","Винесено прокурором постанов про відновлення досудового розслідування ","Дано письмових вказівок","Прийнято прокурором участь у розгляді слідчим суддею скарг на рішення, дії чи бездіяльність слідчого або прокурора ","у т.ч. ","Із задоволеннням скарги (з графи 8)","у т.ч. ",null,"Таблиця 4",null,null,"рядок","УСЬОГО","За фактами порушень, допущених при:"]
["Нагляд за законністю проведення досудового розслідування ",null,null,null,null,null,null,null,null,null,null,null,null," щодо невнесення до Реєстру відомостей про крим. правопорушення ",null," щодо невнесення до Реєстру відомостей про крим. правопорушення ",null,"Нагляд за додержанням законності у діяльності правоохоронних органів",null,null,null,null,"реєстрації заяв і повідомлень про вчинені кримінальні правопорушення ","здійсненні досудового розслідування злочинів","здійсненні досудового розслідування кримінальних проступків","застосуванні незаконних методів \nдосудового розслідування ","у т.ч. у провадженнях щодо неповнолітніх ( з гр.1)"]
[null,null,null,null,null,null,"надіслано до суду ","закрито за п.п.1, 2, 3 \nч.1 ст. 284 КПК"]
["а",null,null,null,"б",1,2,3,4,5,6,7,8,9,10,11,null,"а",null,null,"б",1,2,3,4,5,6]
["УСЬОГО",null,null,null,1,50,2,21,852,29,6,3446,114,30,28,7,null,"Розглянуто документів прокурора з вжиттям заходів до усунення порушень законів у діяльності органів","внутрішніх справ",null,1,162,28,105,null,null,14]
["Прокурорів (з рядка 1)",null,null,null,2,"x","x","x","x","x","x","x",11,7,5,3,null,null,"з них:","спец. підрозділів і ССВ",2]
["з них за кримінальними провадженнями (з рядка 1):","слідчих прокуратури",null,null,3,null,null,null,14,null,null,81,40,15,7,1,null,null,null,"на транспорті",3,9,1,8,null,null,1]
[null,"слідчих МВС",null,null,4,50,2,21,831,29,6,3301,56,8,15,3,null,null,"фіскальної служби",null,4,2,null,2]
[null,"з них:","про злочини",null,5,50,2,21,831,29,6,3301,56,8,15,3,null,null,"служби безпеки",null,5,1,null,1]
[null,null,"у т.ч.:","спец. відділів",6,null,null,null,null,null,null,null,null,null,null,null,null,"Притягнуто до дисциплінарної відповідальності працівників органів за документами прокурора","внутрішніх справ",null,6,193,43,114,null,null,15]
[null,null,null,"на транспорті",7,11,null,8,17,null,null,141,null,null,null,null,null,null,"з них:","спец. підрозділів і ССВ",7]
[null,null,"про кримінальні проступки",null,8,null,null,null,null,null,null,null,null,null,null,null,null,null,null,"на транспорті",8,7,1,6]
[null,null,"у т.ч.:","спец. відділів",9,null,null,null,null,null,null,null,null,null,null,null,null,null,"фіскальної служби",null,9,10,null,10]
[null,null,null,"на транспорті",10,null,null,null,null,null,null,null,null,null,null,null,null,null,"служби безпеки",null,10,2,null,2]
[null,"слідчих ДФС",null,null,11,null,null,null,7,null,null,36,7,null,1,null,null,"Повідомлено про підозру за направленими до суду кримінальними провадженнями працівникам органів ","внутрішніх справ",null,11,9]
[null,"слідчих служби безпеки",null,null,12,null,null,null,null,null,null,28,null,null,null,null,null,null,"з них:","спец. підрозділів і ССВ",12]
[null,"у т.ч.:","спец. підрозділів",null,13,null,null,null,null,null,null,null,null,null,null,null,null,null,null,"на транспорті",13]
["у т.ч. у провадженнях щодо неповнолітніх (з рядка 1)",null,null,null,14,null,null,null,5,2,null,83,null,null,null,null,null,null,"фіскальної служби",null,14]
["Контрольний рядок",null,null,null,15,{"$f":"SUM(F6:F19)","v":161},6,71,2557,89,18,10417,284,68,71,17,null,null,"служби безпеки",null,15]
[null,null,null,null,null,null,null,null,null,null,null,null,null,null,null,null,null,"Контрольний рядок",null,null,16,{"$f":"SUM(V6:V20)","v":395},73,248,0,0,30]
["Таблиця 3\nРозглянуті апеляційні скарги прокурора на судові рішення з питань досудового розслідування ",null,null,null,"рядок","Апеляційні скарги "]
[null,null,null,null,null,"задоволено",null,"відхилено"]
["а",null,null,null,"б",1,null,2]
["Про скасування ухвал слідчого судді",null,null,null,1,8,null,4]
["з них:","про відмову в наданні дозволу на затримання ",null,null,2]
[null,"у т.ч:","у провадженнях щодо неповнолітніх",null,3]
[null,"про відмову у відстороненні від посади",null,null,4]
["Контрольний рядок",null,null,null,5,{"$f":"SUM(F25:F28)","v":8},null,{"$f":"SUM(H25:H28)","v":4}]

{"sheet":"5-7","index":2,"n_rows":45,"n_cols":29,"rows_kept":45,"cut":false,"hidden":false,"merged":[[35,13,35,15],[34,13,34,15],[33,14,33,15],[34,0,41,0],[34,1,35,1],[34,2,34,3],[24,0,24,3],[25,0,25,3],[26,0,27,0],[26,1,26,3],[27,1,27,3],[36,1,41,1],[36,2,36,3],[37,2,40,2],[41,2,41,3],[33,0,33,3],[18,0,23,0],[18,1,18,3],[19,1,19,3],[20,1,23,1],[20,2,20,3],[7,17,8,17],[10,0,10,3],[11,0,11,3],[16,0,16,3],[22,2,22,3],[23,2,23,3],[18,16,25,16],[1,5,3,5],[4,0,4,3],[1,0,1,3],[3,0,3,3],[1,4,3,4],[14,23,15,23],[14,22,15,22],[14,21,15,21],[14,20,15,20],[7,16,8,16],[6,13,6,15],[5,0,5,3],[5,13,5,15],[6,0,9,0],[9,1,9,3],[6,1,6,3],[14,19,15,19],[10,13,13,13],[12,14,12,15],[7,18,8,18],[14,18,15,18],[14,17,15,17],[14,16,15,16],[14,13,15,15],[1,28,3,28],[7,28,8,28],[7,27,8,27],[7,26,8,26],[7,22,8,22],[7,20,8,20],[14,28,15,28],[7,19,8,19],[2,21,2,22],[7,21,8,21],[7,25,8,25],[7,23,8,23],[1,18,1,27],[2,26,3,26],[2,18,2,20],[2,27,3,27],[14,27,15,27],[14,26,15,26],[14,25,15,25],[2,23,2,25],[1,6,1,10],[2,10,3,10],[2,9,3,9],[2,8,3,8],[18,27,25,27],[18,22,25,22],[44,0,44,3],[7,13,8,15],[14,1,14,3],[15,1,15,3],[12,0,15,0],[13,1,13,3],[12,1,12,3],[32,0,32,3],[28,0,28,3],[29,0,29,3],[9,13,9,15],[30,0,31,0],[30,1,30,3],[31,1,31,3],[17,0,17,3],[8,1,8,3],[7,1,7,3],[21,2,21,3],[42,0,42,3],[43,0,43,3],[19,26,25,26],[18,25,25,25],[18,24,25,24],[19,23,25,23],[1,17,3,17],[1,11,3,11],[2,6,3,6],[1,16,3,16],[11,14,11,15],[13,14,13,15],[10,14,10,15],[2,7,3,7],[3,13,3,15],[4,13,4,15],[16,13,16,15],[32,14,32,15],[29,14,29,15],[28,14,28,15],[27,13,27,15],[26,13,26,15],[7,24,8,24],[14,24,15,24],[24,18,25,18],[24,17,25,17],[18,17,23,18],[18,19,25,19],[24,21,25,21],[24,20,25,20],[18,20,23,21],[28,13,33,13],[30,14,31,14]]}
[]
["Таблиця 5",null,null,null,"рядок","Усього","у тому числі у кримінальних провадженнях органів:",null,null,null,null,"щодо неповнолітніх \n(з графи 1)",null,"Таблиця 6",null,null,"рядок","У с ь о г о","у т.ч. в органах:",null,null,null,null,null,null,null,null,null,"щодо неповнолітніх\n(з графи 1)"]
[null,null,null,null,null,null,"прокуратури","МВС","з них: на транспорті","служби безпеки ","ДФС",null,null,null,null,null,null,null,"М В С",null,null,"С Б У",null,"ДФС",null,null,"Прикордонної служби","Пенітенціарної служби"]
["Клопотання до суду про застосування запобіжних заходів",null,null,null,null,null,null,null,null,null,null,null,null,"Нагляд за додержанням законів при здійсненні оперативно-розшукової діяльності (ОРД)",null,null,null,null,"усього","з ознаками\nОГ і ЗО","на транспорті","усього","з ознаками\nОГ і ЗО","усього","податкової міліції ","боротьби з контрабандою"]
["а",null,null,null,"б",1,2,3,4,5,6,7,null,"а",null,null,"б",1,2,3,4,5,6,7,8,9,10,11,12]
["Подано до суду клопотань (усього)",null,null,null,1,640,21,613,1,5,1,15,null,"Перевірено оперативно-розшукових справ",null,null,1]
["з них: ","про особисте зобов'язання",null,null,2,217,6,208,1,2,1,4,null,"Розглянуто документів прокурора",null,null,2]
[null,"про заставу",null,null,3,2,2,null,null,null,null,null,null,"Притягнуто до дисциплінарної відповідальності за документами прокурора",null,null,3]
[null,"про домашній арешт ",null,null,4,77,null,77,null,null,null,5]
[null,"про тримання під вартою",null,null,5,343,13,327,null,3,null,6,null,"Скасовано незаконних постанов ",null,null,4]
["Подано клопотань про поміщення до психіатричного закладу",null,null,null,6,2,null,2,null,null,null,null,null,"з них:","про заведення ОРС",null,5]
["Відкликано прокурором клопотань",null,null,null,7,null,null,null,null,null,null,null,null,null,"про закриття",null,6]
["з них: ","про особисте зобов'язання",null,null,8,null,null,null,null,null,null,null,null,null,"про зупинення",null,7]
[null,"про заставу",null,null,9,null,null,null,null,null,null,null,null,null,"про поновлення",null,8]
[null,"про домашній арешт ",null,null,10,null,null,null,null,null,null,null,null,"Надано письмових вказівок відповідно до п.4 ст.14 Закону України \"Про оперативно-розшукову діяльність\"",null,null,9]
[null,"про тримання під вартою",null,null,11]
["Відкликано клопотань про поміщення до психіатричного закладу",null,null,null,12,null,null,null,null,null,null,null,null,"Контрольний рядок",null,null,10,{"$f":"SUM(R6:R15)","v":0},0,0,0,0,0,0,{"$f":"SUM(Y6:Y15)","v":0},0,0,0,0]
["Відмовлено слідчим суддею у задоволенні клопотань (з рядків 4,5)",null,null,null,13,55,1,54,null,null,null,1]
["з них: ","про домашній арешт ",null,null,14,6,null,6,null,null,null,null,null,null,null,null,"рядок","розглянуто прокурором клопотань слідчих ",null,"внесено прокурором особисто \nклопотань до суду ","рішення суду за результатами розгляду клопотання прокурора або слідчого \n(з граф 1,3)",null,"Прийнято рішень про проведення НСРД в порядку ст. 250 КПК України ","у т.ч.","Прийнято прокурором рішень \nпро розсекречення","Прийнято прокурором самостійно рішень про проведення НСРД ","у т.ч.","За рішенням прокурора \nприпинено НСРД"]
[null,"про тримання під вартою",null,null,15,49,1,48,null,null,null,1,null,"Таблиця 7",null,null,null,null,null,null,null,null,null,"з відмовою у задоволенні \nклопотання слідчим суддею",null,null,"з подальшим розсекреченням "]
[null,"у т.ч. \nз обранням \n(з рядка 15):","особистого зобов’язання",null,16,9,null,9]
[null,null,"особистої поруки",null,17]
[null,null,"застави",null,18,1,1]
[null,null,"домашнього арешту",null,19,33,null,33,null,null,null,1]
["Відмовлено у задоволенні клопотань про поміщення до психіатричного закладу (з рядка 6)",null,null,null,20,null,null,null,null,null,null,null,null,"Негласні слідчі (розшукові) дії ",null,null,null,"прокурором погоджено","прокурором відмовлено",null,"судом задоволено ","судом відмовлено "]
["Подано апеляційних скарг на ухвали слідчого судді про відмову в застосуванні запобіжного заходу ",null,null,null,21,8,null,8]
["з них: ","про домашній арешт ",null,null,22,null,null,null,null,null,null,null,null,"а",null,null,"б",1,2,3,4,5,6,7,8,9,10,11]
[null,"про тримання під вартою",null,null,23,8,null,8,null,null,null,null,null,"Усього",null,null,1]
["Подано апеляційних скарг на ухвали слідчого судді про відмову у поміщенні до психіатричного закладу",null,null,null,24,null,null,null,null,null,null,null,null,"з них за кримінальними \nпровадженнями: ","слідчих прокуратури",null,2]
["Задоволено (з рядка 21)",null,null,null,25,3,null,3,null,null,null,null,null,null,"слідчих МВС",null,3]
["з них: ","про домашній арешт ",null,null,26,null,null,null,null,null,null,null,null,null,"у т. ч.:","на транспорті",4]
[null,"про тримання під вартою",null,null,27,3,null,3,null,null,null,null,null,null,null,"спецвідділів",5]
["Задоволено апеляційних скарг на ухвали про відмову у поміщенні до психіатричного закладу (з рядка 24)",null,null,null,28,null,null,null,null,null,null,null,null,null,"слідчих ДФС",null,6]
["Звільнено з-під варти осіб на стадії досудового розслідування та судового провадження (за закінченими досудовим розслідуванням або розглянутими судами кримінальними провадженнями)",null,null,null,29,null,null,null,null,null,null,null,null,null,"слідчих СБУ",null,7]
["з них осіб за кримінал. провадженнями (з рядка 29):","закритими за результатами досудового розслідування","За відсутністю події або складу кримінального правопорушення чи за недоведеністю винуватості підозрюваного ",null,30,null,null,null,null,null,null,null,null,"з рядка 1, щодо неповнолітніх",null,null,8]
[null,null,"з них:","за відсутністю складу кримінального правопорушення у зв’язку із зміною законодавства (декриміналізацією)",31,null,null,null,null,null,null,null,null,"Контрольний рядок",null,null,9,{"$f":"SUM(R28:R35)","v":0},{"$f":"SUM(S28:S35)","v":0},0,0,0,0,0,0,0,0,0]
[null,"розглянутими судами","За виправданням обвинуваченого або закриттям кримінал. провадження судом",null,32]
[null,null,"з них:","за невстановленням події або складу кримінал. правопорушення чи за недоведеністю винуватості особи у суді ",33]
[null,null,null,"при відмові прокурора від підтримання обвинувачення",34]
[null,null,null,"за закриттям провадження з інших підстав ",35]
[null,null,null,"за відсутністю складу кримінального правопорушення у зв’язку із зміною законодавства (декриміналізацією)",36]
[null,null,"Звільнено у зв’язку із засудженням до покарання, не пов’язаного з позбавленням волі",null,37]
["Звільнено осіб з-під варти у зв’язку із скасуванням апеляційним судом ухвали суду про тримання під вартою",null,null,null,38,1,null,1]
["Звільнено осіб з-під варти на стадії досудового розслідування у зв'язку з внесенням застави (ч. 3 ст. 183 КПК України)",null,null,null,39,36,10,26]
["Контрольний рядок",null,null,null,40,{"$f":"SUM(F6:F44)","v":1493},55,1426,2,10,2,33]

{"sheet":"8","index":3,"n_rows":50,"n_cols":7,"rows_kept":50,"cut":false,"hidden":false,"merged":[[21,1,21,3],[20,1,20,3],[32,1,32,3],[32,0,33,0],[49,0,49,3],[39,0,39,3],[40,0,48,0],[40,1,40,3],[41,1,42,1],[41,2,41,3],[43,1,43,3],[44,1,45,1],[44,2,44,3],[46,1,46,3],[47,1,48,1],[47,2,47,3],[36,0,36,3],[37,0,38,0],[38,1,38,3],[33,1,33,3],[31,1,31,3],[37,1,37,3],[34,0,34,3],[5,2,5,3],[10,2,10,3],[6,2,6,3],[12,1,12,3],[35,1,35,3],[28,0,28,3],[30,0,30,3],[23,1,23,3],[24,1,24,3],[26,2,26,3],[27,1,27,3],[19,0,27,0],[25,1,25,3],[19,1,19,3],[22,1,22,3],[29,1,29,3],[0,0,0,6],[4,0,18,0],[5,1,8,1],[7,2,7,3],[9,1,9,3],[10,1,11,1],[1,0,1,3],[18,1,18,3],[15,1,15,3],[14,1,14,3],[16,1,16,3],[17,1,17,3],[13,1,13,3],[2,0,2,3],[3,0,3,3],[4,1,4,3]]}
["РОЗДІЛ 3. Участь прокурорів у судовому розгляді кримінальних проваджень та перегляді судових рішень"]
["Таблиця 8\nУчасть прокурорів у судовому розгляді кримінальних проваджень судами всіх інстанцій",null,null,null,"рядок","Усього","щодо неповнолітніх (з графи 1)"]
["а",null,null,null,"б",1,2]
["Участь у розгляді кримінальних проваджень судами першої інстанції (усього)",null,null,null,1,3329,87]
["у т.ч.:","у підготовчому судовому засіданні",null,null,2,429,12]
[null," з них: ","з поверненням провадження прокурору при відмові у затвердженні угоди",null,3,2]
[null,null,"у розгляді судом клопотань про направлення проваджень для закриття ",null,4,43,1]
[null,null,"з ухваленням вироку на підставі угоди",null,5,191,3]
[null,null,"у т.ч.:","про визнання винуватості",6,82,1]
[null,"у судовому розгляді проваджень з ухваленням вироку ",null,null,7,1786,72]
[null,"з них:","з ухваленням вироку на підставі угоди",null,8,15,1]
[null,null,"у т.ч.:","про визнання винуватості",9,7]
[null,"у розгляді судом клопотань прокурора про скасування вироку, яким затверджена угода\n(ст.476 КПК України)",null,null,10]
[null,"у провадженнях про застосування примусових заходів медичного характеру",null,null,11,18]
[null,"у провадженнях про продовження, зміну, припинення примусових заходів медичного характеру, відновлення кримінального провадження",null,null,12,69]
[null,"у розгляді судом клопотань про застосування примусових заходів виховного характеру",null,null,13,2,2]
[null,"у провадженні у формі приватного обвинувачення із закриттям за заявою потерпілого у зв’язку з відмовою від обвинувачення (п.7 ч.1 ст.284 КПК України)",null,null,14,45]
[null,"у розгляді судом питань, пов’язаних з виконанням вироків",null,null,15,896]
[null,"у розгляді судом питань, пов’язаних із застосуванням амністії",null,null,16,38]
["з них (з рядка 7):","розглянуто за спрощеною процедурою (ч.3 ст.349 КПК України)",null,null,17,1209]
[null,"про кримінальні проступки",null,null,18]
[null,"у провадженнях про вчинення кримінальних правопорушень у складі ОГ і ЗО",null,null,19,1]
[null,"зі зміною обвинувачення прокурором у суді",null,null,20,20,2]
[null,"згідно з позицією потерпілого, який не погодився зі зміною обвинувачення прокурором",null,null,21]
[null,"з висуненням прокурором додаткового обвинувачення в суді",null,null,22]
[null,"з ухваленням виправдувального вироку (в особах)",null,null,23,14,2]
[null,"у т.ч.:","згідно з позицією потерпілого при відмові прокурора від обвинувачення ",null,24]
[null,"з ухваленням обвинувального вироку, де прокурор відмовився від обвинувачення (в особах)",null,null,25]
["Участь у кримінальних провадженнях, закритих за реабілітуючими підставами судами усіх інстанцій(в особах)",null,null,null,26,4]
["з них:","згідно з позицією прокурора",null,null,27]
["Участь у перегляді судових рішень судом апеляційної інстанції",null,null,null,28,470,29]
["з них:","з ухваленням нового вироку",null,null,29,36]
["з рядка 28","вироків, ухвалених на підставі угоди про примирення",null,null,30,2]
[null,"вироків, ухвалених на підставі угоди про визнання винуватості",null,null,31,2,1]
["Участь у перегляді судових рішень судом касаційної інстанції ",null,null,null,32]
["у т.ч.: ","вироків, ухвалених на підставі угоди про визнання винуватості та постановлених щодо них рішень суду апеляційної інстанції",null,null,33]
["Участь у перегляді судових рішень Верховним Судом України",null,null,null,34]
["з них:","на підставі п.1 ч.1 ст.445 КПК України",null,null,35]
[null,"на підставі п.2 ч.1 ст.445 КПК України",null,null,36]
["Участь у перегляді судових рішень за нововиявленими обставинами",null,null,null,37]
["з них (з рядка 37):","судами першої інстанції",null,null,38]
[null,"з них:","із скасуванням вироку ",null,39]
[null,null,"у т.ч. ","за заявами прокурора ",40]
[null,"апеляційними судами",null,null,41]
[null,"з них:","із скасуванням вироку",null,42]
[null,null,"у т.ч.:","за заявами прокурора",43]
[null,"Вищим спеціалізованим судом України з розгляду цивільних і кримінальних справ",null,null,44]
[null,"з них:","із скасуванням вироку",null,45]
[null,null,"у т.ч.:","за заявами прокурора",46]
["Контрольний рядок",null,null,null,47,{"$f":"SUM(F4:F49)","v":8710},{"$f":"SUM(G4:G49)","v":213}]

{"sheet":"9","index":4,"n_rows":30,"n_cols":12,"rows_kept":30,"cut":false,"hidden":false,"merged":[[22,2,22,4],[29,0,29,4],[28,1,28,4],[27,2,27,4],[26,2,26,4],[1,6,1,7],[1,8,1,9],[25,2,25,4],[1,10,1,11],[13,2,13,4],[14,2,14,4],[7,2,7,4],[12,2,12,4],[6,2,6,4],[1,5,2,5],[4,0,4,4],[10,2,10,4],[1,0,1,4],[3,0,3,4],[2,0,2,4],[5,0,28,0],[5,1,5,4],[24,1,27,1],[15,2,18,2],[9,3,9,4],[11,3,11,4],[17,3,17,4],[8,3,8,4],[15,3,15,4],[20,3,20,4],[6,1,18,1],[19,1,19,4],[24,2,24,4],[23,1,23,4],[20,1,22,1],[21,2,21,4],[8,2,9,2]]}
[]
["Таблиця 9",null,null,null,null,"рядок","Апеляційні скарги прокурора",null,"Касаційні скарги прокурора",null,"Заяви в порядку ст.445 КПК"]
["Розглянуті апеляційні, касаційні скарги та заяви прокурора (за кількістю осіб)",null,null,null,null,null,"задово-лено","відхи-лено","задово-лено","відхи-лено","задово-лено","відхи-лено"]
["а",null,null,null,null,"б",1,2,3,4,5,6]
["Усього",null,null,null,null,1,162,48]
["Підстави апеляційних, касаційних скарг та заяв прокурора (з рядка 1)","Про скасування вироку (усього)",null,null,null,2,78,26,null,null,"x","x"]
[null,"з них:","з призначенням нового судового розгляду",null,null,3,36,2,null,null,"x","x"]
[null,null,"з ухваленням нового вироку",null,null,4,35,23,"x","x","x","x"]
[null,null,"з ряд. \n3, 4","у зв’язку з виправданням особи ",null,5,8,8,null,null,"x","x"]
[null,null,null,"за м’якістю покарання",null,6,14,11,null,null,"x","x"]
[null,null,"із закриттям провадження",null,null,7,2,null,null,null,"x","x"]
[null,null,"у т.ч.","за реабілітуючими підставами",null,8,null,null,null,null,"x","x"]
[null,null,"у провадженнях щодо неповнолітніх",null,null,9,2,1,null,null,"x","x"]
[null,null,"у провадженнях про вчинення кримінал. правопорушень у складі ОГ і ЗО",null,null,10,null,2,null,null,"x","x"]
[null,null,"ухваленого на підставі угоди",null,null,11,1,null,null,null,"x","x"]
[null,null,"у т.ч. ","про примирення",null,12,1,null,null,null,"x","x"]
[null,null,null,"з них:","направлено для здійснення досудового розслідування ",13,null,null,"x","x","x","x"]
[null,null,null,"про визнання винуватості",null,14,null,null,null,null,"x","x"]
[null,null,null,"з них:","направлено для здійснення досудового розслідування ",15,null,null,"x","x","x","x"]
[null,"Про зміну вироку (усього)",null,null,null,16,43,4,null,null,"x","x"]
[null,"з них:","у т.ч.","з пом’якшенням покарання",null,17,null,null,null,null,"x","x"]
[null,null,"у провадженнях щодо неповнолітніх",null,null,18,8,null,null,null,"x","x"]
[null,null,"у провадженнях про вчинення кримінал. правопорушень у складі ОГ і ЗО",null,null,19,null,null,null,null,"x","x"]
[null,"Про скасування ухвал суду (усього)",null,null,null,20,40,18]
[null,"з них:","з постановленням нової ухвали",null,null,21,1,null,"x","x"]
[null,null,"з направленням провадження на новий розгляд до суду касаційної інстанції",null,null,22,"x","x","x","x"]
[null,null,"про повернення прокурору обвинувального акта, клопотання про застосування примусових заходів медичного або виховного характеру",null,null,23,28,14,"x","x","x","x"]
[null,null,"про закриття провадження за реабілітуючими підставами",null,null,24,null,null,null,null,"x","x"]
[null,"Про зміну ухвал суду (усього)",null,null,null,25,1]
["Контрольний рядок",null,null,null,null,26,{"$f":"SUM(G5:G29)","v":460},157,0,0,0,0]

{"sheet":"10-11","index":5,"n_rows":37,"n_cols":9,"rows_kept":37,"cut":false,"hidden":false,"merged":[[1,0,1,3],[1,4,2,4],[1,5,1,6],[1,7,1,8],[2,0,2,3],[3,0,3,3],[4,0,4,3],[5,0,19,0],[5,1,5,3],[6,1,8,1],[6,2,6,3],[7,2,7,3],[8,2,8,3],[9,1,9,3],[10,1,10,3],[11,2,11,3],[12,1,14,1],[12,2,12,3],[13,2,13,3],[14,2,14,3],[23,4,24,4],[23,5,24,5],[23,6,23,8],[24,0,24,3],[15,1,15,3],[16,1,18,1],[16,2,16,3],[17,2,17,3],[18,2,18,3],[19,1,19,3],[27,2,27,3],[25,0,25,3],[26,0,27,1],[26,2,26,3],[20,0,20,3],[35,2,35,3],[36,0,36,3],[34,2,34,3],[28,0,35,1],[28,2,28,3],[29,2,33,2]]}
[]
["Таблиця 10",null,null,null,"рядок","У порядку глави 31 КПК",null,"У порядку глави 32 КПК"]
["Перегляд судових рішень (за кількістю осіб) з ініціативи - ",null,null,null,null,"прокурора","інших учасників","прокурора","інших учасників"]
["a",null,null,null,"б",1,2,3,4]
["Усього",null,null,null,1,162,48]
[" Підстави апеляційних, касаційних скарг та результати розгляду (з рядка 1)","Про скасування вироку",null,null,2,78,19]
[null,"з них:","із закриттям провадження ",null,3,2,7]
[null,null,"з призначенням нового розгляду",null,4,36,12]
[null,null,"ухвалено новий вирок при скасуванні",null,5,35,null,"x","x"]
[null,"З рядків 4, 5 за м’якістю",null,null,6,14,1]
[null,"Про зміну вироку",null,null,7,43,28]
[null,"у т.ч.","з пом’якшенням покарання",null,8,null,26]
[null,"з рядків 2, 7","скасовано чи змінено за обставинами, які виникли після постановлення вироку",null,9,null,3]
[null,null,"у провадженнях щодо \nнеповнолітніх",null,10,10,2]
[null,null,"у провадженнях про вчинення кримінальних правопорушень у складі ОГ і ЗО",null,11,null,1]
[null,"Про скасування ухвали",null,null,12,40,1]
[null,"з них:","скасовано ухвал з поверненням обвинувального акта, клопотання про застосування примусових заходів медичного або виховного характеру ",null,13,28,null,"x","x"]
[null,null,"із закриттям провадження за реабілітуючими підставами",null,14]
[null,null,"з постановленням нової ухвали",null,15,1,null,"x","x"]
[null,"Про зміну ухвали",null,null,16,1]
["Контрольний рядок",null,null,null,17,{"$f":"SUM(F5:F20)","v":450},{"$f":"SUM(G5:G20)","v":148},{"$f":"SUM(H5:H20)","v":0},{"$f":"SUM(I5:I20)","v":0}]
[]
["РОЗДІЛ 4. Міжнародно-правове співробітництво у кримінальному провадженні"]
["Таблиця 11",null,null,null,"рядок","УСЬОГО","Види правової допомоги"]
["Робота за зверненнями про правову допомогу",null,null,null,null,null,"виконання процесуальних дій","перейняття кримінального провадження","екстрадиція"]
["а",null,null,null,"б",1,2,3,4]
["Звернення іноземних установ",null,"Надійшло звернень у звітному періоді",null,1,1,1]
[null,null,"Виконано звернень",null,2,1,1]
["Звернення установ України",null,"Підготовлено звернень у звітному періоді",null,3,7,5,2]
[null,null,"з них (з рядка 3):","органами прокуратури",4]
[null,null,null,"органами внутрішніх справ",5,4,3,1]
[null,null,null,"органами служби безпеки",6,3,2,1]
[null,null,null,"органами фіскальної служби",7]
[null,null,null,"судовими органами",8]
[null,null,"Надіслано звернень для виконання",null,9,7,5,2]
[null,null,"Виконано звернень",null,10,5,4,1]
["Контрольний рядок",null,null,null,11,{"$f":"SUM(F27:F36)","v":28},{"$f":"SUM(G27:G36)","v":21},{"$f":"SUM(H27:H36)","v":7},{"$f":"SUM(I27:I36)","v":0}]

{"sheet":"12-14","index":6,"n_rows":40,"n_cols":6,"rows_kept":40,"cut":false,"hidden":false,"merged":[[39,0,39,1],[35,0,35,1],[34,0,34,1],[36,0,38,0],[0,0,0,5],[1,0,1,1],[2,0,2,1],[3,0,3,1],[4,0,4,1],[9,0,9,1],[10,0,10,1],[11,0,11,1],[12,0,12,1],[5,0,5,1],[6,0,6,1],[7,0,7,1],[8,0,8,1],[18,0,18,1],[19,0,19,1],[20,0,20,1],[21,0,21,1],[13,0,13,1],[14,0,14,1],[16,0,16,1],[28,0,28,1],[30,0,30,1],[32,0,32,1],[29,0,29,1],[22,0,22,1],[23,0,23,1],[25,0,25,1],[27,0,27,1],[26,0,26,1],[24,0,24,1]]}
["РОЗДІЛ 5. Нагляд за додержанням законів при виконанні судових рішень у кримінальних провадженнях, а також при застосуванні інших заходів примусового характеру, пов'язаних з обмеженням особистої свободи громадян"]
["Таблиця 12\n\nНагляд за додержанням законів при виконанні судових рішень у кримінальних провадженнях",null,"рядок","Звільнено за ініціативою прокурора незаконно утримуваних осіб","Розглянуто документів прокурора з вжиттям заходів щодо усунення порушень закону","Притягнуто до дисциплінарної, адміністративної відповідальності працівників"]
["а",null,"б",1,2,3]
["Усього:",null,1,null,143,125]
["Слідчі ізолятори",null,2,null,7,6]
["Арештні доми",null,3]
["Виправні центри",null,4,null,15,5]
["Виправні колонії",null,5,null,35,24]
["Виховні колонії",null,6,null,8,8]
["Кримінально-виконавчі інспекції",null,7,null,24,15]
["Органи виконавчої влади, місцевого самоврядування, підприємства, установи, організації",null,8,"x",45,65]
["Підрозділи державної виконавчої служби",null,9,"x",8]
["Відділення психіатричних лікарень та стаціонарної судово-психіатрічної експертизи",null,10,null,1,2]
["Дисциплінарний батальйон",null,11]
["Військові частини",null,12]
["з рядка 1","у т.ч. щодо неповнолітніх",13,null,32,29]
["Контрольний рядок",null,14,{"$f":"SUM(D4:D16)","v":0},{"$f":"SUM(E4:E16)","v":318},{"$f":"SUM(F4:F16)","v":279}]
[]
["Таблиця 13\n\nНагляд за додержанням законів при застосуванні інших заходів примусового характеру, пов’язаних з обмеженням особистої свободи громадян ",null,"рядок","Звільнено за ініціативою прокурора незаконно утримуваних осіб","Розглянуто документів прокурора з вжиттям заходів щодо усунення порушень закону","Притягнуто до дисциплінарної, адміністративної відповідальності працівників"]
["а",null,"б",1,2,3]
["Усього:",null,1,null,125,63]
["Пункти тимчасового тримання прикордонної служби та спецприміщення прикордонних загонів ",null,2,null,4,9]
["Ізолятори тимчасового тримання органів внутрішніх справ",null,3,null,81,34]
["Місця тимчасового тримання органів СБУ",null,4]
["Кімнати для затриманих та доставлених чергових частин органів внутрішніх справ",null,5,null,4,4]
["Спец. приймальники для тримання осіб, підданих адміністративному арешту",null,6,null,2,2]
["Спеціальні палати протитуберкульозних та територіальних медичних закладів",null,7,null,20,1]
["Психіатричні заклади",null,8]
["Приймальники-розподільники для дітей",null,9]
["Школи та училища соціальної реабілітації",null,10]
["Гауптвахти",null,11]
["з рядка 1","у т.ч. щодо неповнолітніх",12,null,6,2]
["Контрольний рядок",null,13,{"$f":"SUM(D21:D32)","v":0},{"$f":"SUM(E21:E32)","v":242},{"$f":"SUM(F21:F32)","v":115}]
[]
["Таблиця 14",null,"рядок","усього","у т.ч. непов-нолітніх"]
["а",null,"б",1,2]
["Звільнено незаконно утримуваних осіб з:","карцерів",1]
[null,"дисциплінарних ізоляторів",2]
[null,"приміщень камерного типу (одиночних камер)",3,null,"x"]
["Контрольний рядок",null,4,{"$f":"SUM(D37:D39)","v":0},{"$f":"SUM(E37:E38)","v":0}]

{"sheet":"15-16","index":7,"n_rows":35,"n_cols":15,"rows_kept":35,"cut":false,"hidden":false,"merged":[[13,1,13,2],[14,4,15,4],[14,3,15,3],[14,0,15,2],[8,3,10,3],[30,0,30,2],[34,0,34,2],[33,0,33,2],[31,0,32,0],[31,1,31,2],[24,0,24,2],[26,1,26,2],[28,1,28,2],[26,0,27,0],[28,0,29,0],[25,0,25,2],[16,0,16,2],[22,1,23,2],[17,0,18,2],[22,0,23,0],[19,1,19,2],[20,0,21,2],[4,0,4,2],[11,0,12,2],[5,0,5,2],[3,0,3,2],[2,0,2,2],[8,0,10,2],[6,0,7,2],[1,0,1,2],[1,12,2,12],[3,6,3,8],[1,4,2,4],[1,6,1,8],[2,6,2,8],[1,14,2,14],[1,13,2,13],[1,11,2,11],[1,9,2,9],[1,10,2,10],[4,6,4,8],[8,4,10,4],[7,7,7,8],[1,3,2,3],[11,3,12,3],[11,4,12,4],[6,4,7,4],[6,3,7,3],[5,6,5,8],[8,6,12,6],[6,6,7,6],[6,7,6,8],[8,7,12,7],[26,6,26,8],[24,6,24,8],[22,6,22,8],[22,4,23,4],[22,3,23,3],[25,7,25,8],[23,6,23,8],[17,6,17,8],[17,3,18,3],[17,4,18,4],[13,6,13,8],[20,4,21,4],[20,3,21,3],[14,6,16,7],[20,6,21,6],[21,7,21,8],[18,6,18,8],[20,7,20,8],[19,6,19,8]]}
["РОЗДІЛ 6. Розгляд звернень"]
["Таблиця 15",null,null,"рядок","УСЬОГО",null,"Таблиця 16",null,null,"рядок","Вирішено звернень \n(без дублікатів)","у т.ч., що надійшли від народних депутатів України","Задоволено (з вирішених без дублікатів)","у т.ч., що надійшли від народних депутатів України","Вирішено звернень понад установлений термін"]
["Розгляд і вирішення звернень (без дублікатів)",null,null,null,null,null,"Категорії вирішених та задоволених звернень"]
["а",null,null,"б",1,null,"а",null,null,"б",1,2,3,4,5]
["Вирішено звернень",null,null,1,4579,null,"Усього",null,null,1,4579,128,205,1,2]
["Задоволено (з вирішених)",null,null,2,205,null,"З питань досудового розслідування",null,null,2,2332,84,28,null,1]
["Задоволено повторних звернень на раніше прийняті рішення тієї ж прокуратури (з рядка 2) ",null,null,3,null,null,"з них\nз питань:","щодо поновлення конституційних прав громадян в межах КПК",null,3,10,1]
[null,null,null,null,null,null,null,"від учасників кримінального провадження",null,4,221,null,8,null,1]
["Задоволено з тих, що раніше відхилялись підпорядкованими прокурорами",null,null,4,1,null,"у т.ч.:","на дії і рішення","слідчих прокуратури",5,141,5,1]
[null,null,null,null,null,null,null,null,"слідчих МВС",6,1085,64,21,null,1]
[null,null,null,null,null,null,null,null,"з них слідчих відділів \"ОЗ\"",7,3,null,1]
["Направлено звернень до інших відомств для вирішення",null,null,5,2690,null,null,null,"слідчих ДФС",8,37]
[null,null,null,null,null,null,null,null,"процесуальних керівників",9,1]
["у т.ч.:","що надійшли від народних депутатів України",null,6,20,null,"З питань додержання законів про національну безпеку",null,null,10]
["Повернуто заявникам або залишено без розгляду",null,null,7,80,null,"у т.ч. \nна дії і рішення:",null,"органів служби безпеки",11]
[null,null,null,null,null,null,null,null,"митних органів",12]
["УСЬОГО (рядки 1+5+7)",null,null,8,7349,null,null,null,"прикордонних військ",13]
["Направлено звернень підпорядкованим (іншим) прокурорам",null,null,9,1232,null,"З питань надання правової допомоги",null,null,14,3,null,1]
[null,null,null,null,null,null,"З питань участі у кримінальному провадженні в суді",null,null,15,36,1]
["у т.ч.:","що надійшли від народних депутатів України",null,10,null,null,"З питань представництва інтересів громадян та держави в суді",null,null,16,383,15,108,null,1]
["Розглянуто (вирішено) звернень з порушенням встановленого порядку (з рядків 1, 5, 9)",null,null,11,5,null,"у т.ч. \nз питань:","законності судових рішень",null,17,25]
[null,null,null,null,null,null,null,"неправомірності дій службових та інших осіб при здійсненні судочинства",null,18,4]
["у т.ч.:","що надійшли від народних депутатів України",null,12,null,null,"Про права дітей",null,null,19,6,null,2]
[null,null,null,null,null,null,"З питань додержання законодавства при виконанні рішень судів та інших органів",null,null,20,34,3]
["Залишок звернень на кінець звітного періоду",null,null,13,245,null,"З питань нагляду за додержанням кримінально-виконавчого законодавства",null,null,21,329,1,37]
["Прийнято громадян на особистому прийомі",null,null,14,2428,null,"у т.ч.:","на недозволені заходи впливу адміністрації місць застосування заходів примусового характеру",null,22,14,null,4]
["з рядка 14","керівником прокуратури",null,15,924,null,"Контрольний рядок",null,null,23,{"$f":"SUM(K5:K26)","v":9243},{"$f":"SUM(L5:L26)","v":302},{"$f":"SUM(M5:M26)","v":416},{"$f":"SUM(N5:N26)","v":1},{"$f":"SUM(O5:O26)","v":6}]
[null,"з них:","в’язнів ",16,66]
["з рядка 15","особисто прокурором області",null,17,262]
[null,"з них:","в’язнів ",18,5]
["Задоволено звернень з тих, що прийняті особисто керівником прокуратури",null,null,19,20]
["у т.ч.: ","в’язнів",null,20]
[null,"з них:","прийнятих прокурором області",21]
["Виключено з обліку звернень",null,null,22,310]
["Контрольний рядок",null,null,23,{"$f":"SUM(E5:E34)","v":20421}]

{"sheet":"17-19","index":8,"n_rows":41,"n_cols":11,"rows_kept":41,"cut":false,"hidden":false,"merged":[[35,1,35,2],[18,0,19,0],[15,0,15,1],[16,5,16,6],[19,5,19,6],[22,0,22,1],[20,0,20,1],[18,5,18,6],[22,5,22,6],[21,5,21,6],[21,0,21,1],[33,6,33,10],[32,6,32,10],[33,0,33,2],[24,0,24,1],[23,5,23,6],[12,8,12,10],[11,8,11,10],[4,8,4,10],[10,0,10,6],[8,1,8,6],[9,1,9,6],[5,0,9,0],[7,8,7,10],[11,1,11,6],[5,8,5,10],[4,0,4,6],[2,8,2,10],[1,8,1,10],[10,8,10,10],[9,8,9,10],[8,8,8,10],[6,8,6,10],[3,8,3,10],[26,0,26,1],[1,0,1,6],[2,0,2,6],[3,0,3,6],[6,1,6,6],[5,1,5,6],[12,0,12,6],[7,1,7,6],[14,0,14,1],[14,5,14,6],[16,0,16,1],[17,0,17,1],[17,5,17,6],[15,5,15,6]]}
["РОЗДІЛ 7. Висвітлення діяльності органів прокуратури"]
["Таблиця 17",null,null,null,null,null,null,"рядок","УСЬОГО"]
["а",null,null,null,null,null,null,"б",1]
["Інформація в органи влади",null,null,null,null,null,null,1,109]
["Виступи в засобах масової інформації",null,null,null,null,null,null,2,1870]
["з них:","друковані ЗМІ",null,null,null,null,null,3,288]
[null,"електронні ЗМІ ",null,null,null,null,null,4,300]
[null,"інформаційні агентства",null,null,null,null,null,5,38]
[null,"інтернет",null,null,null,null,null,6,1237]
[null,"акредитовані в Україні зарубіжні ЗМІ",null,null,null,null,null,7]
["Підготовлено програм",null,null,null,null,null,null,8]
["з них:","протрансльовано в ефірі центральних телеканалів",null,null,null,null,null,9]
["Контрольний рядок",null,null,null,null,null,null,10,{"$f":"SUM(I4:I12)","v":3842}]
["РОЗДІЛ 8. Розгляд запитів на інформацію"]
["Таблиця 18",null,"рядок","УСЬОГО",null,"Таблиця 19",null,"рядок","Надано інформацію на запити","Відмовлено у задоволенні запиту","Надано роз'яснення"]
["а",null,"б",1,null,"а",null,"б",1,2,3]
["Розглянуто запитів (сума рядків 2+5+6)",null,1,71,null,"З питань досудового розслідування",null,1,23,null,2]
["Надано інформацію на запит",null,2,56,null,"З питань підтримання державного обвинувачення в суді",null,2]
["з них \n(з рядка 2):","протягом 48 годин",3,1,null,"З питань представництва інтересів громадян та держави в суді",null,3,1]
[null,"з продовженням строку розгляду запиту",4,1,null,"З питань організаційно-розпорядчої діяльності",null,4,7]
["Відмовлено у задоволенні запиту",null,5,null,null,"у т.ч.:","про надання статистичної інформації",5,5]
["Надано роз'яснення",null,6,15,null,"З кадрових питань",null,6,11]
["Надіслано іншим розпорядникам",null,7,3,null,"З інших питань",null,7,14,null,13]
["у т.ч.:","підпорядкованим прокурорам",8,1,null,"Контрольний рядок",null,8,{"$f":"SUM(I17:I23)","v":61},{"$f":"SUM(J17:J23)","v":0},{"$f":"SUM(K17:K23)","v":15}]
["Залишок запитів",null,9,2]
["у т.ч.:","прийнято рішення про відстрочку в задоволенні запиту",10]
["Контрольний рядок",null,11,{"$f":"SUM(D17:D26)","v":150}]
[]
[]
[]
["Прокурор"]
[]
[]
["(підпис)",null,null,null,null,null,"(П.І.Б.)"]
["Виконавець                                    ."]
[null,"(П.І.Б.)"]
["Телефон:                                 факс:                                         електронна пошта:                                          ."]
[]
["Звіт складено в       примірнику"]
["Прим.№1 -"]
["Прим.№2 -"]

{"sheet":"dod 1-2","index":9,"n_rows":31,"n_cols":13,"rows_kept":31,"cut":false,"hidden":false,"merged":[[8,0,8,2],[7,1,7,2],[6,1,6,2],[5,1,5,2],[30,0,30,9],[29,0,29,9],[28,1,28,9],[27,1,27,9],[14,0,17,0],[27,0,28,0],[26,0,26,9],[20,1,20,9],[19,0,19,9],[20,0,21,0],[18,0,18,9],[25,1,25,9],[23,0,25,0],[13,1,13,9],[12,0,12,9],[11,0,11,9],[10,0,10,9],[17,1,17,9],[16,1,16,9],[15,1,15,9],[14,1,14,9],[24,1,24,9],[23,1,23,9],[22,0,22,9],[21,1,21,9],[1,12,2,12],[1,11,2,11],[1,8,1,10],[5,0,7,0],[1,6,2,6],[1,7,2,7],[1,3,2,3],[1,4,2,4],[1,0,1,2],[1,5,2,5],[4,0,4,2],[2,0,2,2],[3,0,3,2]]}
[null,null,null,null,null,null,null,null,null,null,null,null,"Додаток (продовження)"]
["Таблиця 1",null,null,"рядок","Відкрито проваджень за позовами","Розглянуто позовів","Задоволено позовів","Сума, на яку задоволено позови (тис. грн.)","Участь у розгляді справ у судах",null,null,"Подано скарг, заяв","Задоволено скарг, заяв"]
["Позови до органів прокуратури та її посадових осіб, участь у розгляді таких справ у судах",null,null,null,null,null,null,null,"Першої інстанції","Апеляційної інстанції","Касаційної інстанції"]
["а",null,null,"б",1,2,3,4,5,6,7,8,9]
["УСЬОГО",null,null,1,7,9,1,169,7,2,null,1,3]
["у т.ч. (з рядка 1):","про відшкодування шкоди, заподіяної органами прокуратури (ст.1176 ЦК України)",null,2,3,2,1,169,2,2,null,1,2]
[null,"на дії чи бездіяльність органів прокуратури",null,3,1,1,null,null,1]
[null,"з трудових спорів",null,4,3,5,null,null,4,null,null,null,1]
["Контрольний рядок",null,null,5,{"$f":"SUM(E5:E8)","v":14},17,2,338,14,4,0,2,6]
[null,null,null,null,null,null,null,null,null,null,null,null,"Додаток (продовження)"]
["Таблиця 2\nУчасть прокурорів у розгляді справ судом ",null,null,null,null,null,null,null,null,null,"рядок","Усього справ","щодо непов-нолітніх\n(з графи 1)"]
["а",null,null,null,null,null,null,null,null,null,"б",1,2]
["Участь у розгляді справ судами 1-ої інстанції (всього)",null,null,null,null,null,null,null,null,null,1,2]
["у т.ч.","у судовому розгляді справ з постановленням вироку",null,null,null,null,null,null,null,null,2,1]
["З рядка 2","Про скоєння злочинів ОГ і ЗО",null,null,null,null,null,null,null,null,3]
[null,"Зі зміною обвинувачення прокурором у суді",null,null,null,null,null,null,null,null,4]
[null,"Згідно з пропозицією потерпілого, який не погодився зі зміною обвинувачення прокурором",null,null,null,null,null,null,null,null,5]
[null,"З постановленням виправдувального вироку (в особах)",null,null,null,null,null,null,null,null,6]
["Участь у розгляді справ, закритих за реабілітуючими підставами постановлених судами всіх інстанцій",null,null,null,null,null,null,null,null,null,7]
["Участь у розгляді справ апеляційною інстанцією",null,null,null,null,null,null,null,null,null,8,3]
[" у т.ч.","у судовому розгляді справ з прийняттям рішення",null,null,null,null,null,null,null,null,9,1]
[null,"з постановленням вироку",null,null,null,null,null,null,null,null,10,1]
["Участь у розгляді справ касаційною інстанцією",null,null,null,null,null,null,null,null,null,11]
[" у т.ч.","щодо постановлених в апеляційному порядку вироків і постанов",null,null,null,null,null,null,null,null,12]
[null,"щодо рішень, передбачених ч.2 ст.383 КПК України (1961 року)",null,null,null,null,null,null,null,null,13]
[null,"за нововиявленими обставинами",null,null,null,null,null,null,null,null,14]
["Участь у перегляді судових рішень Верховним Судом України",null,null,null,null,null,null,null,null,null,15]
[" у т.ч.","на підставі п.1 ч.1 ст.40012 КПК України (1961 року)",null,null,null,null,null,null,null,null,16]
[null,"на підставі п.2 ч.1 ст.40012 КПК України (1961 року)",null,null,null,null,null,null,null,null,17]
["Участь у розгляді судом питань, пов’язаних з виконанням вироків",null,null,null,null,null,null,null,null,null,18]
["Контрольний рядок",null,null,null,null,null,null,null,null,null,19,{"$f":"SUM(L13:L30)","v":8},{"$f":"SUM(M13:M30)","v":0}]

{"sheet":"dod 3-4","index":10,"n_rows":41,"n_cols":13,"rows_kept":41,"cut":false,"hidden":false,"merged":[[29,2,29,3],[25,0,25,3],[24,0,24,3],[14,2,14,3],[18,1,18,3],[13,1,15,1],[22,0,22,3],[17,2,17,3],[16,1,16,3],[15,2,15,3],[13,2,13,3],[21,7,21,10],[22,7,22,8],[21,4,23,4],[23,0,23,3],[22,9,22,10],[21,5,22,6],[1,4,3,4],[5,0,5,3],[7,1,11,1],[10,2,10,3],[1,0,1,3],[4,0,4,3],[2,0,3,3],[6,0,18,0],[6,1,6,3],[7,2,7,3],[8,2,8,3],[11,2,11,3],[12,1,12,3],[0,10,0,12],[1,7,1,10],[1,11,2,12],[1,5,2,6],[2,7,2,8],[2,9,2,10],[39,8,39,11],[21,0,21,3],[20,0,20,12],[19,0,19,3],[40,8,40,11],[40,0,40,4],[30,0,30,3],[26,0,26,3],[29,0,29,1],[27,0,27,3],[28,0,28,3],[33,1,33,3],[32,0,33,0],[34,0,34,3],[31,0,31,3],[32,1,32,3]]}
[null,null,null,null,null,null,null,null,null,null,"Додаток (продовження)"]
["Таблиця 3",null,null,null,"рядок","Апеляції прокурора",null,"Касаційні подання на рішення",null,null,null,"Заяви в порядку ст.4005 КПК \n(1961 року)"]
["Розглянуті апеляції, касаційні скарги та заяви прокурора\n(за кількістю осіб)",null,null,null,null,null,null,"постановлені в апеляційному порядку",null,"передбачені ч.2 ст.383 КПК (1961 року)"]
[null,null,null,null,null,"задово- лено","відхи- лено","задово- лено","відхи- лено","задово- лено","відхи- лено","задово- лено","відхи- лено"]
["а",null,null,null,"б",1,2,3,4,5,6,7,8]
["Усього",null,null,null,1,1,2]
["Мотиви подань та клопотань (з рядка 1)","Про скасування вироку (усього)",null,null,2,1,1]
[null,"З рядка 2","З постановленням нового вироку",null,3,1,null,"x","x","x","x","x","x"]
[null,null,"Із закриттям справи",null,4]
[null,null,"у т.ч.","з реабілітуючих підстав",5]
[null,null,"У справах щодо неповнолітніх",null,6]
[null,null,"У справах про скоєння злочинів ОГ і ЗО",null,7]
[null,"Про зміну вироку (усього)",null,null,8]
[null,"з рядка 8","З пом'якшенням покарання",null,9]
[null,null,"У справах щодо неповнолітніх",null,10]
[null,null,"У справах про скоєння злочинів ОГ і ЗО",null,11]
[null,"Про скасування ухвал чи постанов суду (усього)",null,null,12,null,1]
[null,"у т.ч.","про закриття справи з реабілітуючих підстав",null,13]
[null,"Про зміну ухвал чи постанов суду (усього)",null,null,14]
["Контрольний рядок",null,null,null,15,{"$f":"SUM(F6:F19)","v":3},{"$f":"SUM(G6:G19)","v":4},{"$f":"SUM(H6:H19)","v":0},0,0,0,0,0]
[]
["Таблиця 4",null,null,null,"рядок","У порядку глав \n29-30 КПК \n(1961 року)",null,"У порядку глави 31 КПК (1961 року)  \nна вироки"]
["Перегляд вироків (за кількістю осіб)",null,null,null,null,null,null,"апеляційних судів",null,"місцевих судів"]
["з ініціативи -",null,null,null,null,"прокурора","інших учасників","прокурора","інших учасників","прокурора","інших учасників"]
["а",null,null,null,"б",1,2,3,4,5,6]
["Скасовано із закриттям справи чи поверненням на новий судовий розгляд та додаткове розслідування",null,null,null,1]
["Постановлено новий вирок при скасуванні",null,null,null,2,1,null,"x","x","x","x"]
["З ряд.1, 2 за м'якістю",null,null,null,3]
["Змінено",null,null,null,4]
["у т.ч.",null,"за суворістю",null,5]
["З рядків 1, 4 скасовано чи змінено за обставинами, які виникли після постановлення вироку",null,null,null,6,"x",null,"x",null,"x"]
["Усього",null,null,null,7,1]
["З ряд. 7","У справах про злочини неповнолітніх",null,null,8]
[null,"У справах про злочини ОГ і ЗО",null,null,9]
["Контрольний рядок",null,null,null,10,{"$f":"SUM(F26:F34)","v":2},{"$f":"SUM(G26:G34)","v":0},{"$f":"SUM(H26,H28:H34)","v":0},{"$f":"SUM(I26,I28:I34)","v":0},{"$f":"SUM(J26,J28:J34)","v":0},{"$f":"SUM(K26,K28:K34)","v":0}]
[]
[{"$f":"'17-19'!A30","v":0}]
[{"$f":"'17-19'!A31","v":"Прокурор"}]
[{"$f":"'17-19'!A32","v":0}]
[null,null,null,null,null,null,null,null,{"$f":"'17-19'!G33","v":0}]
["(підпис)",null,null,null,null,null,null,null,"(П.І.Б.)"]

{"sheet":"Титульний","index":11,"n_rows":25,"n_cols":6,"rows_kept":25,"cut":false,"hidden":false,"merged":[[15,5,15,6],[7,0,7,6],[1,0,1,6],[3,0,3,6],[4,0,4,6],[6,0,6,6],[18,0,18,3],[24,0,24,6],[9,5,9,6],[10,5,10,6],[11,0,11,3],[9,0,9,3],[10,0,10,3],[11,5,11,6],[12,0,12,3],[13,0,13,3],[17,0,17,3],[17,5,17,6],[16,0,16,3],[14,0,14,3],[15,0,15,3],[12,5,14,6]]}
[]
["ЗВІТНІСТЬ"]
[]
["ЗВІТ"]
["ПРО РОБОТУ ПРОКУРОРА"]
[]
["за 9 місяців 2015 року"]
[]
[]
["Подають: ",null,null,null,"Терміни\nподання","Форма № П"]
["міські, районні, міжрайонні прокурори – прокурорам Автономної Республіки Крим, областей, міст Києва і Севастополя",null,null,null,"до 2 числа після звітного періоду","\"квартальна\""]
["прокурори районів у містах з районним поділом – прокурору міста",null,null,null,"до 2 числа після звітного періоду","ЗАТВЕРДЖЕНО"]
["прокурори міст з районним поділом – прокурору обласного рівня",null,null,null,"до 3 числа після звітного періоду","Наказ Генерального прокурора України \nвід 28 листопада 2012 року № 121 \nзі змінами та доповненнями:\nвід 25 квітня 2013 року №55\nвід 11 лютого 2014 року №18\nвід 26 листопада 2014 року №132"]
["військові прокурори гарнізонів - військовому прокурору регіону",null,null,null,"до 2 числа після звітного періоду"]
["прокурори Автономної Республіки Крим, областей, міст Києва і Севастополя – управлінню організації ведення Єдиного реєстру досудових розслідувань та статистичної інформації Генеральної прокуратури України",null,null,null,"до 5 числа після звітного періоду"]
["військові прокурори регіонів - Головній військовій прокуратурі",null,null,null,"до 5 числа після звітного періоду","за погодженням з Держстатом"]
["Головна військова прокуратура – управлінню організації ведення Єдиного реєстру досудових розслідувань та статистичної інформації Генеральної прокуратури України",null,null,null,"до 6 числа після звітного періоду"]
["начальники структурних підрозділів Генеральної прокуратури України – управлінню організації ведення Єдиного реєстру досудових розслідувань та статистичної інформації Генеральної прокуратури України",null,null,null,"до 3 числа після звітного періоду"]
["Генеральна прокуратура України – до Держстату",null,null,null,"на 35 день після звітного періоду (півріччя, рік)"]
[]
["Респондент: "]
["Найменування:","Прокуратура Чернігівської області"]
["Місцезнаходження:"]
[]
["(поштовий індекс, область, район, населений пункт, вулиця/провулок, площа тошо, № будинку)"]

{"sheet":"Помилки","index":12,"n_rows":1887,"n_cols":16,"rows_kept":1887,"cut":false,"hidden":false,"merged":[]}
[null,null,null,"Перевірка помилок",null,null,null,null,null,null,null,null,null,"Перелік контрольних рівностей"]
[null,null,null,"Показники роботи прокурора",null,null,null,null,null,null,"Таблиця 1","В Таблиці 1 у графі 3 сума чисел у рядках 2-4 -",null,null,null,{"$f":"SUM('1'!G8:G10)","v":62}]
[null,null,null,"Форма № П",null,null,null,null,null,null,null,"не повинна перевищувати число у рядку 1 - ",null,null,null,{"$f":"'1'!G7","v":67}]
["Назва:",null,"Прокуратура Чернігівської області",null,null,null,null,null,null,null,null,"В Таблиці 1 у графі 4 сума чисел у рядках 2-4 -",null,null,null,{"$f":"SUM('1'!H8:H10)","v":106370}]
["Період:","9 місяців",2015,"року",null,null,null,null,null,null,null,"не повинна перевищувати число у рядку 1 - ",null,null,null,{"$f":"'1'!H7","v":106405}]
[null,null,null,null,null,null,null,null,null,null,null,"В Таблиці 1 у графі 5 сума чисел у рядках 2-4 -",null,null,null,{"$f":"SUM('1'!I8:I10)","v":348822}]
[null,null,null,null,null,null,null,null,null,null,null,"не повинна перевищувати число у рядку 1 - ",null,null,null,{"$f":"'1'!I7","v":354656}]
["В Таблиці 1 в графі 3 рядку 1 стоїть цифра - 67",null,null,null,null,null,null,null,null,null,null,"В Таблиці 1 у графі 6 сума чисел у рядках 2-4 -",null,null,null,{"$f":"SUM('1'!J8:J10)","v":565}]
["за попередній квартал ця цифра була - 90",null,null,null,null,null,null,null,null,null,null,"не повинна перевищувати число у рядку 1 - ",null,null,null,{"$f":"'1'!J7","v":620}]
[null,null,null,null,null,null,null,null,null,null,null,"В Таблиці 1 у графі 7 сума чисел у рядках 2-4 -",null,null,null,{"$f":"SUM('1'!K8:K10)","v":210264}]
["В Таблиці 1 в графі 3 рядку 3 стоїть цифра - 17",null,null,null,null,null,null,null,null,null,null,"не повинна перевищувати число у рядку 1 - ",null,null,null,{"$f":"'1'!K7","v":210545}]
["за попередній квартал ця цифра була - 36",null,null,null,null,null,null,null,null,null,null,"В Таблиці 1 у графі 8 сума чисел у рядках 2-4 -",null,null,null,{"$f":"SUM('1'!L8:L10)","v":10772}]
[null,null,null,null,null,null,null,null,null,null,null,"не повинна перевищувати число у рядку 1 - ",null,null,null,{"$f":"'1'!L7","v":10787}]
["В Таблиці 1 в графі 3 рядку 4 стоїть цифра - 4",null,null,null,null,null,null,null,null,null,null,"В Таблиці 1 у графі 9 сума чисел у рядках 2-4 -",null,null,null,{"$f":"SUM('1'!M8:M10)","v":10113}]
["за попередній квартал ця цифра була - 11",null,null,null,null,null,null,null,null,null,null,"не повинна перевищувати число у рядку 1 - ",null,null,null,{"$f":"'1'!M7","v":10228}]
[null,null,null,null,null,null,null,null,null,null,null,"В Таблиці 1 у графі 10 сума чисел у рядках 2-4 -",null,null,null,{"$f":"SUM('1'!R8:R10)","v":774}]
["В Таблиці 1 в графі 3 рядку 5 стоїть цифра - 5",null,null,null,null,null,null,null,null,null,null,"не повинна перевищувати число у рядку 1 - ",null,null,null,{"$f":"'1'!R7","v":774}]
["за попередній квартал ця цифра була - 12",null,null,null,null,null,null,null,null,null,null,"В Таблиці 1 у графі 11 сума чисел у рядках 2-4 -",null,null,null,{"$f":"SUM('1'!S8:S10)","v":1305}]
[null,null,null,null,null,null,null,null,null,null,null,"не повинна перевищувати число у рядку 1 - ",null,null,null,{"$f":"'1'!S7","v":1305}]
["В Таблиці 1 в графі 3 рядку 6 стоїть цифра - 57",null,null,null,null,null,null,null,null,null,null,"В Таблиці 1 у графі 12 сума чисел у рядках 2-4 -",null,null,null,{"$f":"SUM('1'!T8:T10)","v":40}]
["за попередній квартал ця цифра була - 71",null,null,null,null,null,null,null,null,null,null,"не повинна перевищувати число у рядку 1 - ",null,null,null,{"$f":"'1'!T7","v":40}]
[null,null,null,null,null,null,null,null,null,null,null,"В Таблиці 1 у графі 13 сума чисел у рядках 2-4 -",null,null,null,{"$f":"SUM('1'!U8:U10)","v":27}]
["В Таблиці 1 в графі 3 рядку 7 стоїть цифра - 3",null,null,null,null,null,null,null,null,null,null,"не повинна перевищувати число у рядку 1 - ",null,null,null,{"$f":"'1'!U7","v":27}]
["за попередній квартал ця цифра була - 4",null,null,null,null,null,null,null,null,null,null,"В Таблиці 1 у графі 14 сума чисел у рядках 2-4 -",null,null,null,{"$f":"SUM('1'!V8:V10)","v":6}]
[null,null,null,null,null,null,null,null,null,null,null,"не повинна перевищувати число у рядку 1 - ",null,null,null,{"$f":"'1'!V7","v":6}]
["В Таблиці 1 в графі 3 рядку 10 стоїть цифра - 7",null,null,null,null,null,null,null,null,null,null,"В Таблиці 1 у графі 15 сума чисел у рядках 2-4 -",null,null,null,{"$f":"SUM('1'!W8:W10)","v":4}]
["за попередній квартал ця цифра була - 8",null,null,null,null,null,null,null,null,null,null,"не повинна перевищувати число у рядку 1 - ",null,null,null,{"$f":"'1'!W7","v":4}]
[null,null,null,null,null,null,null,null,null,null,null,"В Таблиці 1 у графі 16 сума чисел у рядках 2-4 -",null,null,null,{"$f":"SUM('1'!X8:X10)","v":0}]
["В Таблиці 1 в графі 3 рядку 11 стоїть цифра - 5",null,null,null,null,null,null,null,null,null,null,"не повинна перевищувати число у рядку 1 - ",null,null,null,{"$f":"'1'!X7","v":0}]
["за попередній квартал ця цифра була - 7",null,null,null,null,null,null,null,null,null,null,"В Таблиці 1 у графі 17 сума чисел у рядках 2-4 -",null,null,null,{"$f":"SUM('1'!Y8:Y10)","v":0}]
[null,null,null,null,null,null,null,null,null,null,null,"не повинна перевищувати число у рядку 1 - ",null,null,null,{"$f":"'1'!Y7","v":0}]
["В Таблиці 1 в графі 3 рядку 15 стоїть цифра - 1",null,null,null,null,null,null,null,null,null,null,"В Таблиці 1 у графі 18 сума чисел у рядках 2-4 -",null,null,null,{"$f":"SUM('1'!Z8:Z10)","v":0}]
["за попередній квартал ця цифра була - 5",null,null,null,null,null,null,null,null,null,null,"не повинна перевищувати число у рядку 1 - ",null,null,null,{"$f":"'1'!Z7","v":0}]
[null,null,null,null,null,null,null,null,null,null,null,"В Таблиці 1 у графі 19 сума чисел у рядках 2-4 -",null,null,null,{"$f":"SUM('1'!AA8:AA10)","v":0}]
["В Таблиці 1 в графі 3 рядку 16 стоїть цифра - 1",null,null,null,null,null,null,null,null,null,null,"не повинна перевищувати число у рядку 1 - ",null,null,null,{"$f":"'1'!AA7","v":0}]
["за попередній квартал ця цифра була - 2",null,null,null,null,null,null,null,null,null,null,"В Таблиці 1 у графі 20 сума чисел у рядках 2-4 -",null,null,null,{"$f":"SUM('1'!AB8:AB10)","v":922}]
[null,null,null,null,null,null,null,null,null,null,null,"не повинна перевищувати число у рядку 1 - ",null,null,null,{"$f":"'1'!AB7","v":922}]
["В Таблиці 1 в графі 3 рядку 19 стоїть цифра - 30",null,null,null,null,null,null,null,null,null,null,"В Таблиці 1 у графі 21 сума чисел у рядках 2-4 -",null,null,null,{"$f":"SUM('1'!AC8:AC10)","v":153}]
["за попередній квартал ця цифра була - 37",null,null,null,null,null,null,null,null,null,null,"не повинна перевищувати число у рядку 1 - ",null,null,null,{"$f":"'1'!AC7","v":153}]
[null,null,null,null,null,null,null,null,null,null,null,"В Таблиці 1 у графі 22 сума чисел у рядках 2-4 -",null,null,null,{"$f":"SUM('1'!AD8:AD10)","v":10513.53}]
["В Таблиці 1 в графі 3 рядку 20 стоїть цифра - 29",null,null,null,null,null,null,null,null,null,null,"не повинна перевищувати число у рядку 1 - ",null,null,null,{"$f":"'1'!AD7","v":10513.529999999999}]
["за попередній квартал ця цифра була - 35",null,null,null,null,null,null,null,null,null,null,"В Таблиці 1 у графі 1 сума чисел у рядках 7-9 -",null,null,null,{"$f":"SUM('1'!E13:E15)","v":0}]
[null,null,null,null,null,null,null,null,null,null,null,"не повинна перевищувати число у рядку 6 - ",null,null,null,{"$f":"'1'!E12","v":0}]
["В Таблиці 1 в графі 4 рядку 3 стоїть цифра - 60682",null,null,null,null,null,null,null,null,null,null,"В Таблиці 1 у графі 2 сума чисел у рядках 7-9 -",null,null,null,{"$f":"SUM('1'!F13:F15)","v":0}]
["за попередній квартал ця цифра була - 88060",null,null,null,null,null,null,null,null,null,null,"не повинна перевищувати число у рядку 6 - ",null,null,null,{"$f":"'1'!F12","v":0}]
[null,null,null,null,null,null,null,null,null,null,null,"В Таблиці 1 у графі 3 сума чисел у рядках 7-9 -",null,null,null,{"$f":"SUM('1'!G13:G15)","v":26}]
["В Таблиці 1 в графі 4 рядку 5 стоїть цифра - ",null,null,null,null,null,null,null,null,null,null,"не повинна перевищувати число у рядку 6 - ",null,null,null,{"$f":"'1'!G12","v":57}]
["за попередній квартал ця цифра була - 58",null,null,null,null,null,null,null,null,null,null,"В Таблиці 1 у графі 4 сума чисел у рядках 7-9 -",null,null,null,{"$f":"SUM('1'!H13:H15)","v":31559}]
[null,null,null,null,null,null,null,null,null,null,null,"не повинна перевищувати число у рядку 6 - ",null,null,null,{"$f":"'1'!H12","v":106370}]
["В Таблиці 1 в графі 4 рядку 7 стоїть цифра - 11063",null,null,null,null,null,null,null,null,null,null,"В Таблиці 1 у графі 5 сума чисел у рядках 7-9 -",null,null,null,{"$f":"SUM('1'!I13:I15)","v":66486}]
["за попередній квартал ця цифра була - 11108",null,null,null,null,null,null,null,null,null,null,"не повинна перевищувати число у рядку 6 - ",null,null,null,{"$f":"'1'!I12","v":334367}]
[null,null,null,null,null,null,null,null,null,null,null,"В Таблиці 1 у графі 6 сума чисел у рядках 7-9 -",null,null,null,{"$f":"SUM('1'!J13:J15)","v":156}]
["В Таблиці 1 в графі 4 рядку 10 стоїть цифра - 43",null,null,null,null,null,null,null,null,null,null,"не повинна перевищувати число у рядку 6 - ",null,null,null,{"$f":"'1'!J12","v":406}]
["за попередній квартал ця цифра була - 2541",null,null,null,null,null,null,null,null,null,null,"В Таблиці 1 у графі 7 сума чисел у рядках 7-9 -",null,null,null,{"$f":"SUM('1'!K13:K15)","v":20678}]
[null,null,null,null,null,null,null,null,null,null,null,"не повинна перевищувати число у рядку 6 - ",null,null,null,{"$f":"'1'!K12","v":197301}]
["В Таблиці 1 в графі 4 рядку 11 стоїть цифра - 35",null,null,null,null,null,null,null,null,null,null,"В Таблиці 1 у графі 8 сума чисел у рядках 7-9 -",null,null,null,{"$f":"SUM('1'!L13:L15)","v":632}]
["за попередній квартал ця цифра була - 2536",null,null,null,null,null,null,null,null,null,null,"не повинна перевищувати число у рядку 6 - ",null,null,null,{"$f":"'1'!L12","v":9467}]
[null,null,null,null,null,null,null,null,null,null,null,"В Таблиці 1 у графі 9 сума чисел у рядках 7-9 -",null,null,null,{"$f":"SUM('1'!M13:M15)","v":4148}]
["В Таблиці 1 в графі 4 рядку 15 стоїть цифра - 1",null,null,null,null,null,null,null,null,null,null,"не повинна перевищувати число у рядку 6 - ",null,null,null,{"$f":"'1'!M12","v":8907}]
["за попередній квартал ця цифра була - 40",null,null,null,null,null,null,null,null,null,null,"В Таблиці 1 у графі 10 сума чисел у рядках 7-9 -",null,null,null,{"$f":"SUM('1'!R13:R15)","v":183}]
[null,null,null,null,null,null,null,null,null,null,null,"не повинна перевищувати число у рядку 6 - ",null,null,null,{"$f":"'1'!R12","v":481}]
["В Таблиці 1 в графі 4 рядку 16 стоїть цифра - 1",null,null,null,null,null,null,null,null,null,null,"В Таблиці 1 у графі 11 сума чисел у рядках 7-9 -",null,null,null,{"$f":"SUM('1'!S13:S15)","v":110}]
["за попередній квартал ця цифра була - 24",null,null,null,null,null,null,null,null,null,null,"не повинна перевищувати число у рядку 6 - ",null,null,null,{"$f":"'1'!S12","v":1291}]
[null,null,null,null,null,null,null,null,null,null,null,"В Таблиці 1 у графі 12 сума чисел у рядках 7-9 -",null,null,null,{"$f":"SUM('1'!T13:T15)","v":11}]
["В Таблиці 1 у графі 22 сума чисел у рядках 2-4 -",null,null,null,10513.53,null,null,null,null,null,null,"не повинна перевищувати число у рядку 6 - ",null,null,null,{"$f":"'1'!T12","v":31}]
["не повинна перевищувати число у рядку 1 - ",null,null,null,10513.529999999999,null,null,null,null,null,null,"В Таблиці 1 у графі 13 сума чисел у рядках 7-9 -",null,null,null,{"$f":"SUM('1'!U13:U15)","v":7}]
[null,null,null,null,null,null,null,null,null,null,null,"не повинна перевищувати число у рядку 6 - ",null,null,null,{"$f":"'1'!U12","v":20}]
[null,null,"В звіті допущено 20 помилок.",null,null,null,null,null,null,null,null,"В Таблиці 1 у графі 14 сума чисел у рядках 7-9 -",null,null,null,{"$f":"SUM('1'!V13:V15)","v":3}]
[null,null,null,null,null,null,null,null,null,null,null,"не повинна перевищувати число у рядку 6 - ",null,null,null,{"$f":"'1'!V12","v":6}]
[null,null,null,null,null,null,null,null,null,null,null,"В Таблиці 1 у графі 15 сума чисел у рядках 7-9 -",null,null,null,{"$f":"SUM('1'!W13:W15)","v":2}]
[null,null,null,null,null,null,null,null,null,null,null,"не повинна перевищувати число у рядку 6 - ",null,null,null,{"$f":"'1'!W12","v":4}]
[null,null,null,null,null,null,null,null,null,null,null,"В Таблиці 1 у графі 16 сума чисел у рядках 7-9 -",null,null,null,{"$f":"SUM('1'!X13:X15)","v":0}]
[null,null,null,null,null,null,null,null,null,null,null,"не повинна перевищувати число у рядку 6 - ",null,null,null,{"$f":"'1'!X12","v":0}]
[null,null,null,null,null,null,null,null,null,null,null,"В Таблиці 1 у графі 17 сума чисел у рядках 7-9 -",null,null,null,{"$f":"SUM('1'!Y13:Y15)","v":0}]
[null,null,null,null,null,null,null,null,null,null,null,"не повинна перевищувати число у рядку 6 - ",null,null,null,{"$f":"'1'!Y12","v":0}]
[null,null,null,null,null,null,null,null,null,null,null,"В Таблиці 1 у графі 18 сума чисел у рядках 7-9 -",null,null,null,{"$f":"SUM('1'!Z13:Z15)","v":0}]
[null,null,null,null,null,null,null,null,null,null,null,"не повинна перевищувати число у рядку 6 - ",null,null,null,{"$f":"'1'!Z12","v":0}]
[null,null,null,null,null,null,null,null,null,null,null,"В Таблиці 1 у графі 19 сума чисел у рядках 7-9 -",null,null,null,{"$f":"SUM('1'!AA13:AA15)","v":0}]
[null,null,null,null,null,null,null,null,null,null,null,"не повинна перевищувати число у рядку 6 - ",null,null,null,{"$f":"'1'!AA12","v":0}]
[null,null,null,null,null,null,null,null,null,null,null,"В Таблиці 1 у графі 20 сума чисел у рядках 7-9 -",null,null,null,{"$f":"SUM('1'!AB13:AB15)","v":369}]
[null,null,null,null,null,null,null,null,null,null,null,"не повинна перевищувати число у рядку 6 - ",null,null,null,{"$f":"'1'!AB12","v":619}]
[null,null,null,null,null,null,null,null,null,null,null,"В Таблиці 1 у графі 21 сума чисел у рядках 7-9 -",null,null,null,{"$f":"SUM('1'!AC13:AC15)","v":0}]
[null,null,null,null,null,null,null,null,null,null,null,"не повинна перевищувати число у рядку 6 - ",null,null,null,{"$f":"'1'!AC12","v":0}]
[null,null,null,null,null,null,null,null,null,null,null,"В Таблиці 1 у графі 22 сума чисел у рядках 7-9 -",null,null,null,{"$f":"SUM('1'!AD13:AD15)","v":43.53}]
[null,null,null,null,null,null,null,null,null,null,null,"не повинна перевищувати число у рядку 6 - ",null,null,null,{"$f":"'1'!AD12","v":10451.529999999999}]
[null,null,null,null,null,null,null,null,null,null,null,"В Таблиці 1 у графі 23 сума чисел у рядках 7-9 -",null,null,null,{"$f":"SUM('1'!AE13:AE15)","v":51}]
[null,null,null,null,null,null,null,null,null,null,null,"не повинна перевищувати число у рядку 6 - ",null,null,null,{"$f":"'1'!AE12","v":75}]
[null,null,null,null,null,null,null,null,null,null,null,"В Таблиці 1 у графі 3 число у рядку 11 -",null,null,null,{"$f":"'1'!G17","v":5}]
[null,null,null,null,null,null,null,null,null,null,null,"не повинно перевищувати число у рядку 10 - ",null,null,null,{"$f":"'1'!G16","v":7}]
[null,null,null,null,null,null,null,null,null,null,null,"В Таблиці 1 у графі 4 число у рядку 11 -",null,null,null,{"$f":"'1'!H17","v":35}]
[null,null,null,null,null,null,null,null,null,null,null,"не повинно перевищувати число у рядку 10 - ",null,null,null,{"$f":"'1'!H16","v":43}]
[null,null,null,null,null,null,null,null,null,null,null,"В Таблиці 1 у графі 5 число у рядку 11 -",null,null,null,{"$f":"'1'!I17","v":5834}]
[null,null,null,null,null,null,null,null,null,null,null,"не повинно перевищувати число у рядку 10 - ",null,null,null,{"$f":"'1'!I16","v":6139}]
[null,null,null,null,null,null,null,null,null,null,null,"В Таблиці 1 у графі 6 число у рядку 11 -",null,null,null,{"$f":"'1'!J17","v":57}]
[null,null,null,null,null,null,null,null,null,null,null,"не повинно перевищувати число у рядку 10 - ",null,null,null,{"$f":"'1'!J16","v":76}]
[null,null,null,null,null,null,null,null,null,null,null,"В Таблиці 1 у графі 7 число у рядку 11 -",null,null,null,{"$f":"'1'!K17","v":281}]
[null,null,null,null,null,null,null,null,null,null,null,"не повинно перевищувати число у рядку 10 - ",null,null,null,{"$f":"'1'!K16","v":484}]
[null,null,null,null,null,null,null,null,null,null,null,"В Таблиці 1 у графі 8 число у рядку 11 -",null,null,null,{"$f":"'1'!L17","v":15}]
[null,null,null,null,null,null,null,null,null,null,null,"не повинно перевищувати число у рядку 10 - ",null,null,null,{"$f":"'1'!L16","v":19}]
[null,null,null,null,null,null,null,null,null,null,null,"В Таблиці 1 у графі 9 число у рядку 11 -",null,null,null,{"$f":"'1'!M17","v":115}]
[null,null,null,null,null,null,null,null,null,null,null,"не повинно перевищувати число у рядку 10 - ",null,null,null,{"$f":"'1'!M16","v":292}]
[null,null,null,null,null,null,null,null,null,null,null,"В Таблиці 1 у графі 12 число у рядку 11 -",null,null,null,{"$f":"'1'!T17","v":0}]
[null,null,null,null,null,null,null,null,null,null,null,"не повинно перевищувати число у рядку 10 - ",null,null,null,{"$f":"'1'!T16","v":0}]
[null,null,null,null,null,null,null,null,null,null,null,"В Таблиці 1 у графі 13 число у рядку 11 -",null,null,null,{"$f":"'1'!U17","v":0}]
[null,null,null,null,null,null,null,null,null,null,null,"не повинно перевищувати число у рядку 10 - ",null,null,null,{"$f":"'1'!U16","v":0}]
[null,null,null,null,null,null,null,null,null,null,null,"В Таблиці 1 у графі 14 число у рядку 11 -",null,null,null,{"$f":"'1'!V17","v":0}]
[null,null,null,null,null,null,null,null,null,null,null,"не повинно перевищувати число у рядку 10 - ",null,null,null,{"$f":"'1'!V16","v":0}]
[null,null,null,null,null,null,null,null,null,null,null,"В Таблиці 1 у графі 15 число у рядку 11 -",null,null,null,{"$f":"'1'!W17","v":0}]
[null,null,null,null,null,null,null,null,null,null,null,"не повинно перевищувати число у рядку 10 - ",null,null,null,{"$f":"'1'!W16","v":0}]
[null,null,null,null,null,null,null,null,null,null,null,"В Таблиці 1 у графі 16 число у рядку 11 -",null,null,null,{"$f":"'1'!X17","v":0}]
[null,null,null,null,null,null,null,null,null,null,null,"не повинно перевищувати число у рядку 10 - ",null,null,null,{"$f":"'1'!X16","v":0}]
[null,null,null,null,null,null,null,null,null,null,null,"В Таблиці 1 у графі 17 число у рядку 11 -",null,null,null,{"$f":"'1'!Y17","v":0}]
[null,null,null,null,null,null,null,null,null,null,null,"не повинно перевищувати число у рядку 10 - ",null,null,null,{"$f":"'1'!Y16","v":0}]
[null,null,null,null,null,null,null,null,null,null,null,"В Таблиці 1 у графі 18 число у рядку 11 -",null,null,null,{"$f":"'1'!Z17","v":0}]
[null,null,null,null,null,null,null,null,null,null,null,"не повинно перевищувати число у рядку 10 - ",null,null,null,{"$f":"'1'!Z16","v":0}]
[null,null,null,null,null,null,null,null,null,null,null,"В Таблиці 1 у графі 19 число у рядку 11 -",null,null,null,{"$f":"'1'!AA17","v":0}]
[null,null,null,null,null,null,null,null,null,null,null,"не повинно перевищувати число у рядку 10 - ",null,null,null,{"$f":"'1'!AA16","v":0}]
[null,null,null,null,null,null,null,null,null,null,null,"В Таблиці 1 у графі 20 число у рядку 11 -",null,null,null,{"$f":"'1'!AB17","v":0}]
[null,null,null,null,null,null,null,null,null,null,null,"не повинно перевищувати число у рядку 10 - ",null,null,null,{"$f":"'1'!AB16","v":0}]
[null,null,null,null,null,null,null,null,null,null,null,"В Таблиці 1 у графі 21 число у рядку 11 -",null,null,null,{"$f":"'1'!AC17","v":0}]
[null,null,null,null,null,null,null,null,null,null,null,"не повинно перевищувати число у рядку 10 - ",null,null,null,{"$f":"'1'!AC16","v":0}]
[null,null,null,null,null,null,null,null,null,null,null,"В Таблиці 1 у графі 22 число у рядку 11 -",null,null,null,{"$f":"'1'!AD17","v":0}]
[null,null,null,null,null,null,null,null,null,null,null,"не повинно перевищувати число у рядку 10 - ",null,null,null,{"$f":"'1'!AD16","v":0}]
[null,null,null,null,null,null,null,null,null,null,null,"В Таблиці 1 у графі 23 число у рядку 11 -",null,null,null,{"$f":"'1'!AE17","v":0}]
[null,null,null,null,null,null,null,null,null,null,null,"не повинно перевищувати число у рядку 10 - ",null,null,null,{"$f":"'1'!AE16","v":0}]
[null,null,null,null,null,null,null,null,null,null,null,"В Таблиці 1 у графі 1 число у рядку 12 -",null,null,null,{"$f":"'1'!E18","v":0}]
[null,null,null,null,null,null,null,null,null,null,null,"не повинно перевищувати число у рядку 10 - ",null,null,null,{"$f":"'1'!E16","v":0}]
[null,null,null,null,null,null,null,null,null,null,null,"В Таблиці 1 у графі 2 число у рядку 12 -",null,null,null,{"$f":"'1'!F18","v":0}]
[null,null,null,null,null,null,null,null,null,null,null,"не повинно перевищувати число у рядку 10 - ",null,null,null,{"$f":"'1'!F16","v":0}]
[null,null,null,null,null,null,null,null,null,null,null,"В Таблиці 1 у графі 3 число у рядку 12 -",null,null,null,{"$f":"'1'!G18","v":1}]
[null,null,null,null,null,null,null,null,null,null,null,"не повинно перевищувати число у рядку 10 - ",null,null,null,{"$f":"'1'!G16","v":7}]
[null,null,null,null,null,null,null,null,null,null,null,"В Таблиці 1 у графі 4 число у рядку 12 -",null,null,null,{"$f":"'1'!H18","v":11}]
[null,null,null,null,null,null,null,null,null,null,null,"не повинно перевищувати число у рядку 10 - ",null,null,null,{"$f":"'1'!H16","v":43}]
[null,null,null,null,null,null,null,null,null,null,null,"В Таблиці 1 у графі 5 число у рядку 12 -",null,null,null,{"$f":"'1'!I18","v":11}]
[null,null,null,null,null,null,null,null,null,null,null,"не повинно перевищувати число у рядку 10 - ",null,null,null,{"$f":"'1'!I16","v":6139}]
[null,null,null,null,null,null,null,null,null,null,null,"В Таблиці 1 у графі 6 число у рядку 12 -",null,null,null,{"$f":"'1'!J18","v":0}]
[null,null,null,null,null,null,null,null,null,null,null,"не повинно перевищувати число у рядку 10 - ",null,null,null,{"$f":"'1'!J16","v":76}]
[null,null,null,null,null,null,null,null,null,null,null,"В Таблиці 1 у графі 7 число у рядку 12 -",null,null,null,{"$f":"'1'!K18","v":0}]
[null,null,null,null,null,null,null,null,null,null,null,"не повинно перевищувати число у рядку 10 - ",null,null,null,{"$f":"'1'!K16","v":484}]
[null,null,null,null,null,null,null,null,null,null,null,"В Таблиці 1 у графі 8 число у рядку 12 -",null,null,null,{"$f":"'1'!L18","v":0}]
[null,null,null,null,null,null,null,null,null,null,null,"не повинно перевищувати число у рядку 10 - ",null,null,null,{"$f":"'1'!L16","v":19}]
[null,null,null,null,null,null,null,null,null,null,null,"В Таблиці 1 у графі 9 число у рядку 12 -",null,null,null,{"$f":"'1'!M18","v":0}]
[null,null,null,null,null,null,null,null,null,null,null,"не повинно перевищувати число у рядку 10 - ",null,null,null,{"$f":"'1'!M16","v":292}]
[null,null,null,null,null,null,null,null,null,null,null,"В Таблиці 1 у графі 10 число у рядку 12 -",null,null,null,{"$f":"'1'!R18","v":0}]
[null,null,null,null,null,null,null,null,null,null,null,"не повинно перевищувати число у рядку 10 - ",null,null,null,{"$f":"'1'!R16","v":25}]
[null,null,null,null,null,null,null,null,null,null,null,"В Таблиці 1 у графі 11 число у рядку 12 -",null,null,null,{"$f":"'1'!S18","v":0}]
[null,null,null,null,null,null,null,null,null,null,null,"не повинно перевищувати число у рядку 10 - ",null,null,null,{"$f":"'1'!S16","v":76}]
[null,null,null,null,null,null,null,null,null,null,null,"В Таблиці 1 у графі 12 число у рядку 12 -",null,null,null,{"$f":"'1'!T18","v":0}]
[null,null,null,null,null,null,null,null,null,null,null,"не повинно перевищувати число у рядку 10 - ",null,null,null,{"$f":"'1'!T16","v":0}]
[null,null,null,null,null,null,null,null,null,null,null,"В Таблиці 1 у графі 13 число у рядку 12 -",null,null,null,{"$f":"'1'!U18","v":0}]
[null,null,null,null,null,null,null,null,null,null,null,"не повинно перевищувати число у рядку 10 - ",null,null,null,{"$f":"'1'!U16","v":0}]
[null,null,null,null,null,null,null,null,null,null,null,"В Таблиці 1 у графі 14 число у рядку 12 -",null,null,null,{"$f":"'1'!V18","v":0}]
[null,null,null,null,null,null,null,null,null,null,null,"не повинно перевищувати число у рядку 10 - ",null,null,null,{"$f":"'1'!V16","v":0}]
[null,null,null,null,null,null,null,null,null,null,null,"В Таблиці 1 у графі 15 число у рядку 12 -",null,null,null,{"$f":"'1'!W18","v":0}]
[null,null,null,null,null,null,null,null,null,null,null,"не повинно перевищувати число у рядку 10 - ",null,null,null,{"$f":"'1'!W16","v":0}]
[null,null,null,null,null,null,null,null,null,null,null,"В Таблиці 1 у графі 16 число у рядку 12 -",null,null,null,{"$f":"'1'!X18","v":0}]
[null,null,null,null,null,null,null,null,null,null,null,"не повинно перевищувати число у рядку 10 - ",null,null,null,{"$f":"'1'!X16","v":0}]
[null,null,null,null,null,null,null,null,null,null,null,"В Таблиці 1 у графі 17 число у рядку 12 -",null,null,null,{"$f":"'1'!Y18","v":0}]
[null,null,null,null,null,null,null,null,null,null,null,"не повинно перевищувати число у рядку 10 - ",null,null,null,{"$f":"'1'!Y16","v":0}]
[null,null,null,null,null,null,null,null,null,null,null,"В Таблиці 1 у графі 18 число у рядку 12 -",null,null,null,{"$f":"'1'!Z18","v":0}]
[null,null,null,null,null,null,null,null,null,null,null,"не повинно перевищувати число у рядку 10 - ",null,null,null,{"$f":"'1'!Z16","v":0}]
[null,null,null,null,null,null,null,null,null,null,null,"В Таблиці 1 у графі 19 число у рядку 12 -",null,null,null,{"$f":"'1'!AA18","v":0}]
[null,null,null,null,null,null,null,null,null,null,null,"не повинно перевищувати число у рядку 10 - ",null,null,null,{"$f":"'1'!AA16","v":0}]
[null,null,null,null,null,null,null,null,null,null,null,"В Таблиці 1 у графі 20 число у рядку 12 -",null,null,null,{"$f":"'1'!AB18","v":0}]
[null,null,null,null,null,null,null,null,null,null,null,"не повинно перевищувати число у рядку 10 - ",null,null,null,{"$f":"'1'!AB16","v":0}]
[null,null,null,null,null,null,null,null,null,null,null,"В Таблиці 1 у графі 21 число у рядку 12 -",null,null,null,{"$f":"'1'!AC18","v":0}]
[null,null,null,null,null,null,null,null,null,null,null,"не повинно перевищувати число у рядку 10 - ",null,null,null,{"$f":"'1'!AC16","v":0}]
[null,null,null,null,null,null,null,null,null,null,null,"В Таблиці 1 у графі 22 число у рядку 12 -",null,null,null,{"$f":"'1'!AD18","v":0}]
[null,null,null,null,null,null,null,null,null,null,null,"не повинно перевищувати число у рядку 10 - ",null,null,null,{"$f":"'1'!AD16","v":0}]
[null,null,null,null,null,null,null,null,null,null,null,"В Таблиці 1 у графі 23 число у рядку 12 -",null,null,null,{"$f":"'1'!AE18","v":0}]
[null,null,null,null,null,null,null,null,null,null,null,"не повинно перевищувати число у рядку 10 - ",null,null,null,{"$f":"'1'!AE16","v":0}]
[null,null,null,null,null,null,null,null,null,null,null,"В Таблиці 1 у графі 1 число у рядку 13 -",null,null,null,{"$f":"'1'!E19","v":0}]
[null,null,null,null,null,null,null,null,null,null,null,"не повинно перевищувати число у рядку 10 - ",null,null,null,{"$f":"'1'!E16","v":0}]
[null,null,null,null,null,null,null,null,null,null,null,"В Таблиці 1 у графі 2 число у рядку 13 -",null,null,null,{"$f":"'1'!F19","v":0}]
[null,null,null,null,null,null,null,null,null,null,null,"не повинно перевищувати число у рядку 10 - ",null,null,null,{"$f":"'1'!F16","v":0}]
[null,null,null,null,null,null,null,null,null,null,null,"В Таблиці 1 у графі 3 число у рядку 13 -",null,null,null,{"$f":"'1'!G19","v":0}]
[null,null,null,null,null,null,null,null,null,null,null,"не повинно перевищувати число у рядку 10 - ",null,null,null,{"$f":"'1'!G16","v":7}]
[null,null,null,null,null,null,null,null,null,null,null,"В Таблиці 1 у графі 4 число у рядку 13 -",null,null,null,{"$f":"'1'!H19","v":0}]
[null,null,null,null,null,null,null,null,null,null,null,"не повинно перевищувати число у рядку 10 - ",null,null,null,{"$f":"'1'!H16","v":43}]
[null,null,null,null,null,null,null,null,null,null,null,"В Таблиці 1 у графі 5 число у рядку 13 -",null,null,null,{"$f":"'1'!I19","v":0}]
[null,null,null,null,null,null,null,null,null,null,null,"не повинно перевищувати число у рядку 10 - ",null,null,null,{"$f":"'1'!I16","v":6139}]
[null,null,null,null,null,null,null,null,null,null,null,"В Таблиці 1 у графі 6 число у рядку 13 -",null,null,null,{"$f":"'1'!J19","v":0}]
[null,null,null,null,null,null,null,null,null,null,null,"не повинно перевищувати число у рядку 10 - ",null,null,null,{"$f":"'1'!J16","v":76}]
[null,null,null,null,null,null,null,null,null,null,null,"В Таблиці 1 у графі 7 число у рядку 13 -",null,null,null,{"$f":"'1'!K19","v":0}]
[null,null,null,null,null,null,null,null,null,null,null,"не повинно перевищувати число у рядку 10 - ",null,null,null,{"$f":"'1'!K16","v":484}]
[null,null,null,null,null,null,null,null,null,null,null,"В Таблиці 1 у графі 8 число у рядку 13 -",null,null,null,{"$f":"'1'!L19","v":0}]
[null,null,null,null,null,null,null,null,null,null,null,"не повинно перевищувати число у рядку 10 - ",null,null,null,{"$f":"'1'!L16","v":19}]
[null,null,null,null,null,null,null,null,null,null,null,"В Таблиці 1 у графі 9 число у рядку 13 -",null,null,null,{"$f":"'1'!M19","v":0}]
[null,null,null,null,null,null,null,null,null,null,null,"не повинно перевищувати число у рядку 10 - ",null,null,null,{"$f":"'1'!M16","v":292}]
[null,null,null,null,null,null,null,null,null,null,null,"В Таблиці 1 у графі 10 число у рядку 13 -",null,null,null,{"$f":"'1'!R19","v":0}]
[null,null,null,null,null,null,null,null,null,null,null,"не повинно перевищувати число у рядку 10 - ",null,null,null,{"$f":"'1'!R16","v":25}]
[null,null,null,null,null,null,null,null,null,null,null,"В Таблиці 1 у графі 11 число у рядку 13 -",null,null,null,{"$f":"'1'!S19","v":0}]
[null,null,null,null,null,null,null,null,null,null,null,"не повинно перевищувати число у рядку 10 - ",null,null,null,{"$f":"'1'!S16","v":76}]
[null,null,null,null,null,null,null,null,null,null,null,"В Таблиці 1 у графі 12 число у рядку 13 -",null,null,null,{"$f":"'1'!T19","v":0}]
[null,null,null,null,null,null,null,null,null,null,null,"не повинно перевищувати число у рядку 10 - ",null,null,null,{"$f":"'1'!T16","v":0}]
[null,null,null,null,null,null,null,null,null,null,null,"В Таблиці 1 у графі 13 число у рядку 13 -",null,null,null,{"$f":"'1'!U19","v":0}]
[null,null,null,null,null,null,null,null,null,null,null,"не повинно перевищувати число у рядку 10 - ",null,null,null,{"$f":"'1'!U16","v":0}]
[null,null,null,null,null,null,null,null,null,null,null,"В Таблиці 1 у графі 14 число у рядку 13 -",null,null,null,{"$f":"'1'!V19","v":0}]
[null,null,null,null,null,null,null,null,null,null,null,"не повинно перевищувати число у рядку 10 - ",null,null,null,{"$f":"'1'!V16","v":0}]
[null,null,null,null,null,null,null,null,null,null,null,"В Таблиці 1 у графі 15 число у рядку 13 -",null,null,null,{"$f":"'1'!W19","v":0}]
[null,null,null,null,null,null,null,null,null,null,null,"не повинно перевищувати число у рядку 10 - ",null,null,null,{"$f":"'1'!W16","v":0}]
[null,null,null,null,null,null,null,null,null,null,null,"В Таблиці 1 у графі 16 число у рядку 13 -",null,null,null,{"$f":"'1'!X19","v":0}]
[null,null,null,null,null,null,null,null,null,null,null,"не повинно перевищувати число у рядку 10 - ",null,null,null,{"$f":"'1'!X16","v":0}]
[null,null,null,null,null,null,null,null,null,null,null,"В Таблиці 1 у графі 17 число у рядку 13 -",null,null,null,{"$f":"'1'!Y19","v":0}]
[null,null,null,null,null,null,null,null,null,null,null,"не повинно перевищувати число у рядку 10 - ",null,null,null,{"$f":"'1'!Y16","v":0}]
[null,null,null,null,null,null,null,null,null,null,null,"В Таблиці 1 у графі 18 число у рядку 13 -",null,null,null,{"$f":"'1'!Z19","v":0}]
[null,null,null,null,null,null,null,null,null,null,null,"не повинно перевищувати число у рядку 10 - ",null,null,null,{"$f":"'1'!Z16","v":0}]
[null,null,null,null,null,null,null,null,null,null,null,"В Таблиці 1 у графі 19 число у рядку 13 -",null,null,null,{"$f":"'1'!AA19","v":0}]
[null,null,null,null,null,null,null,null,null,null,null,"не повинно перевищувати число у рядку 10 - ",null,null,null,{"$f":"'1'!AA16","v":0}]
[null,null,null,null,null,null,null,null,null,null,null,"В Таблиці 1 у графі 20 число у рядку 13 -",null,null,null,{"$f":"'1'!AB19","v":0}]
[null,null,null,null,null,null,null,null,null,null,null,"не повинно перевищувати число у рядку 10 - ",null,null,null,{"$f":"'1'!AB16","v":0}]
[null,null,null,null,null,null,null,null,null,null,null,"В Таблиці 1 у графі 21 число у рядку 13 -",null,null,null,{"$f":"'1'!AC19","v":0}]
[null,null,null,null,null,null,null,null,null,null,null,"не повинно перевищувати число у рядку 10 - ",null,null,null,{"$f":"'1'!AC16","v":0}]
[null,null,null,null,null,null,null,null,null,null,null,"В Таблиці 1 у графі 22 число у рядку 13 -",null,null,null,{"$f":"'1'!AD19","v":0}]
[null,null,null,null,null,null,null,null,null,null,null,"не повинно перевищувати число у рядку 10 - ",null,null,null,{"$f":"'1'!AD16","v":0}]
[null,null,null,null,null,null,null,null,null,null,null,"В Таблиці 1 у графі 23 число у рядку 13 -",null,null,null,{"$f":"'1'!AE19","v":0}]
[null,null,null,null,null,null,null,null,null,null,null,"не повинно перевищувати число у рядку 10 - ",null,null,null,{"$f":"'1'!AE16","v":0}]
[null,null,null,null,null,null,null,null,null,null,null,"В Таблиці 1 у графі 1 число у рядку 16 -",null,null,null,{"$f":"'1'!E22","v":0}]
[null,null,null,null,null,null,null,null,null,null,null,"не повинно перевищувати число у рядку 15 - ",null,null,null,{"$f":"'1'!E21","v":0}]
[null,null,null,null,null,null,null,null,null,null,null,"В Таблиці 1 у графі 2 число у рядку 16 -",null,null,null,{"$f":"'1'!F22","v":0}]
[null,null,null,null,null,null,null,null,null,null,null,"не повинно перевищувати число у рядку 15 - ",null,null,null,{"$f":"'1'!F21","v":0}]
[null,null,null,null,null,null,null,null,null,null,null,"В Таблиці 1 у графі 3 число у рядку 16 -",null,null,null,{"$f":"'1'!G22","v":1}]
[null,null,null,null,null,null,null,null,null,null,null,"не повинно перевищувати число у рядку 15 - ",null,null,null,{"$f":"'1'!G21","v":1}]
[null,null,null,null,null,null,null,null,null,null,null,"В Таблиці 1 у графі 4 число у рядку 16 -",null,null,null,{"$f":"'1'!H22","v":1}]
[null,null,null,null,null,null,null,null,null,null,null,"не повинно перевищувати число у рядку 15 - ",null,null,null,{"$f":"'1'!H21","v":1}]
[null,null,null,null,null,null,null,null,null,null,null,"В Таблиці 1 у графі 5 число у рядку 16 -",null,null,null,{"$f":"'1'!I22","v":145}]
[null,null,null,null,null,null,null,null,null,null,null,"не повинно перевищувати число у рядку 15 - ",null,null,null,{"$f":"'1'!I21","v":692}]
[null,null,null,null,null,null,null,null,null,null,null,"В Таблиці 1 у графі 6 число у рядку 16 -",null,null,null,{"$f":"'1'!J22","v":10}]
[null,null,null,null,null,null,null,null,null,null,null,"не повинно перевищувати число у рядку 15 - ",null,null,null,{"$f":"'1'!J21","v":58}]
[null,null,null,null,null,null,null,null,null,null,null,"В Таблиці 1 у графі 7 число у рядку 16 -",null,null,null,{"$f":"'1'!K22","v":80}]
[null,null,null,null,null,null,null,null,null,null,null,"не повинно перевищувати число у рядку 15 - ",null,null,null,{"$f":"'1'!K21","v":587}]
[null,null,null,null,null,null,null,null,null,null,null,"В Таблиці 1 у графі 8 число у рядку 16 -",null,null,null,{"$f":"'1'!L22","v":61}]
[null,null,null,null,null,null,null,null,null,null,null,"не повинно перевищувати число у рядку 15 - ",null,null,null,{"$f":"'1'!L21","v":61}]
[null,null,null,null,null,null,null,null,null,null,null,"В Таблиці 1 у графі 9 число у рядку 16 -",null,null,null,{"$f":"'1'!M22","v":219}]
[null,null,null,null,null,null,null,null,null,null,null,"не повинно перевищувати число у рядку 15 - ",null,null,null,{"$f":"'1'!M21","v":441}]
[null,null,null,null,null,null,null,null,null,null,null,"В Таблиці 1 у графі 10 число у рядку 16 -",null,null,null,{"$f":"'1'!R22","v":12}]
[null,null,null,null,null,null,null,null,null,null,null,"не повинно перевищувати число у рядку 15 - ",null,null,null,{"$f":"'1'!R21","v":202}]
[null,null,null,null,null,null,null,null,null,null,null,"В Таблиці 1 у графі 11 число у рядку 16 -",null,null,null,{"$f":"'1'!S22","v":0}]
[null,null,null,null,null,null,null,null,null,null,null,"не повинно перевищувати число у рядку 15 - ",null,null,null,{"$f":"'1'!S21","v":0}]
[null,null,null,null,null,null,null,null,null,null,null,"В Таблиці 1 у графі 12 число у рядку 16 -",null,null,null,{"$f":"'1'!T22","v":2}]
[null,null,null,null,null,null,null,null,null,null,null,"не повинно перевищувати число у рядку 15 - ",null,null,null,{"$f":"'1'!T21","v":5}]
[null,null,null,null,null,null,null,null,null,null,null,"В Таблиці 1 у графі 13 число у рядку 16 -",null,null,null,{"$f":"'1'!U22","v":2}]
[null,null,null,null,null,null,null,null,null,null,null,"не повинно перевищувати число у рядку 15 - ",null,null,null,{"$f":"'1'!U21","v":5}]
[null,null,null,null,null,null,null,null,null,null,null,"В Таблиці 1 у графі 14 число у рядку 16 -",null,null,null,{"$f":"'1'!V22","v":0}]
[null,null,null,null,null,null,null,null,null,null,null,"не повинно перевищувати число у рядку 15 - ",null,null,null,{"$f":"'1'!V21","v":0}]
[null,null,null,null,null,null,null,null,null,null,null,"В Таблиці 1 у графі 15 число у рядку 16 -",null,null,null,{"$f":"'1'!W22","v":0}]
[null,null,null,null,null,null,null,null,null,null,null,"не повинно перевищувати число у рядку 15 - ",null,null,null,{"$f":"'1'!W21","v":0}]
[null,null,null,null,null,null,null,null,null,null,null,"В Таблиці 1 у графі 16 число у рядку 16 -",null,null,null,{"$f":"'1'!X22","v":0}]
[null,null,null,null,null,null,null,null,null,null,null,"не повинно перевищувати число у рядку 15 - ",null,null,null,{"$f":"'1'!X21","v":0}]
[null,null,null,null,null,null,null,null,null,null,null,"В Таблиці 1 у графі 17 число у рядку 16 -",null,null,null,{"$f":"'1'!Y22","v":0}]
[null,null,null,null,null,null,null,null,null,null,null,"не повинно перевищувати число у рядку 15 - ",null,null,null,{"$f":"'1'!Y21","v":0}]
[null,null,null,null,null,null,null,null,null,null,null,"В Таблиці 1 у графі 18 число у рядку 16 -",null,null,null,{"$f":"'1'!Z22","v":0}]
[null,null,null,null,null,null,null,null,null,null,null,"не повинно перевищувати число у рядку 15 - ",null,null,null,{"$f":"'1'!Z21","v":0}]
[null,null,null,null,null,null,null,null,null,null,null,"В Таблиці 1 у графі 19 число у рядку 16 -",null,null,null,{"$f":"'1'!AA22","v":0}]
[null,null,null,null,null,null,null,null,null,null,null,"не повинно перевищувати число у рядку 15 - ",null,null,null,{"$f":"'1'!AA21","v":0}]
[null,null,null,null,null,null,null,null,null,null,null,"В Таблиці 1 у графі 20 число у рядку 16 -",null,null,null,{"$f":"'1'!AB22","v":14}]
[null,null,null,null,null,null,null,null,null,null,null,"не повинно перевищувати число у рядку 15 - ",null,null,null,{"$f":"'1'!AB21","v":38}]
[null,null,null,null,null,null,null,null,null,null,null,"В Таблиці 1 у графі 21 число у рядку 16 -",null,null,null,{"$f":"'1'!AC22","v":0}]
[null,null,null,null,null,null,null,null,null,null,null,"не повинно перевищувати число у рядку 15 - ",null,null,null,{"$f":"'1'!AC21","v":50}]
[null,null,null,null,null,null,null,null,null,null,null,"В Таблиці 1 у графі 22 число у рядку 16 -",null,null,null,{"$f":"'1'!AD22","v":0}]
[null,null,null,null,null,null,null,null,null,null,null,"не повинно перевищувати число у рядку 15 - ",null,null,null,{"$f":"'1'!AD21","v":0}]
[null,null,null,null,null,null,null,null,null,null,null,"В Таблиці 1 у графі 23 число у рядку 16 -",null,null,null,{"$f":"'1'!AE22","v":3}]
[null,null,null,null,null,null,null,null,null,null,null,"не повинно перевищувати число у рядку 15 - ",null,null,null,{"$f":"'1'!AE21","v":5}]
[null,null,null,null,null,null,null,null,null,null,null,"В Таблиці 1 у графі 1 число у рядку 18 -",null,null,null,{"$f":"'1'!E24","v":0}]
[null,null,null,null,null,null,null,null,null,null,null,"не повинно перевищувати число у рядку 17 - ",null,null,null,{"$f":"'1'!E23","v":0}]
[null,null,null,null,null,null,null,null,null,null,null,"В Таблиці 1 у графі 2 число у рядку 18 -",null,null,null,{"$f":"'1'!F24","v":0}]
[null,null,null,null,null,null,null,null,null,null,null,"не повинно перевищувати число у рядку 17 - ",null,null,null,{"$f":"'1'!F23","v":0}]
[null,null,null,null,null,null,null,null,null,null,null,"В Таблиці 1 у графі 3 число у рядку 18 -",null,null,null,{"$f":"'1'!G24","v":0}]
[null,null,null,null,null,null,null,null,null,null,null,"не повинно перевищувати число у рядку 17 - ",null,null,null,{"$f":"'1'!G23","v":0}]
[null,null,null,null,null,null,null,null,null,null,null,"В Таблиці 1 у графі 4 число у рядку 18 -",null,null,null,{"$f":"'1'!H24","v":0}]
[null,null,null,null,null,null,null,null,null,null,null,"не повинно перевищувати число у рядку 17 - ",null,null,null,{"$f":"'1'!H23","v":0}]
[null,null,null,null,null,null,null,null,null,null,null,"В Таблиці 1 у графі 5 число у рядку 18 -",null,null,null,{"$f":"'1'!I24","v":0}]
[null,null,null,null,null,null,null,null,null,null,null,"не повинно перевищувати число у рядку 17 - ",null,null,null,{"$f":"'1'!I23","v":0}]
[null,null,null,null,null,null,null,null,null,null,null,"В Таблиці 1 у графі 6 число у рядку 18 -",null,null,null,{"$f":"'1'!J24","v":0}]
[null,null,null,null,null,null,null,null,null,null,null,"не повинно перевищувати число у рядку 17 - ",null,null,null,{"$f":"'1'!J23","v":0}]
[null,null,null,null,null,null,null,null,null,null,null,"В Таблиці 1 у графі 7 число у рядку 18 -",null,null,null,{"$f":"'1'!K24","v":0}]
[null,null,null,null,null,null,null,null,null,null,null,"не повинно перевищувати число у рядку 17 - ",null,null,null,{"$f":"'1'!K23","v":0}]
[null,null,null,null,null,null,null,null,null,null,null,"В Таблиці 1 у графі 8 число у рядку 18 -",null,null,null,{"$f":"'1'!L24","v":0}]
[null,null,null,null,null,null,null,null,null,null,null,"не повинно перевищувати число у рядку 17 - ",null,null,null,{"$f":"'1'!L23","v":0}]
[null,null,null,null,null,null,null,null,null,null,null,"В Таблиці 1 у графі 9 число у рядку 18 -",null,null,null,{"$f":"'1'!M24","v":0}]
[null,null,null,null,null,null,null,null,null,null,null,"не повинно перевищувати число у рядку 17 - ",null,null,null,{"$f":"'1'!M23","v":0}]
[null,null,null,null,null,null,null,null,null,null,null,"В Таблиці 1 у графі 10 число у рядку 18 -",null,null,null,{"$f":"'1'!R24","v":0}]
[null,null,null,null,null,null,null,null,null,null,null,"не повинно перевищувати число у рядку 17 - ",null,null,null,{"$f":"'1'!R23","v":0}]
[null,null,null,null,null,null,null,null,null,null,null,"В Таблиці 1 у графі 11 число у рядку 18 -",null,null,null,{"$f":"'1'!S24","v":0}]
[null,null,null,null,null,null,null,null,null,null,null,"не повинно перевищувати число у рядку 17 - ",null,null,null,{"$f":"'1'!S23","v":0}]
[null,null,null,null,null,null,null,null,null,null,null,"В Таблиці 1 у графі 12 число у рядку 18 -",null,null,null,{"$f":"'1'!T24","v":0}]
[null,null,null,null,null,null,null,null,null,null,null,"не повинно перевищувати число у рядку 17 - ",null,null,null,{"$f":"'1'!T23","v":0}]
[null,null,null,null,null,null,null,null,null,null,null,"В Таблиці 1 у графі 13 число у рядку 18 -",null,null,null,{"$f":"'1'!U24","v":0}]
[null,null,null,null,null,null,null,null,null,null,null,"не повинно перевищувати число у рядку 17 - ",null,null,null,{"$f":"'1'!U23","v":0}]
[null,null,null,null,null,null,null,null,null,null,null,"В Таблиці 1 у графі 14 число у рядку 18 -",null,null,null,{"$f":"'1'!V24","v":0}]
[null,null,null,null,null,null,null,null,null,null,null,"не повинно перевищувати число у рядку 17 - ",null,null,null,{"$f":"'1'!V23","v":0}]
[null,null,null,null,null,null,null,null,null,null,null,"В Таблиці 1 у графі 15 число у рядку 18 -",null,null,null,{"$f":"'1'!W24","v":0}]
[null,null,null,null,null,null,null,null,null,null,null,"не повинно перевищувати число у рядку 17 - ",null,null,null,{"$f":"'1'!W23","v":0}]
[null,null,null,null,null,null,null,null,null,null,null,"В Таблиці 1 у графі 16 число у рядку 18 -",null,null,null,{"$f":"'1'!X24","v":0}]
[null,null,null,null,null,null,null,null,null,null,null,"не повинно перевищувати число у рядку 17 - ",null,null,null,{"$f":"'1'!X23","v":0}]
[null,null,null,null,null,null,null,null,null,null,null,"В Таблиці 1 у графі 17 число у рядку 18 -",null,null,null,{"$f":"'1'!Y24","v":0}]
[null,null,null,null,null,null,null,null,null,null,null,"не повинно перевищувати число у рядку 17 - ",null,null,null,{"$f":"'1'!Y23","v":0}]
[null,null,null,null,null,null,null,null,null,null,null,"В Таблиці 1 у графі 18 число у рядку 18 -",null,null,null,{"$f":"'1'!Z24","v":0}]
[null,null,null,null,null,null,null,null,null,null,null,"не повинно перевищувати число у рядку 17 - ",null,null,null,{"$f":"'1'!Z23","v":0}]
[null,null,null,null,null,null,null,null,null,null,null,"В Таблиці 1 у графі 19 число у рядку 18 -",null,null,null,{"$f":"'1'!AA24","v":0}]
[null,null,null,null,null,null,null,null,null,null,null,"не повинно перевищувати число у рядку 17 - ",null,null,null,{"$f":"'1'!AA23","v":0}]
[null,null,null,null,null,null,null,null,null,null,null,"В Таблиці 1 у графі 20 число у рядку 18 -",null,null,null,{"$f":"'1'!AB24","v":0}]
[null,null,null,null,null,null,null,null,null,null,null,"не повинно перевищувати число у рядку 17 - ",null,null,null,{"$f":"'1'!AB23","v":0}]
[null,null,null,null,null,null,null,null,null,null,null,"В Таблиці 1 у графі 21 число у рядку 18 -",null,null,null,{"$f":"'1'!AC24","v":0}]
[null,null,null,null,null,null,null,null,null,null,null,"не повинно перевищувати число у рядку 17 - ",null,null,null,{"$f":"'1'!AC23","v":0}]
[null,null,null,null,null,null,null,null,null,null,null,"В Таблиці 1 у графі 22 число у рядку 18 -",null,null,null,{"$f":"'1'!AD24","v":0}]
[null,null,null,null,null,null,null,null,null,null,null,"не повинно перевищувати число у рядку 17 - ",null,null,null,{"$f":"'1'!AD23","v":0}]
[null,null,null,null,null,null,null,null,null,null,null,"В Таблиці 1 у графі 23 число у рядку 18 -",null,null,null,{"$f":"'1'!AE24","v":0}]
[null,null,null,null,null,null,null,null,null,null,null,"не повинно перевищувати число у рядку 17 - ",null,null,null,{"$f":"'1'!AE23","v":0}]
[null,null,null,null,null,null,null,null,null,null,null,"В Таблиці 1 у графі 1 число у рядку 20 -",null,null,null,{"$f":"'1'!E26","v":0}]
[null,null,null,null,null,null,null,null,null,null,null,"не повинно перевищувати число у рядку 19 - ",null,null,null,{"$f":"'1'!E25","v":0}]
[null,null,null,null,null,null,null,null,null,null,null,"В Таблиці 1 у графі 2 число у рядку 20 -",null,null,null,{"$f":"'1'!F26","v":0}]
[null,null,null,null,null,null,null,null,null,null,null,"не повинно перевищувати число у рядку 19 - ",null,null,null,{"$f":"'1'!F25","v":0}]
[null,null,null,null,null,null,null,null,null,null,null,"В Таблиці 1 у графі 3 число у рядку 20 -",null,null,null,{"$f":"'1'!G26","v":29}]
[null,null,null,null,null,null,null,null,null,null,null,"не повинно перевищувати число у рядку 19 - ",null,null,null,{"$f":"'1'!G25","v":30}]
[null,null,null,null,null,null,null,null,null,null,null,"В Таблиці 1 у графі 4 число у рядку 20 -",null,null,null,{"$f":"'1'!H26","v":46405}]
[null,null,null,null,null,null,null,null,null,null,null,"не повинно перевищувати число у рядку 19 - ",null,null,null,{"$f":"'1'!H25","v":46405}]
[null,null,null,null,null,null,null,null,null,null,null,"В Таблиці 1 у графі 5 число у рядку 20 -",null,null,null,{"$f":"'1'!I26","v":212826}]
[null,null,null,null,null,null,null,null,null,null,null,"не повинно перевищувати число у рядку 19 - ",null,null,null,{"$f":"'1'!I25","v":224386}]
[null,null,null,null,null,null,null,null,null,null,null,"В Таблиці 1 у графі 6 число у рядку 20 -",null,null,null,{"$f":"'1'!J26","v":168}]
[null,null,null,null,null,null,null,null,null,null,null,"не повинно перевищувати число у рядку 19 - ",null,null,null,{"$f":"'1'!J25","v":184}]
[null,null,null,null,null,null,null,null,null,null,null,"В Таблиці 1 у графі 7 число у рядку 20 -",null,null,null,{"$f":"'1'!K26","v":160895}]
[null,null,null,null,null,null,null,null,null,null,null,"не повинно перевищувати число у рядку 19 - ",null,null,null,{"$f":"'1'!K25","v":172324}]
[null,null,null,null,null,null,null,null,null,null,null,"В Таблиці 1 у графі 8 число у рядку 20 -",null,null,null,{"$f":"'1'!L26","v":6680}]
[null,null,null,null,null,null,null,null,null,null,null,"не повинно перевищувати число у рядку 19 - ",null,null,null,{"$f":"'1'!L25","v":6722}]
[null,null,null,null,null,null,null,null,null,null,null,"В Таблиці 1 у графі 9 число у рядку 20 -",null,null,null,{"$f":"'1'!M26","v":1051}]
[null,null,null,null,null,null,null,null,null,null,null,"не повинно перевищувати число у рядку 19 - ",null,null,null,{"$f":"'1'!M25","v":1096}]
[null,null,null,null,null,null,null,null,null,null,null,"В Таблиці 1 у графі 10 число у рядку 20 -",null,null,null,{"$f":"'1'!R26","v":183}]
[null,null,null,null,null,null,null,null,null,null,null,"не повинно перевищувати число у рядку 19 - ",null,null,null,{"$f":"'1'!R25","v":198}]
[null,null,null,null,null,null,null,null,null,null,null,"В Таблиці 1 у графі 11 число у рядку 20 -",null,null,null,{"$f":"'1'!S26","v":0}]
[null,null,null,null,null,null,null,null,null,null,null,"не повинно перевищувати число у рядку 19 - ",null,null,null,{"$f":"'1'!S25","v":0}]
[null,null,null,null,null,null,null,null,null,null,null,"В Таблиці 1 у графі 12 число у рядку 20 -",null,null,null,{"$f":"'1'!T26","v":11}]
[null,null,null,null,null,null,null,null,null,null,null,"не повинно перевищувати число у рядку 19 - ",null,null,null,{"$f":"'1'!T25","v":12}]
[null,null,null,null,null,null,null,null,null,null,null,"В Таблиці 1 у графі 13 число у рядку 20 -",null,null,null,{"$f":"'1'!U26","v":8}]
[null,null,null,null,null,null,null,null,null,null,null,"не повинно перевищувати число у рядку 19 - ",null,null,null,{"$f":"'1'!U25","v":9}]
[null,null,null,null,null,null,null,null,null,null,null,"В Таблиці 1 у графі 14 число у рядку 20 -",null,null,null,{"$f":"'1'!V26","v":0}]
[null,null,null,null,null,null,null,null,null,null,null,"не повинно перевищувати число у рядку 19 - ",null,null,null,{"$f":"'1'!V25","v":0}]
[null,null,null,null,null,null,null,null,null,null,null,"В Таблиці 1 у графі 15 число у рядку 20 -",null,null,null,{"$f":"'1'!W26","v":0}]
[null,null,null,null,null,null,null,null,null,null,null,"не повинно перевищувати число у рядку 19 - ",null,null,null,{"$f":"'1'!W25","v":0}]
[null,null,null,null,null,null,null,null,null,null,null,"В Таблиці 1 у графі 16 число у рядку 20 -",null,null,null,{"$f":"'1'!X26","v":0}]
[null,null,null,null,null,null,null,null,null,null,null,"не повинно перевищувати число у рядку 19 - ",null,null,null,{"$f":"'1'!X25","v":0}]
[null,null,null,null,null,null,null,null,null,null,null,"В Таблиці 1 у графі 17 число у рядку 20 -",null,null,null,{"$f":"'1'!Y26","v":0}]
[null,null,null,null,null,null,null,null,null,null,null,"не повинно перевищувати число у рядку 19 - ",null,null,null,{"$f":"'1'!Y25","v":0}]
[null,null,null,null,null,null,null,null,null,null,null,"В Таблиці 1 у графі 18 число у рядку 20 -",null,null,null,{"$f":"'1'!Z26","v":0}]
[null,null,null,null,null,null,null,null,null,null,null,"не повинно перевищувати число у рядку 19 - ",null,null,null,{"$f":"'1'!Z25","v":0}]
[null,null,null,null,null,null,null,null,null,null,null,"В Таблиці 1 у графі 19 число у рядку 20 -",null,null,null,{"$f":"'1'!AA26","v":0}]
[null,null,null,null,null,null,null,null,null,null,null,"не повинно перевищувати число у рядку 19 - ",null,null,null,{"$f":"'1'!AA25","v":0}]
[null,null,null,null,null,null,null,null,null,null,null,"В Таблиці 1 у графі 20 число у рядку 20 -",null,null,null,{"$f":"'1'!AB26","v":212}]
[null,null,null,null,null,null,null,null,null,null,null,"не повинно перевищувати число у рядку 19 - ",null,null,null,{"$f":"'1'!AB25","v":212}]
[null,null,null,null,null,null,null,null,null,null,null,"В Таблиці 1 у графі 21 число у рядку 20 -",null,null,null,{"$f":"'1'!AC26","v":0}]
[null,null,null,null,null,null,null,null,null,null,null,"не повинно перевищувати число у рядку 19 - ",null,null,null,{"$f":"'1'!AC25","v":6}]
[null,null,null,null,null,null,null,null,null,null,null,"В Таблиці 1 у графі 22 число у рядку 20 -",null,null,null,{"$f":"'1'!AD26","v":10455.029999999999}]
[null,null,null,null,null,null,null,null,null,null,null,"не повинно перевищувати число у рядку 19 - ",null,null,null,{"$f":"'1'!AD25","v":10513.029999999999}]
[null,null,null,null,null,null,null,null,null,null,null,"В Таблиці 1 у графі 23 число у рядку 20 -",null,null,null,{"$f":"'1'!AE26","v":13}]
[null,null,null,null,null,null,null,null,null,null,null,"не повинно перевищувати число у рядку 19 - ",null,null,null,{"$f":"'1'!AE25","v":15}]
[null,null,null,null,null,null,null,null,null,null,null,"В Таблиці 1 у графі 1 сума чисел у рядках 5,6,14 -",null,null,null,{"$f":"'1'!E11+'1'!E12+'1'!E20","v":0}]
[null,null,null,null,null,null,null,null,null,null,null,"повинна дорівнювати числу у рядку 1 -",null,null,null,{"$f":"'1'!E7","v":0}]
[null,null,null,null,null,null,null,null,null,null,null,"В Таблиці 1 у графі 2 сума чисел у рядках 5,6,14 -",null,null,null,{"$f":"'1'!F11+'1'!F12+'1'!F20","v":0}]
[null,null,null,null,null,null,null,null,null,null,null,"повинна дорівнювати числу у рядку 1 -",null,null,null,{"$f":"'1'!F7","v":0}]
[null,null,null,null,null,null,null,null,null,null,null,"В Таблиці 1 у графі 3 сума чисел у рядках 5,6,11,14 -",null,null,null,{"$f":"'1'!G11+'1'!G12+'1'!G17+'1'!G20","v":67}]
[null,null,null,null,null,null,null,null,null,null,null,"повинна дорівнювати числу у рядку 1 -",null,null,null,{"$f":"'1'!G7","v":67}]
[null,null,null,null,null,null,null,null,null,null,null,"В Таблиці 1 у графі 4 сума чисел у рядках 5,6,11,14 -",null,null,null,{"$f":"'1'!H11+'1'!H12+'1'!H17+'1'!H20","v":106405}]
[null,null,null,null,null,null,null,null,null,null,null,"повинна дорівнювати числу у рядку 1 -",null,null,null,{"$f":"'1'!H7","v":106405}]
[null,null,null,null,null,null,null,null,null,null,null,"В Таблиці 1 у графі 5 сума чисел у рядках 5,6,11,14 -",null,null,null,{"$f":"'1'!I11+'1'!I12+'1'!I17+'1'!I20","v":354656}]
[null,null,null,null,null,null,null,null,null,null,null,"повинна дорівнювати числу у рядку 1 -",null,null,null,{"$f":"'1'!I7","v":354656}]
[null,null,null,null,null,null,null,null,null,null,null,"В Таблиці 1 у графі 6 сума чисел у рядках 5,6,11,14 -",null,null,null,{"$f":"'1'!J11+'1'!J12+'1'!J17+'1'!J20","v":620}]
[null,null,null,null,null,null,null,null,null,null,null,"повинна дорівнювати числу у рядку 1 -",null,null,null,{"$f":"'1'!J7","v":620}]
[null,null,null,null,null,null,null,null,null,null,null,"В Таблиці 1 у графі 7 сума чисел у рядках 5,6,11,14 -",null,null,null,{"$f":"'1'!K11+'1'!K12+'1'!K17+'1'!K20","v":210545}]
[null,null,null,null,null,null,null,null,null,null,null,"повинна дорівнювати числу у рядку 1 -",null,null,null,{"$f":"'1'!K7","v":210545}]
[null,null,null,null,null,null,null,null,null,null,null,"В Таблиці 1 у графі 8 сума чисел у рядках 5,6,11,14 -",null,null,null,{"$f":"'1'!L11+'1'!L12+'1'!L17+'1'!L20","v":10787}]
[null,null,null,null,null,null,null,null,null,null,null,"повинна дорівнювати числу у рядку 1 -",null,null,null,{"$f":"'1'!L7","v":10787}]
[null,null,null,null,null,null,null,null,null,null,null,"В Таблиці 1 у графі 9 сума чисел у рядках 5,6,11,14 -",null,null,null,{"$f":"'1'!M11+'1'!M12+'1'!M17+'1'!M20","v":10228}]
[null,null,null,null,null,null,null,null,null,null,null,"повинна дорівнювати числу у рядку 1 -",null,null,null,{"$f":"'1'!M7","v":10228}]
[null,null,null,null,null,null,null,null,null,null,null,"В Таблиці 1 у графі 10 сума чисел у рядках 5,6,14 -",null,null,null,{"$f":"'1'!R11+'1'!R12+'1'!R20","v":774}]
[null,null,null,null,null,null,null,null,null,null,null,"повинна дорівнювати числу у рядку 1 -",null,null,null,{"$f":"'1'!R7","v":774}]
[null,null,null,null,null,null,null,null,null,null,null,"В Таблиці 1 у графі 11 сума чисел у рядках 5,6,14 -",null,null,null,{"$f":"'1'!S11+'1'!S12+'1'!S20","v":1305}]
[null,null,null,null,null,null,null,null,null,null,null,"повинна дорівнювати числу у рядку 1 -",null,null,null,{"$f":"'1'!S7","v":1305}]
[null,null,null,null,null,null,null,null,null,null,null,"В Таблиці 1 у графі 12 сума чисел у рядках 5,6,11,14 -",null,null,null,{"$f":"'1'!T11+'1'!T12+'1'!T17+'1'!T20","v":40}]
[null,null,null,null,null,null,null,null,null,null,null,"повинна дорівнювати числу у рядку 1 -",null,null,null,{"$f":"'1'!T7","v":40}]
[null,null,null,null,null,null,null,null,null,null,null,"В Таблиці 1 у графі 13 сума чисел у рядках 5,6,11,14 -",null,null,null,{"$f":"'1'!U11+'1'!U12+'1'!U17+'1'!U20","v":27}]
[null,null,null,null,null,null,null,null,null,null,null,"повинна дорівнювати числу у рядку 1 -",null,null,null,{"$f":"'1'!U7","v":27}]
[null,null,null,null,null,null,null,null,null,null,null,"В Таблиці 1 у графі 14 сума чисел у рядках 5,6,11,14 -",null,null,null,{"$f":"'1'!V11+'1'!V12+'1'!V17+'1'!V20","v":6}]
[null,null,null,null,null,null,null,null,null,null,null,"повинна дорівнювати числу у рядку 1 -",null,null,null,{"$f":"'1'!V7","v":6}]
[null,null,null,null,null,null,null,null,null,null,null,"В Таблиці 1 у графі 15 сума чисел у рядках 5,6,11,14 -",null,null,null,{"$f":"'1'!W11+'1'!W12+'1'!W17+'1'!W20","v":4}]
[null,null,null,null,null,null,null,null,null,null,null,"повинна дорівнювати числу у рядку 1 -",null,null,null,{"$f":"'1'!W7","v":4}]
[null,null,null,null,null,null,null,null,null,null,null,"В Таблиці 1 у графі 16 сума чисел у рядках 5,6,11,14 -",null,null,null,{"$f":"'1'!X11+'1'!X12+'1'!X17+'1'!X20","v":0}]
[null,null,null,null,null,null,null,null,null,null,null,"повинна дорівнювати числу у рядку 1 -",null,null,null,{"$f":"'1'!X7","v":0}]
[null,null,null,null,null,null,null,null,null,null,null,"В Таблиці 1 у графі 17 сума чисел у рядках 5,6,11,14 -",null,null,null,{"$f":"'1'!Y11+'1'!Y12+'1'!Y17+'1'!Y20","v":0}]
[null,null,null,null,null,null,null,null,null,null,null,"повинна дорівнювати числу у рядку 1 -",null,null,null,{"$f":"'1'!Y7","v":0}]
[null,null,null,null,null,null,null,null,null,null,null,"В Таблиці 1 у графі 18 сума чисел у рядках 5,6,11,14 -",null,null,null,{"$f":"'1'!Z11+'1'!Z12+'1'!Z17+'1'!Z20","v":0}]
[null,null,null,null,null,null,null,null,null,null,null,"повинна дорівнювати числу у рядку 1 -",null,null,null,{"$f":"'1'!Z7","v":0}]
[null,null,null,null,null,null,null,null,null,null,null,"В Таблиці 1 у графі 19 сума чисел у рядках 5,6,11,14 -",null,null,null,{"$f":"'1'!AA11+'1'!AA12+'1'!AA17+'1'!AA20","v":0}]
[null,null,null,null,null,null,null,null,null,null,null,"повинна дорівнювати числу у рядку 1 -",null,null,null,{"$f":"'1'!AA7","v":0}]
[null,null,null,null,null,null,null,null,null,null,null,"В Таблиці 1 у графі 20 сума чисел у рядках 5,6,11,14 -",null,null,null,{"$f":"'1'!AB11+'1'!AB12+'1'!AB17+'1'!AB20","v":922}]
[null,null,null,null,null,null,null,null,null,null,null,"повинна дорівнювати числу у рядку 1 -",null,null,null,{"$f":"'1'!AB7","v":922}]
[null,null,null,null,null,null,null,null,null,null,null,"В Таблиці 1 у графі 21 сума чисел у рядках 5,6,11,14 -",null,null,null,{"$f":"'1'!AC11+'1'!AC12+'1'!AC17+'1'!AC20","v":153}]
[null,null,null,null,null,null,null,null,null,null,null,"повинна дорівнювати числу у рядку 1 -",null,null,null,{"$f":"'1'!AC7","v":153}]
[null,null,null,null,null,null,null,null,null,null,null,"В Таблиці 1 у графі 22 сума чисел у рядках 5,6,11,14 -",null,null,null,{"$f":"'1'!AD11+'1'!AD12+'1'!AD17+'1'!AD20","v":10513.529999999999}]
[null,null,null,null,null,null,null,null,null,null,null,"повинна дорівнювати числу у рядку 1 -",null,null,null,{"$f":"'1'!AD7","v":10513.529999999999}]
[null,null,null,null,null,null,null,null,null,null,null,"В Таблиці 1 у графі 23 сума чисел у рядках 5,6,11,14 -",null,null,null,{"$f":"'1'!AE11+'1'!AE12+'1'!AE17+'1'!AE20","v":84}]
[null,null,null,null,null,null,null,null,null,null,null,"повинна дорівнювати числу у рядку 1 -",null,null,null,{"$f":"'1'!AE7","v":84}]
[null,null,null,null,null,null,null,null,null,null,"Таблиця 2","В Таблиці 2 у графі 1 сума чисел у рядках 3,4,11,12 -",null,null,null,{"$f":"'2-4'!F8+'2-4'!F9+'2-4'!F16+'2-4'!F17","v":50}]
[null,null,null,null,null,null,null,null,null,null,null,"повинна дорівнювати числу у рядку 1 -",null,null,null,{"$f":"'2-4'!F6","v":50}]
[null,null,null,null,null,null,null,null,null,null,null,"В Таблиці 2 у графі 2 сума чисел у рядках 3,4,11,12 -",null,null,null,{"$f":"'2-4'!G8+'2-4'!G9+'2-4'!G16+'2-4'!G17","v":2}]
[null,null,null,null,null,null,null,null,null,null,null,"повинна дорівнювати числу у рядку 1 -",null,null,null,{"$f":"'2-4'!G6","v":2}]
[null,null,null,null,null,null,null,null,null,null,null,"В Таблиці 2 у графі 3 сума чисел у рядках 3,4,11,12 -",null,null,null,{"$f":"'2-4'!H8+'2-4'!H9+'2-4'!H16+'2-4'!H17","v":21}]
[null,null,null,null,null,null,null,null,null,null,null,"повинна дорівнювати числу у рядку 1 -",null,null,null,{"$f":"'2-4'!H6","v":21}]
[null,null,null,null,null,null,null,null,null,null,null,"В Таблиці 2 у графі 4 сума чисел у рядках 3,4,11,12 -",null,null,null,{"$f":"'2-4'!I8+'2-4'!I9+'2-4'!I16+'2-4'!I17","v":852}]
[null,null,null,null,null,null,null,null,null,null,null,"повинна дорівнювати числу у рядку 1 -",null,null,null,{"$f":"'2-4'!I6","v":852}]
[null,null,null,null,null,null,null,null,null,null,null,"В Таблиці 2 у графі 5 сума чисел у рядках 3,4,11,12 -",null,null,null,{"$f":"'2-4'!J8+'2-4'!J9+'2-4'!J16+'2-4'!J17","v":29}]
[null,null,null,null,null,null,null,null,null,null,null,"повинна дорівнювати числу у рядку 1 -",null,null,null,{"$f":"'2-4'!J6","v":29}]
[null,null,null,null,null,null,null,null,null,null,null,"В Таблиці 2 у графі 6 сума чисел у рядках 3,4,11,12 -",null,null,null,{"$f":"'2-4'!K8+'2-4'!K9+'2-4'!K16+'2-4'!K17","v":6}]
[null,null,null,null,null,null,null,null,null,null,null,"повинна дорівнювати числу у рядку 1 -",null,null,null,{"$f":"'2-4'!K6","v":6}]
[null,null,null,null,null,null,null,null,null,null,null,"В Таблиці 2 у графі 7 сума чисел у рядках 3,4,11,12 -",null,null,null,{"$f":"'2-4'!L8+'2-4'!L9+'2-4'!L16+'2-4'!L17","v":3446}]
[null,null,null,null,null,null,null,null,null,null,null,"повинна дорівнювати числу у рядку 1 -",null,null,null,{"$f":"'2-4'!L6","v":3446}]
[null,null,null,null,null,null,null,null,null,null,null,"В Таблиці 2 у графі 8 сума чисел у рядках 2,3,4,11,12 -",null,null,null,{"$f":"'2-4'!M7+'2-4'!M8+'2-4'!M9+'2-4'!M16+'2-4'!M17","v":114}]
[null,null,null,null,null,null,null,null,null,null,null,"повинна дорівнювати числу у рядку 1 -",null,null,null,{"$f":"'2-4'!M6","v":114}]
[null,null,null,null,null,null,null,null,null,null,null,"В Таблиці 2 у графі 9 сума чисел у рядках 2,3,4,11,12 -",null,null,null,{"$f":"'2-4'!N7+'2-4'!N8+'2-4'!N9+'2-4'!N16+'2-4'!N17","v":30}]
[null,null,null,null,null,null,null,null,null,null,null,"повинна дорівнювати числу у рядку 1 -",null,null,null,{"$f":"'2-4'!N6","v":30}]
[null,null,null,null,null,null,null,null,null,null,null,"В Таблиці 2 у графі 10 сума чисел у рядках 2,3,4,11,12 -",null,null,null,{"$f":"'2-4'!O7+'2-4'!O8+'2-4'!O9+'2-4'!O16+'2-4'!O17","v":28}]
[null,null,null,null,null,null,null,null,null,null,null,"повинна дорівнювати числу у рядку 1 -",null,null,null,{"$f":"'2-4'!O6","v":28}]
[null,null,null,null,null,null,null,null,null,null,null,"В Таблиці 2 у графі 11 сума чисел у рядках 2,3,4,11,12 -",null,null,null,{"$f":"'2-4'!P7+'2-4'!P8+'2-4'!P9+'2-4'!P16+'2-4'!P17","v":7}]
[null,null,null,null,null,null,null,null,null,null,null,"повинна дорівнювати числу у рядку 1 -",null,null,null,{"$f":"'2-4'!P6","v":7}]
[null,null,null,null,null,null,null,null,null,null,null,"В Таблиці 2 у графі 1 сума чисел у рядках 5,8 -",null,null,null,{"$f":"'2-4'!F10+'2-4'!F13","v":50}]
[null,null,null,null,null,null,null,null,null,null,null,"повинна дорівнювати числу у рядку 4 -",null,null,null,{"$f":"'2-4'!F9","v":50}]
[null,null,null,null,null,null,null,null,null,null,null,"В Таблиці 2 у графі 2 сума чисел у рядках 5,8 -",null,null,null,{"$f":"'2-4'!G10+'2-4'!G13","v":2}]
[null,null,null,null,null,null,null,null,null,null,null,"повинна дорівнювати числу у рядку 4 -",null,null,null,{"$f":"'2-4'!G9","v":2}]
[null,null,null,null,null,null,null,null,null,null,null,"В Таблиці 2 у графі 3 сума чисел у рядках 5,8 -",null,null,null,{"$f":"'2-4'!H10+'2-4'!H13","v":21}]
[null,null,null,null,null,null,null,null,null,null,null,"повинна дорівнювати числу у рядку 4 -",null,null,null,{"$f":"'2-4'!H9","v":21}]
[null,null,null,null,null,null,null,null,null,null,null,"В Таблиці 2 у графі 4 сума чисел у рядках 5,8 -",null,null,null,{"$f":"'2-4'!I10+'2-4'!I13","v":831}]
[null,null,null,null,null,null,null,null,null,null,null,"повинна дорівнювати числу у рядку 4 -",null,null,null,{"$f":"'2-4'!I9","v":831}]
[null,null,null,null,null,null,null,null,null,null,null,"В Таблиці 2 у графі 5 сума чисел у рядках 5,8 -",null,null,null,{"$f":"'2-4'!J10+'2-4'!J13","v":29}]
[null,null,null,null,null,null,null,null,null,null,null,"повинна дорівнювати числу у рядку 4 -",null,null,null,{"$f":"'2-4'!J9","v":29}]
[null,null,null,null,null,null,null,null,null,null,null,"В Таблиці 2 у графі 6 сума чисел у рядках 5,8 -",null,null,null,{"$f":"'2-4'!K10+'2-4'!K13","v":6}]
[null,null,null,null,null,null,null,null,null,null,null,"повинна дорівнювати числу у рядку 4 -",null,null,null,{"$f":"'2-4'!K9","v":6}]
[null,null,null,null,null,null,null,null,null,null,null,"В Таблиці 2 у графі 7 сума чисел у рядках 5,8 -",null,null,null,{"$f":"'2-4'!L10+'2-4'!L13","v":3301}]
[null,null,null,null,null,null,null,null,null,null,null,"повинна дорівнювати числу у рядку 4 -",null,null,null,{"$f":"'2-4'!L9","v":3301}]
[null,null,null,null,null,null,null,null,null,null,null,"В Таблиці 2 у графі 8 сума чисел у рядках 5,8 -",null,null,null,{"$f":"'2-4'!M10+'2-4'!M13","v":56}]
[null,null,null,null,null,null,null,null,null,null,null,"повинна дорівнювати числу у рядку 4 -",null,null,null,{"$f":"'2-4'!M9","v":56}]
[null,null,null,null,null,null,null,null,null,null,null,"В Таблиці 2 у графі 9 сума чисел у рядках 5,8 -",null,null,null,{"$f":"'2-4'!N10+'2-4'!N13","v":8}]
[null,null,null,null,null,null,null,null,null,null,null,"повинна дорівнювати числу у рядку 4 -",null,null,null,{"$f":"'2-4'!N9","v":8}]
[null,null,null,null,null,null,null,null,null,null,null,"В Таблиці 2 у графі 10 сума чисел у рядках 5,8 -",null,null,null,{"$f":"'2-4'!O10+'2-4'!O13","v":15}]
[null,null,null,null,null,null,null,null,null,null,null,"повинна дорівнювати числу у рядку 4 -",null,null,null,{"$f":"'2-4'!O9","v":15}]
[null,null,null,null,null,null,null,null,null,null,null,"В Таблиці 2 у графі 11 сума чисел у рядках 5,8 -",null,null,null,{"$f":"'2-4'!P10+'2-4'!P13","v":3}]
[null,null,null,null,null,null,null,null,null,null,null,"повинна дорівнювати числу у рядку 4 -",null,null,null,{"$f":"'2-4'!P9","v":3}]
[null,null,null,null,null,null,null,null,null,null,"Таблиця 5","В Таблиці 5 у рядку 1 сума чисел у графах 2,3,5,6 -",null,null,null,{"$f":"'5-7'!G6+'5-7'!H6+'5-7'!J6+'5-7'!K6","v":640}]
[null,null,null,null,null,null,null,null,null,null,null,"повинна дорівнювати числу у графі 1 -",null,null,null,{"$f":"'5-7'!F6","v":640}]
[null,null,null,null,null,null,null,null,null,null,null,"В Таблиці 5 у рядку 2 сума чисел у графах 2,3,5,6 -",null,null,null,{"$f":"'5-7'!G7+'5-7'!H7+'5-7'!J7+'5-7'!K7","v":217}]
[null,null,null,null,null,null,null,null,null,null,null,"повинна дорівнювати числу у графі 1 -",null,null,null,{"$f":"'5-7'!F7","v":217}]
[null,null,null,null,null,null,null,null,null,null,null,"В Таблиці 5 у рядку 3 сума чисел у графах 2,3,5,6 -",null,null,null,{"$f":"'5-7'!G8+'5-7'!H8+'5-7'!J8+'5-7'!K8","v":2}]
[null,null,null,null,null,null,null,null,null,null,null,"повинна дорівнювати числу у графі 1 -",null,null,null,{"$f":"'5-7'!F8","v":2}]
[null,null,null,null,null,null,null,null,null,null,null,"В Таблиці 5 у рядку 4 сума чисел у графах 2,3,5,6 -",null,null,null,{"$f":"'5-7'!G9+'5-7'!H9+'5-7'!J9+'5-7'!K9","v":77}]
[null,null,null,null,null,null,null,null,null,null,null,"повинна дорівнювати числу у графі 1 -",null,null,null,{"$f":"'5-7'!F9","v":77}]
[null,null,null,null,null,null,null,null,null,null,null,"В Таблиці 5 у рядку 5 сума чисел у графах 2,3,5,6 -",null,null,null,{"$f":"'5-7'!G10+'5-7'!H10+'5-7'!J10+'5-7'!K10","v":343}]
[null,null,null,null,null,null,null,null,null,null,null,"повинна дорівнювати числу у графі 1 -",null,null,null,{"$f":"'5-7'!F10","v":343}]
[null,null,null,null,null,null,null,null,null,null,null,"В Таблиці 5 у рядку 6 сума чисел у графах 2,3,5,6 -",null,null,null,{"$f":"'5-7'!G11+'5-7'!H11+'5-7'!J11+'5-7'!K11","v":2}]
[null,null,null,null,null,null,null,null,null,null,null,"повинна дорівнювати числу у графі 1 -",null,null,null,{"$f":"'5-7'!F11","v":2}]
[null,null,null,null,null,null,null,null,null,null,null,"В Таблиці 5 у рядку 7 сума чисел у графах 2,3,5,6 -",null,null,null,{"$f":"'5-7'!G12+'5-7'!H12+'5-7'!J12+'5-7'!K12","v":0}]
[null,null,null,null,null,null,null,null,null,null,null,"повинна дорівнювати числу у графі 1 -",null,null,null,{"$f":"'5-7'!F12","v":0}]
[null,null,null,null,null,null,null,null,null,null,null,"В Таблиці 5 у рядку 8 сума чисел у графах 2,3,5,6 -",null,null,null,{"$f":"'5-7'!G13+'5-7'!H13+'5-7'!J13+'5-7'!K13","v":0}]
[null,null,null,null,null,null,null,null,null,null,null,"повинна дорівнювати числу у графі 1 -",null,null,null,{"$f":"'5-7'!F13","v":0}]
[null,null,null,null,null,null,null,null,null,null,null,"В Таблиці 5 у рядку 9 сума чисел у графах 2,3,5,6 -",null,null,null,{"$f":"'5-7'!G14+'5-7'!H14+'5-7'!J14+'5-7'!K14","v":0}]
[null,null,null,null,null,null,null,null,null,null,null,"повинна дорівнювати числу у графі 1 -",null,null,null,{"$f":"'5-7'!F14","v":0}]
[null,null,null,null,null,null,null,null,null,null,null,"В Таблиці 5 у рядку 10 сума чисел у графах 2,3,5,6 -",null,null,null,{"$f":"'5-7'!G15+'5-7'!H15+'5-7'!J15+'5-7'!K15","v":0}]
[null,null,null,null,null,null,null,null,null,null,null,"повинна дорівнювати числу у графі 1 -",null,null,null,{"$f":"'5-7'!F15","v":0}]
[null,null,null,null,null,null,null,null,null,null,null,"В Таблиці 5 у рядку 11 сума чисел у графах 2,3,5,6 -",null,null,null,{"$f":"'5-7'!G16+'5-7'!H16+'5-7'!J16+'5-7'!K16","v":0}]
[null,null,null,null,null,null,null,null,null,null,null,"повинна дорівнювати числу у графі 1 -",null,null,null,{"$f":"'5-7'!F16","v":0}]
[null,null,null,null,null,null,null,null,null,null,null,"В Таблиці 5 у рядку 12 сума чисел у графах 2,3,5,6 -",null,null,null,{"$f":"'5-7'!G17+'5-7'!H17+'5-7'!J17+'5-7'!K17","v":0}]
[null,null,null,null,null,null,null,null,null,null,null,"повинна дорівнювати числу у графі 1 -",null,null,null,{"$f":"'5-7'!F17","v":0}]
[null,null,null,null,null,null,null,null,null,null,null,"В Таблиці 5 у рядку 13 сума чисел у графах 2,3,5,6 -",null,null,null,{"$f":"'5-7'!G18+'5-7'!H18+'5-7'!J18+'5-7'!K18","v":55}]
[null,null,null,null,null,null,null,null,null,null,null,"повинна дорівнювати числу у графі 1 -",null,null,null,{"$f":"'5-7'!F18","v":55}]
[null,null,null,null,null,null,null,null,null,null,null,"В Таблиці 5 у рядку 14 сума чисел у графах 2,3,5,6 -",null,null,null,{"$f":"'5-7'!G19+'5-7'!H19+'5-7'!J19+'5-7'!K19","v":6}]
[null,null,null,null,null,null,null,null,null,null,null,"повинна дорівнювати числу у графі 1 -",null,null,null,{"$f":"'5-7'!F19","v":6}]
[null,null,null,null,null,null,null,null,null,null,null,"В Таблиці 5 у рядку 15 сума чисел у графах 2,3,5,6 -",null,null,null,{"$f":"'5-7'!G20+'5-7'!H20+'5-7'!J20+'5-7'!K20","v":49}]
[null,null,null,null,null,null,null,null,null,null,null,"повинна дорівнювати числу у графі 1 -",null,null,null,{"$f":"'5-7'!F20","v":49}]
[null,null,null,null,null,null,null,null,null,null,null,"В Таблиці 5 у рядку 16 сума чисел у графах 2,3,5,6 -",null,null,null,{"$f":"'5-7'!G21+'5-7'!H21+'5-7'!J21+'5-7'!K21","v":9}]
[null,null,null,null,null,null,null,null,null,null,null,"повинна дорівнювати числу у графі 1 -",null,null,null,{"$f":"'5-7'!F21","v":9}]
[null,null,null,null,null,null,null,null,null,null,null,"В Таблиці 5 у рядку 17 сума чисел у графах 2,3,5,6 -",null,null,null,{"$f":"'5-7'!G22+'5-7'!H22+'5-7'!J22+'5-7'!K22","v":0}]
[null,null,null,null,null,null,null,null,null,null,null,"повинна дорівнювати числу у графі 1 -",null,null,null,{"$f":"'5-7'!F22","v":0}]
[null,null,null,null,null,null,null,null,null,null,null,"В Таблиці 5 у рядку 18 сума чисел у графах 2,3,5,6 -",null,null,null,{"$f":"'5-7'!G23+'5-7'!H23+'5-7'!J23+'5-7'!K23","v":1}]
[null,null,null,null,null,null,null,null,null,null,null,"повинна дорівнювати числу у графі 1 -",null,null,null,{"$f":"'5-7'!F23","v":1}]
[null,null,null,null,null,null,null,null,null,null,null,"В Таблиці 5 у рядку 19 сума чисел у графах 2,3,5,6 -",null,null,null,{"$f":"'5-7'!G24+'5-7'!H24+'5-7'!J24+'5-7'!K24","v":33}]
[null,null,null,null,null,null,null,null,null,null,null,"повинна дорівнювати числу у графі 1 -",null,null,null,{"$f":"'5-7'!F24","v":33}]
[null,null,null,null,null,null,null,null,null,null,null,"В Таблиці 5 у рядку 20 сума чисел у графах 2,3,5,6 -",null,null,null,{"$f":"'5-7'!G25+'5-7'!H25+'5-7'!J25+'5-7'!K25","v":0}]
[null,null,null,null,null,null,null,null,null,null,null,"повинна дорівнювати числу у графі 1 -",null,null,null,{"$f":"'5-7'!F25","v":0}]
[null,null,null,null,null,null,null,null,null,null,null,"В Таблиці 5 у рядку 21 сума чисел у графах 2,3,5,6 -",null,null,null,{"$f":"'5-7'!G26+'5-7'!H26+'5-7'!J26+'5-7'!K26","v":8}]
[null,null,null,null,null,null,null,null,null,null,null,"повинна дорівнювати числу у графі 1 -",null,null,null,{"$f":"'5-7'!F26","v":8}]
[null,null,null,null,null,null,null,null,null,null,null,"В Таблиці 5 у рядку 22 сума чисел у графах 2,3,5,6 -",null,null,null,{"$f":"'5-7'!G27+'5-7'!H27+'5-7'!J27+'5-7'!K27","v":0}]
[null,null,null,null,null,null,null,null,null,null,null,"повинна дорівнювати числу у графі 1 -",null,null,null,{"$f":"'5-7'!F27","v":0}]
[null,null,null,null,null,null,null,null,null,null,null,"В Таблиці 5 у рядку 23 сума чисел у графах 2,3,5,6 -",null,null,null,{"$f":"'5-7'!G28+'5-7'!H28+'5-7'!J28+'5-7'!K28","v":8}]
[null,null,null,null,null,null,null,null,null,null,null,"повинна дорівнювати числу у графі 1 -",null,null,null,{"$f":"'5-7'!F28","v":8}]
[null,null,null,null,null,null,null,null,null,null,null,"В Таблиці 5 у рядку 24 сума чисел у графах 2,3,5,6 -",null,null,null,{"$f":"'5-7'!G29+'5-7'!H29+'5-7'!J29+'5-7'!K29","v":0}]
[null,null,null,null,null,null,null,null,null,null,null,"повинна дорівнювати числу у графі 1 -",null,null,null,{"$f":"'5-7'!F29","v":0}]
[null,null,null,null,null,null,null,null,null,null,null,"В Таблиці 5 у рядку 25 сума чисел у графах 2,3,5,6 -",null,null,null,{"$f":"'5-7'!G30+'5-7'!H30+'5-7'!J30+'5-7'!K30","v":3}]
[null,null,null,null,null,null,null,null,null,null,null,"повинна дорівнювати числу у графі 1 -",null,null,null,{"$f":"'5-7'!F30","v":3}]
[null,null,null,null,null,null,null,null,null,null,null,"В Таблиці 5 у рядку 26 сума чисел у графах 2,3,5,6 -",null,null,null,{"$f":"'5-7'!G31+'5-7'!H31+'5-7'!J31+'5-7'!K31","v":0}]
[null,null,null,null,null,null,null,null,null,null,null,"повинна дорівнювати числу у графі 1 -",null,null,null,{"$f":"'5-7'!F31","v":0}]
[null,null,null,null,null,null,null,null,null,null,null,"В Таблиці 5 у рядку 27 сума чисел у графах 2,3,5,6 -",null,null,null,{"$f":"'5-7'!G32+'5-7'!H32+'5-7'!J32+'5-7'!K32","v":3}]
[null,null,null,null,null,null,null,null,null,null,null,"повинна дорівнювати числу у графі 1 -",null,null,null,{"$f":"'5-7'!F32","v":3}]
[null,null,null,null,null,null,null,null,null,null,null,"В Таблиці 5 у рядку 28 сума чисел у графах 2,3,5,6 -",null,null,null,{"$f":"'5-7'!G33+'5-7'!H33+'5-7'!J33+'5-7'!K33","v":0}]
[null,null,null,null,null,null,null,null,null,null,null,"повинна дорівнювати числу у графі 1 -",null,null,null,{"$f":"'5-7'!F33","v":0}]
[null,null,null,null,null,null,null,null,null,null,null,"В Таблиці 5 у рядку 29 сума чисел у графах 2,3,5,6 -",null,null,null,{"$f":"'5-7'!G34+'5-7'!H34+'5-7'!J34+'5-7'!K34","v":0}]
[null,null,null,null,null,null,null,null,null,null,null,"повинна дорівнювати числу у графі 1 -",null,null,null,{"$f":"'5-7'!F34","v":0}]
[null,null,null,null,null,null,null,null,null,null,null,"В Таблиці 5 у рядку 30 сума чисел у графах 2,3,5,6 -",null,null,null,{"$f":"'5-7'!G35+'5-7'!H35+'5-7'!J35+'5-7'!K35","v":0}]
[null,null,null,null,null,null,null,null,null,null,null,"повинна дорівнювати числу у графі 1 -",null,null,null,{"$f":"'5-7'!F35","v":0}]
[null,null,null,null,null,null,null,null,null,null,null,"В Таблиці 5 у рядку 31 сума чисел у графах 2,3,5,6 -",null,null,null,{"$f":"'5-7'!G36+'5-7'!H36+'5-7'!J36+'5-7'!K36","v":0}]
[null,null,null,null,null,null,null,null,null,null,null,"повинна дорівнювати числу у графі 1 -",null,null,null,{"$f":"'5-7'!F36","v":0}]
[null,null,null,null,null,null,null,null,null,null,null,"В Таблиці 5 у рядку 32 сума чисел у графах 2,3,5,6 -",null,null,null,{"$f":"'5-7'!G37+'5-7'!H37+'5-7'!J37+'5-7'!K37","v":0}]
[null,null,null,null,null,null,null,null,null,null,null,"повинна дорівнювати числу у графі 1 -",null,null,null,{"$f":"'5-7'!F37","v":0}]
[null,null,null,null,null,null,null,null,null,null,null,"В Таблиці 5 у рядку 33 сума чисел у графах 2,3,5,6 -",null,null,null,{"$f":"'5-7'!G38+'5-7'!H38+'5-7'!J38+'5-7'!K38","v":0}]
[null,null,null,null,null,null,null,null,null,null,null,"повинна дорівнювати числу у графі 1 -",null,null,null,{"$f":"'5-7'!F38","v":0}]
[null,null,null,null,null,null,null,null,null,null,null,"В Таблиці 5 у рядку 34 сума чисел у графах 2,3,5,6 -",null,null,null,{"$f":"'5-7'!G39+'5-7'!H39+'5-7'!J39+'5-7'!K39","v":0}]
[null,null,null,null,null,null,null,null,null,null,null,"повинна дорівнювати числу у графі 1 -",null,null,null,{"$f":"'5-7'!F39","v":0}]
[null,null,null,null,null,null,null,null,null,null,null,"В Таблиці 5 у рядку 35 сума чисел у графах 2,3,5,6 -",null,null,null,{"$f":"'5-7'!G40+'5-7'!H40+'5-7'!J40+'5-7'!K40","v":0}]
[null,null,null,null,null,null,null,null,null,null,null,"повинна дорівнювати числу у графі 1 -",null,null,null,{"$f":"'5-7'!F40","v":0}]
[null,null,null,null,null,null,null,null,null,null,null,"В Таблиці 5 у рядку 36 сума чисел у графах 2,3,5,6 -",null,null,null,{"$f":"'5-7'!G41+'5-7'!H41+'5-7'!J41+'5-7'!K41","v":0}]
[null,null,null,null,null,null,null,null,null,null,null,"повинна дорівнювати числу у графі 1 -",null,null,null,{"$f":"'5-7'!F41","v":0}]
[null,null,null,null,null,null,null,null,null,null,null,"В Таблиці 5 у рядку 37 сума чисел у графах 2,3,5,6 -",null,null,null,{"$f":"'5-7'!G42+'5-7'!H42+'5-7'!J42+'5-7'!K42","v":0}]
[null,null,null,null,null,null,null,null,null,null,null,"повинна дорівнювати числу у графі 1 -",null,null,null,{"$f":"'5-7'!F42","v":0}]
[null,null,null,null,null,null,null,null,null,null,null,"В Таблиці 5 у рядку 38 сума чисел у графах 2,3,5,6 -",null,null,null,{"$f":"'5-7'!G43+'5-7'!H43+'5-7'!J43+'5-7'!K43","v":1}]
[null,null,null,null,null,null,null,null,null,null,null,"повинна дорівнювати числу у графі 1 -",null,null,null,{"$f":"'5-7'!F43","v":1}]
[null,null,null,null,null,null,null,null,null,null,null,"В Таблиці 5 у рядку 39 сума чисел у графах 2,3,5,6 -",null,null,null,{"$f":"'5-7'!G44+'5-7'!H44+'5-7'!J44+'5-7'!K44","v":36}]
[null,null,null,null,null,null,null,null,null,null,null,"повинна дорівнювати числу у графі 1 -",null,null,null,{"$f":"'5-7'!F44","v":36}]
[null,null,null,null,null,null,null,null,null,null,null,"В Таблиці 5 у графі 1 сума чисел у рядках 22-23 -",null,null,null,{"$f":"SUM('5-7'!F27:F28)","v":8}]
[null,null,null,null,null,null,null,null,null,null,null,"повинна дорівнювати числу у рядку 21 -",null,null,null,{"$f":"'5-7'!F26","v":8}]
[null,null,null,null,null,null,null,null,null,null,null,"В Таблиці 5 у графі 2 сума чисел у рядках 22-23 -",null,null,null,{"$f":"SUM('5-7'!G27:G28)","v":0}]
[null,null,null,null,null,null,null,null,null,null,null,"повинна дорівнювати числу у рядку 21 -",null,null,null,{"$f":"'5-7'!G26","v":0}]
[null,null,null,null,null,null,null,null,null,null,null,"В Таблиці 5 у графі 3 сума чисел у рядках 22-23 -",null,null,null,{"$f":"SUM('5-7'!H27:H28)","v":8}]
[null,null,null,null,null,null,null,null,null,null,null,"повинна дорівнювати числу у рядку 21 -",null,null,null,{"$f":"'5-7'!H26","v":8}]
[null,null,null,null,null,null,null,null,null,null,null,"В Таблиці 5 у графі 4 сума чисел у рядках 22-23 -",null,null,null,{"$f":"SUM('5-7'!I27:I28)","v":0}]
[null,null,null,null,null,null,null,null,null,null,null,"повинна дорівнювати числу у рядку 21 -",null,null,null,{"$f":"'5-7'!I26","v":0}]
[null,null,null,null,null,null,null,null,null,null,null,"В Таблиці 5 у графі 5 сума чисел у рядках 22-23 -",null,null,null,{"$f":"SUM('5-7'!J27:J28)","v":0}]
[null,null,null,null,null,null,null,null,null,null,null,"повинна дорівнювати числу у рядку 21 -",null,null,null,{"$f":"'5-7'!J26","v":0}]
[null,null,null,null,null,null,null,null,null,null,null,"В Таблиці 5 у графі 6 сума чисел у рядках 22-23 -",null,null,null,{"$f":"SUM('5-7'!K27:K28)","v":0}]
[null,null,null,null,null,null,null,null,null,null,null,"повинна дорівнювати числу у рядку 21 -",null,null,null,{"$f":"'5-7'!K26","v":0}]
[null,null,null,null,null,null,null,null,null,null,null,"В Таблиці 5 у графі 7 сума чисел у рядках 22-23 -",null,null,null,{"$f":"SUM('5-7'!L27:L28)","v":0}]
[null,null,null,null,null,null,null,null,null,null,null,"повинна дорівнювати числу у рядку 21 -",null,null,null,{"$f":"'5-7'!L26","v":0}]
[null,null,null,null,null,null,null,null,null,null,null,"В Таблиці 5 у графі 1 сума чисел у рядках 26-27 -",null,null,null,{"$f":"SUM('5-7'!F31:F32)","v":3}]
[null,null,null,null,null,null,null,null,null,null,null,"повинна дорівнювати числу у рядку 25 -",null,null,null,{"$f":"'5-7'!F30","v":3}]
[null,null,null,null,null,null,null,null,null,null,null,"В Таблиці 5 у графі 2 сума чисел у рядках 26-27 -",null,null,null,{"$f":"SUM('5-7'!G31:G32)","v":0}]
[null,null,null,null,null,null,null,null,null,null,null,"повинна дорівнювати числу у рядку 25 -",null,null,null,{"$f":"'5-7'!G30","v":0}]
[null,null,null,null,null,null,null,null,null,null,null,"В Таблиці 5 у графі 3 сума чисел у рядках 26-27 -",null,null,null,{"$f":"SUM('5-7'!H31:H32)","v":3}]
[null,null,null,null,null,null,null,null,null,null,null,"повинна дорівнювати числу у рядку 25 -",null,null,null,{"$f":"'5-7'!H30","v":3}]
[null,null,null,null,null,null,null,null,null,null,null,"В Таблиці 5 у графі 4 сума чисел у рядках 26-27 -",null,null,null,{"$f":"SUM('5-7'!I31:I32)","v":0}]
[null,null,null,null,null,null,null,null,null,null,null,"повинна дорівнювати числу у рядку 25 -",null,null,null,{"$f":"'5-7'!I30","v":0}]
[null,null,null,null,null,null,null,null,null,null,null,"В Таблиці 5 у графі 5 сума чисел у рядках 26-27 -",null,null,null,{"$f":"SUM('5-7'!J31:J32)","v":0}]
[null,null,null,null,null,null,null,null,null,null,null,"повинна дорівнювати числу у рядку 25 -",null,null,null,{"$f":"'5-7'!J30","v":0}]
[null,null,null,null,null,null,null,null,null,null,null,"В Таблиці 5 у графі 6 сума чисел у рядках 26-27 -",null,null,null,{"$f":"SUM('5-7'!K31:K32)","v":0}]
[null,null,null,null,null,null,null,null,null,null,null,"повинна дорівнювати числу у рядку 25 -",null,null,null,{"$f":"'5-7'!K30","v":0}]
[null,null,null,null,null,null,null,null,null,null,null,"В Таблиці 5 у графі 7 сума чисел у рядках 26-27 -",null,null,null,{"$f":"SUM('5-7'!L31:L32)","v":0}]
[null,null,null,null,null,null,null,null,null,null,null,"повинна дорівнювати числу у рядку 25 -",null,null,null,{"$f":"'5-7'!L30","v":0}]
[null,null,null,null,null,null,null,null,null,null,null,"В Таблиці 6 у рядку 1 сума чисел у графах 8,9 -",null,null,null,{"$f":"SUM('5-7'!Y6:Z6)","v":0}]
[null,null,null,null,null,null,null,null,null,null,null,"повинна дорівнювати числу у графі 7 -",null,null,null,{"$f":"'5-7'!X6","v":0}]
[null,null,null,null,null,null,null,null,null,null,null,"В Таблиці 6 у рядку 2 сума чисел у графах 8,9 -",null,null,null,{"$f":"SUM('5-7'!Y7:Z7)","v":0}]
[null,null,null,null,null,null,null,null,null,null,null,"повинна дорівнювати числу у графі 7 -",null,null,null,{"$f":"'5-7'!X7","v":0}]
[null,null,null,null,null,null,null,null,null,null,null,"В Таблиці 6 у рядку 3 сума чисел у графах 8,9 -",null,null,null,{"$f":"SUM('5-7'!Y8:Z8)","v":0}]
[null,null,null,null,null,null,null,null,null,null,null,"повинна дорівнювати числу у графі 7 -",null,null,null,{"$f":"'5-7'!X8","v":0}]
[null,null,null,null,null,null,null,null,null,null,null,"В Таблиці 6 у рядку 4 сума чисел у графах 8,9 -",null,null,null,{"$f":"SUM('5-7'!Y10:Z10)","v":0}]
[null,null,null,null,null,null,null,null,null,null,null,"повинна дорівнювати числу у графі 7 -",null,null,null,{"$f":"'5-7'!X10","v":0}]
[null,null,null,null,null,null,null,null,null,null,null,"В Таблиці 6 у рядку 5 сума чисел у графах 8,9 -",null,null,null,{"$f":"SUM('5-7'!Y11:Z11)","v":0}]
[null,null,null,null,null,null,null,null,null,null,null,"повинна дорівнювати числу у графі 7 -",null,null,null,{"$f":"'5-7'!X11","v":0}]
[null,null,null,null,null,null,null,null,null,null,null,"В Таблиці 6 у рядку 6 сума чисел у графах 8,9 -",null,null,null,{"$f":"SUM('5-7'!Y12:Z12)","v":0}]
[null,null,null,null,null,null,null,null,null,null,null,"повинна дорівнювати числу у графі 7 -",null,null,null,{"$f":"'5-7'!X12","v":0}]
[null,null,null,null,null,null,null,null,null,null,null,"В Таблиці 6 у рядку 7 сума чисел у графах 8,9 -",null,null,null,{"$f":"SUM('5-7'!Y13:Z13)","v":0}]
[null,null,null,null,null,null,null,null,null,null,null,"повинна дорівнювати числу у графі 7 -",null,null,null,{"$f":"'5-7'!X13","v":0}]
[null,null,null,null,null,null,null,null,null,null,null,"В Таблиці 6 у рядку 8 сума чисел у графах 8,9 -",null,null,null,{"$f":"SUM('5-7'!Y14:Z14)","v":0}]
[null,null,null,null,null,null,null,null,null,null,null,"повинна дорівнювати числу у графі 7 -",null,null,null,{"$f":"'5-7'!X14","v":0}]
[null,null,null,null,null,null,null,null,null,null,null,"В Таблиці 6 у рядку 9 сума чисел у графах 8,9 -",null,null,null,{"$f":"SUM('5-7'!Y15:Z15)","v":0}]
[null,null,null,null,null,null,null,null,null,null,null,"повинна дорівнювати числу у графі 7 -",null,null,null,{"$f":"'5-7'!X15","v":0}]
[null,null,null,null,null,null,null,null,null,null,"Таблиця 2","В Таблиці 2 у графі 1 число у рядку 14 -",null,null,null,{"$f":"'2-4'!F19","v":0}]
[null,null,null,null,null,null,null,null,null,null,null,"не повинно перевищувати число у рядку 1 - ",null,null,null,{"$f":"'2-4'!F6","v":50}]
[null,null,null,null,null,null,null,null,null,null,null,"В Таблиці 2 у графі 2 число у рядку 14 -",null,null,null,{"$f":"'2-4'!G19","v":0}]
[null,null,null,null,null,null,null,null,null,null,null,"не повинно перевищувати число у рядку 1 - ",null,null,null,{"$f":"'2-4'!G6","v":2}]
[null,null,null,null,null,null,null,null,null,null,null,"В Таблиці 2 у графі 3 число у рядку 14 -",null,null,null,{"$f":"'2-4'!H19","v":0}]
[null,null,null,null,null,null,null,null,null,null,null,"не повинно перевищувати число у рядку 1 - ",null,null,null,{"$f":"'2-4'!H6","v":21}]
[null,null,null,null,null,null,null,null,null,null,null,"В Таблиці 2 у графі 4 число у рядку 14 -",null,null,null,{"$f":"'2-4'!I19","v":5}]
[null,null,null,null,null,null,null,null,null,null,null,"не повинно перевищувати число у рядку 1 - ",null,null,null,{"$f":"'2-4'!I6","v":852}]
[null,null,null,null,null,null,null,null,null,null,null,"В Таблиці 2 у графі 5 число у рядку 14 -",null,null,null,{"$f":"'2-4'!J19","v":2}]
[null,null,null,null,null,null,null,null,null,null,null,"не повинно перевищувати число у рядку 1 - ",null,null,null,{"$f":"'2-4'!J6","v":29}]
[null,null,null,null,null,null,null,null,null,null,null,"В Таблиці 2 у графі 6 число у рядку 14 -",null,null,null,{"$f":"'2-4'!K19","v":0}]
[null,null,null,null,null,null,null,null,null,null,null,"не повинно перевищувати число у рядку 1 - ",null,null,null,{"$f":"'2-4'!K6","v":6}]
[null,null,null,null,null,null,null,null,null,null,null,"В Таблиці 2 у графі 7 число у рядку 14 -",null,null,null,{"$f":"'2-4'!L19","v":83}]
[null,null,null,null,null,null,null,null,null,null,null,"не повинно перевищувати число у рядку 1 - ",null,null,null,{"$f":"'2-4'!L6","v":3446}]
[null,null,null,null,null,null,null,null,null,null,null,"В Таблиці 2 у графі 8 число у рядку 14 -",null,null,null,{"$f":"'2-4'!M19","v":0}]
[null,null,null,null,null,null,null,null,null,null,null,"не повинно перевищувати число у рядку 1 - ",null,null,null,{"$f":"'2-4'!M6","v":114}]
[null,null,null,null,null,null,null,null,null,null,null,"В Таблиці 2 у графі 9 число у рядку 14 -",null,null,null,{"$f":"'2-4'!N19","v":0}]
[null,null,null,null,null,null,null,null,null,null,null,"не повинно перевищувати число у рядку 1 - ",null,null,null,{"$f":"'2-4'!N6","v":30}]
[null,null,null,null,null,null,null,null,null,null,null,"В Таблиці 2 у графі 10 число у рядку 14 -",null,null,null,{"$f":"'2-4'!O19","v":0}]
[null,null,null,null,null,null,null,null,null,null,null,"не повинно перевищувати число у рядку 1 - ",null,null,null,{"$f":"'2-4'!O6","v":28}]
[null,null,null,null,null,null,null,null,null,null,null,"В Таблиці 2 у графі 11 число у рядку 14 -",null,null,null,{"$f":"'2-4'!P19","v":0}]
[null,null,null,null,null,null,null,null,null,null,null,"не повинно перевищувати число у рядку 1 - ",null,null,null,{"$f":"'2-4'!P6","v":7}]
[null,null,null,null,null,null,null,null,null,null,null,"В Таблиці 2 у графі 1 сума чисел у рядках 6,7 -",null,null,null,{"$f":"SUM('2-4'!F11:F12)","v":11}]
[null,null,null,null,null,null,null,null,null,null,null,"не повинна перевищувати число у рядку 5 - ",null,null,null,{"$f":"'2-4'!F10","v":50}]
[null,null,null,null,null,null,null,null,null,null,null,"В Таблиці 2 у графі 2 сума чисел у рядках 6,7 -",null,null,null,{"$f":"SUM('2-4'!G11:G12)","v":0}]
[null,null,null,null,null,null,null,null,null,null,null,"не повинна перевищувати число у рядку 5 - ",null,null,null,{"$f":"'2-4'!G10","v":2}]
[null,null,null,null,null,null,null,null,null,null,null,"В Таблиці 2 у графі 3 сума чисел у рядках 6,7 -",null,null,null,{"$f":"SUM('2-4'!H11:H12)","v":8}]
[null,null,null,null,null,null,null,null,null,null,null,"не повинна перевищувати число у рядку 5 - ",null,null,null,{"$f":"'2-4'!H10","v":21}]
[null,null,null,null,null,null,null,null,null,null,null,"В Таблиці 2 у графі 4 сума чисел у рядках 6,7 -",null,null,null,{"$f":"SUM('2-4'!I11:I12)","v":17}]
[null,null,null,null,null,null,null,null,null,null,null,"не повинна перевищувати число у рядку 5 - ",null,null,null,{"$f":"'2-4'!I10","v":831}]
[null,null,null,null,null,null,null,null,null,null,null,"В Таблиці 2 у графі 5 сума чисел у рядках 6,7 -",null,null,null,{"$f":"SUM('2-4'!J11:J12)","v":0}]
[null,null,null,null,null,null,null,null,null,null,null,"не повинна перевищувати число у рядку 5 - ",null,null,null,{"$f":"'2-4'!J10","v":29}]
[null,null,null,null,null,null,null,null,null,null,null,"В Таблиці 2 у графі 6 сума чисел у рядках 6,7 -",null,null,null,{"$f":"SUM('2-4'!K11:K12)","v":0}]
[null,null,null,null,null,null,null,null,null,null,null,"не повинна перевищувати число у рядку 5 - ",null,null,null,{"$f":"'2-4'!K10","v":6}]
[null,null,null,null,null,null,null,null,null,null,null,"В Таблиці 2 у графі 7 сума чисел у рядках 6,7 -",null,null,null,{"$f":"SUM('2-4'!L11:L12)","v":141}]
[null,null,null,null,null,null,null,null,null,null,null,"не повинна перевищувати число у рядку 5 - ",null,null,null,{"$f":"'2-4'!L10","v":3301}]
[null,null,null,null,null,null,null,null,null,null,null,"В Таблиці 2 у графі 8 сума чисел у рядках 6,7 -",null,null,null,{"$f":"SUM('2-4'!M11:M12)","v":0}]
[null,null,null,null,null,null,null,null,null,null,null,"не повинна перевищувати число у рядку 5 - ",null,null,null,{"$f":"'2-4'!M10","v":56}]
[null,null,null,null,null,null,null,null,null,null,null,"В Таблиці 2 у графі 9 сума чисел у рядках 6,7 -",null,null,null,{"$f":"SUM('2-4'!N11:N12)","v":0}]
[null,null,null,null,null,null,null,null,null,null,null,"не повинна перевищувати число у рядку 5 - ",null,null,null,{"$f":"'2-4'!N10","v":8}]
[null,null,null,null,null,null,null,null,null,null,null,"В Таблиці 2 у графі 10 сума чисел у рядках 6,7 -",null,null,null,{"$f":"SUM('2-4'!O11:O12)","v":0}]
[null,null,null,null,null,null,null,null,null,null,null,"не повинна перевищувати число у рядку 5 - ",null,null,null,{"$f":"'2-4'!O10","v":15}]
[null,null,null,null,null,null,null,null,null,null,null,"В Таблиці 2 у графі 11 сума чисел у рядках 6,7 -",null,null,null,{"$f":"SUM('2-4'!P11:P12)","v":0}]
[null,null,null,null,null,null,null,null,null,null,null,"не повинна перевищувати число у рядку 5 - ",null,null,null,{"$f":"'2-4'!P10","v":3}]
[null,null,null,null,null,null,null,null,null,null,null,"В Таблиці 2 у графі 1 сума чисел у рядках 9,10 -",null,null,null,{"$f":"SUM('2-4'!F14:F15)","v":0}]
[null,null,null,null,null,null,null,null,null,null,null,"не повинна перевищувати число у рядку 8 - ",null,null,null,{"$f":"'2-4'!F13","v":0}]
[null,null,null,null,null,null,null,null,null,null,null,"В Таблиці 2 у графі 2 сума чисел у рядках 9,10 -",null,null,null,{"$f":"SUM('2-4'!G14:G15)","v":0}]
[null,null,null,null,null,null,null,null,null,null,null,"не повинна перевищувати число у рядку 8 - ",null,null,null,{"$f":"'2-4'!G13","v":0}]
[null,null,null,null,null,null,null,null,null,null,null,"В Таблиці 2 у графі 3 сума чисел у рядках 9,10 -",null,null,null,{"$f":"SUM('2-4'!H14:H15)","v":0}]
[null,null,null,null,null,null,null,null,null,null,null,"не повинна перевищувати число у рядку 8 - ",null,null,null,{"$f":"'2-4'!H13","v":0}]
[null,null,null,null,null,null,null,null,null,null,null,"В Таблиці 2 у графі 4 сума чисел у рядках 9,10 -",null,null,null,{"$f":"SUM('2-4'!I14:I15)","v":0}]
[null,null,null,null,null,null,null,null,null,null,null,"не повинна перевищувати число у рядку 8 - ",null,null,null,{"$f":"'2-4'!I13","v":0}]
[null,null,null,null,null,null,null,null,null,null,null,"В Таблиці 2 у графі 5 сума чисел у рядках 9,10 -",null,null,null,{"$f":"SUM('2-4'!J14:J15)","v":0}]
[null,null,null,null,null,null,null,null,null,null,null,"не повинна перевищувати число у рядку 8 - ",null,null,null,{"$f":"'2-4'!J13","v":0}]
[null,null,null,null,null,null,null,null,null,null,null,"В Таблиці 2 у графі 6 сума чисел у рядках 9,10 -",null,null,null,{"$f":"SUM('2-4'!K14:K15)","v":0}]
[null,null,null,null,null,null,null,null,null,null,null,"не повинна перевищувати число у рядку 8 - ",null,null,null,{"$f":"'2-4'!K13","v":0}]
[null,null,null,null,null,null,null,null,null,null,null,"В Таблиці 2 у графі 7 сума чисел у рядках 9,10 -",null,null,null,{"$f":"SUM('2-4'!L14:L15)","v":0}]
[null,null,null,null,null,null,null,null,null,null,null,"не повинна перевищувати число у рядку 8 - ",null,null,null,{"$f":"'2-4'!L13","v":0}]
[null,null,null,null,null,null,null,null,null,null,null,"В Таблиці 2 у графі 8 сума чисел у рядках 9,10 -",null,null,null,{"$f":"SUM('2-4'!M14:M15)","v":0}]
[null,null,null,null,null,null,null,null,null,null,null,"не повинна перевищувати число у рядку 8 - ",null,null,null,{"$f":"'2-4'!M13","v":0}]
[null,null,null,null,null,null,null,null,null,null,null,"В Таблиці 2 у графі 9 сума чисел у рядках 9,10 -",null,null,null,{"$f":"SUM('2-4'!N14:N15)","v":0}]
[null,null,null,null,null,null,null,null,null,null,null,"не повинна перевищувати число у рядку 8 - ",null,null,null,{"$f":"'2-4'!N13","v":0}]
[null,null,null,null,null,null,null,null,null,null,null,"В Таблиці 2 у графі 10 сума чисел у рядках 9,10 -",null,null,null,{"$f":"SUM('2-4'!O14:O15)","v":0}]
[null,null,null,null,null,null,null,null,null,null,null,"не повинна перевищувати число у рядку 8 - ",null,null,null,{"$f":"'2-4'!O13","v":0}]
[null,null,null,null,null,null,null,null,null,null,null,"В Таблиці 2 у графі 11 сума чисел у рядках 9,10 -",null,null,null,{"$f":"SUM('2-4'!P14:P15)","v":0}]
[null,null,null,null,null,null,null,null,null,null,null,"не повинна перевищувати число у рядку 8 - ",null,null,null,{"$f":"'2-4'!P13","v":0}]
[null,null,null,null,null,null,null,null,null,null,null,"В Таблиці 2 у графі 1 число у рядку 13 -",null,null,null,{"$f":"'2-4'!F18","v":0}]
[null,null,null,null,null,null,null,null,null,null,null,"не повинно перевищувати число у рядку 12 - ",null,null,null,{"$f":"'2-4'!F17","v":0}]
[null,null,null,null,null,null,null,null,null,null,null,"В Таблиці 2 у графі 2 число у рядку 13 -",null,null,null,{"$f":"'2-4'!G18","v":0}]
[null,null,null,null,null,null,null,null,null,null,null,"не повинно перевищувати число у рядку 12 - ",null,null,null,{"$f":"'2-4'!G17","v":0}]
[null,null,null,null,null,null,null,null,null,null,null,"В Таблиці 2 у графі 3 число у рядку 13 -",null,null,null,{"$f":"'2-4'!H18","v":0}]
[null,null,null,null,null,null,null,null,null,null,null,"не повинно перевищувати число у рядку 12 - ",null,null,null,{"$f":"'2-4'!H17","v":0}]
[null,null,null,null,null,null,null,null,null,null,null,"В Таблиці 2 у графі 4 число у рядку 13 -",null,null,null,{"$f":"'2-4'!I18","v":0}]
[null,null,null,null,null,null,null,null,null,null,null,"не повинно перевищувати число у рядку 12 - ",null,null,null,{"$f":"'2-4'!I17","v":0}]
[null,null,null,null,null,null,null,null,null,null,null,"В Таблиці 2 у графі 5 число у рядку 13 -",null,null,null,{"$f":"'2-4'!J18","v":0}]
[null,null,null,null,null,null,null,null,null,null,null,"не повинно перевищувати число у рядку 12 - ",null,null,null,{"$f":"'2-4'!J17","v":0}]
[null,null,null,null,null,null,null,null,null,null,null,"В Таблиці 2 у графі 6 число у рядку 13 -",null,null,null,{"$f":"'2-4'!K18","v":0}]
[null,null,null,null,null,null,null,null,null,null,null,"не повинно перевищувати число у рядку 12 - ",null,null,null,{"$f":"'2-4'!K17","v":0}]
[null,null,null,null,null,null,null,null,null,null,null,"В Таблиці 2 у графі 7 число у рядку 13 -",null,null,null,{"$f":"'2-4'!L18","v":0}]
[null,null,null,null,null,null,null,null,null,null,null,"не повинно перевищувати число у рядку 12 - ",null,null,null,{"$f":"'2-4'!L17","v":28}]
[null,null,null,null,null,null,null,null,null,null,null,"В Таблиці 2 у графі 8 число у рядку 13 -",null,null,null,{"$f":"'2-4'!M18","v":0}]
[null,null,null,null,null,null,null,null,null,null,null,"не повинно перевищувати число у рядку 12 - ",null,null,null,{"$f":"'2-4'!M17","v":0}]
[null,null,null,null,null,null,null,null,null,null,null,"В Таблиці 2 у графі 9 число у рядку 13 -",null,null,null,{"$f":"'2-4'!N18","v":0}]
[null,null,null,null,null,null,null,null,null,null,null,"не повинно перевищувати число у рядку 12 - ",null,null,null,{"$f":"'2-4'!N17","v":0}]
[null,null,null,null,null,null,null,null,null,null,null,"В Таблиці 2 у графі 10 число у рядку 13 -",null,null,null,{"$f":"'2-4'!O18","v":0}]
[null,null,null,null,null,null,null,null,null,null,null,"не повинно перевищувати число у рядку 12 - ",null,null,null,{"$f":"'2-4'!O17","v":0}]
[null,null,null,null,null,null,null,null,null,null,null,"В Таблиці 2 у графі 11 число у рядку 13 -",null,null,null,{"$f":"'2-4'!P18","v":0}]
[null,null,null,null,null,null,null,null,null,null,null,"не повинно перевищувати число у рядку 12 - ",null,null,null,{"$f":"'2-4'!P17","v":0}]
[null,null,null,null,null,null,null,null,null,null,"Таблиця 3","В Таблиці 3 у графі 1 сума чисел у рядках 2,4 -",null,null,null,{"$f":"'2-4'!F26+'2-4'!F28","v":0}]
[null,null,null,null,null,null,null,null,null,null,null,"не повинно перевищувати число у рядку 1 - ",null,null,null,{"$f":"'2-4'!F25","v":8}]
[null,null,null,null,null,null,null,null,null,null,null,"В Таблиці 3 у графі 2 сума чисел у рядках 2,4 -",null,null,null,{"$f":"'2-4'!H26+'2-4'!H28","v":0}]
[null,null,null,null,null,null,null,null,null,null,null,"не повинно перевищувати число у рядку 1 - ",null,null,null,{"$f":"'2-4'!H25","v":4}]
[null,null,null,null,null,null,null,null,null,null,null,"В Таблиці 3 у графі 1 число у рядку 3 -",null,null,null,{"$f":"'2-4'!F27","v":0}]
[null,null,null,null,null,null,null,null,null,null,null,"не повинно перевищувати число у рядку 2 - ",null,null,null,{"$f":"'2-4'!F26","v":0}]
[null,null,null,null,null,null,null,null,null,null,null,"В Таблиці 3 у графі 1 число у рядку 3 -",null,null,null,{"$f":"'2-4'!H27","v":0}]
[null,null,null,null,null,null,null,null,null,null,null,"не повинно перевищувати число у рядку 2 - ",null,null,null,{"$f":"'2-4'!H26","v":0}]
[null,null,null,null,null,null,null,null,null,null,"Таблиця 4","В Таблиці 4 у графі 1 сума чисел у рядках 2,3 -",null,null,null,{"$f":"SUM('2-4'!V7:V8)","v":9}]
[null,null,null,null,null,null,null,null,null,null,null,"не повинна перевищувати число у рядку 1 - ",null,null,null,{"$f":"'2-4'!V6","v":162}]
[null,null,null,null,null,null,null,null,null,null,null,"В Таблиці 4 у графі 2 сума чисел у рядках 2,3 -",null,null,null,{"$f":"SUM('2-4'!W7:W8)","v":1}]
[null,null,null,null,null,null,null,null,null,null,null,"не повинна перевищувати число у рядку 1 - ",null,null,null,{"$f":"'2-4'!W6","v":28}]
[null,null,null,null,null,null,null,null,null,null,null,"В Таблиці 4 у графі 3 сума чисел у рядках 2,3 -",null,null,null,{"$f":"SUM('2-4'!X7:X8)","v":8}]
[null,null,null,null,null,null,null,null,null,null,null,"не повинна перевищувати число у рядку 1 - ",null,null,null,{"$f":"'2-4'!X6","v":105}]
[null,null,null,null,null,null,null,null,null,null,null,"В Таблиці 4 у графі 4 сума чисел у рядках 2,3 -",null,null,null,{"$f":"SUM('2-4'!Y7:Y8)","v":0}]
[null,null,null,null,null,null,null,null,null,null,null,"не повинна перевищувати число у рядку 1 - ",null,null,null,{"$f":"'2-4'!Y6","v":0}]
[null,null,null,null,null,null,null,null,null,null,null,"В Таблиці 4 у графі 5 сума чисел у рядках 2,3 -",null,null,null,{"$f":"SUM('2-4'!Z7:Z8)","v":0}]
[null,null,null,null,null,null,null,null,null,null,null,"не повинна перевищувати число у рядку 1 - ",null,null,null,{"$f":"'2-4'!Z6","v":0}]
[null,null,null,null,null,null,null,null,null,null,null,"В Таблиці 4 у графі 6 сума чисел у рядках 2,3 -",null,null,null,{"$f":"SUM('2-4'!AA7:AA8)","v":1}]
[null,null,null,null,null,null,null,null,null,null,null,"не повинна перевищувати число у рядку 1 - ",null,null,null,{"$f":"'2-4'!AA6","v":14}]
[null,null,null,null,null,null,null,null,null,null,null,"В Таблиці 4 у графі 1 сума чисел у рядках 7,8 -",null,null,null,{"$f":"SUM('2-4'!V12:V13)","v":7}]
[null,null,null,null,null,null,null,null,null,null,null,"не повинна перевищувати число у рядку 6 - ",null,null,null,{"$f":"'2-4'!V11","v":193}]
[null,null,null,null,null,null,null,null,null,null,null,"В Таблиці 4 у графі 2 сума чисел у рядках 7,8 -",null,null,null,{"$f":"SUM('2-4'!W12:W13)","v":1}]
[null,null,null,null,null,null,null,null,null,null,null,"не повинна перевищувати число у рядку 6 - ",null,null,null,{"$f":"'2-4'!W11","v":43}]
[null,null,null,null,null,null,null,null,null,null,null,"В Таблиці 4 у графі 3 сума чисел у рядках 7,8 -",null,null,null,{"$f":"SUM('2-4'!X12:X13)","v":6}]
[null,null,null,null,null,null,null,null,null,null,null,"не повинна перевищувати число у рядку 6 - ",null,null,null,{"$f":"'2-4'!X11","v":114}]
[null,null,null,null,null,null,null,null,null,null,null,"В Таблиці 4 у графі 4 сума чисел у рядках 7,8 -",null,null,null,{"$f":"SUM('2-4'!Y12:Y13)","v":0}]
[null,null,null,null,null,null,null,null,null,null,null,"не повинна перевищувати число у рядку 6 - ",null,null,null,{"$f":"'2-4'!Y11","v":0}]
[null,null,null,null,null,null,null,null,null,null,null,"В Таблиці 4 у графі 5 сума чисел у рядках 7,8 -",null,null,null,{"$f":"SUM('2-4'!Z12:Z13)","v":0}]
[null,null,null,null,null,null,null,null,null,null,null,"не повинна перевищувати число у рядку 6 - ",null,null,null,{"$f":"'2-4'!Z11","v":0}]
[null,null,null,null,null,null,null,null,null,null,null,"В Таблиці 4 у графі 6 сума чисел у рядках 7,8 -",null,null,null,{"$f":"SUM('2-4'!AA12:AA13)","v":0}]
[null,null,null,null,null,null,null,null,null,null,null,"не повинна перевищувати число у рядку 6 - ",null,null,null,{"$f":"'2-4'!AA11","v":15}]
[null,null,null,null,null,null,null,null,null,null,null,"В Таблиці 4 у графі 1 сума чисел у рядках 12,13 -",null,null,null,{"$f":"SUM('2-4'!V17:V18)","v":0}]
[null,null,null,null,null,null,null,null,null,null,null,"не повинна перевищувати число у рядку 11 - ",null,null,null,{"$f":"'2-4'!V16","v":9}]
[null,null,null,null,null,null,null,null,null,null,null,"В Таблиці 4 у графі 2 сума чисел у рядках 12,13 -",null,null,null,{"$f":"SUM('2-4'!W17:W18)","v":0}]
[null,null,null,null,null,null,null,null,null,null,null,"не повинна перевищувати число у рядку 11 - ",null,null,null,{"$f":"'2-4'!W16","v":0}]
[null,null,null,null,null,null,null,null,null,null,null,"В Таблиці 4 у графі 3 сума чисел у рядках 12,13 -",null,null,null,{"$f":"SUM('2-4'!X17:X18)","v":0}]
[null,null,null,null,null,null,null,null,null,null,null,"не повинна перевищувати число у рядку 11 - ",null,null,null,{"$f":"'2-4'!X16","v":0}]
[null,null,null,null,null,null,null,null,null,null,null,"В Таблиці 4 у графі 4 сума чисел у рядках 12,13 -",null,null,null,{"$f":"SUM('2-4'!Y17:Y18)","v":0}]
[null,null,null,null,null,null,null,null,null,null,null,"не повинна перевищувати число у рядку 11 - ",null,null,null,{"$f":"'2-4'!Y16","v":0}]
[null,null,null,null,null,null,null,null,null,null,null,"В Таблиці 4 у графі 5 сума чисел у рядках 12,13 -",null,null,null,{"$f":"SUM('2-4'!Z17:Z18)","v":0}]
[null,null,null,null,null,null,null,null,null,null,null,"не повинна перевищувати число у рядку 11 - ",null,null,null,{"$f":"'2-4'!Z16","v":0}]
[null,null,null,null,null,null,null,null,null,null,null,"В Таблиці 4 у графі 6 сума чисел у рядках 12,13 -",null,null,null,{"$f":"SUM('2-4'!AA17:AA18)","v":0}]
[null,null,null,null,null,null,null,null,null,null,null,"не повинна перевищувати число у рядку 11 - ",null,null,null,{"$f":"'2-4'!AA16","v":0}]
[null,null,null,null,null,null,null,null,null,null,"Таблиця 5","В Таблиці 5 у графі 1 сума чисел у рядках 2-5 -",null,null,null,{"$f":"SUM('5-7'!F7:F10)","v":639}]
[null,null,null,null,null,null,null,null,null,null,null,"не повинно перевищувати число у рядку 1 - ",null,null,null,{"$f":"'5-7'!F6","v":640}]
[null,null,null,null,null,null,null,null,null,null,null,"В Таблиці 5 у графі 2 сума чисел у рядках 2-5 -",null,null,null,{"$f":"SUM('5-7'!G7:G10)","v":21}]
[null,null,null,null,null,null,null,null,null,null,null,"не повинно перевищувати число у рядку 1 - ",null,null,null,{"$f":"'5-7'!G6","v":21}]
[null,null,null,null,null,null,null,null,null,null,null,"В Таблиці 5 у графі 3 сума чисел у рядках 2-5 -",null,null,null,{"$f":"SUM('5-7'!H7:H10)","v":612}]
[null,null,null,null,null,null,null,null,null,null,null,"не повинно перевищувати число у рядку 1 - ",null,null,null,{"$f":"'5-7'!H6","v":613}]
[null,null,null,null,null,null,null,null,null,null,null,"В Таблиці 5 у графі 4 сума чисел у рядках 2-5 -",null,null,null,{"$f":"SUM('5-7'!I7:I10)","v":1}]
[null,null,null,null,null,null,null,null,null,null,null,"не повинно перевищувати число у рядку 1 - ",null,null,null,{"$f":"'5-7'!I6","v":1}]
[null,null,null,null,null,null,null,null,null,null,null,"В Таблиці 5 у графі 5 сума чисел у рядках 2-5 -",null,null,null,{"$f":"SUM('5-7'!J7:J10)","v":5}]
[null,null,null,null,null,null,null,null,null,null,null,"не повинно перевищувати число у рядку 1 - ",null,null,null,{"$f":"'5-7'!J6","v":5}]
[null,null,null,null,null,null,null,null,null,null,null,"В Таблиці 5 у графі 6 сума чисел у рядках 2-5 -",null,null,null,{"$f":"SUM('5-7'!K7:K10)","v":1}]
[null,null,null,null,null,null,null,null,null,null,null,"не повинно перевищувати число у рядку 1 - ",null,null,null,{"$f":"'5-7'!K6","v":1}]
[null,null,null,null,null,null,null,null,null,null,null,"В Таблиці 5 у графі 7 сума чисел у рядках 2-5 -",null,null,null,{"$f":"SUM('5-7'!L7:L10)","v":15}]
[null,null,null,null,null,null,null,null,null,null,null,"не повинно перевищувати число у рядку 1 - ",null,null,null,{"$f":"'5-7'!L6","v":15}]
[null,null,null,null,null,null,null,null,null,null,null,"В Таблиці 5 у графі 1 сума чисел у рядках 7,13 -",null,null,null,{"$f":"'5-7'!F12+'5-7'!F18","v":55}]
[null,null,null,null,null,null,null,null,null,null,null,"не повинно перевищувати число у рядку 1 - ",null,null,null,{"$f":"'5-7'!F6","v":640}]
[null,null,null,null,null,null,null,null,null,null,null,"В Таблиці 5 у графі 2 сума чисел у рядках 7,13 -",null,null,null,{"$f":"'5-7'!G12+'5-7'!G18","v":1}]
[null,null,null,null,null,null,null,null,null,null,null,"не повинно перевищувати число у рядку 1 - ",null,null,null,{"$f":"'5-7'!G6","v":21}]
[null,null,null,null,null,null,null,null,null,null,null,"В Таблиці 5 у графі 3 сума чисел у рядках 7,13 -",null,null,null,{"$f":"'5-7'!H12+'5-7'!H18","v":54}]
[null,null,null,null,null,null,null,null,null,null,null,"не повинно перевищувати число у рядку 1 - ",null,null,null,{"$f":"'5-7'!H6","v":613}]
[null,null,null,null,null,null,null,null,null,null,null,"В Таблиці 5 у графі 4 сума чисел у рядках 7,13 -",null,null,null,{"$f":"'5-7'!I12+'5-7'!I18","v":0}]
[null,null,null,null,null,null,null,null,null,null,null,"не повинно перевищувати число у рядку 1 - ",null,null,null,{"$f":"'5-7'!I6","v":1}]
[null,null,null,null,null,null,null,null,null,null,null,"В Таблиці 5 у графі 5 сума чисел у рядках 7,13 -",null,null,null,{"$f":"'5-7'!J12+'5-7'!J18","v":0}]
[null,null,null,null,null,null,null,null,null,null,null,"не повинно перевищувати число у рядку 1 - ",null,null,null,{"$f":"'5-7'!J6","v":5}]
[null,null,null,null,null,null,null,null,null,null,null,"В Таблиці 5 у графі 6 сума чисел у рядках 7,13 -",null,null,null,{"$f":"'5-7'!K12+'5-7'!K18","v":0}]
[null,null,null,null,null,null,null,null,null,null,null,"не повинно перевищувати число у рядку 1 - ",null,null,null,{"$f":"'5-7'!K6","v":1}]
[null,null,null,null,null,null,null,null,null,null,null,"В Таблиці 5 у графі 7 сума чисел у рядках 7,13 -",null,null,null,{"$f":"'5-7'!L12+'5-7'!L18","v":1}]
[null,null,null,null,null,null,null,null,null,null,null,"не повинно перевищувати число у рядку 1 - ",null,null,null,{"$f":"'5-7'!L6","v":15}]
[null,null,null,null,null,null,null,null,null,null,null,"В Таблиці 5 у графі 1 сума чисел у рядках 12,20 -",null,null,null,{"$f":"'5-7'!F17+'5-7'!F25","v":0}]
[null,null,null,null,null,null,null,null,null,null,null,"не повинно перевищувати число у рядку 6 - ",null,null,null,{"$f":"'5-7'!F11","v":2}]
[null,null,null,null,null,null,null,null,null,null,null,"В Таблиці 5 у графі 2 сума чисел у рядках 12,20 -",null,null,null,{"$f":"'5-7'!G17+'5-7'!G25","v":0}]
[null,null,null,null,null,null,null,null,null,null,null,"не повинно перевищувати число у рядку 6 - ",null,null,null,{"$f":"'5-7'!G11","v":0}]
[null,null,null,null,null,null,null,null,null,null,null,"В Таблиці 5 у графі 3 сума чисел у рядках 12,20 -",null,null,null,{"$f":"'5-7'!H17+'5-7'!H25","v":0}]
[null,null,null,null,null,null,null,null,null,null,null,"не повинно перевищувати число у рядку 6 - ",null,null,null,{"$f":"'5-7'!H11","v":2}]
[null,null,null,null,null,null,null,null,null,null,null,"В Таблиці 5 у графі 4 сума чисел у рядках 12,20 -",null,null,null,{"$f":"'5-7'!I17+'5-7'!I25","v":0}]
[null,null,null,null,null,null,null,null,null,null,null,"не повинно перевищувати число у рядку 6 - ",null,null,null,{"$f":"'5-7'!I11","v":0}]
[null,null,null,null,null,null,null,null,null,null,null,"В Таблиці 5 у графі 5 сума чисел у рядках 12,20 -",null,null,null,{"$f":"'5-7'!J17+'5-7'!J25","v":0}]
[null,null,null,null,null,null,null,null,null,null,null,"не повинно перевищувати число у рядку 6 - ",null,null,null,{"$f":"'5-7'!J11","v":0}]
[null,null,null,null,null,null,null,null,null,null,null,"В Таблиці 5 у графі 6 сума чисел у рядках 12,20 -",null,null,null,{"$f":"'5-7'!K17+'5-7'!K25","v":0}]
[null,null,null,null,null,null,null,null,null,null,null,"не повинно перевищувати число у рядку 6 - ",null,null,null,{"$f":"'5-7'!K11","v":0}]
[null,null,null,null,null,null,null,null,null,null,null,"В Таблиці 5 у графі 7 сума чисел у рядках 12,20 -",null,null,null,{"$f":"'5-7'!L17+'5-7'!L25","v":0}]
[null,null,null,null,null,null,null,null,null,null,null,"не повинно перевищувати число у рядку 6 - ",null,null,null,{"$f":"'5-7'!L11","v":0}]
[null,null,null,null,null,null,null,null,null,null,null,"В Таблиці 5 у графі 1 сума чисел у рядках 8-11 -",null,null,null,{"$f":"SUM('5-7'!F13:F16)","v":0}]
[null,null,null,null,null,null,null,null,null,null,null,"не повинно перевищувати число у рядку 7 - ",null,null,null,{"$f":"'5-7'!F12","v":0}]
[null,null,null,null,null,null,null,null,null,null,null,"В Таблиці 5 у графі 2 сума чисел у рядках 8-11 -",null,null,null,{"$f":"SUM('5-7'!G13:G16)","v":0}]
[null,null,null,null,null,null,null,null,null,null,null,"не повинно перевищувати число у рядку 7 - ",null,null,null,{"$f":"'5-7'!G12","v":0}]
[null,null,null,null,null,null,null,null,null,null,null,"В Таблиці 5 у графі 3 сума чисел у рядках 8-11 -",null,null,null,{"$f":"SUM('5-7'!H13:H16)","v":0}]
[null,null,null,null,null,null,null,null,null,null,null,"не повинно перевищувати число у рядку 7 - ",null,null,null,{"$f":"'5-7'!H12","v":0}]
[null,null,null,null,null,null,null,null,null,null,null,"В Таблиці 5 у графі 4 сума чисел у рядках 8-11 -",null,null,null,{"$f":"SUM('5-7'!I13:I16)","v":0}]
[null,null,null,null,null,null,null,null,null,null,null,"не повинно перевищувати число у рядку 7 - ",null,null,null,{"$f":"'5-7'!I12","v":0}]
[null,null,null,null,null,null,null,null,null,null,null,"В Таблиці 5 у графі 5 сума чисел у рядках 8-11 -",null,null,null,{"$f":"SUM('5-7'!J13:J16)","v":0}]
[null,null,null,null,null,null,null,null,null,null,null,"не повинно перевищувати число у рядку 7 - ",null,null,null,{"$f":"'5-7'!J12","v":0}]
[null,null,null,null,null,null,null,null,null,null,null,"В Таблиці 5 у графі 6 сума чисел у рядках 8-11 -",null,null,null,{"$f":"SUM('5-7'!K13:K16)","v":0}]
[null,null,null,null,null,null,null,null,null,null,null,"не повинно перевищувати число у рядку 7 - ",null,null,null,{"$f":"'5-7'!K12","v":0}]
[null,null,null,null,null,null,null,null,null,null,null,"В Таблиці 5 у графі 7 сума чисел у рядках 8-11 -",null,null,null,{"$f":"SUM('5-7'!L13:L16)","v":0}]
[null,null,null,null,null,null,null,null,null,null,null,"не повинно перевищувати число у рядку 7 - ",null,null,null,{"$f":"'5-7'!L12","v":0}]
[null,null,null,null,null,null,null,null,null,null,null,"В Таблиці 5 у графі 1 сума чисел у рядках 14-15 -",null,null,null,{"$f":"SUM('5-7'!F19:F20)","v":55}]
[null,null,null,null,null,null,null,null,null,null,null,"не повинно перевищувати число у рядку 13 - ",null,null,null,{"$f":"'5-7'!F18","v":55}]
[null,null,null,null,null,null,null,null,null,null,null,"В Таблиці 5 у графі 2 сума чисел у рядках 14-15 -",null,null,null,{"$f":"SUM('5-7'!G19:G20)","v":1}]
[null,null,null,null,null,null,null,null,null,null,null,"не повинно перевищувати число у рядку 13 - ",null,null,null,{"$f":"'5-7'!G18","v":1}]
[null,null,null,null,null,null,null,null,null,null,null,"В Таблиці 5 у графі 3 сума чисел у рядках 14-15 -",null,null,null,{"$f":"SUM('5-7'!H19:H20)","v":54}]
[null,null,null,null,null,null,null,null,null,null,null,"не повинно перевищувати число у рядку 13 - ",null,null,null,{"$f":"'5-7'!H18","v":54}]
[null,null,null,null,null,null,null,null,null,null,null,"В Таблиці 5 у графі 4 сума чисел у рядках 14-15 -",null,null,null,{"$f":"SUM('5-7'!I19:I20)","v":0}]
[null,null,null,null,null,null,null,null,null,null,null,"не повинно перевищувати число у рядку 13 - ",null,null,null,{"$f":"'5-7'!I18","v":0}]
[null,null,null,null,null,null,null,null,null,null,null,"В Таблиці 5 у графі 5 сума чисел у рядках 14-15 -",null,null,null,{"$f":"SUM('5-7'!J19:J20)","v":0}]
[null,null,null,null,null,null,null,null,null,null,null,"не повинно перевищувати число у рядку 13 - ",null,null,null,{"$f":"'5-7'!J18","v":0}]
[null,null,null,null,null,null,null,null,null,null,null,"В Таблиці 5 у графі 6 сума чисел у рядках 14-15 -",null,null,null,{"$f":"SUM('5-7'!K19:K20)","v":0}]
[null,null,null,null,null,null,null,null,null,null,null,"не повинно перевищувати число у рядку 13 - ",null,null,null,{"$f":"'5-7'!K18","v":0}]
[null,null,null,null,null,null,null,null,null,null,null,"В Таблиці 5 у графі 7 сума чисел у рядках 14-15 -",null,null,null,{"$f":"SUM('5-7'!L19:L20)","v":1}]
[null,null,null,null,null,null,null,null,null,null,null,"не повинно перевищувати число у рядку 13 - ",null,null,null,{"$f":"'5-7'!L18","v":1}]
[null,null,null,null,null,null,null,null,null,null,null,"В Таблиці 5 у графі 1 число у рядку 13 -",null,null,null,{"$f":"'5-7'!F18","v":55}]
[null,null,null,null,null,null,null,null,null,null,null,"не повинно перевищувати суму чисел у рядках 4-5 - ",null,null,null,{"$f":"SUM('5-7'!F9:F10)","v":420}]
[null,null,null,null,null,null,null,null,null,null,null,"В Таблиці 5 у графі 2 число у рядку 13 -",null,null,null,{"$f":"'5-7'!G18","v":1}]
[null,null,null,null,null,null,null,null,null,null,null,"не повинно перевищувати суму чисел у рядках 4-5 - ",null,null,null,{"$f":"SUM('5-7'!G9:G10)","v":13}]
[null,null,null,null,null,null,null,null,null,null,null,"В Таблиці 5 у графі 3 число у рядку 13 -",null,null,null,{"$f":"'5-7'!H18","v":54}]
[null,null,null,null,null,null,null,null,null,null,null,"не повинно перевищувати суму чисел у рядках 4-5 - ",null,null,null,{"$f":"SUM('5-7'!H9:H10)","v":404}]
[null,null,null,null,null,null,null,null,null,null,null,"В Таблиці 5 у графі 4 число у рядку 13 -",null,null,null,{"$f":"'5-7'!I18","v":0}]
[null,null,null,null,null,null,null,null,null,null,null,"не повинно перевищувати суму чисел у рядках 4-5 - ",null,null,null,{"$f":"SUM('5-7'!I9:I10)","v":0}]
[null,null,null,null,null,null,null,null,null,null,null,"В Таблиці 5 у графі 5 число у рядку 13 -",null,null,null,{"$f":"'5-7'!J18","v":0}]
[null,null,null,null,null,null,null,null,null,null,null,"не повинно перевищувати суму чисел у рядках 4-5 - ",null,null,null,{"$f":"SUM('5-7'!J9:J10)","v":3}]
[null,null,null,null,null,null,null,null,null,null,null,"В Таблиці 5 у графі 6 число у рядку 13 -",null,null,null,{"$f":"'5-7'!K18","v":0}]
[null,null,null,null,null,null,null,null,null,null,null,"не повинно перевищувати суму чисел у рядках 4-5 - ",null,null,null,{"$f":"SUM('5-7'!K9:K10)","v":0}]
[null,null,null,null,null,null,null,null,null,null,null,"В Таблиці 5 у графі 7 число у рядку 13 -",null,null,null,{"$f":"'5-7'!L18","v":1}]
[null,null,null,null,null,null,null,null,null,null,null,"не повинно перевищувати суму чисел у рядках 4-5 - ",null,null,null,{"$f":"SUM('5-7'!L9:L10)","v":11}]
[null,null,null,null,null,null,null,null,null,null,null,"В Таблиці 5 у графі 1 число у рядку 20 -",null,null,null,{"$f":"'5-7'!F25","v":0}]
[null,null,null,null,null,null,null,null,null,null,null,"не повинно перевищувати число у рядку 6 - ",null,null,null,{"$f":"'5-7'!F11","v":2}]
[null,null,null,null,null,null,null,null,null,null,null,"В Таблиці 5 у графі 2 число у рядку 20 -",null,null,null,{"$f":"'5-7'!G25","v":0}]
[null,null,null,null,null,null,null,null,null,null,null,"не повинно перевищувати число у рядку 6 - ",null,null,null,{"$f":"'5-7'!G11","v":0}]
[null,null,null,null,null,null,null,null,null,null,null,"В Таблиці 5 у графі 3 число у рядку 20 -",null,null,null,{"$f":"'5-7'!H25","v":0}]
[null,null,null,null,null,null,null,null,null,null,null,"не повинно перевищувати число у рядку 6 - ",null,null,null,{"$f":"'5-7'!H11","v":2}]
[null,null,null,null,null,null,null,null,null,null,null,"В Таблиці 5 у графі 4 число у рядку 20 -",null,null,null,{"$f":"'5-7'!I25","v":0}]
[null,null,null,null,null,null,null,null,null,null,null,"не повинно перевищувати число у рядку 6 - ",null,null,null,{"$f":"'5-7'!I11","v":0}]
[null,null,null,null,null,null,null,null,null,null,null,"В Таблиці 5 у графі 5 число у рядку 20 -",null,null,null,{"$f":"'5-7'!J25","v":0}]
[null,null,null,null,null,null,null,null,null,null,null,"не повинно перевищувати число у рядку 6 - ",null,null,null,{"$f":"'5-7'!J11","v":0}]
[null,null,null,null,null,null,null,null,null,null,null,"В Таблиці 5 у графі 6 число у рядку 20 -",null,null,null,{"$f":"'5-7'!K25","v":0}]
[null,null,null,null,null,null,null,null,null,null,null,"не повинно перевищувати число у рядку 6 - ",null,null,null,{"$f":"'5-7'!K11","v":0}]
[null,null,null,null,null,null,null,null,null,null,null,"В Таблиці 5 у графі 7 число у рядку 20 -",null,null,null,{"$f":"'5-7'!L25","v":0}]
[null,null,null,null,null,null,null,null,null,null,null,"не повинно перевищувати число у рядку 6 - ",null,null,null,{"$f":"'5-7'!L11","v":0}]
[null,null,null,null,null,null,null,null,null,null,null,"В Таблиці 5 у графі 1 сума чисел у рядках 16-19 -",null,null,null,{"$f":"SUM('5-7'!F21:F24)","v":43}]
[null,null,null,null,null,null,null,null,null,null,null,"не повинно перевищувати число у рядку 15 - ",null,null,null,{"$f":"'5-7'!F20","v":49}]
[null,null,null,null,null,null,null,null,null,null,null,"В Таблиці 5 у графі 2 сума чисел у рядках 16-19 -",null,null,null,{"$f":"SUM('5-7'!G21:G24)","v":1}]
[null,null,null,null,null,null,null,null,null,null,null,"не повинно перевищувати число у рядку 15 - ",null,null,null,{"$f":"'5-7'!G20","v":1}]
[null,null,null,null,null,null,null,null,null,null,null,"В Таблиці 5 у графі 3 сума чисел у рядках 16-19 -",null,null,null,{"$f":"SUM('5-7'!H21:H24)","v":42}]
[null,null,null,null,null,null,null,null,null,null,null,"не повинно перевищувати число у рядку 15 - ",null,null,null,{"$f":"'5-7'!H20","v":48}]
[null,null,null,null,null,null,null,null,null,null,null,"В Таблиці 5 у графі 4 сума чисел у рядках 16-19 -",null,null,null,{"$f":"SUM('5-7'!I21:I24)","v":0}]
[null,null,null,null,null,null,null,null,null,null,null,"не повинно перевищувати число у рядку 15 - ",null,null,null,{"$f":"'5-7'!I20","v":0}]
[null,null,null,null,null,null,null,null,null,null,null,"В Таблиці 5 у графі 5 сума чисел у рядках 16-19 -",null,null,null,{"$f":"SUM('5-7'!J21:J24)","v":0}]
[null,null,null,null,null,null,null,null,null,null,null,"не повинно перевищувати число у рядку 15 - ",null,null,null,{"$f":"'5-7'!J20","v":0}]
[null,null,null,null,null,null,null,null,null,null,null,"В Таблиці 5 у графі 6 сума чисел у рядках 16-19 -",null,null,null,{"$f":"SUM('5-7'!K21:K24)","v":0}]
[null,null,null,null,null,null,null,null,null,null,null,"не повинно перевищувати число у рядку 15 - ",null,null,null,{"$f":"'5-7'!K20","v":0}]
[null,null,null,null,null,null,null,null,null,null,null,"В Таблиці 5 у графі 7 сума чисел у рядках 16-19 -",null,null,null,{"$f":"SUM('5-7'!L21:L24)","v":1}]
[null,null,null,null,null,null,null,null,null,null,null,"не повинно перевищувати число у рядку 15 - ",null,null,null,{"$f":"'5-7'!L20","v":1}]
[null,null,null,null,null,null,null,null,null,null,null,"В Таблиці 5 у графі 1 число у рядку 21 -",null,null,null,{"$f":"'5-7'!F26","v":8}]
[null,null,null,null,null,null,null,null,null,null,null,"не повинно перевищувати число у рядку 13 - ",null,null,null,{"$f":"'5-7'!F18","v":55}]
[null,null,null,null,null,null,null,null,null,null,null,"В Таблиці 5 у графі 2 число у рядку 21 -",null,null,null,{"$f":"'5-7'!G26","v":0}]
[null,null,null,null,null,null,null,null,null,null,null,"не повинно перевищувати число у рядку 13 - ",null,null,null,{"$f":"'5-7'!G18","v":1}]
[null,null,null,null,null,null,null,null,null,null,null,"В Таблиці 5 у графі 3 число у рядку 21 -",null,null,null,{"$f":"'5-7'!H26","v":8}]
[null,null,null,null,null,null,null,null,null,null,null,"не повинно перевищувати число у рядку 13 - ",null,null,null,{"$f":"'5-7'!H18","v":54}]
[null,null,null,null,null,null,null,null,null,null,null,"В Таблиці 5 у графі 4 число у рядку 21 -",null,null,null,{"$f":"'5-7'!I26","v":0}]
[null,null,null,null,null,null,null,null,null,null,null,"не повинно перевищувати число у рядку 13 - ",null,null,null,{"$f":"'5-7'!I18","v":0}]
[null,null,null,null,null,null,null,null,null,null,null,"В Таблиці 5 у графі 5 число у рядку 21 -",null,null,null,{"$f":"'5-7'!J26","v":0}]
[null,null,null,null,null,null,null,null,null,null,null,"не повинно перевищувати число у рядку 13 - ",null,null,null,{"$f":"'5-7'!J18","v":0}]
[null,null,null,null,null,null,null,null,null,null,null,"В Таблиці 5 у графі 6 число у рядку 21 -",null,null,null,{"$f":"'5-7'!K26","v":0}]
[null,null,null,null,null,null,null,null,null,null,null,"не повинно перевищувати число у рядку 13 - ",null,null,null,{"$f":"'5-7'!K18","v":0}]
[null,null,null,null,null,null,null,null,null,null,null,"В Таблиці 5 у графі 7 число у рядку 21 -",null,null,null,{"$f":"'5-7'!L26","v":0}]
[null,null,null,null,null,null,null,null,null,null,null,"не повинно перевищувати число у рядку 13 - ",null,null,null,{"$f":"'5-7'!L18","v":1}]
[null,null,null,null,null,null,null,null,null,null,null,"В Таблиці 5 у графі 1 число у рядку 24 -",null,null,null,{"$f":"'5-7'!F29","v":0}]
[null,null,null,null,null,null,null,null,null,null,null,"не повинно перевищувати число у рядку 20 - ",null,null,null,{"$f":"'5-7'!F25","v":0}]
[null,null,null,null,null,null,null,null,null,null,null,"В Таблиці 5 у графі 2 число у рядку 24 -",null,null,null,{"$f":"'5-7'!G29","v":0}]
[null,null,null,null,null,null,null,null,null,null,null,"не повинно перевищувати число у рядку 20 - ",null,null,null,{"$f":"'5-7'!G25","v":0}]
[null,null,null,null,null,null,null,null,null,null,null,"В Таблиці 5 у графі 3 число у рядку 24 -",null,null,null,{"$f":"'5-7'!H29","v":0}]
[null,null,null,null,null,null,null,null,null,null,null,"не повинно перевищувати число у рядку 20 - ",null,null,null,{"$f":"'5-7'!H25","v":0}]
[null,null,null,null,null,null,null,null,null,null,null,"В Таблиці 5 у графі 4 число у рядку 24 -",null,null,null,{"$f":"'5-7'!I29","v":0}]
[null,null,null,null,null,null,null,null,null,null,null,"не повинно перевищувати число у рядку 20 - ",null,null,null,{"$f":"'5-7'!I25","v":0}]
[null,null,null,null,null,null,null,null,null,null,null,"В Таблиці 5 у графі 5 число у рядку 24 -",null,null,null,{"$f":"'5-7'!J29","v":0}]
[null,null,null,null,null,null,null,null,null,null,null,"не повинно перевищувати число у рядку 20 - ",null,null,null,{"$f":"'5-7'!J25","v":0}]
[null,null,null,null,null,null,null,null,null,null,null,"В Таблиці 5 у графі 6 число у рядку 24 -",null,null,null,{"$f":"'5-7'!K29","v":0}]
[null,null,null,null,null,null,null,null,null,null,null,"не повинно перевищувати число у рядку 20 - ",null,null,null,{"$f":"'5-7'!K25","v":0}]
[null,null,null,null,null,null,null,null,null,null,null,"В Таблиці 5 у графі 7 число у рядку 24 -",null,null,null,{"$f":"'5-7'!L29","v":0}]
[null,null,null,null,null,null,null,null,null,null,null,"не повинно перевищувати число у рядку 20 - ",null,null,null,{"$f":"'5-7'!L25","v":0}]
[null,null,null,null,null,null,null,null,null,null,null,"В Таблиці 5 у графі 1 число у рядку 25 -",null,null,null,{"$f":"'5-7'!F30","v":3}]
[null,null,null,null,null,null,null,null,null,null,null,"не повинно перевищувати число у рядку 21 - ",null,null,null,{"$f":"'5-7'!F26","v":8}]
[null,null,null,null,null,null,null,null,null,null,null,"В Таблиці 5 у графі 2 число у рядку 25 -",null,null,null,{"$f":"'5-7'!G30","v":0}]
[null,null,null,null,null,null,null,null,null,null,null,"не повинно перевищувати число у рядку 21 - ",null,null,null,{"$f":"'5-7'!G26","v":0}]
[null,null,null,null,null,null,null,null,null,null,null,"В Таблиці 5 у графі 3 число у рядку 25 -",null,null,null,{"$f":"'5-7'!H30","v":3}]
[null,null,null,null,null,null,null,null,null,null,null,"не повинно перевищувати число у рядку 21 - ",null,null,null,{"$f":"'5-7'!H26","v":8}]
[null,null,null,null,null,null,null,null,null,null,null,"В Таблиці 5 у графі 4 число у рядку 25 -",null,null,null,{"$f":"'5-7'!I30","v":0}]
[null,null,null,null,null,null,null,null,null,null,null,"не повинно перевищувати число у рядку 21 - ",null,null,null,{"$f":"'5-7'!I26","v":0}]
[null,null,null,null,null,null,null,null,null,null,null,"В Таблиці 5 у графі 5 число у рядку 25 -",null,null,null,{"$f":"'5-7'!J30","v":0}]
[null,null,null,null,null,null,null,null,null,null,null,"не повинно перевищувати число у рядку 21 - ",null,null,null,{"$f":"'5-7'!J26","v":0}]
[null,null,null,null,null,null,null,null,null,null,null,"В Таблиці 5 у графі 6 число у рядку 25 -",null,null,null,{"$f":"'5-7'!K30","v":0}]
[null,null,null,null,null,null,null,null,null,null,null,"не повинно перевищувати число у рядку 21 - ",null,null,null,{"$f":"'5-7'!K26","v":0}]
[null,null,null,null,null,null,null,null,null,null,null,"В Таблиці 5 у графі 7 число у рядку 25 -",null,null,null,{"$f":"'5-7'!L30","v":0}]
[null,null,null,null,null,null,null,null,null,null,null,"не повинно перевищувати число у рядку 21 - ",null,null,null,{"$f":"'5-7'!L26","v":0}]
[null,null,null,null,null,null,null,null,null,null,null,"В Таблиці 5 у графі 1 число у рядку 28 -",null,null,null,{"$f":"'5-7'!F33","v":0}]
[null,null,null,null,null,null,null,null,null,null,null,"не повинно перевищувати число у рядку 24 - ",null,null,null,{"$f":"'5-7'!F29","v":0}]
[null,null,null,null,null,null,null,null,null,null,null,"В Таблиці 5 у графі 2 число у рядку 28 -",null,null,null,{"$f":"'5-7'!G33","v":0}]
[null,null,null,null,null,null,null,null,null,null,null,"не повинно перевищувати число у рядку 24 - ",null,null,null,{"$f":"'5-7'!G29","v":0}]
[null,null,null,null,null,null,null,null,null,null,null,"В Таблиці 5 у графі 3 число у рядку 28 -",null,null,null,{"$f":"'5-7'!H33","v":0}]
[null,null,null,null,null,null,null,null,null,null,null,"не повинно перевищувати число у рядку 24 - ",null,null,null,{"$f":"'5-7'!H29","v":0}]
[null,null,null,null,null,null,null,null,null,null,null,"В Таблиці 5 у графі 4 число у рядку 28 -",null,null,null,{"$f":"'5-7'!I33","v":0}]
[null,null,null,null,null,null,null,null,null,null,null,"не повинно перевищувати число у рядку 24 - ",null,null,null,{"$f":"'5-7'!I29","v":0}]
[null,null,null,null,null,null,null,null,null,null,null,"В Таблиці 5 у графі 5 число у рядку 28 -",null,null,null,{"$f":"'5-7'!J33","v":0}]
[null,null,null,null,null,null,null,null,null,null,null,"не повинно перевищувати число у рядку 24 - ",null,null,null,{"$f":"'5-7'!J29","v":0}]
[null,null,null,null,null,null,null,null,null,null,null,"В Таблиці 5 у графі 6 число у рядку 28 -",null,null,null,{"$f":"'5-7'!K33","v":0}]
[null,null,null,null,null,null,null,null,null,null,null,"не повинно перевищувати число у рядку 24 - ",null,null,null,{"$f":"'5-7'!K29","v":0}]
[null,null,null,null,null,null,null,null,null,null,null,"В Таблиці 5 у графі 7 число у рядку 28 -",null,null,null,{"$f":"'5-7'!L33","v":0}]
[null,null,null,null,null,null,null,null,null,null,null,"не повинно перевищувати число у рядку 24 - ",null,null,null,{"$f":"'5-7'!L29","v":0}]
[null,null,null,null,null,null,null,null,null,null,null,"В Таблиці 5 у графі 1 сума чисел у рядках 30,32,37 -",null,null,null,{"$f":"'5-7'!F35+'5-7'!F37+'5-7'!F42","v":0}]
[null,null,null,null,null,null,null,null,null,null,null,"не повинна перевищувати число у рядку 29 - ",null,null,null,{"$f":"'5-7'!F34","v":0}]
[null,null,null,null,null,null,null,null,null,null,null,"В Таблиці 5 у графі 2 сума чисел у рядках 30,32,37 -",null,null,null,{"$f":"'5-7'!G35+'5-7'!G37+'5-7'!G42","v":0}]
[null,null,null,null,null,null,null,null,null,null,null,"не повинна перевищувати число у рядку 29 - ",null,null,null,{"$f":"'5-7'!G34","v":0}]
[null,null,null,null,null,null,null,null,null,null,null,"В Таблиці 5 у графі 3 сума чисел у рядках 30,32,37 -",null,null,null,{"$f":"'5-7'!H35+'5-7'!H37+'5-7'!H42","v":0}]
[null,null,null,null,null,null,null,null,null,null,null,"не повинна перевищувати число у рядку 29 - ",null,null,null,{"$f":"'5-7'!H34","v":0}]
[null,null,null,null,null,null,null,null,null,null,null,"В Таблиці 5 у графі 4 сума чисел у рядках 30,32,37 -",null,null,null,{"$f":"'5-7'!I35+'5-7'!I37+'5-7'!I42","v":0}]
[null,null,null,null,null,null,null,null,null,null,null,"не повинна перевищувати число у рядку 29 - ",null,null,null,{"$f":"'5-7'!I34","v":0}]
[null,null,null,null,null,null,null,null,null,null,null,"В Таблиці 5 у графі 5 сума чисел у рядках 30,32,37 -",null,null,null,{"$f":"'5-7'!J35+'5-7'!J37+'5-7'!J42","v":0}]
[null,null,null,null,null,null,null,null,null,null,null,"не повинна перевищувати число у рядку 29 - ",null,null,null,{"$f":"'5-7'!J34","v":0}]
[null,null,null,null,null,null,null,null,null,null,null,"В Таблиці 5 у графі 6 сума чисел у рядках 30,32,37 -",null,null,null,{"$f":"'5-7'!K35+'5-7'!K37+'5-7'!K42","v":0}]
[null,null,null,null,null,null,null,null,null,null,null,"не повинна перевищувати число у рядку 29 - ",null,null,null,{"$f":"'5-7'!K34","v":0}]
[null,null,null,null,null,null,null,null,null,null,null,"В Таблиці 5 у графі 7 сума чисел у рядках 30,32,37 -",null,null,null,{"$f":"'5-7'!L35+'5-7'!L37+'5-7'!L42","v":0}]
[null,null,null,null,null,null,null,null,null,null,null,"не повинна перевищувати число у рядку 29 - ",null,null,null,{"$f":"'5-7'!L34","v":0}]
[null,null,null,null,null,null,null,null,null,null,null,"В Таблиці 5 у графі 1 число у рядку 31 -",null,null,null,{"$f":"'5-7'!F36","v":0}]
[null,null,null,null,null,null,null,null,null,null,null,"не повинно перевищувати число у рядку 30 - ",null,null,null,{"$f":"'5-7'!F35","v":0}]
[null,null,null,null,null,null,null,null,null,null,null,"В Таблиці 5 у графі 2 число у рядку 31 -",null,null,null,{"$f":"'5-7'!G36","v":0}]
[null,null,null,null,null,null,null,null,null,null,null,"не повинно перевищувати число у рядку 30 - ",null,null,null,{"$f":"'5-7'!G35","v":0}]
[null,null,null,null,null,null,null,null,null,null,null,"В Таблиці 5 у графі 3 число у рядку 31 -",null,null,null,{"$f":"'5-7'!H36","v":0}]
[null,null,null,null,null,null,null,null,null,null,null,"не повинно перевищувати число у рядку 30 - ",null,null,null,{"$f":"'5-7'!H35","v":0}]
[null,null,null,null,null,null,null,null,null,null,null,"В Таблиці 5 у графі 4 число у рядку 31 -",null,null,null,{"$f":"'5-7'!I36","v":0}]
[null,null,null,null,null,null,null,null,null,null,null,"не повинно перевищувати число у рядку 30 - ",null,null,null,{"$f":"'5-7'!I35","v":0}]
[null,null,null,null,null,null,null,null,null,null,null,"В Таблиці 5 у графі 5 число у рядку 31 -",null,null,null,{"$f":"'5-7'!J36","v":0}]
[null,null,null,null,null,null,null,null,null,null,null,"не повинно перевищувати число у рядку 30 - ",null,null,null,{"$f":"'5-7'!J35","v":0}]
[null,null,null,null,null,null,null,null,null,null,null,"В Таблиці 5 у графі 6 число у рядку 31 -",null,null,null,{"$f":"'5-7'!K36","v":0}]
[null,null,null,null,null,null,null,null,null,null,null,"не повинно перевищувати число у рядку 30 - ",null,null,null,{"$f":"'5-7'!K35","v":0}]
[null,null,null,null,null,null,null,null,null,null,null,"В Таблиці 5 у графі 7 число у рядку 31 -",null,null,null,{"$f":"'5-7'!L36","v":0}]
[null,null,null,null,null,null,null,null,null,null,null,"не повинно перевищувати число у рядку 30 - ",null,null,null,{"$f":"'5-7'!L35","v":0}]
[null,null,null,null,null,null,null,null,null,null,null,"В Таблиці 5 у графі 1 сума чисел у рядках 33-36 -",null,null,null,{"$f":"SUM('5-7'!F38:F41)","v":0}]
[null,null,null,null,null,null,null,null,null,null,null,"не повинна перевищувати число у рядку 32 - ",null,null,null,{"$f":"'5-7'!F37","v":0}]
[null,null,null,null,null,null,null,null,null,null,null,"В Таблиці 5 у графі 2 сума чисел у рядках 33-36 -",null,null,null,{"$f":"SUM('5-7'!G38:G41)","v":0}]
[null,null,null,null,null,null,null,null,null,null,null,"не повинна перевищувати число у рядку 32 - ",null,null,null,{"$f":"'5-7'!G37","v":0}]
[null,null,null,null,null,null,null,null,null,null,null,"В Таблиці 5 у графі 3 сума чисел у рядках 33-36 -",null,null,null,{"$f":"SUM('5-7'!H38:H41)","v":0}]
[null,null,null,null,null,null,null,null,null,null,null,"не повинна перевищувати число у рядку 32 - ",null,null,null,{"$f":"'5-7'!H37","v":0}]
[null,null,null,null,null,null,null,null,null,null,null,"В Таблиці 5 у графі 4 сума чисел у рядках 33-36 -",null,null,null,{"$f":"SUM('5-7'!I38:I41)","v":0}]
[null,null,null,null,null,null,null,null,null,null,null,"не повинна перевищувати число у рядку 32 - ",null,null,null,{"$f":"'5-7'!I37","v":0}]
[null,null,null,null,null,null,null,null,null,null,null,"В Таблиці 5 у графі 5 сума чисел у рядках 33-36 -",null,null,null,{"$f":"SUM('5-7'!J38:J41)","v":0}]
[null,null,null,null,null,null,null,null,null,null,null,"не повинна перевищувати число у рядку 32 - ",null,null,null,{"$f":"'5-7'!J37","v":0}]
[null,null,null,null,null,null,null,null,null,null,null,"В Таблиці 5 у графі 6 сума чисел у рядках 33-36 -",null,null,null,{"$f":"SUM('5-7'!K38:K41)","v":0}]
[null,null,null,null,null,null,null,null,null,null,null,"не повинна перевищувати число у рядку 32 - ",null,null,null,{"$f":"'5-7'!K37","v":0}]
[null,null,null,null,null,null,null,null,null,null,null,"В Таблиці 5 у графі 7 сума чисел у рядках 33-36 -",null,null,null,{"$f":"SUM('5-7'!L38:L41)","v":0}]
[null,null,null,null,null,null,null,null,null,null,null,"не повинна перевищувати число у рядку 32 - ",null,null,null,{"$f":"'5-7'!L37","v":0}]
[null,null,null,null,null,null,null,null,null,null,"Таблиця 6","В Таблиці 6 у графі 1 сума чисел у рядках 5-8 -",null,null,null,{"$f":"SUM('5-7'!R11:R14)","v":0}]
[null,null,null,null,null,null,null,null,null,null,null,"не повинно перевищувати число у рядку 4 - ",null,null,null,{"$f":"'5-7'!R10","v":0}]
[null,null,null,null,null,null,null,null,null,null,null,"В Таблиці 6 у графі 2 сума чисел у рядках 5-8 -",null,null,null,{"$f":"SUM('5-7'!S11:S14)","v":0}]
[null,null,null,null,null,null,null,null,null,null,null,"не повинно перевищувати число у рядку 4 - ",null,null,null,{"$f":"'5-7'!S10","v":0}]
[null,null,null,null,null,null,null,null,null,null,null,"В Таблиці 6 у графі 3 сума чисел у рядках 5-8 -",null,null,null,{"$f":"SUM('5-7'!T11:T14)","v":0}]
[null,null,null,null,null,null,null,null,null,null,null,"не повинно перевищувати число у рядку 4 - ",null,null,null,{"$f":"'5-7'!T10","v":0}]
[null,null,null,null,null,null,null,null,null,null,null,"В Таблиці 6 у графі 4 сума чисел у рядках 5-8 -",null,null,null,{"$f":"SUM('5-7'!U11:U14)","v":0}]
[null,null,null,null,null,null,null,null,null,null,null,"не повинно перевищувати число у рядку 4 - ",null,null,null,{"$f":"'5-7'!U10","v":0}]
[null,null,null,null,null,null,null,null,null,null,null,"В Таблиці 6 у графі 5 сума чисел у рядках 5-8 -",null,null,null,{"$f":"SUM('5-7'!V11:V14)","v":0}]
[null,null,null,null,null,null,null,null,null,null,null,"не повинно перевищувати число у рядку 4 - ",null,null,null,{"$f":"'5-7'!V10","v":0}]
[null,null,null,null,null,null,null,null,null,null,null,"В Таблиці 6 у графі 6 сума чисел у рядках 5-8 -",null,null,null,{"$f":"SUM('5-7'!W11:W14)","v":0}]
[null,null,null,null,null,null,null,null,null,null,null,"не повинно перевищувати число у рядку 4 - ",null,null,null,{"$f":"'5-7'!W10","v":0}]
[null,null,null,null,null,null,null,null,null,null,null,"В Таблиці 6 у графі 7 сума чисел у рядках 5-8 -",null,null,null,{"$f":"SUM('5-7'!X11:X14)","v":0}]
[null,null,null,null,null,null,null,null,null,null,null,"не повинно перевищувати число у рядку 4 - ",null,null,null,{"$f":"'5-7'!X10","v":0}]
[null,null,null,null,null,null,null,null,null,null,null,"В Таблиці 6 у графі 8 сума чисел у рядках 5-8 -",null,null,null,{"$f":"SUM('5-7'!Y11:Y14)","v":0}]
[null,null,null,null,null,null,null,null,null,null,null,"не повинно перевищувати число у рядку 4 - ",null,null,null,{"$f":"'5-7'!Y10","v":0}]
[null,null,null,null,null,null,null,null,null,null,null,"В Таблиці 6 у графі 9 сума чисел у рядках 5-8 -",null,null,null,{"$f":"SUM('5-7'!Z11:Z14)","v":0}]
[null,null,null,null,null,null,null,null,null,null,null,"не повинно перевищувати число у рядку 4 - ",null,null,null,{"$f":"'5-7'!Z10","v":0}]
[null,null,null,null,null,null,null,null,null,null,null,"В Таблиці 6 у графі 10 сума чисел у рядках 5-8 -",null,null,null,{"$f":"SUM('5-7'!AA11:AA14)","v":0}]
[null,null,null,null,null,null,null,null,null,null,null,"не повинно перевищувати число у рядку 4 - ",null,null,null,{"$f":"'5-7'!AA10","v":0}]
[null,null,null,null,null,null,null,null,null,null,null,"В Таблиці 6 у графі 11 сума чисел у рядках 5-8 -",null,null,null,{"$f":"SUM('5-7'!AB11:AB14)","v":0}]
[null,null,null,null,null,null,null,null,null,null,null,"не повинно перевищувати число у рядку 4 - ",null,null,null,{"$f":"'5-7'!AB10","v":0}]
[null,null,null,null,null,null,null,null,null,null,null,"В Таблиці 6 у графі 12 сума чисел у рядках 5-8 -",null,null,null,{"$f":"SUM('5-7'!AC11:AC14)","v":0}]
[null,null,null,null,null,null,null,null,null,null,null,"не повинно перевищувати число у рядку 4 - ",null,null,null,{"$f":"'5-7'!AC10","v":0}]
[null,null,null,null,null,null,null,null,null,null,null,"В Таблиці 6 у рядку 1 сума чисел у графах 2,5,7,10,11 -",null,null,null,{"$f":"'5-7'!S6+'5-7'!V6+'5-7'!X6+'5-7'!AA6+'5-7'!AB6","v":0}]
[null,null,null,null,null,null,null,null,null,null,null,"не повинно перевищувати число у графі 1 - ",null,null,null,{"$f":"'5-7'!R6","v":0}]
[null,null,null,null,null,null,null,null,null,null,null,"В Таблиці 6 у рядку 2 сума чисел у графах 2,5,7,10,11 -",null,null,null,{"$f":"'5-7'!S7+'5-7'!V7+'5-7'!X7+'5-7'!AA7+'5-7'!AB7","v":0}]
[null,null,null,null,null,null,null,null,null,null,null,"не повинно перевищувати число у графі 1 - ",null,null,null,{"$f":"'5-7'!R7","v":0}]
[null,null,null,null,null,null,null,null,null,null,null,"В Таблиці 6 у рядку 3 сума чисел у графах 2,5,7,10,11 -",null,null,null,{"$f":"'5-7'!S8+'5-7'!V8+'5-7'!X8+'5-7'!AA8+'5-7'!AB8","v":0}]
[null,null,null,null,null,null,null,null,null,null,null,"не повинно перевищувати число у графі 1 - ",null,null,null,{"$f":"'5-7'!R8","v":0}]
[null,null,null,null,null,null,null,null,null,null,null,"В Таблиці 6 у рядку 4 сума чисел у графах 2,5,7,10,11 -",null,null,null,{"$f":"'5-7'!S10+'5-7'!V10+'5-7'!X10+'5-7'!AA10+'5-7'!AB10","v":0}]
[null,null,null,null,null,null,null,null,null,null,null,"не повинно перевищувати число у графі 1 - ",null,null,null,{"$f":"'5-7'!R10","v":0}]
[null,null,null,null,null,null,null,null,null,null,null,"В Таблиці 6 у рядку 5 сума чисел у графах 2,5,7,10,11 -",null,null,null,{"$f":"'5-7'!S11+'5-7'!V11+'5-7'!X11+'5-7'!AA11+'5-7'!AB11","v":0}]
[null,null,null,null,null,null,null,null,null,null,null,"не повинно перевищувати число у графі 1 - ",null,null,null,{"$f":"'5-7'!R11","v":0}]
[null,null,null,null,null,null,null,null,null,null,null,"В Таблиці 6 у рядку 6 сума чисел у графах 2,5,7,10,11 -",null,null,null,{"$f":"'5-7'!S12+'5-7'!V12+'5-7'!X12+'5-7'!AA12+'5-7'!AB12","v":0}]
[null,null,null,null,null,null,null,null,null,null,null,"не повинно перевищувати число у графі 1 - ",null,null,null,{"$f":"'5-7'!R12","v":0}]
[null,null,null,null,null,null,null,null,null,null,null,"В Таблиці 6 у рядку 7 сума чисел у графах 2,5,7,10,11 -",null,null,null,{"$f":"'5-7'!S13+'5-7'!V13+'5-7'!X13+'5-7'!AA13+'5-7'!AB13","v":0}]
[null,null,null,null,null,null,null,null,null,null,null,"не повинно перевищувати число у графі 1 - ",null,null,null,{"$f":"'5-7'!R13","v":0}]
[null,null,null,null,null,null,null,null,null,null,null,"В Таблиці 6 у рядку 8 сума чисел у графах 2,5,7,10,11 -",null,null,null,{"$f":"'5-7'!S14+'5-7'!V14+'5-7'!X14+'5-7'!AA14+'5-7'!AB14","v":0}]
[null,null,null,null,null,null,null,null,null,null,null,"не повинно перевищувати число у графі 1 - ",null,null,null,{"$f":"'5-7'!R14","v":0}]
[null,null,null,null,null,null,null,null,null,null,null,"В Таблиці 6 у рядку 9 сума чисел у графах 2,5,7,10,11 -",null,null,null,{"$f":"'5-7'!S15+'5-7'!V15+'5-7'!X15+'5-7'!AA15+'5-7'!AB15","v":0}]
[null,null,null,null,null,null,null,null,null,null,null,"не повинно перевищувати число у графі 1 - ",null,null,null,{"$f":"'5-7'!R15","v":0}]
[null,null,null,null,null,null,null,null,null,null,null,"В Таблиці 6 у рядку 1 число у графі 3 -",null,null,null,{"$f":"'5-7'!T6","v":0}]
[null,null,null,null,null,null,null,null,null,null,null,"не повинно перевищувати число у графі 2 - ",null,null,null,{"$f":"'5-7'!S6","v":0}]
[null,null,null,null,null,null,null,null,null,null,null,"В Таблиці 6 у рядку 2 число у графі 3 -",null,null,null,{"$f":"'5-7'!T7","v":0}]
[null,null,null,null,null,null,null,null,null,null,null,"не повинно перевищувати число у графі 2 - ",null,null,null,{"$f":"'5-7'!S7","v":0}]
[null,null,null,null,null,null,null,null,null,null,null,"В Таблиці 6 у рядку 3 число у графі 3 -",null,null,null,{"$f":"'5-7'!T8","v":0}]
[null,null,null,null,null,null,null,null,null,null,null,"не повинно перевищувати число у графі 2 - ",null,null,null,{"$f":"'5-7'!S8","v":0}]
[null,null,null,null,null,null,null,null,null,null,null,"В Таблиці 6 у рядку 4 число у графі 3 -",null,null,null,{"$f":"'5-7'!T10","v":0}]
[null,null,null,null,null,null,null,null,null,null,null,"не повинно перевищувати число у графі 2 - ",null,null,null,{"$f":"'5-7'!S10","v":0}]
[null,null,null,null,null,null,null,null,null,null,null,"В Таблиці 6 у рядку 5 число у графі 3 -",null,null,null,{"$f":"'5-7'!T11","v":0}]
[null,null,null,null,null,null,null,null,null,null,null,"не повинно перевищувати число у графі 2 - ",null,null,null,{"$f":"'5-7'!S11","v":0}]
[null,null,null,null,null,null,null,null,null,null,null,"В Таблиці 6 у рядку 6 число у графі 3 -",null,null,null,{"$f":"'5-7'!T12","v":0}]
[null,null,null,null,null,null,null,null,null,null,null,"не повинно перевищувати число у графі 2 - ",null,null,null,{"$f":"'5-7'!S12","v":0}]
[null,null,null,null,null,null,null,null,null,null,null,"В Таблиці 6 у рядку 7 число у графі 3 -",null,null,null,{"$f":"'5-7'!T13","v":0}]
[null,null,null,null,null,null,null,null,null,null,null,"не повинно перевищувати число у графі 2 - ",null,null,null,{"$f":"'5-7'!S13","v":0}]
[null,null,null,null,null,null,null,null,null,null,null,"В Таблиці 6 у рядку 8 число у графі 3 -",null,null,null,{"$f":"'5-7'!T14","v":0}]
[null,null,null,null,null,null,null,null,null,null,null,"не повинно перевищувати число у графі 2 - ",null,null,null,{"$f":"'5-7'!S14","v":0}]
[null,null,null,null,null,null,null,null,null,null,null,"В Таблиці 6 у рядку 9 число у графі 3 -",null,null,null,{"$f":"'5-7'!T15","v":0}]
[null,null,null,null,null,null,null,null,null,null,null,"не повинно перевищувати число у графі 2 - ",null,null,null,{"$f":"'5-7'!S15","v":0}]
[null,null,null,null,null,null,null,null,null,null,null,"В Таблиці 6 у рядку 1 число у графі 4 -",null,null,null,{"$f":"'5-7'!U6","v":0}]
[null,null,null,null,null,null,null,null,null,null,null,"не повинно перевищувати число у графі 2 - ",null,null,null,{"$f":"'5-7'!S6","v":0}]
[null,null,null,null,null,null,null,null,null,null,null,"В Таблиці 6 у рядку 2 число у графі 4 -",null,null,null,{"$f":"'5-7'!U7","v":0}]
[null,null,null,null,null,null,null,null,null,null,null,"не повинно перевищувати число у графі 2 - ",null,null,null,{"$f":"'5-7'!S7","v":0}]
[null,null,null,null,null,null,null,null,null,null,null,"В Таблиці 6 у рядку 3 число у графі 4 -",null,null,null,{"$f":"'5-7'!U8","v":0}]
[null,null,null,null,null,null,null,null,null,null,null,"не повинно перевищувати число у графі 2 - ",null,null,null,{"$f":"'5-7'!S8","v":0}]
[null,null,null,null,null,null,null,null,null,null,null,"В Таблиці 6 у рядку 4 число у графі 4 -",null,null,null,{"$f":"'5-7'!U10","v":0}]
[null,null,null,null,null,null,null,null,null,null,null,"не повинно перевищувати число у графі 2 - ",null,null,null,{"$f":"'5-7'!S10","v":0}]
[null,null,null,null,null,null,null,null,null,null,null,"В Таблиці 6 у рядку 5 число у графі 4 -",null,null,null,{"$f":"'5-7'!U11","v":0}]
[null,null,null,null,null,null,null,null,null,null,null,"не повинно перевищувати число у графі 2 - ",null,null,null,{"$f":"'5-7'!S11","v":0}]
[null,null,null,null,null,null,null,null,null,null,null,"В Таблиці 6 у рядку 6 число у графі 4 -",null,null,null,{"$f":"'5-7'!U12","v":0}]
[null,null,null,null,null,null,null,null,null,null,null,"не повинно перевищувати число у графі 2 - ",null,null,null,{"$f":"'5-7'!S12","v":0}]
[null,null,null,null,null,null,null,null,null,null,null,"В Таблиці 6 у рядку 7 число у графі 4 -",null,null,null,{"$f":"'5-7'!U13","v":0}]
[null,null,null,null,null,null,null,null,null,null,null,"не повинно перевищувати число у графі 2 - ",null,null,null,{"$f":"'5-7'!S13","v":0}]
[null,null,null,null,null,null,null,null,null,null,null,"В Таблиці 6 у рядку 8 число у графі 4 -",null,null,null,{"$f":"'5-7'!U14","v":0}]
[null,null,null,null,null,null,null,null,null,null,null,"не повинно перевищувати число у графі 2 - ",null,null,null,{"$f":"'5-7'!S14","v":0}]
[null,null,null,null,null,null,null,null,null,null,null,"В Таблиці 6 у рядку 9 число у графі 4 -",null,null,null,{"$f":"'5-7'!U15","v":0}]
[null,null,null,null,null,null,null,null,null,null,null,"не повинно перевищувати число у графі 2 - ",null,null,null,{"$f":"'5-7'!S15","v":0}]
[null,null,null,null,null,null,null,null,null,null,null,"В Таблиці 6 у рядку 1 число у графі 6 -",null,null,null,{"$f":"'5-7'!W6","v":0}]
[null,null,null,null,null,null,null,null,null,null,null,"не повинно перевищувати число у графі 5 - ",null,null,null,{"$f":"'5-7'!V6","v":0}]
[null,null,null,null,null,null,null,null,null,null,null,"В Таблиці 6 у рядку 2 число у графі 6 -",null,null,null,{"$f":"'5-7'!W7","v":0}]
[null,null,null,null,null,null,null,null,null,null,null,"не повинно перевищувати число у графі 5 - ",null,null,null,{"$f":"'5-7'!V7","v":0}]
[null,null,null,null,null,null,null,null,null,null,null,"В Таблиці 6 у рядку 3 число у графі 6 -",null,null,null,{"$f":"'5-7'!W8","v":0}]
[null,null,null,null,null,null,null,null,null,null,null,"не повинно перевищувати число у графі 5 - ",null,null,null,{"$f":"'5-7'!V8","v":0}]
[null,null,null,null,null,null,null,null,null,null,null,"В Таблиці 6 у рядку 4 число у графі 6 -",null,null,null,{"$f":"'5-7'!W10","v":0}]
[null,null,null,null,null,null,null,null,null,null,null,"не повинно перевищувати число у графі 5 - ",null,null,null,{"$f":"'5-7'!V10","v":0}]
[null,null,null,null,null,null,null,null,null,null,null,"В Таблиці 6 у рядку 5 число у графі 6 -",null,null,null,{"$f":"'5-7'!W11","v":0}]
[null,null,null,null,null,null,null,null,null,null,null,"не повинно перевищувати число у графі 5 - ",null,null,null,{"$f":"'5-7'!V11","v":0}]
[null,null,null,null,null,null,null,null,null,null,null,"В Таблиці 6 у рядку 6 число у графі 6 -",null,null,null,{"$f":"'5-7'!W12","v":0}]
["В Таблиці 13 в графі 3 рядку 2 стоїть цифра - 4",null,null,null,null,null,null,null,null,null,null,"не повинно перевищувати число у графі 5 - ",null,null,null,{"$f":"'5-7'!V12","v":0}]
["за попередній квартал ця цифра була - 5",null,null,null,null,null,null,null,null,null,null,"В Таблиці 6 у рядку 7 число у графі 6 -",null,null,null,{"$f":"'5-7'!W13","v":0}]
[null,null,null,null,null,null,null,null,null,null,null,"не повинно перевищувати число у графі 5 - ",null,null,null,{"$f":"'5-7'!V13","v":0}]
["В Таблиці 15 в графі 1 рядку 4 стоїть цифра - ",null,null,null,null,null,null,null,null,null,null,"В Таблиці 6 у рядку 8 число у графі 6 -",null,null,null,{"$f":"'5-7'!W14","v":0}]
["за попередній квартал ця цифра була - 1",null,null,null,null,null,null,null,null,null,null,"не повинно перевищувати число у графі 5 - ",null,null,null,{"$f":"'5-7'!V14","v":0}]
[null,null,null,null,null,null,null,null,null,null,null,"В Таблиці 6 у рядку 9 число у графі 6 -",null,null,null,{"$f":"'5-7'!W15","v":0}]
["В Таблиці 15 в графі 1 рядку 6 стоїть цифра - 4",null,null,null,null,null,null,null,null,null,null,"не повинно перевищувати число у графі 5 - ",null,null,null,{"$f":"'5-7'!V15","v":0}]
["за попередній квартал ця цифра була - 8",null,null,null,null,null,null,null,null,null,null,"В Таблиці 6 у рядку 1 число у графі 12 -",null,null,null,{"$f":"'5-7'!AC6","v":0}]
[null,null,null,null,null,null,null,null,null,null,null,"не повинно перевищувати число у графі 1 - ",null,null,null,{"$f":"'5-7'!R6","v":0}]
["В Таблиці 15 в графі 1 рядку 7 стоїть цифра - 25",null,null,null,null,null,null,null,null,null,null,"В Таблиці 6 у рядку 2 число у графі 12 -",null,null,null,{"$f":"'5-7'!AC7","v":0}]
["за попередній квартал ця цифра була - 44",null,null,null,null,null,null,null,null,null,null,"не повинно перевищувати число у графі 1 - ",null,null,null,{"$f":"'5-7'!R7","v":0}]
[null,null,null,null,null,null,null,null,null,null,null,"В Таблиці 6 у рядку 3 число у графі 12 -",null,null,null,{"$f":"'5-7'!AC8","v":0}]
["В Таблиці 15 в графі 1 рядку 9 стоїть цифра - 8",null,null,null,null,null,null,null,null,null,null,"не повинно перевищувати число у графі 1 - ",null,null,null,{"$f":"'5-7'!R8","v":0}]
["за попередній квартал ця цифра була - 894",null,null,null,null,null,null,null,null,null,null,"В Таблиці 6 у рядку 4 число у графі 12 -",null,null,null,{"$f":"'5-7'!AC10","v":0}]
[null,null,null,null,null,null,null,null,null,null,null,"не повинно перевищувати число у графі 1 - ",null,null,null,{"$f":"'5-7'!R10","v":0}]
["В Таблиці 15 в графі 1 рядку 11 стоїть цифра - 2",null,null,null,null,null,null,null,null,null,null,"В Таблиці 6 у рядку 5 число у графі 12 -",null,null,null,{"$f":"'5-7'!AC11","v":0}]
["за попередній квартал ця цифра була - 5",null,null,null,null,null,null,null,null,null,null,"не повинно перевищувати число у графі 1 - ",null,null,null,{"$f":"'5-7'!R11","v":0}]
[null,null,null,null,null,null,null,null,null,null,null,"В Таблиці 6 у рядку 6 число у графі 12 -",null,null,null,{"$f":"'5-7'!AC12","v":0}]
["В Таблиці 15 в графі 1 рядку 13 стоїть цифра - 126",null,null,null,null,null,null,null,null,null,null,"не повинно перевищувати число у графі 1 - ",null,null,null,{"$f":"'5-7'!R12","v":0}]
["за попередній квартал ця цифра була - 219",null,null,null,null,null,null,null,null,null,null,"В Таблиці 6 у рядку 7 число у графі 12 -",null,null,null,{"$f":"'5-7'!AC13","v":0}]
[null,null,null,null,null,null,null,null,null,null,null,"не повинно перевищувати число у графі 1 - ",null,null,null,{"$f":"'5-7'!R13","v":0}]
["В Таблиці 15 в графі 1 рядку 17 стоїть цифра - ",null,null,null,null,null,null,null,null,null,null,"В Таблиці 6 у рядку 8 число у графі 12 -",null,null,null,{"$f":"'5-7'!AC14","v":0}]
["за попередній квартал ця цифра була - 213",null,null,null,null,null,null,null,null,null,null,"не повинно перевищувати число у графі 1 - ",null,null,null,{"$f":"'5-7'!R14","v":0}]
[null,null,null,null,null,null,null,null,null,null,null,"В Таблиці 6 у рядку 9 число у графі 12 -",null,null,null,{"$f":"'5-7'!AC15","v":0}]
["В Таблиці 15 в графі 1 рядку 18 стоїть цифра - ",null,null,null,null,null,null,null,null,null,null,"не повинно перевищувати число у графі 1 - ",null,null,null,{"$f":"'5-7'!R15","v":0}]
["за попередній квартал ця цифра була - 4",null,null,null,null,null,null,null,null,null,"Таблиця 7","В Таблиці 7 у графі 1 сума чисел у рядках 2,3,6,7 -",null,null,null,{"$f":"'5-7'!R29+'5-7'!R30+'5-7'!R33+'5-7'!R34","v":0}]
[null,null,null,null,null,null,null,null,null,null,null,"не повинна перевищувати число у рядку 1 - ",null,null,null,{"$f":"'5-7'!R28","v":0}]
["В Таблиці 15 в графі 1 рядку 19 стоїть цифра - 16",null,null,null,null,null,null,null,null,null,null,"В Таблиці 7 у графі 2 сума чисел у рядках 2,3,6,7 -",null,null,null,{"$f":"'5-7'!S29+'5-7'!S30+'5-7'!S33+'5-7'!S34","v":0}]
["за попередній квартал ця цифра була - 19",null,null,null,null,null,null,null,null,null,null,"не повинна перевищувати число у рядку 1 - ",null,null,null,{"$f":"'5-7'!S28","v":0}]
[null,null,null,null,null,null,null,null,null,null,null,"В Таблиці 7 у графі 3 сума чисел у рядках 2,3,6,7 -",null,null,null,{"$f":"'5-7'!T29+'5-7'!T30+'5-7'!T33+'5-7'!T34","v":0}]
["В Таблиці 16 в графі 1 рядку 5 стоїть цифра - 13",null,null,null,null,null,null,null,null,null,null,"не повинна перевищувати число у рядку 1 - ",null,null,null,{"$f":"'5-7'!T28","v":0}]
["за попередній квартал ця цифра була - 95",null,null,null,null,null,null,null,null,null,null,"В Таблиці 7 у графі 4 сума чисел у рядках 2,3,6,7 -",null,null,null,{"$f":"'5-7'!U29+'5-7'!U30+'5-7'!U33+'5-7'!U34","v":0}]
[null,null,null,null,null,null,null,null,null,null,null,"не повинна перевищувати число у рядку 1 - ",null,null,null,{"$f":"'5-7'!U28","v":0}]
["В Таблиці 16 в графі 1 рядку 8 стоїть цифра - ",null,null,null,null,null,null,null,null,null,null,"В Таблиці 7 у графі 5 сума чисел у рядках 2,3,6,7 -",null,null,null,{"$f":"'5-7'!V29+'5-7'!V30+'5-7'!V33+'5-7'!V34","v":0}]
["за попередній квартал ця цифра була - 19",null,null,null,null,null,null,null,null,null,null,"не повинна перевищувати число у рядку 1 - ",null,null,null,{"$f":"'5-7'!V28","v":0}]
[null,null,null,null,null,null,null,null,null,null,null,"В Таблиці 7 у графі 6 сума чисел у рядках 2,3,6,7 -",null,null,null,{"$f":"'5-7'!W29+'5-7'!W30+'5-7'!W33+'5-7'!W34","v":0}]
["В Таблиці 16 в графі 1 рядку 9 стоїть цифра - ",null,null,null,null,null,null,null,null,null,null,"не повинна перевищувати число у рядку 1 - ",null,null,null,{"$f":"'5-7'!W28","v":0}]
["за попередній квартал ця цифра була - 1",null,null,null,null,null,null,null,null,null,null,"В Таблиці 7 у графі 7 сума чисел у рядках 2,3,6,7 -",null,null,null,{"$f":"'5-7'!X29+'5-7'!X30+'5-7'!X33+'5-7'!X34","v":0}]
[null,null,null,null,null,null,null,null,null,null,null,"не повинна перевищувати число у рядку 1 - ",null,null,null,{"$f":"'5-7'!X28","v":0}]
["В Таблиці 16 в графі 1 рядку 15 стоїть цифра - ",null,null,null,null,null,null,null,null,null,null,"В Таблиці 7 у графі 8 сума чисел у рядках 2,3,6,7 -",null,null,null,{"$f":"'5-7'!Y29+'5-7'!Y30+'5-7'!Y33+'5-7'!Y34","v":0}]
["за попередній квартал ця цифра була - 12",null,null,null,null,null,null,null,null,null,null,"не повинна перевищувати число у рядку 1 - ",null,null,null,{"$f":"'5-7'!Y28","v":0}]
[null,null,null,null,null,null,null,null,null,null,null,"В Таблиці 7 у графі 9 сума чисел у рядках 2,3,6,7 -",null,null,null,{"$f":"'5-7'!Z29+'5-7'!Z30+'5-7'!Z33+'5-7'!Z34","v":0}]
["В Таблиці 16 в графі 1 рядку 17 стоїть цифра - 13",null,null,null,null,null,null,null,null,null,null,"не повинна перевищувати число у рядку 1 - ",null,null,null,{"$f":"'5-7'!Z28","v":0}]
["за попередній квартал ця цифра була - 21",null,null,null,null,null,null,null,null,null,null,"В Таблиці 7 у графі 10 сума чисел у рядках 2,3,6,7 -",null,null,null,{"$f":"'5-7'!AA29+'5-7'!AA30+'5-7'!AA33+'5-7'!AA34","v":0}]
[null,null,null,null,null,null,null,null,null,null,null,"не повинна перевищувати число у рядку 1 - ",null,null,null,{"$f":"'5-7'!AA28","v":0}]
["В Таблиці 16 в графі 1 рядку 20 стоїть цифра - 19",null,null,null,null,null,null,null,null,null,null,"В Таблиці 7 у графі 11 сума чисел у рядках 2,3,6,7 -",null,null,null,{"$f":"'5-7'!AB29+'5-7'!AB30+'5-7'!AB33+'5-7'!AB34","v":0}]
["за попередній квартал ця цифра була - 24",null,null,null,null,null,null,null,null,null,null,"не повинна перевищувати число у рядку 1 - ",null,null,null,{"$f":"'5-7'!AB28","v":0}]
[null,null,null,null,null,null,null,null,null,null,null,"В Таблиці 7 у графі 1 сума чисел у рядках 4,5 -",null,null,null,{"$f":"SUM('5-7'!R31:R32)","v":0}]
["В Таблиці 16 в графі 2 рядку 1 стоїть цифра - 6",null,null,null,null,null,null,null,null,null,null,"не повинна перевищувати число у рядку 3 - ",null,null,null,{"$f":"'5-7'!R30","v":0}]
["за попередній квартал ця цифра була - 83",null,null,null,null,null,null,null,null,null,null,"В Таблиці 7 у графі 2 сума чисел у рядках 4,5 -",null,null,null,{"$f":"SUM('5-7'!S31:S32)","v":0}]
[null,null,null,null,null,null,null,null,null,null,null,"не повинна перевищувати число у рядку 3 - ",null,null,null,{"$f":"'5-7'!S30","v":0}]
["В Таблиці 16 в графі 2 рядку 2 стоїть цифра - 3",null,null,null,null,null,null,null,null,null,null,"В Таблиці 7 у графі 3 сума чисел у рядках 4,5 -",null,null,null,{"$f":"SUM('5-7'!T31:T32)","v":0}]
["за попередній квартал ця цифра була - 48",null,null,null,null,null,null,null,null,null,null,"не повинна перевищувати число у рядку 3 - ",null,null,null,{"$f":"'5-7'!T30","v":0}]
[null,null,null,null,null,null,null,null,null,null,null,"В Таблиці 7 у графі 4 сума чисел у рядках 4,5 -",null,null,null,{"$f":"SUM('5-7'!U31:U32)","v":0}]
["В Таблиці 16 в графі 2 рядку 5 стоїть цифра - ",null,null,null,null,null,null,null,null,null,null,"не повинна перевищувати число у рядку 3 - ",null,null,null,{"$f":"'5-7'!U30","v":0}]
["за попередній квартал ця цифра була - 1",null,null,null,null,null,null,null,null,null,null,"В Таблиці 7 у графі 5 сума чисел у рядках 4,5 -",null,null,null,{"$f":"SUM('5-7'!V31:V32)","v":0}]
[null,null,null,null,null,null,null,null,null,null,null,"не повинна перевищувати число у рядку 3 - ",null,null,null,{"$f":"'5-7'!V30","v":0}]
["В Таблиці 16 в графі 2 рядку 6 стоїть цифра - 1",null,null,null,null,null,null,null,null,null,null,"В Таблиці 7 у графі 6 сума чисел у рядках 4,5 -",null,null,null,{"$f":"SUM('5-7'!W31:W32)","v":0}]
["за попередній квартал ця цифра була - 32",null,null,null,null,null,null,null,null,null,null,"не повинна перевищувати число у рядку 3 - ",null,null,null,{"$f":"'5-7'!W30","v":0}]
[null,null,null,null,null,null,null,null,null,null,null,"В Таблиці 7 у графі 7 сума чисел у рядках 4,5 -",null,null,null,{"$f":"SUM('5-7'!X31:X32)","v":0}]
["В Таблиці 16 в графі 2 рядку 15 стоїть цифра - ",null,null,null,null,null,null,null,null,null,null,"не повинна перевищувати число у рядку 3 - ",null,null,null,{"$f":"'5-7'!X30","v":0}]
["за попередній квартал ця цифра була - 1",null,null,null,null,null,null,null,null,null,null,"В Таблиці 7 у графі 8 сума чисел у рядках 4,5 -",null,null,null,{"$f":"SUM('5-7'!Y31:Y32)","v":0}]
[null,null,null,null,null,null,null,null,null,null,null,"не повинна перевищувати число у рядку 3 - ",null,null,null,{"$f":"'5-7'!Y30","v":0}]
["В Таблиці 16 в графі 2 рядку 16 стоїть цифра - ",null,null,null,null,null,null,null,null,null,null,"В Таблиці 7 у графі 9 сума чисел у рядках 4,5 -",null,null,null,{"$f":"SUM('5-7'!Z31:Z32)","v":0}]
["за попередній квартал ця цифра була - 11",null,null,null,null,null,null,null,null,null,null,"не повинна перевищувати число у рядку 3 - ",null,null,null,{"$f":"'5-7'!Z30","v":0}]
[null,null,null,null,null,null,null,null,null,null,null,"В Таблиці 7 у графі 10 сума чисел у рядках 4,5 -",null,null,null,{"$f":"SUM('5-7'!AA31:AA32)","v":0}]
["В Таблиці 16 в графі 2 рядку 20 стоїть цифра - ",null,null,null,null,null,null,null,null,null,null,"не повинна перевищувати число у рядку 3 - ",null,null,null,{"$f":"'5-7'!AA30","v":0}]
["за попередній квартал ця цифра була - 2",null,null,null,null,null,null,null,null,null,null,"В Таблиці 7 у графі 11 сума чисел у рядках 4,5 -",null,null,null,{"$f":"SUM('5-7'!AB31:AB32)","v":0}]
[null,null,null,null,null,null,null,null,null,null,null,"не повинна перевищувати число у рядку 3 - ",null,null,null,{"$f":"'5-7'!AB30","v":0}]
["В Таблиці 16 в графі 3 рядку 21 стоїть цифра - 18",null,null,null,null,null,null,null,null,null,null,"В Таблиці 7 у графі 1 число у рядку 8 -",null,null,null,{"$f":"'5-7'!R35","v":0}]
["за попередній квартал ця цифра була - 20",null,null,null,null,null,null,null,null,null,null,"не повинно перевищувати число у рядку 1 - ",null,null,null,{"$f":"'5-7'!R28","v":0}]
[null,null,null,null,null,null,null,null,null,null,null,"В Таблиці 7 у графі 2 число у рядку 8 -",null,null,null,{"$f":"'5-7'!S35","v":0}]
["В Таблиці 16 в графі 4 рядку 1 стоїть цифра - ",null,null,null,null,null,null,null,null,null,null,"не повинно перевищувати число у рядку 1 - ",null,null,null,{"$f":"'5-7'!S28","v":0}]
["за попередній квартал ця цифра була - 1",null,null,null,null,null,null,null,null,null,null,"В Таблиці 7 у графі 3 число у рядку 8 -",null,null,null,{"$f":"'5-7'!T35","v":0}]
[null,null,null,null,null,null,null,null,null,null,null,"не повинно перевищувати число у рядку 1 - ",null,null,null,{"$f":"'5-7'!T28","v":0}]
["В Таблиці 17 в графі 1 рядку 2 стоїть цифра - 480",null,null,null,null,null,null,null,null,null,null,"В Таблиці 7 у графі 4 число у рядку 8 -",null,null,null,{"$f":"'5-7'!U35","v":0}]
["за попередній квартал ця цифра була - 1303",null,null,null,null,null,null,null,null,null,null,"не повинно перевищувати число у рядку 1 - ",null,null,null,{"$f":"'5-7'!U28","v":0}]
[null,null,null,null,null,null,null,null,null,null,null,"В Таблиці 7 у графі 5 число у рядку 8 -",null,null,null,{"$f":"'5-7'!V35","v":0}]
["В Таблиці 17 в графі 1 рядку 3 стоїть цифра - 127",null,null,null,null,null,null,null,null,null,null,"не повинно перевищувати число у рядку 1 - ",null,null,null,{"$f":"'5-7'!V28","v":0}]
["за попередній квартал ця цифра була - 197",null,null,null,null,null,null,null,null,null,null,"В Таблиці 7 у графі 6 число у рядку 8 -",null,null,null,{"$f":"'5-7'!W35","v":0}]
[null,null,null,null,null,null,null,null,null,null,null,"не повинно перевищувати число у рядку 1 - ",null,null,null,{"$f":"'5-7'!W28","v":0}]
["В Таблиці 17 в графі 1 рядку 4 стоїть цифра - 27",null,null,null,null,null,null,null,null,null,null,"В Таблиці 7 у графі 7 число у рядку 8 -",null,null,null,{"$f":"'5-7'!X35","v":0}]
["за попередній квартал ця цифра була - 222",null,null,null,null,null,null,null,null,null,null,"не повинно перевищувати число у рядку 1 - ",null,null,null,{"$f":"'5-7'!X28","v":0}]
[null,null,null,null,null,null,null,null,null,null,null,"В Таблиці 7 у графі 8 число у рядку 8 -",null,null,null,{"$f":"'5-7'!Y35","v":0}]
["В Таблиці 17 в графі 1 рядку 5 стоїть цифра - 1",null,null,null,null,null,null,null,null,null,null,"не повинно перевищувати число у рядку 1 - ",null,null,null,{"$f":"'5-7'!Y28","v":0}]
["за попередній квартал ця цифра була - 23",null,null,null,null,null,null,null,null,null,null,"В Таблиці 7 у графі 9 число у рядку 8 -",null,null,null,{"$f":"'5-7'!Z35","v":0}]
[null,null,null,null,null,null,null,null,null,null,null,"не повинно перевищувати число у рядку 1 - ",null,null,null,{"$f":"'5-7'!Z28","v":0}]
["В Таблиці 17 в графі 1 рядку 6 стоїть цифра - 318",null,null,null,null,null,null,null,null,null,null,"В Таблиці 7 у графі 10 число у рядку 8 -",null,null,null,{"$f":"'5-7'!AA35","v":0}]
["за попередній квартал ця цифра була - 861",null,null,null,null,null,null,null,null,null,null,"не повинно перевищувати число у рядку 1 - ",null,null,null,{"$f":"'5-7'!AA28","v":0}]
[null,null,null,null,null,null,null,null,null,null,null,"В Таблиці 7 у графі 11 число у рядку 8 -",null,null,null,{"$f":"'5-7'!AB35","v":0}]
["В Таблиці 18 в графі 1 рядку 1 стоїть цифра - 28",null,null,null,null,null,null,null,null,null,null,"не повинно перевищувати число у рядку 1 - ",null,null,null,{"$f":"'5-7'!AB28","v":0}]
["за попередній квартал ця цифра була - 50",null,null,null,null,null,null,null,null,null,null,"В Таблиці 7 у рядку 1 сума чисел у графах 4,5 -",null,null,null,{"$f":"SUM('5-7'!U28:V28)","v":0}]
[null,null,null,null,null,null,null,null,null,null,null,"не повинно перевищувати суму чисел у графах 1,3 - ",null,null,null,{"$f":"'5-7'!R28+'5-7'!T28","v":0}]
["В Таблиці 18 в графі 1 рядку 2 стоїть цифра - 23",null,null,null,null,null,null,null,null,null,null,"В Таблиці 7 у рядку 2 сума чисел у графах 4,5 -",null,null,null,{"$f":"SUM('5-7'!U29:V29)","v":0}]
["за попередній квартал ця цифра була - 40",null,null,null,null,null,null,null,null,null,null,"не повинно перевищувати суму чисел у графах 1,3 - ",null,null,null,{"$f":"'5-7'!R29+'5-7'!T29","v":0}]
[null,null,null,null,null,null,null,null,null,null,null,"В Таблиці 7 у рядку 3 сума чисел у графах 4,5 -",null,null,null,{"$f":"SUM('5-7'!U30:V30)","v":0}]
["В Таблиці 18 в графі 1 рядку 6 стоїть цифра - 5",null,null,null,null,null,null,null,null,null,null,"не повинно перевищувати суму чисел у графах 1,3 - ",null,null,null,{"$f":"'5-7'!R30+'5-7'!T30","v":0}]
["за попередній квартал ця цифра була - 10",null,null,null,null,null,null,null,null,null,null,"В Таблиці 7 у рядку 4 сума чисел у графах 4,5 -",null,null,null,{"$f":"SUM('5-7'!U31:V31)","v":0}]
[null,null,null,null,null,null,null,null,null,null,null,"не повинно перевищувати суму чисел у графах 1,3 - ",null,null,null,{"$f":"'5-7'!R31+'5-7'!T31","v":0}]
["В Таблиці 18 в графі 1 рядку 7 стоїть цифра - ",null,null,null,null,null,null,null,null,null,null,"В Таблиці 7 у рядку 5 сума чисел у графах 4,5 -",null,null,null,{"$f":"SUM('5-7'!U32:V32)","v":0}]
["за попередній квартал ця цифра була - 1",null,null,null,null,null,null,null,null,null,null,"не повинно перевищувати суму чисел у графах 1,3 - ",null,null,null,{"$f":"'5-7'!R32+'5-7'!T32","v":0}]
[null,null,null,null,null,null,null,null,null,null,null,"В Таблиці 7 у рядку 6 сума чисел у графах 4,5 -",null,null,null,{"$f":"SUM('5-7'!U33:V33)","v":0}]
["В Таблиці 18 в графі 1 рядку 8 стоїть цифра - ",null,null,null,null,null,null,null,null,null,null,"не повинно перевищувати суму чисел у графах 1,3 - ",null,null,null,{"$f":"'5-7'!R33+'5-7'!T33","v":0}]
["за попередній квартал ця цифра була - 1",null,null,null,null,null,null,null,null,null,null,"В Таблиці 7 у рядку 7 сума чисел у графах 4,5 -",null,null,null,{"$f":"SUM('5-7'!U34:V34)","v":0}]
[null,null,null,null,null,null,null,null,null,null,null,"не повинно перевищувати суму чисел у графах 1,3 - ",null,null,null,{"$f":"'5-7'!R34+'5-7'!T34","v":0}]
["В Таблиці 18 в графі 1 рядку 9 стоїть цифра - ",null,null,null,null,null,null,null,null,null,null,"В Таблиці 7 у рядку 8 сума чисел у графах 4,5 -",null,null,null,{"$f":"SUM('5-7'!U35:V35)","v":0}]
["за попередній квартал ця цифра була - 2",null,null,null,null,null,null,null,null,null,null,"не повинно перевищувати суму чисел у графах 1,3 - ",null,null,null,{"$f":"'5-7'!R35+'5-7'!T35","v":0}]
[null,null,null,null,null,null,null,null,null,null,null,"В Таблиці 7 у рядку 1 число у графі 7 -",null,null,null,{"$f":"'5-7'!X28","v":0}]
["В Таблиці 19 в графі 1 рядку 1 стоїть цифра - 14",null,null,null,null,null,null,null,null,null,null,"не повинно перевищувати число у графі 6 - ",null,null,null,{"$f":"'5-7'!W28","v":0}]
["за попередній квартал ця цифра була - 17",null,null,null,null,null,null,null,null,null,null,"В Таблиці 7 у рядку 2 число у графі 7 -",null,null,null,{"$f":"'5-7'!X29","v":0}]
[null,null,null,null,null,null,null,null,null,null,null,"не повинно перевищувати число у графі 6 - ",null,null,null,{"$f":"'5-7'!W29","v":0}]
["В Таблиці 19 в графі 1 рядку 3 стоїть цифра - ",null,null,null,null,null,null,null,null,null,null,"В Таблиці 7 у рядку 3 число у графі 7 -",null,null,null,{"$f":"'5-7'!X30","v":0}]
["за попередній квартал ця цифра була - 1",null,null,null,null,null,null,null,null,null,null,"не повинно перевищувати число у графі 6 - ",null,null,null,{"$f":"'5-7'!W30","v":0}]
[null,null,null,null,null,null,null,null,null,null,null,"В Таблиці 7 у рядку 4 число у графі 7 -",null,null,null,{"$f":"'5-7'!X31","v":0}]
["В Таблиці 19 в графі 1 рядку 6 стоїть цифра - ",null,null,null,null,null,null,null,null,null,null,"не повинно перевищувати число у графі 6 - ",null,null,null,{"$f":"'5-7'!W31","v":0}]
["за попередній квартал ця цифра була - 9",null,null,null,null,null,null,null,null,null,null,"В Таблиці 7 у рядку 5 число у графі 7 -",null,null,null,{"$f":"'5-7'!X32","v":0}]
[null,null,null,null,null,null,null,null,null,null,null,"не повинно перевищувати число у графі 6 - ",null,null,null,{"$f":"'5-7'!W32","v":0}]
["В Таблиці 19 в графі 1 рядку 7 стоїть цифра - 4",null,null,null,null,null,null,null,null,null,null,"В Таблиці 7 у рядку 6 число у графі 7 -",null,null,null,{"$f":"'5-7'!X33","v":0}]
["за попередній квартал ця цифра була - 9",null,null,null,null,null,null,null,null,null,null,"не повинно перевищувати число у графі 6 - ",null,null,null,{"$f":"'5-7'!W33","v":0}]
[null,null,null,null,null,null,null,null,null,null,null,"В Таблиці 7 у рядку 7 число у графі 7 -",null,null,null,{"$f":"'5-7'!X34","v":0}]
["В Таблиці 19 в графі 3 рядку 7 стоїть цифра - 5",null,null,null,null,null,null,null,null,null,null,"не повинно перевищувати число у графі 6 - ",null,null,null,{"$f":"'5-7'!W34","v":0}]
["за попередній квартал ця цифра була - 9",null,null,null,null,null,null,null,null,null,null,"В Таблиці 7 у рядку 8 число у графі 7 -",null,null,null,{"$f":"'5-7'!X35","v":0}]
[null,null,null,null,null,null,null,null,null,null,null,"не повинно перевищувати число у графі 6 - ",null,null,null,{"$f":"'5-7'!W35","v":0}]
["В Додатку 1 в графі 1 рядку 1 стоїть цифра - 2",null,null,null,null,null,null,null,null,null,null,"В Таблиці 7 у рядку 1 число у графі 10 -",null,null,null,{"$f":"'5-7'!AA28","v":0}]
["за попередній квартал ця цифра була - 3",null,null,null,null,null,null,null,null,null,null,"не повинно перевищувати число у графі 9 - ",null,null,null,{"$f":"'5-7'!Z28","v":0}]
[null,null,null,null,null,null,null,null,null,null,null,"В Таблиці 7 у рядку 2 число у графі 10 -",null,null,null,{"$f":"'5-7'!AA29","v":0}]
["В Додатку 1 в графі 1 рядку 4 стоїть цифра - ",null,null,null,null,null,null,null,null,null,null,"не повинно перевищувати число у графі 9 - ",null,null,null,{"$f":"'5-7'!Z29","v":0}]
["за попередній квартал ця цифра була - 2",null,null,null,null,null,null,null,null,null,null,"В Таблиці 7 у рядку 3 число у графі 10 -",null,null,null,{"$f":"'5-7'!AA30","v":0}]
[null,null,null,null,null,null,null,null,null,null,null,"не повинно перевищувати число у графі 9 - ",null,null,null,{"$f":"'5-7'!Z30","v":0}]
["В Додатку 1 в графі 2 рядку 1 стоїть цифра - 2",null,null,null,null,null,null,null,null,null,null,"В Таблиці 7 у рядку 4 число у графі 10 -",null,null,null,{"$f":"'5-7'!AA31","v":0}]
["за попередній квартал ця цифра була - 5",null,null,null,null,null,null,null,null,null,null,"не повинно перевищувати число у графі 9 - ",null,null,null,{"$f":"'5-7'!Z31","v":0}]
[null,null,null,null,null,null,null,null,null,null,null,"В Таблиці 7 у рядку 5 число у графі 10 -",null,null,null,{"$f":"'5-7'!AA32","v":0}]
["В Додатку 1 в графі 2 рядку 4 стоїть цифра - ",null,null,null,null,null,null,null,null,null,null,"не повинно перевищувати число у графі 9 - ",null,null,null,{"$f":"'5-7'!Z32","v":0}]
["за попередній квартал ця цифра була - 4",null,null,null,null,null,null,null,null,null,null,"В Таблиці 7 у рядку 6 число у графі 10 -",null,null,null,{"$f":"'5-7'!AA33","v":0}]
[null,null,null,null,null,null,null,null,null,null,null,"не повинно перевищувати число у графі 9 - ",null,null,null,{"$f":"'5-7'!Z33","v":0}]
["В Додатку 1 в графі 5 рядку 1 стоїть цифра - 3",null,null,null,null,null,null,null,null,null,null,"В Таблиці 7 у рядку 7 число у графі 10 -",null,null,null,{"$f":"'5-7'!AA34","v":0}]
["за попередній квартал ця цифра була - 4",null,null,null,null,null,null,null,null,null,null,"не повинно перевищувати число у графі 9 - ",null,null,null,{"$f":"'5-7'!Z34","v":0}]
[null,null,null,null,null,null,null,null,null,null,null,"В Таблиці 7 у рядку 8 число у графі 10 -",null,null,null,{"$f":"'5-7'!AA35","v":0}]
["В Додатку 1 в графі 5 рядку 4 стоїть цифра - ",null,null,null,null,null,null,null,null,null,null,"не повинно перевищувати число у графі 9 - ",null,null,null,{"$f":"'5-7'!Z35","v":0}]
["за попередній квартал ця цифра була - 3",null,null,null,null,null,null,null,null,null,"Таблиця 8","В Таблиці 8 у графі 1 сума чисел у рядках 2,7,10-16 -",null,null,null,{"$f":"'8'!F5+'8'!F10+'8'!F13+'8'!F14+'8'!F15+'8'!F16+'8'!F17+'8'!F18+'8'!F19","v":3283}]
[null,null,null,null,null,null,null,null,null,null,null,"не повинна перевищувати число у рядку 1 - ",null,null,null,{"$f":"'8'!F4","v":3329}]
["В Додатку 1 в графі 6 рядку 1 стоїть цифра - ",null,null,null,null,null,null,null,null,null,null,"В Таблиці 8 у графі 2 сума чисел у рядках 2,7,10-16 -",null,null,null,{"$f":"'8'!G5+'8'!G10+'8'!G13+'8'!G14+'8'!G15+'8'!G16+'8'!G17+'8'!G18+'8'!G19","v":86}]
["за попередній квартал ця цифра була - 1",null,null,null,null,null,null,null,null,null,null,"не повинна перевищувати число у рядку 1 - ",null,null,null,{"$f":"'8'!G4","v":87}]
[null,null,null,null,null,null,null,null,null,null,null,"В Таблиці 8 у графі 1 сума чисел у рядках 3-5 -",null,null,null,{"$f":"SUM('8'!F6:F8)","v":236}]
["В Додатку 1 в графі 6 рядку 2 стоїть цифра - ",null,null,null,null,null,null,null,null,null,null,"не повинна перевищувати число у рядку 2 - ",null,null,null,{"$f":"'8'!F5","v":429}]
["за попередній квартал ця цифра була - 1",null,null,null,null,null,null,null,null,null,null,"В Таблиці 8 у графі 2 сума чисел у рядках 3-5 -",null,null,null,{"$f":"SUM('8'!G6:G8)","v":4}]
[null,null,null,null,null,null,null,null,null,null,null,"не повинна перевищувати число у рядку 2 - ",null,null,null,{"$f":"'8'!G5","v":12}]
["В Додатку 1 в графі 8 рядку 1 стоїть цифра - ",null,null,null,null,null,null,null,null,null,null,"В Таблиці 8 у графі 1 число у рядку 6 -",null,null,null,{"$f":"'8'!F9","v":82}]
["за попередній квартал ця цифра була - 1",null,null,null,null,null,null,null,null,null,null,"не повинно перевищувати число у рядку 5 - ",null,null,null,{"$f":"'8'!F8","v":191}]
[null,null,null,null,null,null,null,null,null,null,null,"В Таблиці 8 у графі 2 число у рядку 6 -",null,null,null,{"$f":"'8'!G9","v":1}]
["В Додатку 1 в графі 8 рядку 2 стоїть цифра - ",null,null,null,null,null,null,null,null,null,null,"не повинно перевищувати число у рядку 5 - ",null,null,null,{"$f":"'8'!G8","v":3}]
["за попередній квартал ця цифра була - 1",null,null,null,null,null,null,null,null,null,null,"В Таблиці 8 у графі 1 число у рядку 8 -",null,null,null,{"$f":"'8'!F11","v":15}]
[null,null,null,null,null,null,null,null,null,null,null,"не повинно перевищувати число у рядку 7 - ",null,null,null,{"$f":"'8'!F10","v":1786}]
["В Додатку 1 в графі 9 рядку 1 стоїть цифра - ",null,null,null,null,null,null,null,null,null,null,"В Таблиці 8 у графі 2 число у рядку 8 -",null,null,null,{"$f":"'8'!G11","v":1}]
["за попередній квартал ця цифра була - 2",null,null,null,null,null,null,null,null,null,null,"не повинно перевищувати число у рядку 7 - ",null,null,null,{"$f":"'8'!G10","v":72}]
[null,null,null,null,null,null,null,null,null,null,null,"В Таблиці 8 у графі 1 число у рядку 9 -",null,null,null,{"$f":"'8'!F12","v":7}]
["В Додатку 1 в графі 9 рядку 2 стоїть цифра - ",null,null,null,null,null,null,null,null,null,null,"не повинно перевищувати число у рядку 8 - ",null,null,null,{"$f":"'8'!F11","v":15}]
["за попередній квартал ця цифра була - 1",null,null,null,null,null,null,null,null,null,null,"В Таблиці 8 у графі 2 число у рядку 9 -",null,null,null,{"$f":"'8'!G12","v":0}]
[null,null,null,null,null,null,null,null,null,null,null,"не повинно перевищувати число у рядку 8 - ",null,null,null,{"$f":"'8'!G11","v":1}]
["В Додатку 1 в графі 9 рядку 4 стоїть цифра - ",null,null,null,null,null,null,null,null,null,null,"В Таблиці 8 у графі 1 число у рядку 17 -",null,null,null,{"$f":"'8'!F20","v":1209}]
["за попередній квартал ця цифра була - 1",null,null,null,null,null,null,null,null,null,null,"не повинно перевищувати число у рядку 7 - ",null,null,null,{"$f":"'8'!F10","v":1786}]
[null,null,null,null,null,null,null,null,null,null,null,"В Таблиці 8 у графі 2 число у рядку 17 -",null,null,null,{"$f":"'8'!G20","v":0}]
["В Додатку 2 в графі 1 рядку 8 стоїть цифра - ",null,null,null,null,null,null,null,null,null,null,"не повинно перевищувати число у рядку 7 - ",null,null,null,{"$f":"'8'!G10","v":72}]
["за попередній квартал ця цифра була - 3",null,null,null,null,null,null,null,null,null,null,"В Таблиці 8 у графі 1 число у рядку 18 -",null,null,null,{"$f":"'8'!F21","v":0}]
[null,null,null,null,null,null,null,null,null,null,null,"не повинно перевищувати число у рядку 7 - ",null,null,null,{"$f":"'8'!F10","v":1786}]
["В Додатку 2 в графі 1 рядку 9 стоїть цифра - ",null,null,null,null,null,null,null,null,null,null,"В Таблиці 8 у графі 2 число у рядку 18 -",null,null,null,{"$f":"'8'!G21","v":0}]
["за попередній квартал ця цифра була - 1",null,null,null,null,null,null,null,null,null,null,"не повинно перевищувати число у рядку 7 - ",null,null,null,{"$f":"'8'!G10","v":72}]
[null,null,null,null,null,null,null,null,null,null,null,"В Таблиці 8 у графі 1 число у рядку 19 -",null,null,null,{"$f":"'8'!F22","v":1}]
["В Додатку 2 в графі 1 рядку 10 стоїть цифра - ",null,null,null,null,null,null,null,null,null,null,"не повинно перевищувати число у рядку 7 - ",null,null,null,{"$f":"'8'!F10","v":1786}]
["за попередній квартал ця цифра була - 1",null,null,null,null,null,null,null,null,null,null,"В Таблиці 8 у графі 2 число у рядку 19 -",null,null,null,{"$f":"'8'!G22","v":0}]
[null,null,null,null,null,null,null,null,null,null,null,"не повинно перевищувати число у рядку 7 - ",null,null,null,{"$f":"'8'!G10","v":72}]
["В Додатку 3 в графі 1 рядку 1 стоїть цифра - ",null,null,null,null,null,null,null,null,null,null,"В Таблиці 8 у графі 1 число у рядку 20 -",null,null,null,{"$f":"'8'!F23","v":20}]
["за попередній квартал ця цифра була - 1",null,null,null,null,null,null,null,null,null,null,"не повинно перевищувати число у рядку 7 - ",null,null,null,{"$f":"'8'!F10","v":1786}]
[null,null,null,null,null,null,null,null,null,null,null,"В Таблиці 8 у графі 2 число у рядку 20 -",null,null,null,{"$f":"'8'!G23","v":2}]
["В Додатку 3 в графі 1 рядку 2 стоїть цифра - ",null,null,null,null,null,null,null,null,null,null,"не повинно перевищувати число у рядку 7 - ",null,null,null,{"$f":"'8'!G10","v":72}]
["за попередній квартал ця цифра була - 1",null,null,null,null,null,null,null,null,null,null,"В Таблиці 8 у графі 1 число у рядку 21 -",null,null,null,{"$f":"'8'!F24","v":0}]
[null,null,null,null,null,null,null,null,null,null,null,"не повинно перевищувати число у рядку 7 - ",null,null,null,{"$f":"'8'!F10","v":1786}]
["В Додатку 3 в графі 1 рядку 3 стоїть цифра - ",null,null,null,null,null,null,null,null,null,null,"В Таблиці 8 у графі 2 число у рядку 21 -",null,null,null,{"$f":"'8'!G24","v":0}]
["за попередній квартал ця цифра була - 1",null,null,null,null,null,null,null,null,null,null,"не повинно перевищувати число у рядку 7 - ",null,null,null,{"$f":"'8'!G10","v":72}]
[null,null,null,null,null,null,null,null,null,null,null,"В Таблиці 8 у графі 1 число у рядку 22 -",null,null,null,{"$f":"'8'!F25","v":0}]
["В Додатку 3 в графі 2 рядку 1 стоїть цифра - 1",null,null,null,null,null,null,null,null,null,null,"не повинно перевищувати число у рядку 7 - ",null,null,null,{"$f":"'8'!F10","v":1786}]
["за попередній квартал ця цифра була - 2",null,null,null,null,null,null,null,null,null,null,"В Таблиці 8 у графі 2 число у рядку 22 -",null,null,null,{"$f":"'8'!G25","v":0}]
[null,null,null,null,null,null,null,null,null,null,null,"не повинно перевищувати число у рядку 7 - ",null,null,null,{"$f":"'8'!G10","v":72}]
["В Додатку 3 в графі 2 рядку 12 стоїть цифра - ",null,null,null,null,null,null,null,null,null,null,"В Таблиці 8 у графі 1 число у рядку 24 -",null,null,null,{"$f":"'8'!F27","v":0}]
["за попередній квартал ця цифра була - 1",null,null,null,null,null,null,null,null,null,null,"не повинно перевищувати число у рядку 23 - ",null,null,null,{"$f":"'8'!F26","v":14}]
[null,null,null,null,null,null,null,null,null,null,null,"В Таблиці 8 у графі 2 число у рядку 24 -",null,null,null,{"$f":"'8'!G27","v":0}]
["В Додатку 4 в графі 1 рядку 2 стоїть цифра - ",null,null,null,null,null,null,null,null,null,null,"не повинно перевищувати число у рядку 23 - ",null,null,null,{"$f":"'8'!G26","v":2}]
["за попередній квартал ця цифра була - 1",null,null,null,null,null,null,null,null,null,null,"В Таблиці 8 у графі 1 число у рядку 27 -",null,null,null,{"$f":"'8'!F30","v":0}]
[null,null,null,null,null,null,null,null,null,null,null,"не повинно перевищувати число у рядку 26 - ",null,null,null,{"$f":"'8'!F29","v":4}]
["В Додатку 4 в графі 1 рядку 7 стоїть цифра - ",null,null,null,null,null,null,null,null,null,null,"В Таблиці 8 у графі 2 число у рядку 27 -",null,null,null,{"$f":"'8'!G30","v":0}]
["за попередній квартал ця цифра була - 1",null,null,null,null,null,null,null,null,null,null,"не повинно перевищувати число у рядку 26 - ",null,null,null,{"$f":"'8'!G29","v":0}]
[null,null,null,null,null,null,null,null,null,null,null,"В Таблиці 8 у графі 1 число у рядку 29 -",null,null,null,{"$f":"'8'!F32","v":36}]
["В Таблиці 12 у графі 3 сума чисел у рядках 2-12 -",null,null,null,86,null,null,null,null,null,null,"не повинно перевищувати число у рядку 28 - ",null,null,null,{"$f":"'8'!F31","v":470}]
["не повинна перевищувати число у рядку 1 -",null,null,null,84,null,null,null,null,null,null,"В Таблиці 8 у графі 2 число у рядку 29 -",null,null,null,{"$f":"'8'!G32","v":0}]
[null,null,null,null,null,null,null,null,null,null,null,"не повинно перевищувати число у рядку 28 - ",null,null,null,{"$f":"'8'!G31","v":29}]
["В Таблиці 16 у графі 4 сума чисел у рядках 2,10,14-16,19-21 -",null,null,null,1,null,null,null,null,null,null,"В Таблиці 8 у графі 1 сума чисел у рядках 30,31 -",null,null,null,{"$f":"SUM('8'!F33:F34)","v":4}]
["не повинна перевищувати число у рядку 1 -",null,null,null,0,null,null,null,null,null,null,"не повинна перевищувати число у рядку 28 - ",null,null,null,{"$f":"'8'!F31","v":470}]
[null,null,null,null,null,null,null,null,null,null,null,"В Таблиці 8 у графі 2 сума чисел у рядках 30,31 -",null,null,null,{"$f":"SUM('8'!G33:G34)","v":1}]
["В Таблиці 19 у графі 3 сума чисел у рядках 1-4,6,7 -",null,null,null,6,null,null,null,null,null,null,"не повинна перевищувати число у рядку 28 - ",null,null,null,{"$f":"'8'!G31","v":29}]
["не повинна перевищувати число у рядку 6 Таблиці 18 -",null,null,null,5,null,null,null,null,null,null,"В Таблиці 8 у графі 1 число у рядку 33 -",null,null,null,{"$f":"'8'!F36","v":0}]
[null,null,null,null,null,null,null,null,null,null,null,"не повинно перевищувати число у рядку 32 - ",null,null,null,{"$f":"'8'!F35","v":0}]
["В Таблиці 10 в графі 2 рядку 4 стоїть цифра - 2",null,"В звіті допущено 398 помилок.",null,null,null,null,null,null,null,null,"В Таблиці 8 у графі 2 число у рядку 33 -",null,null,null,{"$f":"'8'!G36","v":0}]
["за попередній квартал ця цифра була - 11",null,null,null,null,null,null,null,null,null,null,"не повинно перевищувати число у рядку 32 - ",null,null,null,{"$f":"'8'!G35","v":0}]
[null,null,null,null,null,null,null,null,null,null,null,"В Таблиці 8 у графі 1 сума чисел у рядках 35,36 -",null,null,null,{"$f":"SUM('8'!F38:F39)","v":0}]
["В Таблиці 10 в графі 2 рядку 6 стоїть цифра - ",null,null,null,null,null,null,null,null,null,null,"не повинна перевищувати число у рядку 34 - ",null,null,null,{"$f":"'8'!F37","v":0}]
["за попередній квартал ця цифра була - 1",null,null,null,null,null,null,null,null,null,null,"В Таблиці 8 у графі 2 сума чисел у рядках 35,36 -",null,null,null,{"$f":"SUM('8'!G38:G39)","v":0}]
[null,null,null,null,null,null,null,null,null,null,null,"не повинна перевищувати число у рядку 34 - ",null,null,null,{"$f":"'8'!G37","v":0}]
["В Таблиці 10 в графі 2 рядку 7 стоїть цифра - ",null,null,null,null,null,null,null,null,null,null,"В Таблиці 8 у графі 1 число у рядку 39 -",null,null,null,{"$f":"'8'!F42","v":0}]
["за попередній квартал ця цифра була - 18",null,null,null,null,null,null,null,null,null,null,"не повинно перевищувати число у рядку 38 - ",null,null,null,{"$f":"'8'!F41","v":0}]
[null,null,null,null,null,null,null,null,null,null,null,"В Таблиці 8 у графі 2 число у рядку 39 -",null,null,null,{"$f":"'8'!G42","v":0}]
["В Таблиці 10 в графі 2 рядку 8 стоїть цифра - ",null,null,null,null,null,null,null,null,null,null,"не повинно перевищувати число у рядку 38 - ",null,null,null,{"$f":"'8'!G41","v":0}]
["за попередній квартал ця цифра була - 17",null,null,null,null,null,null,null,null,null,null,"В Таблиці 8 у графі 1 число у рядку 40 -",null,null,null,{"$f":"'8'!F43","v":0}]
[null,null,null,null,null,null,null,null,null,null,null,"не повинно перевищувати число у рядку 39 - ",null,null,null,{"$f":"'8'!F42","v":0}]
["В Таблиці 10 в графі 2 рядку 9 стоїть цифра - ",null,null,null,null,null,null,null,null,null,null,"В Таблиці 8 у графі 2 число у рядку 40 -",null,null,null,{"$f":"'8'!G43","v":0}]
["за попередній квартал ця цифра була - 3",null,null,null,null,null,null,null,null,null,null,"не повинно перевищувати число у рядку 39 - ",null,null,null,{"$f":"'8'!G42","v":0}]
[null,null,null,null,null,null,null,null,null,null,null,"В Таблиці 8 у графі 1 число у рядку 42 -",null,null,null,{"$f":"'8'!F45","v":0}]
["В Таблиці 10 в графі 2 рядку 10 стоїть цифра - ",null,null,null,null,null,null,null,null,null,null,"не повинно перевищувати число у рядку 41 - ",null,null,null,{"$f":"'8'!F44","v":0}]
["за попередній квартал ця цифра була - 2",null,null,null,null,null,null,null,null,null,null,"В Таблиці 8 у графі 2 число у рядку 42 -",null,null,null,{"$f":"'8'!G45","v":0}]
[null,null,null,null,null,null,null,null,null,null,null,"не повинно перевищувати число у рядку 41 - ",null,null,null,{"$f":"'8'!G44","v":0}]
["В Таблиці 10 в графі 2 рядку 11 стоїть цифра - ",null,null,null,null,null,null,null,null,null,null,"В Таблиці 8 у графі 1 число у рядку 43 -",null,null,null,{"$f":"'8'!F46","v":0}]
["за попередній квартал ця цифра була - 1",null,null,null,null,null,null,null,null,null,null,"не повинно перевищувати число у рядку 42 - ",null,null,null,{"$f":"'8'!F45","v":0}]
[null,null,null,null,null,null,null,null,null,null,null,"В Таблиці 8 у графі 2 число у рядку 43 -",null,null,null,{"$f":"'8'!G46","v":0}]
["В Таблиці 10 в графі 2 рядку 12 стоїть цифра - ",null,null,null,null,null,null,null,null,null,null,"не повинно перевищувати число у рядку 42 - ",null,null,null,{"$f":"'8'!G45","v":0}]
["за попередній квартал ця цифра була - 1",null,null,null,null,null,null,null,null,null,null,"В Таблиці 8 у графі 1 число у рядку 45 -",null,null,null,{"$f":"'8'!F48","v":0}]
[null,null,null,null,null,null,null,null,null,null,null,"не повинно перевищувати число у рядку 44 - ",null,null,null,{"$f":"'8'!F47","v":0}]
["В Таблиці 11 в графі 1 рядку 1 стоїть цифра - ",null,null,null,null,null,null,null,null,null,null,"В Таблиці 8 у графі 2 число у рядку 45 -",null,null,null,{"$f":"'8'!G48","v":0}]
["за попередній квартал ця цифра була - 1",null,null,null,null,null,null,null,null,null,null,"не повинно перевищувати число у рядку 44 - ",null,null,null,{"$f":"'8'!G47","v":0}]
[null,null,null,null,null,null,null,null,null,null,null,"В Таблиці 8 у графі 1 число у рядку 46 -",null,null,null,{"$f":"'8'!F49","v":0}]
["В Таблиці 11 в графі 1 рядку 3 стоїть цифра - ",null,null,null,null,null,null,null,null,null,null,"не повинно перевищувати число у рядку 45 - ",null,null,null,{"$f":"'8'!F48","v":0}]
["за попередній квартал ця цифра була - 3",null,null,null,null,null,null,null,null,null,null,"В Таблиці 8 у графі 2 число у рядку 46 -",null,null,null,{"$f":"'8'!G49","v":0}]
[null,null,null,null,null,null,null,null,null,null,null,"не повинно перевищувати число у рядку 45 - ",null,null,null,{"$f":"'8'!G48","v":0}]
["В Таблиці 11 в графі 1 рядку 5 стоїть цифра - ",null,null,null,null,null,null,null,null,null,"Таблиця 9","В Таблиці 9 у графі 1 сума чисел у рядках 3,4,7 -",null,null,null,{"$f":"'9'!G7+'9'!G8+'9'!G11","v":73}]
["за попередній квартал ця цифра була - 1",null,null,null,null,null,null,null,null,null,null,"не повинна перевищувати число у рядку 2 - ",null,null,null,{"$f":"'9'!G6","v":78}]
[null,null,null,null,null,null,null,null,null,null,null,"В Таблиці 9 у графі 2 сума чисел у рядках 3,4,7 -",null,null,null,{"$f":"'9'!H7+'9'!H8+'9'!H11","v":25}]
["В Таблиці 11 в графі 1 рядку 6 стоїть цифра - ",null,null,null,null,null,null,null,null,null,null,"не повинна перевищувати число у рядку 2 - ",null,null,null,{"$f":"'9'!H6","v":26}]
["за попередній квартал ця цифра була - 2",null,null,null,null,null,null,null,null,null,null,"В Таблиці 9 у графі 3 сума чисел у рядках 3,7 -",null,null,null,{"$f":"'9'!I7+'9'!I11","v":0}]
[null,null,null,null,null,null,null,null,null,null,null,"не повинна перевищувати число у рядку 2 - ",null,null,null,{"$f":"'9'!I6","v":0}]
["В Таблиці 11 в графі 1 рядку 9 стоїть цифра - ",null,null,null,null,null,null,null,null,null,null,"В Таблиці 9 у графі 4 сума чисел у рядках 3,7 -",null,null,null,{"$f":"'9'!J7+'9'!J11","v":0}]
["за попередній квартал ця цифра була - 3",null,null,null,null,null,null,null,null,null,null,"не повинна перевищувати число у рядку 2 - ",null,null,null,{"$f":"'9'!J6","v":0}]
[null,null,null,null,null,null,null,null,null,null,null,"В Таблиці 9 у графі 1 число у рядку 5 -",null,null,null,{"$f":"'9'!G9","v":8}]
["В Таблиці 11 в графі 1 рядку 10 стоїть цифра - ",null,null,null,null,null,null,null,null,null,null,"не повинно перевищувати суму чисел у рядках 3,4 -",null,null,null,{"$f":"'9'!G7+'9'!G8","v":71}]
["за попередній квартал ця цифра була - 4",null,null,null,null,null,null,null,null,null,null,"В Таблиці 9 у графі 2 число у рядку 5 -",null,null,null,{"$f":"'9'!H9","v":8}]
[null,null,null,null,null,null,null,null,null,null,null,"не повинно перевищувати суму чисел у рядках 3,4 -",null,null,null,{"$f":"'9'!H7+'9'!H8","v":25}]
["В Таблиці 11 в графі 2 рядку 1 стоїть цифра - ",null,null,null,null,null,null,null,null,null,null,"В Таблиці 9 у графі 2 число у рядку 5 -",null,null,null,{"$f":"'9'!I9","v":0}]
["за попередній квартал ця цифра була - 1",null,null,null,null,null,null,null,null,null,null,"не повинно перевищувати число у рядку 3 - ",null,null,null,{"$f":"'9'!I7","v":0}]
[null,null,null,null,null,null,null,null,null,null,null,"В Таблиці 9 у графі 2 число у рядку 5 -",null,null,null,{"$f":"'9'!J9","v":0}]
["В Таблиці 11 в графі 2 рядку 3 стоїть цифра - ",null,null,null,null,null,null,null,null,null,null,"не повинно перевищувати число у рядку 3 - ",null,null,null,{"$f":"'9'!J7","v":0}]
["за попередній квартал ця цифра була - 2",null,null,null,null,null,null,null,null,null,null,"В Таблиці 9 у графі 1 число у рядку 6 -",null,null,null,{"$f":"'9'!G10","v":14}]
[null,null,null,null,null,null,null,null,null,null,null,"не повинно перевищувати суму чисел у рядках 3,4 -",null,null,null,{"$f":"'9'!G7+'9'!G8","v":71}]
["В Таблиці 11 в графі 2 рядку 5 стоїть цифра - ",null,null,null,null,null,null,null,null,null,null,"В Таблиці 9 у графі 2 число у рядку 6 -",null,null,null,{"$f":"'9'!H10","v":11}]
["за попередній квартал ця цифра була - 1",null,null,null,null,null,null,null,null,null,null,"не повинно перевищувати суму чисел у рядках 3,4 -",null,null,null,{"$f":"'9'!H7+'9'!H8","v":25}]
[null,null,null,null,null,null,null,null,null,null,null,"В Таблиці 9 у графі 2 число у рядку 6 -",null,null,null,{"$f":"'9'!I10","v":0}]
["В Таблиці 11 в графі 2 рядку 6 стоїть цифра - ",null,null,null,null,null,null,null,null,null,null,"не повинно перевищувати число у рядку 3 - ",null,null,null,{"$f":"'9'!I7","v":0}]
["за попередній квартал ця цифра була - 1",null,null,null,null,null,null,null,null,null,null,"В Таблиці 9 у графі 2 число у рядку 6 -",null,null,null,{"$f":"'9'!J10","v":0}]
[null,null,null,null,null,null,null,null,null,null,null,"не повинно перевищувати число у рядку 3 - ",null,null,null,{"$f":"'9'!J7","v":0}]
["В Таблиці 11 в графі 2 рядку 9 стоїть цифра - ",null,null,null,null,null,null,null,null,null,null,"В Таблиці 9 у графі 1 число у рядку 9 -",null,null,null,{"$f":"'9'!G13","v":2}]
["за попередній квартал ця цифра була - 2",null,null,null,null,null,null,null,null,null,null,"не повинно перевищувати число у рядку 2 - ",null,null,null,{"$f":"'9'!G6","v":78}]
[null,null,null,null,null,null,null,null,null,null,null,"В Таблиці 9 у графі 2 число у рядку 9 -",null,null,null,{"$f":"'9'!H13","v":1}]
["В Таблиці 11 в графі 2 рядку 10 стоїть цифра - ",null,null,null,null,null,null,null,null,null,null,"не повинно перевищувати число у рядку 2 - ",null,null,null,{"$f":"'9'!H6","v":26}]
["за попередній квартал ця цифра була - 4",null,null,null,null,null,null,null,null,null,null,"В Таблиці 9 у графі 3 число у рядку 9 -",null,null,null,{"$f":"'9'!I13","v":0}]
[null,null,null,null,null,null,null,null,null,null,null,"не повинно перевищувати число у рядку 2 - ",null,null,null,{"$f":"'9'!I6","v":0}]
["В Таблиці 11 в графі 3 рядку 3 стоїть цифра - ",null,null,null,null,null,null,null,null,null,null,"В Таблиці 9 у графі 4 число у рядку 9 -",null,null,null,{"$f":"'9'!J13","v":0}]
["за попередній квартал ця цифра була - 1",null,null,null,null,null,null,null,null,null,null,"не повинно перевищувати число у рядку 2 - ",null,null,null,{"$f":"'9'!J6","v":0}]
[null,null,null,null,null,null,null,null,null,null,null,"В Таблиці 9 у графі 1 число у рядку 10 -",null,null,null,{"$f":"'9'!G14","v":0}]
["В Таблиці 11 в графі 3 рядку 6 стоїть цифра - ",null,null,null,null,null,null,null,null,null,null,"не повинно перевищувати число у рядку 2 - ",null,null,null,{"$f":"'9'!G6","v":78}]
["за попередній квартал ця цифра була - 1",null,null,null,null,null,null,null,null,null,null,"В Таблиці 9 у графі 2 число у рядку 10 -",null,null,null,{"$f":"'9'!H14","v":2}]
[null,null,null,null,null,null,null,null,null,null,null,"не повинно перевищувати число у рядку 2 - ",null,null,null,{"$f":"'9'!H6","v":26}]
["В Таблиці 11 в графі 3 рядку 9 стоїть цифра - ",null,null,null,null,null,null,null,null,null,null,"В Таблиці 9 у графі 3 число у рядку 10 -",null,null,null,{"$f":"'9'!I14","v":0}]
["за попередній квартал ця цифра була - 1",null,null,null,null,null,null,null,null,null,null,"не повинно перевищувати число у рядку 2 - ",null,null,null,{"$f":"'9'!I6","v":0}]
[null,null,null,null,null,null,null,null,null,null,null,"В Таблиці 9 у графі 4 число у рядку 10 -",null,null,null,{"$f":"'9'!J14","v":0}]
["В Таблиці 12 в графі 2 рядку 1 стоїть цифра - 90",null,null,null,null,null,null,null,null,null,null,"не повинно перевищувати число у рядку 2 - ",null,null,null,{"$f":"'9'!J6","v":0}]
["за попередній квартал ця цифра була - 104",null,null,null,null,null,null,null,null,null,null,"В Таблиці 9 у графі 1 число у рядку 8 -",null,null,null,{"$f":"'9'!G12","v":0}]
[null,null,null,null,null,null,null,null,null,null,null,"не повинно перевищувати число у рядку 7 - ",null,null,null,{"$f":"'9'!G11","v":2}]
["В Таблиці 12 в графі 2 рядку 2 стоїть цифра - ",null,null,null,null,null,null,null,null,null,null,"В Таблиці 9 у графі 2 число у рядку 8 -",null,null,null,{"$f":"'9'!H12","v":0}]
["за попередній квартал ця цифра була - 6",null,null,null,null,null,null,null,null,null,null,"не повинно перевищувати число у рядку 7 - ",null,null,null,{"$f":"'9'!H11","v":0}]
[null,null,null,null,null,null,null,null,null,null,null,"В Таблиці 9 у графі 3 число у рядку 8 -",null,null,null,{"$f":"'9'!I12","v":0}]
["В Таблиці 12 в графі 2 рядку 5 стоїть цифра - 20",null,null,null,null,null,null,null,null,null,null,"не повинно перевищувати число у рядку 7 - ",null,null,null,{"$f":"'9'!I11","v":0}]
["за попередній квартал ця цифра була - 27",null,null,null,null,null,null,null,null,null,null,"В Таблиці 9 у графі 4 число у рядку 8 -",null,null,null,{"$f":"'9'!J12","v":0}]
[null,null,null,null,null,null,null,null,null,null,null,"не повинно перевищувати число у рядку 7 - ",null,null,null,{"$f":"'9'!J11","v":0}]
["В Таблиці 12 в графі 2 рядку 6 стоїть цифра - ",null,null,null,null,null,null,null,null,null,null,"В Таблиці 9 у графі 1 число у рядку 13 -",null,null,null,{"$f":"'9'!G17","v":0}]
["за попередній квартал ця цифра була - 7",null,null,null,null,null,null,null,null,null,null,"не повинно перевищувати число у рядку 12 - ",null,null,null,{"$f":"'9'!G16","v":1}]
[null,null,null,null,null,null,null,null,null,null,null,"В Таблиці 9 у графі 2 число у рядку 13 -",null,null,null,{"$f":"'9'!H17","v":0}]
["В Таблиці 12 в графі 2 рядку 8 стоїть цифра - 32",null,null,null,null,null,null,null,null,null,null,"не повинно перевищувати число у рядку 12 - ",null,null,null,{"$f":"'9'!H16","v":0}]
["за попередній квартал ця цифра була - 33",null,null,null,null,null,null,null,null,null,null,"В Таблиці 9 у графі 1 число у рядку 15 -",null,null,null,{"$f":"'9'!G19","v":0}]
[null,null,null,null,null,null,null,null,null,null,null,"не повинно перевищувати число у рядку 14 - ",null,null,null,{"$f":"'9'!G18","v":0}]
["В Таблиці 12 в графі 2 рядку 10 стоїть цифра - ",null,null,null,null,null,null,null,null,null,null,"В Таблиці 9 у графі 2 число у рядку 15 -",null,null,null,{"$f":"'9'!H19","v":0}]
["за попередній квартал ця цифра була - 1",null,null,null,null,null,null,null,null,null,null,"не повинно перевищувати число у рядку 14 - ",null,null,null,{"$f":"'9'!H18","v":0}]
[null,null,null,null,null,null,null,null,null,null,null,"В Таблиці 9 у графі 1 число у рядку 17 -",null,null,null,{"$f":"'9'!G21","v":0}]
["В Таблиці 12 в графі 2 рядку 13 стоїть цифра - 11",null,null,null,null,null,null,null,null,null,null,"не повинна перевищувати число у рядку 16 - ",null,null,null,{"$f":"'9'!G20","v":43}]
["за попередній квартал ця цифра була - 24",null,null,null,null,null,null,null,null,null,null,"В Таблиці 9 у графі 2 число у рядку 17 -",null,null,null,{"$f":"'9'!H21","v":0}]
[null,null,null,null,null,null,null,null,null,null,null,"не повинна перевищувати число у рядку 16 - ",null,null,null,{"$f":"'9'!H20","v":4}]
["В Таблиці 12 в графі 3 рядку 1 стоїть цифра - 59",null,null,null,null,null,null,null,null,null,null,"В Таблиці 9 у графі 3 число у рядку 17 -",null,null,null,{"$f":"'9'!I21","v":0}]
["за попередній квартал ця цифра була - 95",null,null,null,null,null,null,null,null,null,null,"не повинна перевищувати число у рядку 16 - ",null,null,null,{"$f":"'9'!I20","v":0}]
[null,null,null,null,null,null,null,null,null,null,null,"В Таблиці 9 у графі 4 число у рядку 17 -",null,null,null,{"$f":"'9'!J21","v":0}]
["В Таблиці 12 в графі 3 рядку 2 стоїть цифра - ",null,null,null,null,null,null,null,null,null,null,"не повинна перевищувати число у рядку 16 - ",null,null,null,{"$f":"'9'!J20","v":0}]
["за попередній квартал ця цифра була - 5",null,null,null,null,null,null,null,null,null,null,"В Таблиці 9 у графі 1 число у рядку 18 -",null,null,null,{"$f":"'9'!G22","v":8}]
[null,null,null,null,null,null,null,null,null,null,null,"не повинна перевищувати число у рядку 16 - ",null,null,null,{"$f":"'9'!G20","v":43}]
["В Таблиці 12 в графі 3 рядку 5 стоїть цифра - 7",null,null,null,null,null,null,null,null,null,null,"В Таблиці 9 у графі 2 число у рядку 18 -",null,null,null,{"$f":"'9'!H22","v":0}]
["за попередній квартал ця цифра була - 23",null,null,null,null,null,null,null,null,null,null,"не повинна перевищувати число у рядку 16 - ",null,null,null,{"$f":"'9'!H20","v":4}]
[null,null,null,null,null,null,null,null,null,null,null,"В Таблиці 9 у графі 3 число у рядку 18 -",null,null,null,{"$f":"'9'!I22","v":0}]
["В Таблиці 12 в графі 3 рядку 6 стоїть цифра - ",null,null,null,null,null,null,null,null,null,null,"не повинна перевищувати число у рядку 16 - ",null,null,null,{"$f":"'9'!I20","v":0}]
["за попередній квартал ця цифра була - 7",null,null,null,null,null,null,null,null,null,null,"В Таблиці 9 у графі 4 число у рядку 18 -",null,null,null,{"$f":"'9'!J22","v":0}]
[null,null,null,null,null,null,null,null,null,null,null,"не повинна перевищувати число у рядку 16 - ",null,null,null,{"$f":"'9'!J20","v":0}]
["В Таблиці 12 в графі 3 рядку 8 стоїть цифра - 39",null,null,null,null,null,null,null,null,null,null,"В Таблиці 9 у графі 1 число у рядку 19 -",null,null,null,{"$f":"'9'!G23","v":0}]
["за попередній квартал ця цифра була - 47",null,null,null,null,null,null,null,null,null,null,"не повинна перевищувати число у рядку 16 - ",null,null,null,{"$f":"'9'!G20","v":43}]
[null,null,null,null,null,null,null,null,null,null,null,"В Таблиці 9 у графі 2 число у рядку 19 -",null,null,null,{"$f":"'9'!H23","v":0}]
["В Таблиці 12 в графі 3 рядку 10 стоїть цифра - ",null,null,null,null,null,null,null,null,null,null,"не повинна перевищувати число у рядку 16 - ",null,null,null,{"$f":"'9'!H20","v":4}]
["за попередній квартал ця цифра була - 2",null,null,null,null,null,null,null,null,null,null,"В Таблиці 9 у графі 3 число у рядку 19 -",null,null,null,{"$f":"'9'!I23","v":0}]
[null,null,null,null,null,null,null,null,null,null,null,"не повинна перевищувати число у рядку 16 - ",null,null,null,{"$f":"'9'!I20","v":0}]
["В Таблиці 12 в графі 3 рядку 13 стоїть цифра - 10",null,null,null,null,null,null,null,null,null,null,"В Таблиці 9 у графі 4 число у рядку 19 -",null,null,null,{"$f":"'9'!J23","v":0}]
["за попередній квартал ця цифра була - 23",null,null,null,null,null,null,null,null,null,null,"не повинна перевищувати число у рядку 16 - ",null,null,null,{"$f":"'9'!J20","v":0}]
[null,null,null,null,null,null,null,null,null,null,null,"В Таблиці 9 у графі 1 сума чисел у рядках 21,23,24 -",null,null,null,{"$f":"'9'!G25+'9'!G27+'9'!G28","v":29}]
["В Таблиці 13 в графі 2 рядку 5 стоїть цифра - 2",null,null,null,null,null,null,null,null,null,null,"не повинна перевищувати число у рядку 20 - ",null,null,null,{"$f":"'9'!G24","v":40}]
["за попередній квартал ця цифра була - 3",null,null,null,null,null,null,null,null,null,null,"В Таблиці 9 у графі 2 сума чисел у рядках 21,23,24 -",null,null,null,{"$f":"'9'!H25+'9'!H27+'9'!H28","v":14}]
[null,null,null,null,null,null,null,null,null,null,null,"не повинна перевищувати число у рядку 20 - ",null,null,null,{"$f":"'9'!H24","v":18}]
["В Таблиці 13 в графі 2 рядку 6 стоїть цифра - ",null,null,null,null,null,null,null,null,null,null,"В Таблиці 9 у графі 3 число у рядку 24 -",null,null,null,{"$f":"'9'!I28","v":0}]
["за попередній квартал ця цифра була - 2",null,null,null,null,null,null,null,null,null,null,"не повинна перевищувати число у рядку 20 - ",null,null,null,{"$f":"'9'!I24","v":0}]
[null,null,null,null,null,null,null,null,null,null,null,"В Таблиці 9 у графі 4 число у рядку 24 -",null,null,null,{"$f":"'9'!J28","v":0}]
["В Таблиці 13 в графі 3 рядку 2 стоїть цифра - 4",null,null,null,null,null,null,null,null,null,null,"не повинна перевищувати число у рядку 20 - ",null,null,null,{"$f":"'9'!J24","v":0}]
["за попередній квартал ця цифра була - 5",null,null,null,null,null,null,null,null,null,null,"В Таблиці 9 у графі 5 сума чисел у рядках 21,22 -",null,null,null,{"$f":"SUM('9'!K25:K26)","v":0}]
[null,null,null,null,null,null,null,null,null,null,null,"не повинна перевищувати число у рядку 20 - ",null,null,null,{"$f":"'9'!K24","v":0}]
["В Таблиці 13 в графі 3 рядку 6 стоїть цифра - ",null,null,null,null,null,null,null,null,null,null,"В Таблиці 9 у графі 6 сума чисел у рядках 21,22 -",null,null,null,{"$f":"SUM('9'!L25:L26)","v":0}]
["за попередній квартал ця цифра була - 2",null,null,null,null,null,null,null,null,null,null,"не повинна перевищувати число у рядку 20 - ",null,null,null,{"$f":"'9'!L24","v":0}]
[null,null,null,null,null,null,null,null,null,null,"Таблиця 8","В Таблиці 8 у графі 1 сума чисел у рядках 38,41,44 -",null,null,null,{"$f":"'8'!F41+'8'!F44+'8'!F47","v":0}]
["В Таблиці 15 в графі 1 рядку 1 стоїть цифра - 1598",null,null,null,null,null,null,null,null,null,null,"повинна дорівнювати числу у рядку 37 -",null,null,null,{"$f":"'8'!F40","v":0}]
["за попередній квартал ця цифра була - 3128",null,null,null,null,null,null,null,null,null,null,"В Таблиці 8 у графі 2 сума чисел у рядках 38,41,44 -",null,null,null,{"$f":"'8'!G41+'8'!G44+'8'!G47","v":0}]
[null,null,null,null,null,null,null,null,null,null,null,"повинна дорівнювати числу у рядку 37 -",null,null,null,{"$f":"'8'!G40","v":0}]
["В Таблиці 15 в графі 1 рядку 2 стоїть цифра - 137",null,null,null,null,null,null,null,null,null,"Таблиця 9","В Таблиці 9 у графі 1 сума чисел у рядках 2,16,20,25 -",null,null,null,{"$f":"'9'!G6+'9'!G20+'9'!G24+'9'!G29","v":162}]
["за попередній квартал ця цифра була - 152",null,null,null,null,null,null,null,null,null,null,"повинна дорівнювати числу у рядку 1 -",null,null,null,{"$f":"'9'!G5","v":162}]
[null,null,null,null,null,null,null,null,null,null,null,"В Таблиці 9 у графі 2 сума чисел у рядках 2,16,20,25 -",null,null,null,{"$f":"'9'!H6+'9'!H20+'9'!H24+'9'!H29","v":48}]
["В Таблиці 15 в графі 1 рядку 4 стоїть цифра - ",null,null,null,null,null,null,null,null,null,null,"повинна дорівнювати числу у рядку 1 -",null,null,null,{"$f":"'9'!H5","v":48}]
["за попередній квартал ця цифра була - 1",null,null,null,null,null,null,null,null,null,null,"В Таблиці 9 у графі 3 сума чисел у рядках 2,16,20,25 -",null,null,null,{"$f":"'9'!I6+'9'!I20+'9'!I24+'9'!I29","v":0}]
[null,null,null,null,null,null,null,null,null,null,null,"повинна дорівнювати числу у рядку 1 -",null,null,null,{"$f":"'9'!I5","v":0}]
["В Таблиці 15 в графі 1 рядку 5 стоїть цифра - 1393",null,null,null,null,null,null,null,null,null,null,"В Таблиці 9 у графі 4 сума чисел у рядках 2,16,20,25 -",null,null,null,{"$f":"'9'!J6+'9'!J20+'9'!J24+'9'!J29","v":0}]
["за попередній квартал ця цифра була - 1843",null,null,null,null,null,null,null,null,null,null,"повинна дорівнювати числу у рядку 1 -",null,null,null,{"$f":"'9'!J5","v":0}]
[null,null,null,null,null,null,null,null,null,null,null,"В Таблиці 9 у графі 5 сума чисел у рядках 20,25 -",null,null,null,{"$f":"'9'!K24+'9'!K29","v":0}]
["В Таблиці 15 в графі 1 рядку 6 стоїть цифра - 1",null,null,null,null,null,null,null,null,null,null,"повинна дорівнювати числу у рядку 1 -",null,null,null,{"$f":"'9'!K5","v":0}]
["за попередній квартал ця цифра була - 8",null,null,null,null,null,null,null,null,null,null,"В Таблиці 9 у графі 6 сума чисел у рядках 20,25 -",null,null,null,{"$f":"'9'!L24+'9'!L29","v":0}]
[null,null,null,null,null,null,null,null,null,null,null,"повинна дорівнювати числу у рядку 1 -",null,null,null,{"$f":"'9'!L5","v":0}]
["В Таблиці 15 в графі 1 рядку 7 стоїть цифра - 12",null,null,null,null,null,null,null,null,null,null,"В Таблиці 9 у графі 1 сума чисел у рядках 12,14 -",null,null,null,{"$f":"'9'!G16+'9'!G18","v":1}]
["за попередній квартал ця цифра була - 44",null,null,null,null,null,null,null,null,null,null,"повинна дорівнювати числу у рядку 11 -",null,null,null,{"$f":"'9'!G15","v":1}]
[null,null,null,null,null,null,null,null,null,null,null,"В Таблиці 9 у графі 2 сума чисел у рядках 12,14 -",null,null,null,{"$f":"'9'!H16+'9'!H18","v":0}]
["В Таблиці 15 в графі 1 рядку 8 стоїть цифра - 3003",null,null,null,null,null,null,null,null,null,null,"повинна дорівнювати числу у рядку 11 -",null,null,null,{"$f":"'9'!H15","v":0}]
["за попередній квартал ця цифра була - 5015",null,null,null,null,null,null,null,null,null,null,"В Таблиці 9 у графі 3 сума чисел у рядках 12,14 -",null,null,null,{"$f":"'9'!I16+'9'!I18","v":0}]
[null,null,null,null,null,null,null,null,null,null,null,"повинна дорівнювати числу у рядку 11 -",null,null,null,{"$f":"'9'!I15","v":0}]
["В Таблиці 15 в графі 1 рядку 9 стоїть цифра - 8",null,null,null,null,null,null,null,null,null,null,"В Таблиці 9 у графі 4 сума чисел у рядках 12,14 -",null,null,null,{"$f":"'9'!J16+'9'!J18","v":0}]
["за попередній квартал ця цифра була - 894",null,null,null,null,null,null,null,null,null,null,"повинна дорівнювати числу у рядку 11 -",null,null,null,{"$f":"'9'!J15","v":0}]
[null,null,null,null,null,null,null,null,null,null,"Таблиця 10","В Таблиці 10 у графі 1 сума чисел у рядках 2,7,12,16 -",null,null,null,{"$f":"'10-11'!F6+'10-11'!F11+'10-11'!F16+'10-11'!F20","v":162}]
["В Таблиці 15 в графі 1 рядку 11 стоїть цифра - 2",null,null,null,null,null,null,null,null,null,null,"повинна дорівнювати числу у рядку 1 -",null,null,null,{"$f":"'10-11'!F5","v":162}]
["за попередній квартал ця цифра була - 5",null,null,null,null,null,null,null,null,null,null,"В Таблиці 10 у графі 2 сума чисел у рядках 2,7,12,16 -",null,null,null,{"$f":"'10-11'!G6+'10-11'!G11+'10-11'!G16+'10-11'!G20","v":48}]
[null,null,null,null,null,null,null,null,null,null,null,"повинна дорівнювати числу у рядку 1 -",null,null,null,{"$f":"'10-11'!G5","v":48}]
["В Таблиці 15 в графі 1 рядку 13 стоїть цифра - 61",null,null,null,null,null,null,null,null,null,null,"В Таблиці 10 у графі 3 сума чисел у рядках 2,7,12,16 -",null,null,null,{"$f":"'10-11'!H6+'10-11'!H11+'10-11'!H16+'10-11'!H20","v":0}]
["за попередній квартал ця цифра була - 219",null,null,null,null,null,null,null,null,null,null,"повинна дорівнювати числу у рядку 1 -",null,null,null,{"$f":"'10-11'!H5","v":0}]
[null,null,null,null,null,null,null,null,null,null,null,"В Таблиці 10 у графі 4 сума чисел у рядках 2,7,12,16 -",null,null,null,{"$f":"'10-11'!I6+'10-11'!I11+'10-11'!I16+'10-11'!I20","v":0}]
["В Таблиці 15 в графі 1 рядку 14 стоїть цифра - 943",null,null,null,null,null,null,null,null,null,null,"повинна дорівнювати числу у рядку 1 -",null,null,null,{"$f":"'10-11'!I5","v":0}]
["за попередній квартал ця цифра була - 1836",null,null,null,null,null,null,null,null,null,null,"В Таблиці 10 у графі 1 число у рядку 2 -",null,null,null,{"$f":"'10-11'!F6","v":78}]
[null,null,null,null,null,null,null,null,null,null,null,"повинна дорівнювати числу у рядку 2 графи 1 Таблиці 9 -",null,null,null,{"$f":"'9'!G6","v":78}]
["В Таблиці 15 в графі 1 рядку 15 стоїть цифра - 560",null,null,null,null,null,null,null,null,null,null,"В Таблиці 10 у графі 1 число у рядку 7 -",null,null,null,{"$f":"'10-11'!F11","v":43}]
["за попередній квартал ця цифра була - 660",null,null,null,null,null,null,null,null,null,null,"повинна дорівнювати числу у рядку 16 графи 1 Таблиці 9 -",null,null,null,{"$f":"'9'!G20","v":43}]
[null,null,null,null,null,null,null,null,null,null,null,"В Таблиці 10 у графі 1 число у рядку 12 -",null,null,null,{"$f":"'10-11'!F16","v":40}]
["В Таблиці 15 в графі 1 рядку 17 стоїть цифра - ",null,null,null,null,null,null,null,null,null,null,"повинна дорівнювати числу у рядку 20 графи 1 Таблиці 9 -",null,null,null,{"$f":"'9'!G24","v":40}]
["за попередній квартал ця цифра була - 213",null,null,null,null,null,null,null,null,null,null,"В Таблиці 10 у графі 1 число у рядку 16 -",null,null,null,{"$f":"'10-11'!F20","v":1}]
[null,null,null,null,null,null,null,null,null,null,null,"повинна дорівнювати числу у рядку 25 графи 1 Таблиці 9 -",null,null,null,{"$f":"'9'!G29","v":1}]
["В Таблиці 15 в графі 1 рядку 18 стоїть цифра - ",null,null,null,null,null,null,null,null,null,null,"В Таблиці 10 у графі 1 число у рядку 10 -",null,null,null,{"$f":"'10-11'!F14","v":10}]
["за попередній квартал ця цифра була - 4",null,null,null,null,null,null,null,null,null,null,"повинна дорівнювати сумі чисел у рядках 9,18 графи 1 Таблиці 9 -",null,null,null,{"$f":"'9'!G13+'9'!G22","v":10}]
[null,null,null,null,null,null,null,null,null,null,null,"В Таблиці 10 у графі 1 число у рядку 11 -",null,null,null,{"$f":"'10-11'!F15","v":0}]
["В Таблиці 15 в графі 1 рядку 19 стоїть цифра - 14",null,null,null,null,null,null,null,null,null,null,"повинна дорівнювати сумі чисел у рядках 10,19 графи 1 Таблиці 9 -",null,null,null,{"$f":"'9'!G14+'9'!G23","v":0}]
["за попередній квартал ця цифра була - 19",null,null,null,null,null,null,null,null,null,null,"В Таблиці 15 сума чисел у рядках 1,5,7 -",null,null,null,{"$f":"'15-16'!E5+'15-16'!E12+'15-16'!E15","v":7349}]
[null,null,null,null,null,null,null,null,null,null,null,"повинна дорівнювати числу у рядку 8 -",null,null,null,{"$f":"'15-16'!E17","v":7349}]
["В Таблиці 15 в графі 1 рядку 22 стоїть цифра - 64",null,null,null,null,null,null,null,null,null,null,"В Таблиці 16 у графі 1 число у рядку 1 -",null,null,null,{"$f":"'15-16'!K5","v":4579}]
["за попередній квартал ця цифра була - 234",null,null,null,null,null,null,null,null,null,null,"повинна дорівнювати числу у рядку 1 Таблиці 15 -",null,null,null,{"$f":"'15-16'!E5","v":4579}]
[null,null,null,null,null,null,null,null,null,null,null,"В Таблиці 16 у графі 3 число у рядку 1 -",null,null,null,{"$f":"'15-16'!M5","v":205}]
["В Таблиці 16 в графі 1 рядку 1 стоїть цифра - 1598",null,null,null,null,null,null,null,null,null,null,"повинна дорівнювати числу у рядку 2 Таблиці 15 -",null,null,null,{"$f":"'15-16'!E6","v":205}]
["за попередній квартал ця цифра була - 3128",null,null,null,null,null,null,null,null,null,null,"В Таблиці 18 сума чисел у рядках 2,5,6 -",null,null,null,{"$f":"'17-19'!D18+'17-19'!D21+'17-19'!D22","v":71}]
[null,null,null,null,null,null,null,null,null,null,null,"повинна дорівнювати числу у рядку 1 -",null,null,null,{"$f":"'17-19'!D17","v":71}]
["В Таблиці 16 в графі 1 рядку 2 стоїть цифра - 578",null,null,null,null,null,null,null,null,null,null,"В Додатку 3 у графі 1 сума чисел у рядках 2,8,12,14 -",null,null,null,{"$f":"'dod 3-4'!F7+'dod 3-4'!F13+'dod 3-4'!F17+'dod 3-4'!F19","v":1}]
["за попередній квартал ця цифра була - 1470",null,null,null,null,null,null,null,null,null,null,"повинна дорівнювати числу у рядку 1 -",null,null,null,{"$f":"'dod 3-4'!F6","v":1}]
[null,null,null,null,null,null,null,null,null,null,null,"В Додатку 3 у графі 2 сума чисел у рядках 2,8,12,14 -",null,null,null,{"$f":"'dod 3-4'!G7+'dod 3-4'!G13+'dod 3-4'!G17+'dod 3-4'!G19","v":2}]
["В Таблиці 16 в графі 1 рядку 5 стоїть цифра - 1",null,null,null,null,null,null,null,null,null,null,"повинна дорівнювати числу у рядку 1 -",null,null,null,{"$f":"'dod 3-4'!G6","v":2}]
["за попередній квартал ця цифра була - 95",null,null,null,null,null,null,null,null,null,null,"В Додатку 3 у графі 3 сума чисел у рядках 2,8,12,14 -",null,null,null,{"$f":"'dod 3-4'!H7+'dod 3-4'!H13+'dod 3-4'!H17+'dod 3-4'!H19","v":0}]
[null,null,null,null,null,null,null,null,null,null,null,"повинна дорівнювати числу у рядку 1 -",null,null,null,{"$f":"'dod 3-4'!H6","v":0}]
["В Таблиці 16 в графі 1 рядку 6 стоїть цифра - 311",null,null,null,null,null,null,null,null,null,null,"В Додатку 3 у графі 4 сума чисел у рядках 2,8,12,14 -",null,null,null,{"$f":"'dod 3-4'!I7+'dod 3-4'!I13+'dod 3-4'!I17+'dod 3-4'!I19","v":0}]
["за попередній квартал ця цифра була - 744",null,null,null,null,null,null,null,null,null,null,"повинна дорівнювати числу у рядку 1 -",null,null,null,{"$f":"'dod 3-4'!I6","v":0}]
[null,null,null,null,null,null,null,null,null,null,null,"В Додатку 3 у графі 5 сума чисел у рядках 2,8,12,14 -",null,null,null,{"$f":"'dod 3-4'!J7+'dod 3-4'!J13+'dod 3-4'!J17+'dod 3-4'!J19","v":0}]
["В Таблиці 16 в графі 1 рядку 7 стоїть цифра - ",null,null,null,null,null,null,null,null,null,null,"повинна дорівнювати числу у рядку 1 -",null,null,null,{"$f":"'dod 3-4'!J6","v":0}]
["за попередній квартал ця цифра була - 1",null,null,null,null,null,null,null,null,null,null,"В Додатку 3 у графі 6 сума чисел у рядках 2,8,12,14 -",null,null,null,{"$f":"'dod 3-4'!K7+'dod 3-4'!K13+'dod 3-4'!K17+'dod 3-4'!K19","v":0}]
[null,null,null,null,null,null,null,null,null,null,null,"повинна дорівнювати числу у рядку 1 -",null,null,null,{"$f":"'dod 3-4'!K6","v":0}]
["В Таблиці 16 в графі 1 рядку 8 стоїть цифра - ",null,null,null,null,null,null,null,null,null,null,"В Додатку 3 у графі 7 сума чисел у рядках 2,8,12,14 -",null,null,null,{"$f":"'dod 3-4'!L7+'dod 3-4'!L13+'dod 3-4'!L17+'dod 3-4'!L19","v":0}]
["за попередній квартал ця цифра була - 19",null,null,null,null,null,null,null,null,null,null,"повинна дорівнювати числу у рядку 1 -",null,null,null,{"$f":"'dod 3-4'!L6","v":0}]
[null,null,null,null,null,null,null,null,null,null,null,"В Додатку 3 у графі 8 сума чисел у рядках 2,8,12,14 -",null,null,null,{"$f":"'dod 3-4'!M7+'dod 3-4'!M13+'dod 3-4'!M17+'dod 3-4'!M19","v":0}]
["В Таблиці 16 в графі 1 рядку 9 стоїть цифра - ",null,null,null,null,null,null,null,null,null,null,"повинна дорівнювати числу у рядку 1 -",null,null,null,{"$f":"'dod 3-4'!M6","v":0}]
["за попередній квартал ця цифра була - 1",null,null,null,null,null,null,null,null,null,null,"В Додатку 4 у графі 1 сума чисел у рядках 1,2,4 -",null,null,null,{"$f":"'dod 3-4'!F26+'dod 3-4'!F27+'dod 3-4'!F29","v":1}]
[null,null,null,null,null,null,null,null,null,null,null,"повинна дорівнювати числу у рядку 7 -",null,null,null,{"$f":"'dod 3-4'!F32","v":1}]
["В Таблиці 16 в графі 1 рядку 15 стоїть цифра - ",null,null,null,null,null,null,null,null,null,null,"В Додатку 4 у графі 2 сума чисел у рядках 1,2,4 -",null,null,null,{"$f":"'dod 3-4'!G26+'dod 3-4'!G27+'dod 3-4'!G29","v":0}]
["за попередній квартал ця цифра була - 12",null,null,null,null,null,null,null,null,null,null,"повинна дорівнювати числу у рядку 7 -",null,null,null,{"$f":"'dod 3-4'!G32","v":0}]
[null,null,null,null,null,null,null,null,null,null,null,"В Додатку 4 у графі 3 сума чисел у рядках 1,4 -",null,null,null,{"$f":"'dod 3-4'!H26+'dod 3-4'!H29","v":0}]
["В Таблиці 16 в графі 1 рядку 16 стоїть цифра - 139",null,null,null,null,null,null,null,null,null,null,"повинна дорівнювати числу у рядку 7 -",null,null,null,{"$f":"'dod 3-4'!H32","v":0}]
["за попередній квартал ця цифра була - 277",null,null,null,null,null,null,null,null,null,null,"В Додатку 4 у графі 4 сума чисел у рядках 1,4 -",null,null,null,{"$f":"'dod 3-4'!I26+'dod 3-4'!I29","v":0}]
[null,null,null,null,null,null,null,null,null,null,null,"повинна дорівнювати числу у рядку 7 -",null,null,null,{"$f":"'dod 3-4'!I32","v":0}]
["В Таблиці 16 в графі 1 рядку 17 стоїть цифра - 5",null,null,null,null,null,null,null,null,null,null,"В Додатку 4 у графі 5 сума чисел у рядках 1,4 -",null,null,null,{"$f":"'dod 3-4'!J26+'dod 3-4'!J29","v":0}]
["за попередній квартал ця цифра була - 21",null,null,null,null,null,null,null,null,null,null,"повинна дорівнювати числу у рядку 7 -",null,null,null,{"$f":"'dod 3-4'!J32","v":0}]
[null,null,null,null,null,null,null,null,null,null,null,"В Додатку 4 у графі 6 сума чисел у рядках 1,4 -",null,null,null,{"$f":"'dod 3-4'!K26+'dod 3-4'!K29","v":0}]
["В Таблиці 16 в графі 1 рядку 18 стоїть цифра - 1",null,null,null,null,null,null,null,null,null,null,"повинна дорівнювати числу у рядку 7 -",null,null,null,{"$f":"'dod 3-4'!K32","v":0}]
["за попередній квартал ця цифра була - 3",null,null,null,null,null,null,null,null,null,null,"В Додатку 4 у графі 1 сума чисел у рядках 1,2 -",null,null,null,{"$f":"'dod 3-4'!F26+'dod 3-4'!F27","v":1}]
[null,null,null,null,null,null,null,null,null,null,null,"повинна дорівнювати числу у рядку 2 графи 1 Додатку 3 -",null,null,null,{"$f":"'dod 3-4'!F7","v":1}]
["В Таблиці 16 в графі 1 рядку 20 стоїть цифра - 14",null,null,null,null,null,null,null,null,null,null,"В Додатку 4 у графі 1 число у рядку 4 -",null,null,null,{"$f":"'dod 3-4'!F29","v":0}]
["за попередній квартал ця цифра була - 24",null,null,null,null,null,null,null,null,null,null,"повинна дорівнювати числу у рядку 8 графи 1 Додатку 3 -",null,null,null,{"$f":"'dod 3-4'!F13","v":0}]
[null,null,null,null,null,null,null,null,null,null,null,"В Додатку 4 у графі 1 число у рядку 5 -",null,null,null,{"$f":"'dod 3-4'!F30","v":0}]
["В Таблиці 16 в графі 1 рядку 21 стоїть цифра - 177",null,null,null,null,null,null,null,null,null,null,"повинна дорівнювати числу у рядку 9 графи 1 Додатку 3 -",null,null,null,{"$f":"'dod 3-4'!F14","v":0}]
["за попередній квартал ця цифра була - 221",null,null,null,null,null,null,null,null,null,null,"В Додатку 4 у графі 1 число у рядку 8 -",null,null,null,{"$f":"'dod 3-4'!F33","v":0}]
[null,null,null,null,null,null,null,null,null,null,null,"повинна дорівнювати сумі чисел у рядках 6,10 графи 1 Додатку 3 -",null,null,null,{"$f":"'dod 3-4'!F11+'dod 3-4'!F15","v":0}]
["В Таблиці 16 в графі 2 рядку 1 стоїть цифра - 4",null,null,null,null,null,null,null,null,null,null,"В Додатку 4 у графі 1 число у рядку 9 -",null,null,null,{"$f":"'dod 3-4'!F34","v":0}]
["за попередній квартал ця цифра була - 83",null,null,null,null,null,null,null,null,null,null,"повинна дорівнювати сумі чисел у рядках 7,11 графи 1 Додатку 3 -",null,null,null,{"$f":"'dod 3-4'!F12+'dod 3-4'!F16","v":0}]
[null,null,null,null,null,null,null,null,null,null,null,"В Таблиці 10 у графі 1 сума чисел у рядках 3-5 -",null,null,null,{"$f":"SUM('10-11'!F7:F9)","v":73}]
["В Таблиці 16 в графі 2 рядку 2 стоїть цифра - 1",null,null,null,null,null,null,null,null,null,null,"не повинна перевищувати число у рядку 2 - ",null,null,null,{"$f":"'10-11'!F6","v":78}]
["за попередній квартал ця цифра була - 48",null,null,null,null,null,null,null,null,null,null,"В Таблиці 10 у графі 2 сума чисел у рядках 3-5 -",null,null,null,{"$f":"SUM('10-11'!G7:G9)","v":19}]
[null,null,null,null,null,null,null,null,null,null,null,"не повинна перевищувати число у рядку 2 - ",null,null,null,{"$f":"'10-11'!G6","v":19}]
["В Таблиці 16 в графі 2 рядку 5 стоїть цифра - ",null,null,null,null,null,null,null,null,null,null,"В Таблиці 10 у графі 3 сума чисел у рядках 3,4 -",null,null,null,{"$f":"SUM('10-11'!H7:H8)","v":0}]
["за попередній квартал ця цифра була - 1",null,null,null,null,null,null,null,null,null,null,"не повинна перевищувати число у рядку 2 - ",null,null,null,{"$f":"'10-11'!H6","v":0}]
[null,null,null,null,null,null,null,null,null,null,null,"В Таблиці 10 у графі 4 сума чисел у рядках 3,4 -",null,null,null,{"$f":"SUM('10-11'!I7:I8)","v":0}]
["В Таблиці 16 в графі 2 рядку 6 стоїть цифра - 1",null,null,null,null,null,null,null,null,null,null,"не повинна перевищувати число у рядку 2 - ",null,null,null,{"$f":"'10-11'!I6","v":0}]
["за попередній квартал ця цифра була - 32",null,null,null,null,null,null,null,null,null,null,"В Таблиці 10 у графі 1 число у рядку 6 -",null,null,null,{"$f":"'10-11'!F10","v":14}]
[null,null,null,null,null,null,null,null,null,null,null,"не повинно перевищувати суму чисел у рядках 4,5 -",null,null,null,{"$f":"'10-11'!F8+'10-11'!F9","v":71}]
["В Таблиці 16 в графі 2 рядку 15 стоїть цифра - ",null,null,null,null,null,null,null,null,null,null,"В Таблиці 10 у графі 2 число у рядку 6 -",null,null,null,{"$f":"'10-11'!G10","v":1}]
["за попередній квартал ця цифра була - 1",null,null,null,null,null,null,null,null,null,null,"не повинно перевищувати суму чисел у рядках 4,5 -",null,null,null,{"$f":"'10-11'!G8+'10-11'!G9","v":12}]
[null,null,null,null,null,null,null,null,null,null,null,"В Таблиці 10 у графі 3 число у рядку 6 -",null,null,null,{"$f":"'10-11'!H10","v":0}]
["В Таблиці 16 в графі 2 рядку 16 стоїть цифра - ",null,null,null,null,null,null,null,null,null,null,"не повинно перевищувати число у рядку 4 -",null,null,null,{"$f":"'10-11'!H8","v":0}]
["за попередній квартал ця цифра була - 11",null,null,null,null,null,null,null,null,null,null,"В Таблиці 10 у графі 4 число у рядку 6 -",null,null,null,{"$f":"'10-11'!I10","v":0}]
[null,null,null,null,null,null,null,null,null,null,null,"не повинно перевищувати число у рядку 4 -",null,null,null,{"$f":"'10-11'!I8","v":0}]
["В Таблиці 16 в графі 2 рядку 20 стоїть цифра - ",null,null,null,null,null,null,null,null,null,null,"В Таблиці 10 у графі 1 число у рядку 8 -",null,null,null,{"$f":"'10-11'!F12","v":0}]
["за попередній квартал ця цифра була - 2",null,null,null,null,null,null,null,null,null,null,"не повинна перевищувати число у рядку 7 - ",null,null,null,{"$f":"'10-11'!F11","v":43}]
[null,null,null,null,null,null,null,null,null,null,null,"В Таблиці 10 у графі 2 число у рядку 8 -",null,null,null,{"$f":"'10-11'!G12","v":26}]
["В Таблиці 16 в графі 3 рядку 1 стоїть цифра - 137",null,null,null,null,null,null,null,null,null,null,"не повинна перевищувати число у рядку 7 - ",null,null,null,{"$f":"'10-11'!G11","v":28}]
["за попередній квартал ця цифра була - 152",null,null,null,null,null,null,null,null,null,null,"В Таблиці 10 у графі 3 число у рядку 8 -",null,null,null,{"$f":"'10-11'!H12","v":0}]
[null,null,null,null,null,null,null,null,null,null,null,"не повинна перевищувати число у рядку 7 - ",null,null,null,{"$f":"'10-11'!H11","v":0}]
["В Таблиці 16 в графі 3 рядку 16 стоїть цифра - 73",null,null,null,null,null,null,null,null,null,null,"В Таблиці 10 у графі 4 число у рядку 8 -",null,null,null,{"$f":"'10-11'!I12","v":0}]
["за попередній квартал ця цифра була - 87",null,null,null,null,null,null,null,null,null,null,"не повинна перевищувати число у рядку 7 - ",null,null,null,{"$f":"'10-11'!I11","v":0}]
[null,null,null,null,null,null,null,null,null,null,null,"В Таблиці 10 у графі 1 число у рядку 9 -",null,null,null,{"$f":"'10-11'!F13","v":0}]
["В Таблиці 16 в графі 3 рядку 21 стоїть цифра - 18",null,null,null,null,null,null,null,null,null,null,"не повинно перевищувати суму чисел у рядках 2,7 -",null,null,null,{"$f":"'10-11'!F6+'10-11'!F11","v":121}]
["за попередній квартал ця цифра була - 20",null,null,null,null,null,null,null,null,null,null,"В Таблиці 10 у графі 2 число у рядку 9 -",null,null,null,{"$f":"'10-11'!G13","v":3}]
[null,null,null,null,null,null,null,null,null,null,null,"не повинно перевищувати суму чисел у рядках 2,7 -",null,null,null,{"$f":"'10-11'!G6+'10-11'!G11","v":47}]
["В Таблиці 16 в графі 4 рядку 1 стоїть цифра - ",null,null,null,null,null,null,null,null,null,null,"В Таблиці 10 у графі 3 число у рядку 9 -",null,null,null,{"$f":"'10-11'!H13","v":0}]
["за попередній квартал ця цифра була - 1",null,null,null,null,null,null,null,null,null,null,"не повинно перевищувати суму чисел у рядках 2,7 -",null,null,null,{"$f":"'10-11'!H6+'10-11'!H11","v":0}]
[null,null,null,null,null,null,null,null,null,null,null,"В Таблиці 10 у графі 4 число у рядку 9 -",null,null,null,{"$f":"'10-11'!I13","v":0}]
["В Таблиці 17 в графі 1 рядку 2 стоїть цифра - 263",null,null,null,null,null,null,null,null,null,null,"не повинно перевищувати суму чисел у рядках 2,7 -",null,null,null,{"$f":"'10-11'!I6+'10-11'!I11","v":0}]
["за попередній квартал ця цифра була - 1303",null,null,null,null,null,null,null,null,null,null,"В Таблиці 10 у графі 1 число у рядку 10 -",null,null,null,{"$f":"'10-11'!F14","v":10}]
[null,null,null,null,null,null,null,null,null,null,null,"не повинно перевищувати суму чисел у рядках 2,7 -",null,null,null,{"$f":"'10-11'!F6+'10-11'!F11","v":121}]
["В Таблиці 17 в графі 1 рядку 3 стоїть цифра - 108",null,null,null,null,null,null,null,null,null,null,"В Таблиці 10 у графі 2 число у рядку 10 -",null,null,null,{"$f":"'10-11'!G14","v":2}]
["за попередній квартал ця цифра була - 197",null,null,null,null,null,null,null,null,null,null,"не повинно перевищувати суму чисел у рядках 2,7 -",null,null,null,{"$f":"'10-11'!G6+'10-11'!G11","v":47}]
[null,null,null,null,null,null,null,null,null,null,null,"В Таблиці 10 у графі 3 число у рядку 10 -",null,null,null,{"$f":"'10-11'!H14","v":0}]
["В Таблиці 17 в графі 1 рядку 4 стоїть цифра - 22",null,null,null,null,null,null,null,null,null,null,"не повинно перевищувати суму чисел у рядках 2,7 -",null,null,null,{"$f":"'10-11'!H6+'10-11'!H11","v":0}]
["за попередній квартал ця цифра була - 222",null,null,null,null,null,null,null,null,null,null,"В Таблиці 10 у графі 4 число у рядку 10 -",null,null,null,{"$f":"'10-11'!I14","v":0}]
[null,null,null,null,null,null,null,null,null,null,null,"не повинно перевищувати суму чисел у рядках 2,7 -",null,null,null,{"$f":"'10-11'!I6+'10-11'!I11","v":0}]
["В Таблиці 17 в графі 1 рядку 5 стоїть цифра - ",null,null,null,null,null,null,null,null,null,null,"В Таблиці 10 у графі 1 число у рядку 11 -",null,null,null,{"$f":"'10-11'!F15","v":0}]
["за попередній квартал ця цифра була - 23",null,null,null,null,null,null,null,null,null,null,"не повинно перевищувати суму чисел у рядках 2,7 -",null,null,null,{"$f":"'10-11'!F6+'10-11'!F11","v":121}]
[null,null,null,null,null,null,null,null,null,null,null,"В Таблиці 10 у графі 2 число у рядку 11 -",null,null,null,{"$f":"'10-11'!G15","v":1}]
["В Таблиці 17 в графі 1 рядку 6 стоїть цифра - 126",null,null,null,null,null,null,null,null,null,null,"не повинно перевищувати суму чисел у рядках 2,7 -",null,null,null,{"$f":"'10-11'!G6+'10-11'!G11","v":47}]
["за попередній квартал ця цифра була - 861",null,null,null,null,null,null,null,null,null,null,"В Таблиці 10 у графі 3 число у рядку 11 -",null,null,null,{"$f":"'10-11'!H15","v":0}]
[null,null,null,null,null,null,null,null,null,null,null,"не повинно перевищувати суму чисел у рядках 2,7 -",null,null,null,{"$f":"'10-11'!H6+'10-11'!H11","v":0}]
["В Таблиці 18 в графі 1 рядку 1 стоїть цифра - 23",null,null,null,null,null,null,null,null,null,null,"В Таблиці 10 у графі 4 число у рядку 11 -",null,null,null,{"$f":"'10-11'!I15","v":0}]
["за попередній квартал ця цифра була - 50",null,null,null,null,null,null,null,null,null,null,"не повинно перевищувати суму чисел у рядках 2,7 -",null,null,null,{"$f":"'10-11'!I6+'10-11'!I11","v":0}]
[null,null,null,null,null,null,null,null,null,null,null,"В Таблиці 10 у графі 1 сума чисел у рядках 13-15 -",null,null,null,{"$f":"'10-11'!F17+'10-11'!F18+'10-11'!F19","v":29}]
["В Таблиці 18 в графі 1 рядку 2 стоїть цифра - 20",null,null,null,null,null,null,null,null,null,null,"не повинна перевищувати число у рядку 12 - ",null,null,null,{"$f":"'10-11'!F16","v":40}]
["за попередній квартал ця цифра була - 40",null,null,null,null,null,null,null,null,null,null,"В Таблиці 10 у графі 2 сума чисел у рядках 13-15 -",null,null,null,{"$f":"'10-11'!G17+'10-11'!G18+'10-11'!G19","v":0}]
[null,null,null,null,null,null,null,null,null,null,null,"не повинна перевищувати число у рядку 12 - ",null,null,null,{"$f":"'10-11'!G16","v":1}]
["В Таблиці 18 в графі 1 рядку 6 стоїть цифра - 3",null,null,null,null,null,null,null,null,null,null,"В Таблиці 10 у графі 3 число у рядку 14 -",null,null,null,{"$f":"'10-11'!H18","v":0}]
["за попередній квартал ця цифра була - 10",null,null,null,null,null,null,null,null,null,null,"не повинна перевищувати число у рядку 12 - ",null,null,null,{"$f":"'10-11'!H16","v":0}]
[null,null,null,null,null,null,null,null,null,null,null,"В Таблиці 10 у графі 4 число у рядку 14 -",null,null,null,{"$f":"'10-11'!I18","v":0}]
["В Таблиці 18 в графі 1 рядку 7 стоїть цифра - ",null,null,null,null,null,null,null,null,null,null,"не повинна перевищувати число у рядку 12 - ",null,null,null,{"$f":"'10-11'!I16","v":0}]
["за попередній квартал ця цифра була - 1",null,null,null,null,null,null,null,null,null,"Таблиця 11","В Таблиці 11 у графі 1 сума чисел у рядках 4-8 -",null,null,null,{"$f":"SUM('10-11'!F30:F34)","v":7}]
[null,null,null,null,null,null,null,null,null,null,null,"не повинна перевищувати число у рядку 3 - ",null,null,null,{"$f":"'10-11'!F29","v":7}]
["В Таблиці 18 в графі 1 рядку 8 стоїть цифра - ",null,null,null,null,null,null,null,null,null,null,"В Таблиці 11 у графі 2 сума чисел у рядках 4-8 -",null,null,null,{"$f":"SUM('10-11'!G30:G34)","v":5}]
["за попередній квартал ця цифра була - 1",null,null,null,null,null,null,null,null,null,null,"не повинна перевищувати число у рядку 3 - ",null,null,null,{"$f":"'10-11'!G29","v":5}]
[null,null,null,null,null,null,null,null,null,null,null,"В Таблиці 11 у графі 3 сума чисел у рядках 4-8 -",null,null,null,{"$f":"SUM('10-11'!H30:H34)","v":2}]
["В Таблиці 18 в графі 1 рядку 9 стоїть цифра - ",null,null,null,null,null,null,null,null,null,null,"не повинна перевищувати число у рядку 3 - ",null,null,null,{"$f":"'10-11'!H29","v":2}]
["за попередній квартал ця цифра була - 2",null,null,null,null,null,null,null,null,null,null,"В Таблиці 11 у графі 4 сума чисел у рядках 4-8 -",null,null,null,{"$f":"SUM('10-11'!I30:I34)","v":0}]
[null,null,null,null,null,null,null,null,null,null,null,"не повинна перевищувати число у рядку 3 - ",null,null,null,{"$f":"'10-11'!I29","v":0}]
["В Таблиці 19 в графі 1 рядку 1 стоїть цифра - 13",null,null,null,null,null,null,null,null,null,null,"В Таблиці 11 у рядку 1 сума чисел у графах 2-4 -",null,null,null,{"$f":"SUM('10-11'!G27:I27)","v":1}]
["за попередній квартал ця цифра була - 17",null,null,null,null,null,null,null,null,null,null,"не повинно перевищувати число у графі 1 - ",null,null,null,{"$f":"'10-11'!F27","v":1}]
[null,null,null,null,null,null,null,null,null,null,null,"В Таблиці 11 у рядку 2 сума чисел у графах 2-4 -",null,null,null,{"$f":"SUM('10-11'!G28:I28)","v":1}]
["В Таблиці 19 в графі 1 рядку 3 стоїть цифра - ",null,null,null,null,null,null,null,null,null,null,"не повинно перевищувати число у графі 1 - ",null,null,null,{"$f":"'10-11'!F28","v":1}]
["за попередній квартал ця цифра була - 1",null,null,null,null,null,null,null,null,null,null,"В Таблиці 11 у рядку 3 сума чисел у графах 2-4 -",null,null,null,{"$f":"SUM('10-11'!G29:I29)","v":7}]
[null,null,null,null,null,null,null,null,null,null,null,"не повинно перевищувати число у графі 1 - ",null,null,null,{"$f":"'10-11'!F29","v":7}]
["В Таблиці 19 в графі 1 рядку 6 стоїть цифра - ",null,null,null,null,null,null,null,null,null,null,"В Таблиці 11 у рядку 4 сума чисел у графах 2-4 -",null,null,null,{"$f":"SUM('10-11'!G30:I30)","v":0}]
["за попередній квартал ця цифра була - 9",null,null,null,null,null,null,null,null,null,null,"не повинно перевищувати число у графі 1 - ",null,null,null,{"$f":"'10-11'!F30","v":0}]
[null,null,null,null,null,null,null,null,null,null,null,"В Таблиці 11 у рядку 5 сума чисел у графах 2-4 -",null,null,null,{"$f":"SUM('10-11'!G31:I31)","v":4}]
["В Таблиці 19 в графі 1 рядку 7 стоїть цифра - 3",null,null,null,null,null,null,null,null,null,null,"не повинно перевищувати число у графі 1 - ",null,null,null,{"$f":"'10-11'!F31","v":4}]
["за попередній квартал ця цифра була - 9",null,null,null,null,null,null,null,null,null,null,"В Таблиці 11 у рядку 6 сума чисел у графах 2-4 -",null,null,null,{"$f":"SUM('10-11'!G32:I32)","v":3}]
[null,null,null,null,null,null,null,null,null,null,null,"не повинно перевищувати число у графі 1 - ",null,null,null,{"$f":"'10-11'!F32","v":3}]
["В Таблиці 19 в графі 3 рядку 7 стоїть цифра - 2",null,null,null,null,null,null,null,null,null,null,"В Таблиці 11 у рядку 7 сума чисел у графах 2-4 -",null,null,null,{"$f":"SUM('10-11'!G33:I33)","v":0}]
["за попередній квартал ця цифра була - 9",null,null,null,null,null,null,null,null,null,null,"не повинно перевищувати число у графі 1 - ",null,null,null,{"$f":"'10-11'!F33","v":0}]
[null,null,null,null,null,null,null,null,null,null,null,"В Таблиці 11 у рядку 8 сума чисел у графах 2-4 -",null,null,null,{"$f":"SUM('10-11'!G34:I34)","v":0}]
["В Додатку 1 в графі 1 рядку 1 стоїть цифра - 1",null,null,null,null,null,null,null,null,null,null,"не повинно перевищувати число у графі 1 - ",null,null,null,{"$f":"'10-11'!F34","v":0}]
["за попередній квартал ця цифра була - 3",null,null,null,null,null,null,null,null,null,null,"В Таблиці 11 у рядку 9 сума чисел у графах 2-4 -",null,null,null,{"$f":"SUM('10-11'!G35:I35)","v":7}]
[null,null,null,null,null,null,null,null,null,null,null,"не повинно перевищувати число у графі 1 - ",null,null,null,{"$f":"'10-11'!F35","v":7}]
["В Додатку 1 в графі 1 рядку 3 стоїть цифра - ",null,null,null,null,null,null,null,null,null,null,"В Таблиці 11 у рядку 10 сума чисел у графах 2-4 -",null,null,null,{"$f":"SUM('10-11'!G36:I36)","v":5}]
["за попередній квартал ця цифра була - 1",null,null,null,null,null,null,null,null,null,null,"не повинно перевищувати число у графі 1 - ",null,null,null,{"$f":"'10-11'!F36","v":5}]
[null,null,null,null,null,null,null,null,null,null,"Таблиця 12","В Таблиці 12 у графі 1 сума чисел у рядках 2-7,10-12 -",null,null,null,{"$f":"'12-14'!D5+'12-14'!D6+'12-14'!D7+'12-14'!D8+'12-14'!D9+'12-14'!D10+'12-14'!D13+'12-14'!D14+'12-14'!D15","v":0}]
["В Додатку 1 в графі 1 рядку 4 стоїть цифра - ",null,null,null,null,null,null,null,null,null,null,"не повинна перевищувати число у рядку 1 -",null,null,null,{"$f":"'12-14'!D4","v":0}]
["за попередній квартал ця цифра була - 2",null,null,null,null,null,null,null,null,null,null,"В Таблиці 12 у графі 2 сума чисел у рядках 2-12 -",null,null,null,{"$f":"SUM('12-14'!E5:E15)","v":143}]
[null,null,null,null,null,null,null,null,null,null,null,"не повинна перевищувати число у рядку 1 -",null,null,null,{"$f":"'12-14'!E4","v":143}]
["В Додатку 1 в графі 2 рядку 1 стоїть цифра - 1",null,null,null,null,null,null,null,null,null,null,"В Таблиці 12 у графі 3 сума чисел у рядках 2-12 -",null,null,null,{"$f":"SUM('12-14'!F5:F15)","v":125}]
["за попередній квартал ця цифра була - 5",null,null,null,null,null,null,null,null,null,null,"не повинна перевищувати число у рядку 1 -",null,null,null,{"$f":"'12-14'!F4","v":125}]
[null,null,null,null,null,null,null,null,null,null,null,"В Таблиці 12 у графі 1 число у рядку 13 -",null,null,null,{"$f":"'12-14'!D16","v":0}]
["В Додатку 1 в графі 2 рядку 3 стоїть цифра - ",null,null,null,null,null,null,null,null,null,null,"не повинно перевищувати число у рядку 1 -",null,null,null,{"$f":"'12-14'!D4","v":0}]
["за попередній квартал ця цифра була - 1",null,null,null,null,null,null,null,null,null,null,"В Таблиці 12 у графі 2 число у рядку 13 -",null,null,null,{"$f":"'12-14'!E16","v":32}]
[null,null,null,null,null,null,null,null,null,null,null,"не повинно перевищувати число у рядку 1 -",null,null,null,{"$f":"'12-14'!E4","v":143}]
["В Додатку 1 в графі 2 рядку 4 стоїть цифра - ",null,null,null,null,null,null,null,null,null,null,"В Таблиці 12 у графі 3 число у рядку 13 -",null,null,null,{"$f":"'12-14'!F16","v":29}]
["за попередній квартал ця цифра була - 4",null,null,null,null,null,null,null,null,null,null,"не повинно перевищувати число у рядку 1 -",null,null,null,{"$f":"'12-14'!F4","v":125}]
[null,null,null,null,null,null,null,null,null,null,"Таблиця 13","В Таблиці 13 у графі 1 сума чисел у рядках 2-11 -",null,null,null,{"$f":"SUM('12-14'!D22:D31)","v":0}]
["В Додатку 1 в графі 5 рядку 1 стоїть цифра - 2",null,null,null,null,null,null,null,null,null,null,"не повинна перевищувати число у рядку 1 -",null,null,null,{"$f":"'12-14'!D21","v":0}]
["за попередній квартал ця цифра була - 4",null,null,null,null,null,null,null,null,null,null,"В Таблиці 13 у графі 2 сума чисел у рядках 2-11 -",null,null,null,{"$f":"SUM('12-14'!E22:E31)","v":111}]
[null,null,null,null,null,null,null,null,null,null,null,"не повинна перевищувати число у рядку 1 -",null,null,null,{"$f":"'12-14'!E21","v":125}]
["В Додатку 1 в графі 5 рядку 3 стоїть цифра - ",null,null,null,null,null,null,null,null,null,null,"В Таблиці 13 у графі 3 сума чисел у рядках 2-11 -",null,null,null,{"$f":"SUM('12-14'!F22:F31)","v":50}]
["за попередній квартал ця цифра була - 1",null,null,null,null,null,null,null,null,null,null,"не повинна перевищувати число у рядку 1 -",null,null,null,{"$f":"'12-14'!F21","v":63}]
[null,null,null,null,null,null,null,null,null,null,null,"В Таблиці 13 у графі 1 число у рядку 12 -",null,null,null,{"$f":"'12-14'!D32","v":0}]
["В Додатку 1 в графі 5 рядку 4 стоїть цифра - ",null,null,null,null,null,null,null,null,null,null,"не повинно перевищувати число у рядку 1 -",null,null,null,{"$f":"'12-14'!D21","v":0}]
["за попередній квартал ця цифра була - 3",null,null,null,null,null,null,null,null,null,null,"В Таблиці 13 у графі 2 число у рядку 12 -",null,null,null,{"$f":"'12-14'!E32","v":6}]
[null,null,null,null,null,null,null,null,null,null,null,"не повинно перевищувати число у рядку 1 -",null,null,null,{"$f":"'12-14'!E21","v":125}]
["В Додатку 1 в графі 6 рядку 1 стоїть цифра - ",null,null,null,null,null,null,null,null,null,null,"В Таблиці 13 у графі 3 число у рядку 12 -",null,null,null,{"$f":"'12-14'!F32","v":2}]
["за попередній квартал ця цифра була - 1",null,null,null,null,null,null,null,null,null,null,"не повинно перевищувати число у рядку 1 -",null,null,null,{"$f":"'12-14'!F21","v":63}]
[null,null,null,null,null,null,null,null,null,null,"Таблиця 14","В Таблиці 14 у рядку 1 число число у графі 2 - ",null,null,null,{"$f":"'12-14'!E37","v":0}]
["В Додатку 1 в графі 6 рядку 2 стоїть цифра - ",null,null,null,null,null,null,null,null,null,null,"не повинно перевищувати число у графі 1 - ",null,null,null,{"$f":"'12-14'!D37","v":0}]
["за попередній квартал ця цифра була - 1",null,null,null,null,null,null,null,null,null,null,"В Таблиці 14 у рядку 2 число число у графі 2 - ",null,null,null,{"$f":"'12-14'!E38","v":0}]
[null,null,null,null,null,null,null,null,null,null,null,"не повинно перевищувати число у графі 1 - ",null,null,null,{"$f":"'12-14'!D38","v":0}]
["В Додатку 1 в графі 8 рядку 1 стоїть цифра - ",null,null,null,null,null,null,null,null,null,"Таблиця 15","В Таблиці 15 число у рядку 2 -",null,null,null,{"$f":"'15-16'!E6","v":205}]
["за попередній квартал ця цифра була - 1",null,null,null,null,null,null,null,null,null,null,"не повинно перевищувати число у рядку 1 -",null,null,null,{"$f":"'15-16'!E5","v":4579}]
[null,null,null,null,null,null,null,null,null,null,null,"В Таблиці 15 число у рядку 3 -",null,null,null,{"$f":"'15-16'!E7","v":0}]
["В Додатку 1 в графі 8 рядку 2 стоїть цифра - ",null,null,null,null,null,null,null,null,null,null,"не повинно перевищувати число у рядку 2 -",null,null,null,{"$f":"'15-16'!E6","v":205}]
["за попередній квартал ця цифра була - 1",null,null,null,null,null,null,null,null,null,null,"В Таблиці 15 число у рядку 6 -",null,null,null,{"$f":"'15-16'!E14","v":20}]
[null,null,null,null,null,null,null,null,null,null,null,"не повинно перевищувати число у рядку 5 -",null,null,null,{"$f":"'15-16'!E12","v":2690}]
["В Додатку 1 в графі 9 рядку 1 стоїть цифра - ",null,null,null,null,null,null,null,null,null,null,"В Таблиці 15 число у рядку 10 -",null,null,null,{"$f":"'15-16'!E20","v":0}]
["за попередній квартал ця цифра була - 2",null,null,null,null,null,null,null,null,null,null,"не повинно перевищувати число у рядку 9 -",null,null,null,{"$f":"'15-16'!E18","v":1232}]
[null,null,null,null,null,null,null,null,null,null,null,"В Таблиці 15 число у рядку 11 -",null,null,null,{"$f":"'15-16'!E21","v":5}]
["В Додатку 1 в графі 9 рядку 2 стоїть цифра - ",null,null,null,null,null,null,null,null,null,null,"не повинно перевищувати суму чисел у рядках 1,5,9 -",null,null,null,{"$f":"'15-16'!E5+'15-16'!E12+'15-16'!E18","v":8501}]
["за попередній квартал ця цифра була - 1",null,null,null,null,null,null,null,null,null,null,"В Таблиці 15 число у рядку 12 -",null,null,null,{"$f":"'15-16'!E23","v":0}]
[null,null,null,null,null,null,null,null,null,null,null,"не повинно перевищувати число у рядку 11 -",null,null,null,{"$f":"'15-16'!E21","v":5}]
["В Додатку 1 в графі 9 рядку 4 стоїть цифра - ",null,null,null,null,null,null,null,null,null,null,"В Таблиці 15 число у рядку 15 -",null,null,null,{"$f":"'15-16'!E27","v":924}]
["за попередній квартал ця цифра була - 1",null,null,null,null,null,null,null,null,null,null,"не повинно перевищувати число у рядку 14 -",null,null,null,{"$f":"'15-16'!E26","v":2428}]
[null,null,null,null,null,null,null,null,null,null,null,"В Таблиці 15 число у рядку 16 -",null,null,null,{"$f":"'15-16'!E28","v":66}]
["В Додатку 2 в графі 1 рядку 1 стоїть цифра - ",null,null,null,null,null,null,null,null,null,null,"не повинно перевищувати число у рядку 15 -",null,null,null,{"$f":"'15-16'!E27","v":924}]
["за попередній квартал ця цифра була - 2",null,null,null,null,null,null,null,null,null,null,"В Таблиці 15 число у рядку 17 -",null,null,null,{"$f":"'15-16'!E29","v":262}]
[null,null,null,null,null,null,null,null,null,null,null,"не повинно перевищувати число у рядку 15 -",null,null,null,{"$f":"'15-16'!E27","v":924}]
["В Додатку 2 в графі 1 рядку 2 стоїть цифра - ",null,null,null,null,null,null,null,null,null,null,"В Таблиці 15 число у рядку 18 -",null,null,null,{"$f":"'15-16'!E30","v":5}]
["за попередній квартал ця цифра була - 1",null,null,null,null,null,null,null,null,null,null,"не повинно перевищувати число у рядку 17 -",null,null,null,{"$f":"'15-16'!E29","v":262}]
[null,null,null,null,null,null,null,null,null,null,null,"В Таблиці 15 число у рядку 19 -",null,null,null,{"$f":"'15-16'!E31","v":20}]
["В Додатку 2 в графі 1 рядку 8 стоїть цифра - ",null,null,null,null,null,null,null,null,null,null,"не повинно перевищувати число у рядку 15 -",null,null,null,{"$f":"'15-16'!E27","v":924}]
["за попередній квартал ця цифра була - 3",null,null,null,null,null,null,null,null,null,null,"В Таблиці 15 число у рядку 20 -",null,null,null,{"$f":"'15-16'!E32","v":0}]
[null,null,null,null,null,null,null,null,null,null,null,"не повинно перевищувати число у рядку 19 -",null,null,null,{"$f":"'15-16'!E31","v":20}]
["В Додатку 2 в графі 1 рядку 9 стоїть цифра - ",null,null,null,null,null,null,null,null,null,null,"В Таблиці 15 число у рядку 21 -",null,null,null,{"$f":"'15-16'!E33","v":0}]
["за попередній квартал ця цифра була - 1",null,null,null,null,null,null,null,null,null,null,"не повинно перевищувати число у рядку 20 -",null,null,null,{"$f":"'15-16'!E32","v":0}]
[null,null,null,null,null,null,null,null,null,null,"Таблиця 16","В Таблиці 16 у графі 1 сума чисел у рядках 2,10,14-16,19-21 -",null,null,null,{"$f":"'15-16'!K6+'15-16'!K14+'15-16'!K18+'15-16'!K19+'15-16'!K20+'15-16'!K23+'15-16'!K24+'15-16'!K25","v":3123}]
["В Додатку 2 в графі 1 рядку 10 стоїть цифра - ",null,null,null,null,null,null,null,null,null,null,"не повинна перевищувати число у рядку 1 -",null,null,null,{"$f":"'15-16'!K5","v":4579}]
["за попередній квартал ця цифра була - 1",null,null,null,null,null,null,null,null,null,null,"В Таблиці 16 у графі 2 сума чисел у рядках 2,10,14-16,19-21 -",null,null,null,{"$f":"'15-16'!L6+'15-16'!L14+'15-16'!L18+'15-16'!L19+'15-16'!L20+'15-16'!L23+'15-16'!L24+'15-16'!L25","v":104}]
[null,null,null,null,null,null,null,null,null,null,null,"не повинна перевищувати число у рядку 1 -",null,null,null,{"$f":"'15-16'!L5","v":128}]
["В Додатку 3 в графі 1 рядку 1 стоїть цифра - ",null,null,null,null,null,null,null,null,null,null,"В Таблиці 16 у графі 3 сума чисел у рядках 2,10,14-16,19-21 -",null,null,null,{"$f":"'15-16'!M6+'15-16'!M14+'15-16'!M18+'15-16'!M19+'15-16'!M20+'15-16'!M23+'15-16'!M24+'15-16'!M25","v":176}]
["за попередній квартал ця цифра була - 1",null,null,null,null,null,null,null,null,null,null,"не повинна перевищувати число у рядку 1 -",null,null,null,{"$f":"'15-16'!M5","v":205}]
[null,null,null,null,null,null,null,null,null,null,null,"В Таблиці 16 у графі 4 сума чисел у рядках 2,10,14-16,19-21 -",null,null,null,{"$f":"'15-16'!N6+'15-16'!N14+'15-16'!N18+'15-16'!N19+'15-16'!N20+'15-16'!N23+'15-16'!N24+'15-16'!N25","v":0}]
["В Додатку 3 в графі 1 рядку 2 стоїть цифра - ",null,null,null,null,null,null,null,null,null,null,"не повинна перевищувати число у рядку 1 -",null,null,null,{"$f":"'15-16'!N5","v":1}]
["за попередній квартал ця цифра була - 1",null,null,null,null,null,null,null,null,null,null,"В Таблиці 16 у графі 5 сума чисел у рядках 2,10,14-16,19-21 -",null,null,null,{"$f":"'15-16'!O6+'15-16'!O14+'15-16'!O18+'15-16'!O19+'15-16'!O20+'15-16'!O23+'15-16'!O24+'15-16'!O25","v":2}]
[null,null,null,null,null,null,null,null,null,null,null,"не повинна перевищувати число у рядку 1 -",null,null,null,{"$f":"'15-16'!O5","v":2}]
["В Додатку 3 в графі 1 рядку 3 стоїть цифра - ",null,null,null,null,null,null,null,null,null,null,"В Таблиці 16 у графі 1 сума чисел у рядках 3,4 -",null,null,null,{"$f":"SUM('15-16'!K7:K8)","v":231}]
["за попередній квартал ця цифра була - 1",null,null,null,null,null,null,null,null,null,null,"не повинна перевищувати число у рядку 2 -",null,null,null,{"$f":"'15-16'!K6","v":2332}]
[null,null,null,null,null,null,null,null,null,null,null,"В Таблиці 16 у графі 2 сума чисел у рядках 3,4 -",null,null,null,{"$f":"SUM('15-16'!L7:L8)","v":1}]
["В Додатку 3 в графі 2 рядку 1 стоїть цифра - 1",null,null,null,null,null,null,null,null,null,null,"не повинна перевищувати число у рядку 2 -",null,null,null,{"$f":"'15-16'!L6","v":84}]
["за попередній квартал ця цифра була - 2",null,null,null,null,null,null,null,null,null,null,"В Таблиці 16 у графі 3 сума чисел у рядках 3,4 -",null,null,null,{"$f":"SUM('15-16'!M7:M8)","v":8}]
[null,null,null,null,null,null,null,null,null,null,null,"не повинна перевищувати число у рядку 2 -",null,null,null,{"$f":"'15-16'!M6","v":28}]
["В Додатку 3 в графі 2 рядку 12 стоїть цифра - ",null,null,null,null,null,null,null,null,null,null,"В Таблиці 16 у графі 4 сума чисел у рядках 3,4 -",null,null,null,{"$f":"SUM('15-16'!N7:N8)","v":0}]
["за попередній квартал ця цифра була - 1",null,null,null,null,null,null,null,null,null,null,"не повинна перевищувати число у рядку 2 -",null,null,null,{"$f":"'15-16'!N6","v":0}]
[null,null,null,null,null,null,null,null,null,null,null,"В Таблиці 16 у графі 5 сума чисел у рядках 3,4 -",null,null,null,{"$f":"SUM('15-16'!O7:O8)","v":1}]
["В Додатку 4 в графі 1 рядку 2 стоїть цифра - ",null,null,null,null,null,null,null,null,null,null,"не повинна перевищувати число у рядку 2 -",null,null,null,{"$f":"'15-16'!O6","v":1}]
["за попередній квартал ця цифра була - 1",null,null,null,null,null,null,null,null,null,null,"В Таблиці 16 у графі 1 сума чисел у рядках 5-9 -",null,null,null,{"$f":"SUM('15-16'!K9:K13)","v":1267}]
[null,null,null,null,null,null,null,null,null,null,null,"не повинна перевищувати число у рядку 2 -",null,null,null,{"$f":"'15-16'!K6","v":2332}]
["В Додатку 4 в графі 1 рядку 7 стоїть цифра - ",null,null,null,null,null,null,null,null,null,null,"В Таблиці 16 у графі 2 сума чисел у рядках 5-9 -",null,null,null,{"$f":"SUM('15-16'!L9:L13)","v":69}]
["за попередній квартал ця цифра була - 1",null,null,null,null,null,null,null,null,null,null,"не повинна перевищувати число у рядку 2 -",null,null,null,{"$f":"'15-16'!L6","v":84}]
[null,null,null,null,null,null,null,null,null,null,null,"В Таблиці 16 у графі 3 сума чисел у рядках 5-9 -",null,null,null,{"$f":"SUM('15-16'!M9:M13)","v":23}]
["В Таблиці 1 у графі 10 сума чисел у рядках 5,6,14 -",null,"В звіті допущено 523 помилок.",null,392,null,null,null,null,null,null,"не повинна перевищувати число у рядку 2 -",null,null,null,{"$f":"'15-16'!M6","v":28}]
["повинна дорівнювати числу у рядку 1 -",null,null,null,393,null,null,null,null,null,null,"В Таблиці 16 у графі 4 сума чисел у рядках 5-9 -",null,null,null,{"$f":"SUM('15-16'!N9:N13)","v":0}]
[null,null,null,null,null,null,null,null,null,null,null,"не повинна перевищувати число у рядку 2 -",null,null,null,{"$f":"'15-16'!N6","v":0}]
[null,null,"В звіті допущено 524 помилок.",null,null,null,null,null,null,null,null,"В Таблиці 16 у графі 5 сума чисел у рядках 5-9 -",null,null,null,{"$f":"SUM('15-16'!O9:O13)","v":1}]
[null,null,null,null,null,null,null,null,null,null,null,"не повинна перевищувати число у рядку 2 -",null,null,null,{"$f":"'15-16'!O6","v":1}]
[null,null,null,null,null,null,null,null,null,null,null,"В Таблиці 16 у графі 1 число у рядку 7 -",null,null,null,{"$f":"'15-16'!K11","v":3}]
[null,null,null,null,null,null,null,null,null,null,null,"не повинна перевищувати число у рядку 6 -",null,null,null,{"$f":"'15-16'!K10","v":1085}]
[null,null,null,null,null,null,null,null,null,null,null,"В Таблиці 16 у графі 2 число у рядку 7 -",null,null,null,{"$f":"'15-16'!L11","v":0}]
[null,null,null,null,null,null,null,null,null,null,null,"не повинна перевищувати число у рядку 6 -",null,null,null,{"$f":"'15-16'!L10","v":64}]
[null,null,null,null,null,null,null,null,null,null,null,"В Таблиці 16 у графі 3 число у рядку 7 -",null,null,null,{"$f":"'15-16'!M11","v":1}]
[null,null,null,null,null,null,null,null,null,null,null,"не повинна перевищувати число у рядку 6 -",null,null,null,{"$f":"'15-16'!M10","v":21}]
[null,null,null,null,null,null,null,null,null,null,null,"В Таблиці 16 у графі 4 число у рядку 7 -",null,null,null,{"$f":"'15-16'!N11","v":0}]
[null,null,null,null,null,null,null,null,null,null,null,"не повинна перевищувати число у рядку 6 -",null,null,null,{"$f":"'15-16'!N10","v":0}]
[null,null,null,null,null,null,null,null,null,null,null,"В Таблиці 16 у графі 5 число у рядку 7 -",null,null,null,{"$f":"'15-16'!O11","v":0}]
[null,null,null,null,null,null,null,null,null,null,null,"не повинна перевищувати число у рядку 6 -",null,null,null,{"$f":"'15-16'!O10","v":1}]
[null,null,null,null,null,null,null,null,null,null,null,"В Таблиці 16 у графі 1 сума чисел у рядках 11-13 -",null,null,null,{"$f":"SUM('15-16'!K15:K17)","v":0}]
[null,null,null,null,null,null,null,null,null,null,null,"не повинна перевищувати число у рядку 10 -",null,null,null,{"$f":"'15-16'!K14","v":0}]
[null,null,null,null,null,null,null,null,null,null,null,"В Таблиці 16 у графі 2 сума чисел у рядках 11-13 -",null,null,null,{"$f":"SUM('15-16'!L15:L17)","v":0}]
[null,null,null,null,null,null,null,null,null,null,null,"не повинна перевищувати число у рядку 10 -",null,null,null,{"$f":"'15-16'!L14","v":0}]
[null,null,null,null,null,null,null,null,null,null,null,"В Таблиці 16 у графі 3 сума чисел у рядках 11-13 -",null,null,null,{"$f":"SUM('15-16'!M15:M17)","v":0}]
[null,null,null,null,null,null,null,null,null,null,null,"не повинна перевищувати число у рядку 10 -",null,null,null,{"$f":"'15-16'!M14","v":0}]
[null,null,null,null,null,null,null,null,null,null,null,"В Таблиці 16 у графі 4 сума чисел у рядках 11-13 -",null,null,null,{"$f":"SUM('15-16'!N15:N17)","v":0}]
[null,null,null,null,null,null,null,null,null,null,null,"не повинна перевищувати число у рядку 10 -",null,null,null,{"$f":"'15-16'!N14","v":0}]
[null,null,null,null,null,null,null,null,null,null,null,"В Таблиці 16 у графі 5 сума чисел у рядках 11-13 -",null,null,null,{"$f":"SUM('15-16'!O15:O17)","v":0}]
[null,null,null,null,null,null,null,null,null,null,null,"не повинна перевищувати число у рядку 10 -",null,null,null,{"$f":"'15-16'!O14","v":0}]
[null,null,null,null,null,null,null,null,null,null,null,"В Таблиці 16 у графі 1 сума чисел у рядках 17,18 -",null,null,null,{"$f":"SUM('15-16'!K21:K22)","v":29}]
[null,null,null,null,null,null,null,null,null,null,null,"не повинна перевищувати число у рядку 16 -",null,null,null,{"$f":"'15-16'!K20","v":383}]
[null,null,null,null,null,null,null,null,null,null,null,"В Таблиці 16 у графі 2 сума чисел у рядках 17,18 -",null,null,null,{"$f":"SUM('15-16'!L21:L22)","v":0}]
[null,null,null,null,null,null,null,null,null,null,null,"не повинна перевищувати число у рядку 16 -",null,null,null,{"$f":"'15-16'!L20","v":15}]
[null,null,null,null,null,null,null,null,null,null,null,"В Таблиці 16 у графі 3 сума чисел у рядках 17,18 -",null,null,null,{"$f":"SUM('15-16'!M21:M22)","v":0}]
[null,null,null,null,null,null,null,null,null,null,null,"не повинна перевищувати число у рядку 16 -",null,null,null,{"$f":"'15-16'!M20","v":108}]
[null,null,null,null,null,null,null,null,null,null,null,"В Таблиці 16 у графі 4 сума чисел у рядках 17,18 -",null,null,null,{"$f":"SUM('15-16'!N21:N22)","v":0}]
[null,null,null,null,null,null,null,null,null,null,null,"не повинна перевищувати число у рядку 16 -",null,null,null,{"$f":"'15-16'!N20","v":0}]
[null,null,null,null,null,null,null,null,null,null,null,"В Таблиці 16 у графі 5 сума чисел у рядках 17,18 -",null,null,null,{"$f":"SUM('15-16'!O21:O22)","v":0}]
[null,null,null,null,null,null,null,null,null,null,null,"не повинна перевищувати число у рядку 16 -",null,null,null,{"$f":"'15-16'!O20","v":1}]
[null,null,null,null,null,null,null,null,null,null,null,"В Таблиці 16 у графі 1 число у рядку 22 -",null,null,null,{"$f":"'15-16'!K26","v":14}]
[null,null,null,null,null,null,null,null,null,null,null,"не повинна перевищувати число у рядку 21 -",null,null,null,{"$f":"'15-16'!K25","v":329}]
[null,null,null,null,null,null,null,null,null,null,null,"В Таблиці 16 у графі 2 число у рядку 22 -",null,null,null,{"$f":"'15-16'!L26","v":0}]
[null,null,null,null,null,null,null,null,null,null,null,"не повинна перевищувати число у рядку 21 -",null,null,null,{"$f":"'15-16'!L25","v":1}]
[null,null,null,null,null,null,null,null,null,null,null,"В Таблиці 16 у графі 3 число у рядку 22 -",null,null,null,{"$f":"'15-16'!M26","v":4}]
[null,null,null,null,null,null,null,null,null,null,null,"не повинна перевищувати число у рядку 21 -",null,null,null,{"$f":"'15-16'!M25","v":37}]
[null,null,null,null,null,null,null,null,null,null,null,"В Таблиці 16 у графі 4 число у рядку 22 -",null,null,null,{"$f":"'15-16'!N26","v":0}]
[null,null,null,null,null,null,null,null,null,null,null,"не повинна перевищувати число у рядку 21 -",null,null,null,{"$f":"'15-16'!N25","v":0}]
[null,null,null,null,null,null,null,null,null,null,null,"В Таблиці 16 у графі 5 число у рядку 22 -",null,null,null,{"$f":"'15-16'!O26","v":0}]
[null,null,null,null,null,null,null,null,null,null,null,"не повинна перевищувати число у рядку 21 -",null,null,null,{"$f":"'15-16'!O25","v":0}]
[null,null,null,null,null,null,null,null,null,null,"Таблиця 17","В Таблиці 17 сума чисел у рядках 3-7 -",null,null,null,{"$f":"SUM('17-19'!I6:K10)","v":1863}]
[null,null,null,null,null,null,null,null,null,null,null,"не повинна перевищувати число у рядку 2 -",null,null,null,{"$f":"'17-19'!I5","v":1870}]
[null,null,null,null,null,null,null,null,null,null,null,"В Таблиці 17 число у рядку 9 -",null,null,null,{"$f":"'17-19'!I12","v":0}]
[null,null,null,null,null,null,null,null,null,null,null,"не повинна перевищувати число у рядку 8 -",null,null,null,{"$f":"'17-19'!I11","v":0}]
[null,null,null,null,null,null,null,null,null,null,"Таблиця 18","В Таблиці 18 сума чисел у рядках 3-4 -",null,null,null,{"$f":"SUM('17-19'!D19:D20)","v":2}]
[null,null,null,null,null,null,null,null,null,null,null,"не повинна перевищувати число у рядку 2 -",null,null,null,{"$f":"'17-19'!D18","v":56}]
[null,null,null,null,null,null,null,null,null,null,null,"В Таблиці 18 число у рядку 8 -",null,null,null,{"$f":"'17-19'!D24","v":1}]
[null,null,null,null,null,null,null,null,null,null,null,"не повинно перевищувати число у рядку 7 -",null,null,null,{"$f":"'17-19'!D23","v":3}]
[null,null,null,null,null,null,null,null,null,null,null,"В Таблиці 18 число у рядку 10 -",null,null,null,{"$f":"'17-19'!D26","v":0}]
[null,null,null,null,null,null,null,null,null,null,null,"не повинно перевищувати число у рядку 9 -",null,null,null,{"$f":"'17-19'!D25","v":2}]
[null,null,null,null,null,null,null,null,null,null,"Таблиця 19","В Таблиці 19 у графі 1 сума чисел у рядках 1-4,6,7 -",null,null,null,{"$f":"'17-19'!I17+'17-19'!I18+'17-19'!I19+'17-19'!I20+'17-19'!I22+'17-19'!I23","v":56}]
[null,null,null,null,null,null,null,null,null,null,null,"не повинна перевищувати число у рядку 2 Таблиці 18 -",null,null,null,{"$f":"'17-19'!D18","v":56}]
[null,null,null,null,null,null,null,null,null,null,null,"В Таблиці 19 у графі 2 сума чисел у рядках 1-4,6,7 -",null,null,null,{"$f":"'17-19'!J17+'17-19'!J18+'17-19'!J19+'17-19'!J20+'17-19'!J22+'17-19'!J23","v":0}]
[null,null,null,null,null,null,null,null,null,null,null,"не повинна перевищувати число у рядку 5 Таблиці 18 -",null,null,null,{"$f":"'17-19'!D21","v":0}]
[null,null,null,null,null,null,null,null,null,null,null,"В Таблиці 19 у графі 3 сума чисел у рядках 1-4,6,7 -",null,null,null,{"$f":"'17-19'!K17+'17-19'!K18+'17-19'!K19+'17-19'!K20+'17-19'!K22+'17-19'!K23","v":15}]
[null,null,null,null,null,null,null,null,null,null,null,"не повинна перевищувати число у рядку 6 Таблиці 18 -",null,null,null,{"$f":"'17-19'!D22","v":15}]
[null,null,null,null,null,null,null,null,null,null,null,"В Таблиці 19 у графі 1 число у рядку 5 -",null,null,null,{"$f":"'17-19'!I21","v":5}]
[null,null,null,null,null,null,null,null,null,null,null,"не повинна перевищувати число у рядку 4 -",null,null,null,{"$f":"'17-19'!I20","v":7}]
[null,null,null,null,null,null,null,null,null,null,null,"В Таблиці 19 у графі 2 число у рядку 5 -",null,null,null,{"$f":"'17-19'!J21","v":0}]
[null,null,null,null,null,null,null,null,null,null,null,"не повинна перевищувати число у рядку 4 -",null,null,null,{"$f":"'17-19'!J20","v":0}]
[null,null,null,null,null,null,null,null,null,null,null,"В Таблиці 19 у графі 3 число у рядку 5 -",null,null,null,{"$f":"'17-19'!K21","v":0}]
[null,null,null,null,null,null,null,null,null,null,null,"не повинна перевищувати число у рядку 4 -",null,null,null,{"$f":"'17-19'!K20","v":0}]
[null,null,null,null,null,null,null,null,null,null,"Додаток 1","В Додатку 1 у графі 1 сума чисел у рядках 2-4 -",null,null,null,{"$f":"SUM('dod 1-2'!E6:E8)","v":7}]
[null,null,null,null,null,null,null,null,null,null,null,"не повинна перевищувати число у рядку 1 -",null,null,null,{"$f":"'dod 1-2'!E5","v":7}]
[null,null,null,null,null,null,null,null,null,null,null,"В Додатку 1 у графі 2 сума чисел у рядках 2-4 -",null,null,null,{"$f":"SUM('dod 1-2'!F6:F8)","v":8}]
[null,null,null,null,null,null,null,null,null,null,null,"не повинна перевищувати число у рядку 1 -",null,null,null,{"$f":"'dod 1-2'!F5","v":9}]
[null,null,null,null,null,null,null,null,null,null,null,"В Додатку 1 у графі 3 сума чисел у рядках 2-4 -",null,null,null,{"$f":"SUM('dod 1-2'!G6:G8)","v":1}]
[null,null,null,null,null,null,null,null,null,null,null,"не повинна перевищувати число у рядку 1 -",null,null,null,{"$f":"'dod 1-2'!G5","v":1}]
[null,null,null,null,null,null,null,null,null,null,null,"В Додатку 1 у графі 4 сума чисел у рядках 2-4 -",null,null,null,{"$f":"SUM('dod 1-2'!H6:H8)","v":169}]
[null,null,null,null,null,null,null,null,null,null,null,"не повинна перевищувати число у рядку 1 -",null,null,null,{"$f":"'dod 1-2'!H5","v":169}]
[null,null,null,null,null,null,null,null,null,null,null,"В Додатку 1 у графі 5 сума чисел у рядках 2-4 -",null,null,null,{"$f":"SUM('dod 1-2'!I6:I8)","v":7}]
[null,null,null,null,null,null,null,null,null,null,null,"не повинна перевищувати число у рядку 1 -",null,null,null,{"$f":"'dod 1-2'!I5","v":7}]
[null,null,null,null,null,null,null,null,null,null,null,"В Додатку 1 у графі 6 сума чисел у рядках 2-4 -",null,null,null,{"$f":"SUM('dod 1-2'!J6:J8)","v":2}]
[null,null,null,null,null,null,null,null,null,null,null,"не повинна перевищувати число у рядку 1 -",null,null,null,{"$f":"'dod 1-2'!J5","v":2}]
[null,null,null,null,null,null,null,null,null,null,null,"В Додатку 1 у графі 7 сума чисел у рядках 2-4 -",null,null,null,{"$f":"SUM('dod 1-2'!K6:K8)","v":0}]
[null,null,null,null,null,null,null,null,null,null,null,"не повинна перевищувати число у рядку 1 -",null,null,null,{"$f":"'dod 1-2'!K5","v":0}]
[null,null,null,null,null,null,null,null,null,null,null,"В Додатку 1 у графі 8 сума чисел у рядках 2-4 -",null,null,null,{"$f":"SUM('dod 1-2'!L6:L8)","v":1}]
[null,null,null,null,null,null,null,null,null,null,null,"не повинна перевищувати число у рядку 1 -",null,null,null,{"$f":"'dod 1-2'!L5","v":1}]
[null,null,null,null,null,null,null,null,null,null,null,"В Додатку 1 у графі 9 сума чисел у рядках 2-4 -",null,null,null,{"$f":"SUM('dod 1-2'!M6:M8)","v":3}]
[null,null,null,null,null,null,null,null,null,null,null,"не повинна перевищувати число у рядку 1 -",null,null,null,{"$f":"'dod 1-2'!M5","v":3}]
[null,null,null,null,null,null,null,null,null,null,"Додаток 2","В Додатку 2 у графі 1 число у рядку 2 -",null,null,null,{"$f":"'dod 1-2'!L14","v":1}]
[null,null,null,null,null,null,null,null,null,null,null,"не повинно перевищувати число у рядку 1 - ",null,null,null,{"$f":"'dod 1-2'!L13","v":2}]
[null,null,null,null,null,null,null,null,null,null,null,"В Додатку 2 у графі 2 число у рядку 2 -",null,null,null,{"$f":"'dod 1-2'!M14","v":0}]
[null,null,null,null,null,null,null,null,null,null,null,"не повинно перевищувати число у рядку 1 - ",null,null,null,{"$f":"'dod 1-2'!M13","v":0}]
[null,null,null,null,null,null,null,null,null,null,null,"В Додатку 2 у графі 1 число у рядку 3 -",null,null,null,{"$f":"'dod 1-2'!L15","v":0}]
[null,null,null,null,null,null,null,null,null,null,null,"не повинно перевищувати число у рядку 2 - ",null,null,null,{"$f":"'dod 1-2'!L14","v":1}]
[null,null,null,null,null,null,null,null,null,null,null,"В Додатку 2 у графі 2 число у рядку 3 -",null,null,null,{"$f":"'dod 1-2'!M15","v":0}]
[null,null,null,null,null,null,null,null,null,null,null,"не повинно перевищувати число у рядку 2 - ",null,null,null,{"$f":"'dod 1-2'!M14","v":0}]
[null,null,null,null,null,null,null,null,null,null,null,"В Додатку 2 у графі 1 число у рядку 4 -",null,null,null,{"$f":"'dod 1-2'!L16","v":0}]
[null,null,null,null,null,null,null,null,null,null,null,"не повинно перевищувати число у рядку 2 - ",null,null,null,{"$f":"'dod 1-2'!L14","v":1}]
[null,null,null,null,null,null,null,null,null,null,null,"В Додатку 2 у графі 2 число у рядку 4 -",null,null,null,{"$f":"'dod 1-2'!M16","v":0}]
[null,null,null,null,null,null,null,null,null,null,null,"не повинно перевищувати число у рядку 2 - ",null,null,null,{"$f":"'dod 1-2'!M14","v":0}]
[null,null,null,null,null,null,null,null,null,null,null,"В Додатку 2 у графі 1 число у рядку 5 -",null,null,null,{"$f":"'dod 1-2'!L17","v":0}]
[null,null,null,null,null,null,null,null,null,null,null,"не повинно перевищувати число у рядку 2 - ",null,null,null,{"$f":"'dod 1-2'!L14","v":1}]
[null,null,null,null,null,null,null,null,null,null,null,"В Додатку 2 у графі 2 число у рядку 5 -",null,null,null,{"$f":"'dod 1-2'!M17","v":0}]
[null,null,null,null,null,null,null,null,null,null,null,"не повинно перевищувати число у рядку 2 - ",null,null,null,{"$f":"'dod 1-2'!M14","v":0}]
[null,null,null,null,null,null,null,null,null,null,null,"В Додатку 2 у графі 1 число у рядку 6 -",null,null,null,{"$f":"'dod 1-2'!L18","v":0}]
[null,null,null,null,null,null,null,null,null,null,null,"не повинно перевищувати число у рядку 2 - ",null,null,null,{"$f":"'dod 1-2'!L14","v":1}]
[null,null,null,null,null,null,null,null,null,null,null,"В Додатку 2 у графі 2 число у рядку 6 -",null,null,null,{"$f":"'dod 1-2'!M18","v":0}]
[null,null,null,null,null,null,null,null,null,null,null,"не повинно перевищувати число у рядку 2 - ",null,null,null,{"$f":"'dod 1-2'!M14","v":0}]
[null,null,null,null,null,null,null,null,null,null,null,"В Додатку 2 у графі 1 сума чисел у рядках 9-10 -",null,null,null,{"$f":"SUM('dod 1-2'!L21:L22)","v":2}]
[null,null,null,null,null,null,null,null,null,null,null,"не повинна перевищувати число у рядку 8 - ",null,null,null,{"$f":"'dod 1-2'!L20","v":3}]
[null,null,null,null,null,null,null,null,null,null,null,"В Додатку 2 у графі 2 сума чисел у рядках 9-10 -",null,null,null,{"$f":"SUM('dod 1-2'!M21:M22)","v":0}]
[null,null,null,null,null,null,null,null,null,null,null,"не повинна перевищувати число у рядку 8 - ",null,null,null,{"$f":"'dod 1-2'!M20","v":0}]
[null,null,null,null,null,null,null,null,null,null,null,"В Додатку 2 у графі 1 число у рядку 12 -",null,null,null,{"$f":"'dod 1-2'!L24","v":0}]
[null,null,null,null,null,null,null,null,null,null,null,"не повинно перевищувати число у рядку 11 - ",null,null,null,{"$f":"'dod 1-2'!L23","v":0}]
[null,null,null,null,null,null,null,null,null,null,null,"В Додатку 2 у графі 2 число у рядку 12 -",null,null,null,{"$f":"'dod 1-2'!M24","v":0}]
[null,null,null,null,null,null,null,null,null,null,null,"не повинно перевищувати число у рядку 11 - ",null,null,null,{"$f":"'dod 1-2'!M23","v":0}]
[null,null,null,null,null,null,null,null,null,null,null,"В Додатку 2 у графі 1 число у рядку 13 -",null,null,null,{"$f":"'dod 1-2'!L25","v":0}]
[null,null,null,null,null,null,null,null,null,null,null,"не повинно перевищувати число у рядку 11 - ",null,null,null,{"$f":"'dod 1-2'!L23","v":0}]
[null,null,null,null,null,null,null,null,null,null,null,"В Додатку 2 у графі 2 число у рядку 13 -",null,null,null,{"$f":"'dod 1-2'!M25","v":0}]
[null,null,null,null,null,null,null,null,null,null,null,"не повинно перевищувати число у рядку 11 - ",null,null,null,{"$f":"'dod 1-2'!M23","v":0}]
[null,null,null,null,null,null,null,null,null,null,null,"В Додатку 2 у графі 1 число у рядку 14 -",null,null,null,{"$f":"'dod 1-2'!L26","v":0}]
[null,null,null,null,null,null,null,null,null,null,null,"не повинно перевищувати число у рядку 11 - ",null,null,null,{"$f":"'dod 1-2'!L23","v":0}]
[null,null,null,null,null,null,null,null,null,null,null,"В Додатку 2 у графі 2 число у рядку 14 -",null,null,null,{"$f":"'dod 1-2'!M26","v":0}]
[null,null,null,null,null,null,null,null,null,null,null,"не повинно перевищувати число у рядку 11 - ",null,null,null,{"$f":"'dod 1-2'!M23","v":0}]
[null,null,null,null,null,null,null,null,null,null,null,"В Додатку 2 у графі 1 число у рядку 16 -",null,null,null,{"$f":"'dod 1-2'!L28","v":0}]
[null,null,null,null,null,null,null,null,null,null,null,"не повинно перевищувати число у рядку 15 - ",null,null,null,{"$f":"'dod 1-2'!L27","v":0}]
[null,null,null,null,null,null,null,null,null,null,null,"В Додатку 2 у графі 2 число у рядку 16 -",null,null,null,{"$f":"'dod 1-2'!M28","v":0}]
[null,null,null,null,null,null,null,null,null,null,null,"не повинно перевищувати число у рядку 15 - ",null,null,null,{"$f":"'dod 1-2'!M27","v":0}]
[null,null,null,null,null,null,null,null,null,null,null,"В Додатку 2 у графі 1 число у рядку 17 -",null,null,null,{"$f":"'dod 1-2'!L29","v":0}]
[null,null,null,null,null,null,null,null,null,null,null,"не повинно перевищувати число у рядку 15 - ",null,null,null,{"$f":"'dod 1-2'!L27","v":0}]
[null,null,null,null,null,null,null,null,null,null,null,"В Додатку 2 у графі 2 число у рядку 17 -",null,null,null,{"$f":"'dod 1-2'!M29","v":0}]
[null,null,null,null,null,null,null,null,null,null,null,"не повинно перевищувати число у рядку 15 - ",null,null,null,{"$f":"'dod 1-2'!M27","v":0}]
[null,null,null,null,null,null,null,null,null,null,"Додаток 3","В Додатку 3 у графі 1 сума чисел у рядках 3-4 -",null,null,null,{"$f":"'dod 3-4'!F8+'dod 3-4'!F9","v":1}]
[null,null,null,null,null,null,null,null,null,null,null,"не повинно перевищувати число у рядку 2 - ",null,null,null,{"$f":"'dod 3-4'!F7","v":1}]
[null,null,null,null,null,null,null,null,null,null,null,"В Додатку 3 у графі 1 сума чисел у рядках 3-4 -",null,null,null,{"$f":"'dod 3-4'!G8+'dod 3-4'!G9","v":0}]
[null,null,null,null,null,null,null,null,null,null,null,"не повинно перевищувати число у рядку 2 - ",null,null,null,{"$f":"'dod 3-4'!G7","v":1}]
[null,null,null,null,null,null,null,null,null,null,null,"В Додатку 3 у графі 3 число у рядку 4 -",null,null,null,{"$f":"'dod 3-4'!H9","v":0}]
[null,null,null,null,null,null,null,null,null,null,null,"не повинно перевищувати число у рядку 2 - ",null,null,null,{"$f":"'dod 3-4'!H7","v":0}]
[null,null,null,null,null,null,null,null,null,null,null,"В Додатку 3 у графі 4 число у рядку 4 -",null,null,null,{"$f":"'dod 3-4'!I9","v":0}]
[null,null,null,null,null,null,null,null,null,null,null,"не повинно перевищувати число у рядку 2 - ",null,null,null,{"$f":"'dod 3-4'!I7","v":0}]
[null,null,null,null,null,null,null,null,null,null,null,"В Додатку 3 у графі 5 число у рядку 4 -",null,null,null,{"$f":"'dod 3-4'!J9","v":0}]
[null,null,null,null,null,null,null,null,null,null,null,"не повинно перевищувати число у рядку 2 - ",null,null,null,{"$f":"'dod 3-4'!J7","v":0}]
[null,null,null,null,null,null,null,null,null,null,null,"В Додатку 3 у графі 6 число у рядку 4 -",null,null,null,{"$f":"'dod 3-4'!K9","v":0}]
[null,null,null,null,null,null,null,null,null,null,null,"не повинно перевищувати число у рядку 2 - ",null,null,null,{"$f":"'dod 3-4'!K7","v":0}]
[null,null,null,null,null,null,null,null,null,null,null,"В Додатку 3 у графі 7 число у рядку 4 -",null,null,null,{"$f":"'dod 3-4'!L9","v":0}]
[null,null,null,null,null,null,null,null,null,null,null,"не повинно перевищувати число у рядку 2 - ",null,null,null,{"$f":"'dod 3-4'!L7","v":0}]
[null,null,null,null,null,null,null,null,null,null,null,"В Додатку 3 у графі 8 число у рядку 4 -",null,null,null,{"$f":"'dod 3-4'!M9","v":0}]
[null,null,null,null,null,null,null,null,null,null,null,"не повинно перевищувати число у рядку 2 - ",null,null,null,{"$f":"'dod 3-4'!M7","v":0}]
[null,null,null,null,null,null,null,null,null,null,null,"В Додатку 3 у графі 1 число у рядку 5 -",null,null,null,{"$f":"'dod 3-4'!F10","v":0}]
[null,null,null,null,null,null,null,null,null,null,null,"не повинно перевищувати число у рядку 4 - ",null,null,null,{"$f":"'dod 3-4'!F9","v":0}]
[null,null,null,null,null,null,null,null,null,null,null,"В Додатку 3 у графі 2 число у рядку 5 -",null,null,null,{"$f":"'dod 3-4'!G10","v":0}]
[null,null,null,null,null,null,null,null,null,null,null,"не повинно перевищувати число у рядку 4 - ",null,null,null,{"$f":"'dod 3-4'!G9","v":0}]
[null,null,null,null,null,null,null,null,null,null,null,"В Додатку 3 у графі 3 число у рядку 5 -",null,null,null,{"$f":"'dod 3-4'!H10","v":0}]
[null,null,null,null,null,null,null,null,null,null,null,"не повинно перевищувати число у рядку 4 - ",null,null,null,{"$f":"'dod 3-4'!H9","v":0}]
[null,null,null,null,null,null,null,null,null,null,null,"В Додатку 3 у графі 4 число у рядку 5 -",null,null,null,{"$f":"'dod 3-4'!I10","v":0}]
[null,null,null,null,null,null,null,null,null,null,null,"не повинно перевищувати число у рядку 4 - ",null,null,null,{"$f":"'dod 3-4'!I9","v":0}]
[null,null,null,null,null,null,null,null,null,null,null,"В Додатку 3 у графі 5 число у рядку 5 -",null,null,null,{"$f":"'dod 3-4'!J10","v":0}]
[null,null,null,null,null,null,null,null,null,null,null,"не повинно перевищувати число у рядку 4 - ",null,null,null,{"$f":"'dod 3-4'!J9","v":0}]
[null,null,null,null,null,null,null,null,null,null,null,"В Додатку 3 у графі 6 число у рядку 5 -",null,null,null,{"$f":"'dod 3-4'!K10","v":0}]
[null,null,null,null,null,null,null,null,null,null,null,"не повинно перевищувати число у рядку 4 - ",null,null,null,{"$f":"'dod 3-4'!K9","v":0}]
[null,null,null,null,null,null,null,null,null,null,null,"В Додатку 3 у графі 7 число у рядку 5 -",null,null,null,{"$f":"'dod 3-4'!L10","v":0}]
[null,null,null,null,null,null,null,null,null,null,null,"не повинно перевищувати число у рядку 4 - ",null,null,null,{"$f":"'dod 3-4'!L9","v":0}]
[null,null,null,null,null,null,null,null,null,null,null,"В Додатку 3 у графі 8 число у рядку 5 -",null,null,null,{"$f":"'dod 3-4'!M10","v":0}]
[null,null,null,null,null,null,null,null,null,null,null,"не повинно перевищувати число у рядку 4 - ",null,null,null,{"$f":"'dod 3-4'!M9","v":0}]
[null,null,null,null,null,null,null,null,null,null,null,"В Додатку 3 у графі 1 число у рядку 6 -",null,null,null,{"$f":"'dod 3-4'!F11","v":0}]
[null,null,null,null,null,null,null,null,null,null,null,"не повинно перевищувати число у рядку 2 - ",null,null,null,{"$f":"'dod 3-4'!F7","v":1}]
[null,null,null,null,null,null,null,null,null,null,null,"В Додатку 3 у графі 2 число у рядку 6 -",null,null,null,{"$f":"'dod 3-4'!G11","v":0}]
[null,null,null,null,null,null,null,null,null,null,null,"не повинно перевищувати число у рядку 2 - ",null,null,null,{"$f":"'dod 3-4'!G7","v":1}]
[null,null,null,null,null,null,null,null,null,null,null,"В Додатку 3 у графі 3 число у рядку 6 -",null,null,null,{"$f":"'dod 3-4'!H11","v":0}]
[null,null,null,null,null,null,null,null,null,null,null,"не повинно перевищувати число у рядку 2 - ",null,null,null,{"$f":"'dod 3-4'!H7","v":0}]
[null,null,null,null,null,null,null,null,null,null,null,"В Додатку 3 у графі 4 число у рядку 6 -",null,null,null,{"$f":"'dod 3-4'!I11","v":0}]
[null,null,null,null,null,null,null,null,null,null,null,"не повинно перевищувати число у рядку 2 - ",null,null,null,{"$f":"'dod 3-4'!I7","v":0}]
[null,null,null,null,null,null,null,null,null,null,null,"В Додатку 3 у графі 5 число у рядку 6 -",null,null,null,{"$f":"'dod 3-4'!J11","v":0}]
[null,null,null,null,null,null,null,null,null,null,null,"не повинно перевищувати число у рядку 2 - ",null,null,null,{"$f":"'dod 3-4'!J7","v":0}]
[null,null,null,null,null,null,null,null,null,null,null,"В Додатку 3 у графі 6 число у рядку 6 -",null,null,null,{"$f":"'dod 3-4'!K11","v":0}]
[null,null,null,null,null,null,null,null,null,null,null,"не повинно перевищувати число у рядку 2 - ",null,null,null,{"$f":"'dod 3-4'!K7","v":0}]
[null,null,null,null,null,null,null,null,null,null,null,"В Додатку 3 у графі 7 число у рядку 6 -",null,null,null,{"$f":"'dod 3-4'!L11","v":0}]
[null,null,null,null,null,null,null,null,null,null,null,"не повинно перевищувати число у рядку 2 - ",null,null,null,{"$f":"'dod 3-4'!L7","v":0}]
[null,null,null,null,null,null,null,null,null,null,null,"В Додатку 3 у графі 8 число у рядку 6 -",null,null,null,{"$f":"'dod 3-4'!M11","v":0}]
[null,null,null,null,null,null,null,null,null,null,null,"не повинно перевищувати число у рядку 2 - ",null,null,null,{"$f":"'dod 3-4'!M7","v":0}]
[null,null,null,null,null,null,null,null,null,null,null,"В Додатку 3 у графі 1 число у рядку 7 -",null,null,null,{"$f":"'dod 3-4'!F12","v":0}]
[null,null,null,null,null,null,null,null,null,null,null,"не повинно перевищувати число у рядку 2 - ",null,null,null,{"$f":"'dod 3-4'!F7","v":1}]
[null,null,null,null,null,null,null,null,null,null,null,"В Додатку 3 у графі 2 число у рядку 7 -",null,null,null,{"$f":"'dod 3-4'!G12","v":0}]
[null,null,null,null,null,null,null,null,null,null,null,"не повинно перевищувати число у рядку 2 - ",null,null,null,{"$f":"'dod 3-4'!G7","v":1}]
[null,null,null,null,null,null,null,null,null,null,null,"В Додатку 3 у графі 3 число у рядку 7 -",null,null,null,{"$f":"'dod 3-4'!H12","v":0}]
[null,null,null,null,null,null,null,null,null,null,null,"не повинно перевищувати число у рядку 2 - ",null,null,null,{"$f":"'dod 3-4'!H7","v":0}]
[null,null,null,null,null,null,null,null,null,null,null,"В Додатку 3 у графі 4 число у рядку 7 -",null,null,null,{"$f":"'dod 3-4'!I12","v":0}]
[null,null,null,null,null,null,null,null,null,null,null,"не повинно перевищувати число у рядку 2 - ",null,null,null,{"$f":"'dod 3-4'!I7","v":0}]
[null,null,null,null,null,null,null,null,null,null,null,"В Додатку 3 у графі 5 число у рядку 7 -",null,null,null,{"$f":"'dod 3-4'!J12","v":0}]
[null,null,null,null,null,null,null,null,null,null,null,"не повинно перевищувати число у рядку 2 - ",null,null,null,{"$f":"'dod 3-4'!J7","v":0}]
[null,null,null,null,null,null,null,null,null,null,null,"В Додатку 3 у графі 6 число у рядку 7 -",null,null,null,{"$f":"'dod 3-4'!K12","v":0}]
[null,null,null,null,null,null,null,null,null,null,null,"не повинно перевищувати число у рядку 2 - ",null,null,null,{"$f":"'dod 3-4'!K7","v":0}]
[null,null,null,null,null,null,null,null,null,null,null,"В Додатку 3 у графі 7 число у рядку 7 -",null,null,null,{"$f":"'dod 3-4'!L12","v":0}]
[null,null,null,null,null,null,null,null,null,null,null,"не повинно перевищувати число у рядку 2 - ",null,null,null,{"$f":"'dod 3-4'!L7","v":0}]
[null,null,null,null,null,null,null,null,null,null,null,"В Додатку 3 у графі 8 число у рядку 7 -",null,null,null,{"$f":"'dod 3-4'!M12","v":0}]
[null,null,null,null,null,null,null,null,null,null,null,"не повинно перевищувати число у рядку 2 - ",null,null,null,{"$f":"'dod 3-4'!M7","v":0}]
[null,null,null,null,null,null,null,null,null,null,null,"В Додатку 3 у графі 1 число у рядку 9 -",null,null,null,{"$f":"'dod 3-4'!F14","v":0}]
[null,null,null,null,null,null,null,null,null,null,null,"не повинно перевищувати число у рядку 8 - ",null,null,null,{"$f":"'dod 3-4'!F13","v":0}]
[null,null,null,null,null,null,null,null,null,null,null,"В Додатку 3 у графі 2 число у рядку 9 -",null,null,null,{"$f":"'dod 3-4'!G14","v":0}]
[null,null,null,null,null,null,null,null,null,null,null,"не повинно перевищувати число у рядку 8 - ",null,null,null,{"$f":"'dod 3-4'!G13","v":0}]
[null,null,null,null,null,null,null,null,null,null,null,"В Додатку 3 у графі 3 число у рядку 9 -",null,null,null,{"$f":"'dod 3-4'!H14","v":0}]
[null,null,null,null,null,null,null,null,null,null,null,"не повинно перевищувати число у рядку 8 - ",null,null,null,{"$f":"'dod 3-4'!H13","v":0}]
[null,null,null,null,null,null,null,null,null,null,null,"В Додатку 3 у графі 4 число у рядку 9 -",null,null,null,{"$f":"'dod 3-4'!I14","v":0}]
[null,null,null,null,null,null,null,null,null,null,null,"не повинно перевищувати число у рядку 8 - ",null,null,null,{"$f":"'dod 3-4'!I13","v":0}]
[null,null,null,null,null,null,null,null,null,null,null,"В Додатку 3 у графі 5 число у рядку 9 -",null,null,null,{"$f":"'dod 3-4'!J14","v":0}]
[null,null,null,null,null,null,null,null,null,null,null,"не повинно перевищувати число у рядку 8 - ",null,null,null,{"$f":"'dod 3-4'!J13","v":0}]
[null,null,null,null,null,null,null,null,null,null,null,"В Додатку 3 у графі 6 число у рядку 9 -",null,null,null,{"$f":"'dod 3-4'!K14","v":0}]
[null,null,null,null,null,null,null,null,null,null,null,"не повинно перевищувати число у рядку 8 - ",null,null,null,{"$f":"'dod 3-4'!K13","v":0}]
[null,null,null,null,null,null,null,null,null,null,null,"В Додатку 3 у графі 7 число у рядку 9 -",null,null,null,{"$f":"'dod 3-4'!L14","v":0}]
[null,null,null,null,null,null,null,null,null,null,null,"не повинно перевищувати число у рядку 8 - ",null,null,null,{"$f":"'dod 3-4'!L13","v":0}]
[null,null,null,null,null,null,null,null,null,null,null,"В Додатку 3 у графі 8 число у рядку 9 -",null,null,null,{"$f":"'dod 3-4'!M14","v":0}]
[null,null,null,null,null,null,null,null,null,null,null,"не повинно перевищувати число у рядку 8 - ",null,null,null,{"$f":"'dod 3-4'!M13","v":0}]
[null,null,null,null,null,null,null,null,null,null,null,"В Додатку 3 у графі 1 число у рядку 10 -",null,null,null,{"$f":"'dod 3-4'!F15","v":0}]
[null,null,null,null,null,null,null,null,null,null,null,"не повинно перевищувати число у рядку 8 - ",null,null,null,{"$f":"'dod 3-4'!F13","v":0}]
[null,null,null,null,null,null,null,null,null,null,null,"В Додатку 3 у графі 2 число у рядку 10 -",null,null,null,{"$f":"'dod 3-4'!G15","v":0}]
[null,null,null,null,null,null,null,null,null,null,null,"не повинно перевищувати число у рядку 8 - ",null,null,null,{"$f":"'dod 3-4'!G13","v":0}]
[null,null,null,null,null,null,null,null,null,null,null,"В Додатку 3 у графі 3 число у рядку 10 -",null,null,null,{"$f":"'dod 3-4'!H15","v":0}]
[null,null,null,null,null,null,null,null,null,null,null,"не повинно перевищувати число у рядку 8 - ",null,null,null,{"$f":"'dod 3-4'!H13","v":0}]
[null,null,null,null,null,null,null,null,null,null,null,"В Додатку 3 у графі 4 число у рядку 10 -",null,null,null,{"$f":"'dod 3-4'!I15","v":0}]
[null,null,null,null,null,null,null,null,null,null,null,"не повинно перевищувати число у рядку 8 - ",null,null,null,{"$f":"'dod 3-4'!I13","v":0}]
[null,null,null,null,null,null,null,null,null,null,null,"В Додатку 3 у графі 5 число у рядку 10 -",null,null,null,{"$f":"'dod 3-4'!J15","v":0}]
[null,null,null,null,null,null,null,null,null,null,null,"не повинно перевищувати число у рядку 8 - ",null,null,null,{"$f":"'dod 3-4'!J13","v":0}]
[null,null,null,null,null,null,null,null,null,null,null,"В Додатку 3 у графі 6 число у рядку 10 -",null,null,null,{"$f":"'dod 3-4'!K15","v":0}]
[null,null,null,null,null,null,null,null,null,null,null,"не повинно перевищувати число у рядку 8 - ",null,null,null,{"$f":"'dod 3-4'!K13","v":0}]
[null,null,null,null,null,null,null,null,null,null,null,"В Додатку 3 у графі 7 число у рядку 10 -",null,null,null,{"$f":"'dod 3-4'!L15","v":0}]
[null,null,null,null,null,null,null,null,null,null,null,"не повинно перевищувати число у рядку 8 - ",null,null,null,{"$f":"'dod 3-4'!L13","v":0}]
[null,null,null,null,null,null,null,null,null,null,null,"В Додатку 3 у графі 8 число у рядку 10 -",null,null,null,{"$f":"'dod 3-4'!M15","v":0}]
[null,null,null,null,null,null,null,null,null,null,null,"не повинно перевищувати число у рядку 8 - ",null,null,null,{"$f":"'dod 3-4'!M13","v":0}]
[null,null,null,null,null,null,null,null,null,null,null,"В Додатку 3 у графі 1 число у рядку 11 -",null,null,null,{"$f":"'dod 3-4'!F16","v":0}]
[null,null,null,null,null,null,null,null,null,null,null,"не повинно перевищувати число у рядку 8 - ",null,null,null,{"$f":"'dod 3-4'!F13","v":0}]
[null,null,null,null,null,null,null,null,null,null,null,"В Додатку 3 у графі 2 число у рядку 11 -",null,null,null,{"$f":"'dod 3-4'!G16","v":0}]
[null,null,null,null,null,null,null,null,null,null,null,"не повинно перевищувати число у рядку 8 - ",null,null,null,{"$f":"'dod 3-4'!G13","v":0}]
[null,null,null,null,null,null,null,null,null,null,null,"В Додатку 3 у графі 3 число у рядку 11 -",null,null,null,{"$f":"'dod 3-4'!H16","v":0}]
[null,null,null,null,null,null,null,null,null,null,null,"не повинно перевищувати число у рядку 8 - ",null,null,null,{"$f":"'dod 3-4'!H13","v":0}]
[null,null,null,null,null,null,null,null,null,null,null,"В Додатку 3 у графі 4 число у рядку 11 -",null,null,null,{"$f":"'dod 3-4'!I16","v":0}]
[null,null,null,null,null,null,null,null,null,null,null,"не повинно перевищувати число у рядку 8 - ",null,null,null,{"$f":"'dod 3-4'!I13","v":0}]
[null,null,null,null,null,null,null,null,null,null,null,"В Додатку 3 у графі 5 число у рядку 11 -",null,null,null,{"$f":"'dod 3-4'!J16","v":0}]
[null,null,null,null,null,null,null,null,null,null,null,"не повинно перевищувати число у рядку 8 - ",null,null,null,{"$f":"'dod 3-4'!J13","v":0}]
[null,null,null,null,null,null,null,null,null,null,null,"В Додатку 3 у графі 6 число у рядку 11 -",null,null,null,{"$f":"'dod 3-4'!K16","v":0}]
[null,null,null,null,null,null,null,null,null,null,null,"не повинно перевищувати число у рядку 8 - ",null,null,null,{"$f":"'dod 3-4'!K13","v":0}]
[null,null,null,null,null,null,null,null,null,null,null,"В Додатку 3 у графі 7 число у рядку 11 -",null,null,null,{"$f":"'dod 3-4'!L16","v":0}]
[null,null,null,null,null,null,null,null,null,null,null,"не повинно перевищувати число у рядку 8 - ",null,null,null,{"$f":"'dod 3-4'!L13","v":0}]
[null,null,null,null,null,null,null,null,null,null,null,"В Додатку 3 у графі 8 число у рядку 11 -",null,null,null,{"$f":"'dod 3-4'!M16","v":0}]
[null,null,null,null,null,null,null,null,null,null,null,"не повинно перевищувати число у рядку 8 - ",null,null,null,{"$f":"'dod 3-4'!M13","v":0}]
[null,null,null,null,null,null,null,null,null,null,null,"В Додатку 3 у графі 1 число у рядку 13 -",null,null,null,{"$f":"'dod 3-4'!F18","v":0}]
[null,null,null,null,null,null,null,null,null,null,null,"не повинна перевищувати число у рядку 12 - ",null,null,null,{"$f":"'dod 3-4'!F17","v":0}]
[null,null,null,null,null,null,null,null,null,null,null,"В Додатку 3 у графі 2 число у рядку 13 -",null,null,null,{"$f":"'dod 3-4'!G18","v":0}]
[null,null,null,null,null,null,null,null,null,null,null,"не повинна перевищувати число у рядку 12 - ",null,null,null,{"$f":"'dod 3-4'!G17","v":1}]
[null,null,null,null,null,null,null,null,null,null,null,"В Додатку 3 у графі 3 число у рядку 13 -",null,null,null,{"$f":"'dod 3-4'!H18","v":0}]
[null,null,null,null,null,null,null,null,null,null,null,"не повинна перевищувати число у рядку 12 - ",null,null,null,{"$f":"'dod 3-4'!H17","v":0}]
[null,null,null,null,null,null,null,null,null,null,null,"В Додатку 3 у графі 4 число у рядку 13 -",null,null,null,{"$f":"'dod 3-4'!I18","v":0}]
[null,null,null,null,null,null,null,null,null,null,null,"не повинна перевищувати число у рядку 12 - ",null,null,null,{"$f":"'dod 3-4'!I17","v":0}]
[null,null,null,null,null,null,null,null,null,null,null,"В Додатку 3 у графі 5 число у рядку 13 -",null,null,null,{"$f":"'dod 3-4'!J18","v":0}]
[null,null,null,null,null,null,null,null,null,null,null,"не повинна перевищувати число у рядку 12 - ",null,null,null,{"$f":"'dod 3-4'!J17","v":0}]
[null,null,null,null,null,null,null,null,null,null,null,"В Додатку 3 у графі 6 число у рядку 13 -",null,null,null,{"$f":"'dod 3-4'!K18","v":0}]
[null,null,null,null,null,null,null,null,null,null,null,"не повинна перевищувати число у рядку 12 - ",null,null,null,{"$f":"'dod 3-4'!K17","v":0}]
[null,null,null,null,null,null,null,null,null,null,null,"В Додатку 3 у графі 7 число у рядку 13 -",null,null,null,{"$f":"'dod 3-4'!L18","v":0}]
[null,null,null,null,null,null,null,null,null,null,null,"не повинна перевищувати число у рядку 12 - ",null,null,null,{"$f":"'dod 3-4'!L17","v":0}]
[null,null,null,null,null,null,null,null,null,null,null,"В Додатку 3 у графі 8 число у рядку 13 -",null,null,null,{"$f":"'dod 3-4'!M18","v":0}]
[null,null,null,null,null,null,null,null,null,null,null,"не повинна перевищувати число у рядку 12 - ",null,null,null,{"$f":"'dod 3-4'!M17","v":0}]
[null,null,null,null,null,null,null,null,null,null,"Додаток 4","В Додатку 4 у графі 1 число у рядку 3 -",null,null,null,{"$f":"'dod 3-4'!F28","v":0}]
[null,null,null,null,null,null,null,null,null,null,null,"не повинно перевищувати суму чисел у рядках 1,2 -",null,null,null,{"$f":"'dod 3-4'!F26+'dod 3-4'!F27","v":1}]
[null,null,null,null,null,null,null,null,null,null,null,"В Додатку 4 у графі 2 число у рядку 3 -",null,null,null,{"$f":"'dod 3-4'!G28","v":0}]
[null,null,null,null,null,null,null,null,null,null,null,"не повинно перевищувати суму чисел у рядках 1,2 -",null,null,null,{"$f":"'dod 3-4'!G26+'dod 3-4'!G27","v":0}]
[null,null,null,null,null,null,null,null,null,null,null,"В Додатку 4 у графі 3 число у рядку 3 -",null,null,null,{"$f":"'dod 3-4'!H28","v":0}]
[null,null,null,null,null,null,null,null,null,null,null,"не повинно перевищувати число у рядку 1 -",null,null,null,{"$f":"'dod 3-4'!H26","v":0}]
[null,null,null,null,null,null,null,null,null,null,null,"В Додатку 4 у графі 4 число у рядку 3 -",null,null,null,{"$f":"'dod 3-4'!I28","v":0}]
[null,null,null,null,null,null,null,null,null,null,null,"не повинно перевищувати число у рядку 1 -",null,null,null,{"$f":"'dod 3-4'!I26","v":0}]
[null,null,null,null,null,null,null,null,null,null,null,"В Додатку 4 у графі 5 число у рядку 3 -",null,null,null,{"$f":"'dod 3-4'!J28","v":0}]
[null,null,null,null,null,null,null,null,null,null,null,"не повинно перевищувати число у рядку 1 -",null,null,null,{"$f":"'dod 3-4'!J26","v":0}]
[null,null,null,null,null,null,null,null,null,null,null,"В Додатку 4 у графі 6 число у рядку 3 -",null,null,null,{"$f":"'dod 3-4'!K28","v":0}]
[null,null,null,null,null,null,null,null,null,null,null,"не повинно перевищувати число у рядку 1 -",null,null,null,{"$f":"'dod 3-4'!K26","v":0}]
[null,null,null,null,null,null,null,null,null,null,null,"В Додатку 4 у графі 1 число у рядку 5 -",null,null,null,{"$f":"'dod 3-4'!F30","v":0}]
[null,null,null,null,null,null,null,null,null,null,null,"не повинно перевищувати число у рядку 4 -",null,null,null,{"$f":"'dod 3-4'!F29","v":0}]
[null,null,null,null,null,null,null,null,null,null,null,"В Додатку 4 у графі 2 число у рядку 5 -",null,null,null,{"$f":"'dod 3-4'!G30","v":0}]
[null,null,null,null,null,null,null,null,null,null,null,"не повинно перевищувати число у рядку 4 -",null,null,null,{"$f":"'dod 3-4'!G29","v":0}]
[null,null,null,null,null,null,null,null,null,null,null,"В Додатку 4 у графі 3 число у рядку 5 -",null,null,null,{"$f":"'dod 3-4'!H30","v":0}]
[null,null,null,null,null,null,null,null,null,null,null,"не повинно перевищувати число у рядку 4 -",null,null,null,{"$f":"'dod 3-4'!H29","v":0}]
[null,null,null,null,null,null,null,null,null,null,null,"В Додатку 4 у графі 4 число у рядку 5 -",null,null,null,{"$f":"'dod 3-4'!I30","v":0}]
[null,null,null,null,null,null,null,null,null,null,null,"не повинно перевищувати число у рядку 4 -",null,null,null,{"$f":"'dod 3-4'!I29","v":0}]
[null,null,null,null,null,null,null,null,null,null,null,"В Додатку 4 у графі 5 число у рядку 5 -",null,null,null,{"$f":"'dod 3-4'!J30","v":0}]
[null,null,null,null,null,null,null,null,null,null,null,"не повинно перевищувати число у рядку 4 -",null,null,null,{"$f":"'dod 3-4'!J29","v":0}]
[null,null,null,null,null,null,null,null,null,null,null,"В Додатку 4 у графі 6 число у рядку 5 -",null,null,null,{"$f":"'dod 3-4'!K30","v":0}]
[null,null,null,null,null,null,null,null,null,null,null,"не повинно перевищувати число у рядку 4 -",null,null,null,{"$f":"'dod 3-4'!K29","v":0}]
[null,null,null,null,null,null,null,null,null,null,null,"В Додатку 4 у графі 2 число у рядку 6 -",null,null,null,{"$f":"'dod 3-4'!G31","v":0}]
[null,null,null,null,null,null,null,null,null,null,null,"не повинно перевищувати суму чисел у рядках 1,4 -",null,null,null,{"$f":"'dod 3-4'!G26+'dod 3-4'!G29","v":0}]
[null,null,null,null,null,null,null,null,null,null,null,"В Додатку 4 у графі 4 число у рядку 6 -",null,null,null,{"$f":"'dod 3-4'!I31","v":0}]
[null,null,null,null,null,null,null,null,null,null,null,"не повинно перевищувати суму чисел у рядках 1,4 -",null,null,null,{"$f":"'dod 3-4'!I26+'dod 3-4'!I29","v":0}]
[null,null,null,null,null,null,null,null,null,null,null,"В Додатку 4 у графі 6 число у рядку 6 -",null,null,null,{"$f":"'dod 3-4'!K31","v":0}]
[null,null,null,null,null,null,null,null,null,null,null,"не повинно перевищувати суму чисел у рядках 1,4 -",null,null,null,{"$f":"'dod 3-4'!K26+'dod 3-4'!K29","v":0}]
[null,null,null,null,null,null,null,null,null,null,null,"В Додатку 4 у графі 1 число у рядку 8 -",null,null,null,{"$f":"'dod 3-4'!F33","v":0}]
[null,null,null,null,null,null,null,null,null,null,null,"не повинно перевищувати число у рядку 7 -",null,null,null,{"$f":"'dod 3-4'!F32","v":1}]
[null,null,null,null,null,null,null,null,null,null,null,"В Додатку 4 у графі 2 число у рядку 8 -",null,null,null,{"$f":"'dod 3-4'!G33","v":0}]
[null,null,null,null,null,null,null,null,null,null,null,"не повинно перевищувати число у рядку 7 -",null,null,null,{"$f":"'dod 3-4'!G32","v":0}]
[null,null,null,null,null,null,null,null,null,null,null,"В Додатку 4 у графі 3 число у рядку 8 -",null,null,null,{"$f":"'dod 3-4'!H33","v":0}]
[null,null,null,null,null,null,null,null,null,null,null,"не повинно перевищувати число у рядку 7 -",null,null,null,{"$f":"'dod 3-4'!H32","v":0}]
[null,null,null,null,null,null,null,null,null,null,null,"В Додатку 4 у графі 4 число у рядку 8 -",null,null,null,{"$f":"'dod 3-4'!I33","v":0}]
[null,null,null,null,null,null,null,null,null,null,null,"не повинно перевищувати число у рядку 7 -",null,null,null,{"$f":"'dod 3-4'!I32","v":0}]
[null,null,null,null,null,null,null,null,null,null,null,"В Додатку 4 у графі 5 число у рядку 8 -",null,null,null,{"$f":"'dod 3-4'!J33","v":0}]
[null,null,null,null,null,null,null,null,null,null,null,"не повинно перевищувати число у рядку 7 -",null,null,null,{"$f":"'dod 3-4'!J32","v":0}]
[null,null,null,null,null,null,null,null,null,null,null,"В Додатку 4 у графі 6 число у рядку 8 -",null,null,null,{"$f":"'dod 3-4'!K33","v":0}]
[null,null,null,null,null,null,null,null,null,null,null,"не повинно перевищувати число у рядку 7 -",null,null,null,{"$f":"'dod 3-4'!K32","v":0}]
[null,null,null,null,null,null,null,null,null,null,null,"В Додатку 4 у графі 1 число у рядку 9 -",null,null,null,{"$f":"'dod 3-4'!F34","v":0}]
[null,null,null,null,null,null,null,null,null,null,null,"не повинно перевищувати число у рядку 7 -",null,null,null,{"$f":"'dod 3-4'!F32","v":1}]
[null,null,null,null,null,null,null,null,null,null,null,"В Додатку 4 у графі 2 число у рядку 9 -",null,null,null,{"$f":"'dod 3-4'!G34","v":0}]
[null,null,null,null,null,null,null,null,null,null,null,"не повинно перевищувати число у рядку 7 -",null,null,null,{"$f":"'dod 3-4'!G32","v":0}]
[null,null,null,null,null,null,null,null,null,null,null,"В Додатку 4 у графі 3 число у рядку 9 -",null,null,null,{"$f":"'dod 3-4'!H34","v":0}]
[null,null,null,null,null,null,null,null,null,null,null,"не повинно перевищувати число у рядку 7 -",null,null,null,{"$f":"'dod 3-4'!H32","v":0}]
[null,null,null,null,null,null,null,null,null,null,null,"В Додатку 4 у графі 4 число у рядку 9 -",null,null,null,{"$f":"'dod 3-4'!I34","v":0}]
[null,null,null,null,null,null,null,null,null,null,null,"не повинно перевищувати число у рядку 7 -",null,null,null,{"$f":"'dod 3-4'!I32","v":0}]
[null,null,null,null,null,null,null,null,null,null,null,"В Додатку 4 у графі 5 число у рядку 9 -",null,null,null,{"$f":"'dod 3-4'!J34","v":0}]
[null,null,null,null,null,null,null,null,null,null,null,"не повинно перевищувати число у рядку 7 -",null,null,null,{"$f":"'dod 3-4'!J32","v":0}]
[null,null,null,null,null,null,null,null,null,null,null,"В Додатку 4 у графі 6 число у рядку 9 -",null,null,null,{"$f":"'dod 3-4'!K34","v":0}]
[null,null,null,null,null,null,null,null,null,null,null,"не повинно перевищувати число у рядку 7 -",null,null,null,{"$f":"'dod 3-4'!K32","v":0}]

{"sheet":"Довідки","index":13,"n_rows":943,"n_cols":40,"rows_kept":943,"cut":false,"hidden":false,"merged":[[574,10,575,12],[574,13,574,18],[575,13,575,15],[575,16,575,18],[357,0,359,0],[357,1,359,1],[357,2,357,7],[357,8,357,13],[357,14,358,16],[388,16,389,18],[388,13,389,15],[451,17,451,19],[388,8,389,9],[388,10,389,12],[420,8,420,10],[388,19,389,20],[512,17,513,18],[450,0,452,0],[450,1,452,1],[357,17,358,19],[358,2,358,3],[358,4,358,5],[358,6,358,7],[358,8,358,9],[358,10,358,11],[358,12,358,13],[326,2,326,7],[326,8,326,13],[326,14,327,16],[326,17,327,19],[326,20,327,22],[327,2,327,4],[327,5,327,7],[327,8,327,10],[327,11,327,13],[295,0,297,0],[295,1,297,1],[295,2,295,7],[295,8,295,13],[295,14,296,16],[295,17,296,19],[296,2,296,3],[296,4,296,5],[296,6,296,7],[296,8,296,9],[296,10,296,11],[296,12,296,13],[202,1,204,1],[264,2,264,7],[264,8,264,13],[264,14,265,16],[264,17,265,19],[264,20,265,22],[265,2,265,4],[265,5,265,7],[265,8,265,10],[265,11,265,13],[202,2,202,7],[202,8,202,13],[202,14,203,16],[202,17,203,19],[202,20,203,22],[203,2,203,4],[203,5,203,7],[203,8,203,10],[203,11,203,13],[233,0,235,0],[233,1,235,1],[233,2,233,7],[233,8,233,13],[233,14,234,16],[233,17,234,19],[234,2,234,3],[234,4,234,5],[234,6,234,7],[234,8,234,9],[234,10,234,11],[234,12,234,13],[171,0,173,0],[171,1,173,1],[171,2,171,7],[171,8,171,13],[171,14,172,16],[171,17,172,19],[172,2,172,3],[172,4,172,5],[172,6,172,7],[172,8,172,9],[172,10,172,11],[172,12,172,13],[78,0,80,0],[79,2,79,4],[79,5,79,7],[79,8,79,10],[79,11,79,13],[140,17,141,19],[140,20,141,22],[110,6,110,7],[915,20,916,22],[792,10,792,11],[791,8,791,11],[792,8,792,9],[853,8,854,10],[791,15,792,16],[853,11,854,12],[791,20,792,21],[915,17,916,19],[915,8,915,13],[916,8,916,10],[916,11,916,13],[915,14,916,16],[141,2,141,4],[141,5,141,7],[141,8,141,10],[140,2,140,7],[140,8,140,13],[140,14,141,16],[140,1,142,1],[140,0,142,0],[109,0,111,0],[109,1,111,1],[109,2,109,7],[109,8,109,13],[141,11,141,13],[0,0,0,22],[10,0,10,22],[9,0,9,22],[3,0,3,22],[8,0,8,22],[7,0,7,22],[6,0,6,22],[326,1,328,1],[326,0,328,0],[47,1,49,1],[5,0,5,22],[4,0,4,22],[12,0,12,22],[11,0,11,22],[16,0,18,0],[16,1,18,1],[78,1,80,1],[78,2,78,7],[78,8,78,13],[78,14,79,16],[78,17,79,19],[78,20,79,22],[109,14,110,16],[202,0,204,0],[729,0,731,0],[729,1,731,1],[388,2,389,4],[388,5,389,7],[513,2,513,4],[482,2,482,4],[481,2,481,10],[482,8,482,10],[482,5,482,7],[450,2,451,4],[667,2,668,4],[544,6,544,7],[667,7,667,22],[729,7,729,16],[730,12,730,14],[730,7,730,9],[481,1,483,1],[543,1,545,1],[636,0,638,0],[636,1,638,1],[512,0,514,0],[667,1,669,1],[512,1,514,1],[698,0,700,0],[575,2,575,4],[698,1,700,1],[481,0,483,0],[388,0,390,0],[388,1,390,1],[574,0,576,0],[574,1,576,1],[544,4,544,5],[636,2,637,4],[575,5,575,7],[605,0,607,0],[605,1,607,1],[605,2,606,4],[699,21,699,22],[699,9,699,10],[699,17,699,18],[668,21,668,22],[698,15,698,22],[699,19,699,20],[637,14,637,16],[668,15,668,16],[637,11,637,13],[668,9,668,10],[699,13,699,14],[699,15,699,16],[668,17,668,18],[668,19,668,20],[791,17,792,19],[822,5,823,7],[761,10,761,11],[853,13,854,15],[885,11,885,13],[605,17,606,19],[730,15,730,16],[730,10,730,11],[637,8,637,10],[637,5,637,7],[636,5,636,16],[668,7,668,8],[699,11,699,12],[699,7,699,8],[698,5,699,6],[761,12,761,14],[605,14,605,16],[605,8,606,10],[606,5,606,7],[606,14,606,16],[605,5,605,7],[605,11,606,13],[884,1,886,1],[884,0,886,0],[915,0,917,0],[915,1,917,1],[884,14,885,16],[884,8,884,13],[884,5,885,7],[885,8,885,10],[853,0,855,0],[853,1,855,1],[915,2,916,4],[915,5,916,7],[853,2,854,4],[853,5,854,7],[884,2,885,4],[853,16,854,18],[451,11,451,13],[451,8,451,10],[450,8,450,22],[420,14,420,16],[451,20,451,22],[451,14,451,16],[574,8,575,9],[543,10,543,17],[482,17,482,19],[513,14,513,16],[513,11,513,13],[481,11,481,19],[544,14,544,15],[543,2,543,9],[544,2,544,3],[544,10,544,11],[482,14,482,16],[544,16,544,17],[544,12,544,13],[482,11,482,13],[512,11,512,16],[513,8,513,10],[513,5,513,7],[574,2,574,7],[822,1,824,1],[822,2,823,4],[760,0,762,0],[667,0,669,0],[698,7,698,14],[667,5,668,6],[668,11,668,12],[668,13,668,14],[822,8,823,10],[729,5,730,6],[729,2,730,4],[791,5,792,7],[760,5,761,6],[791,2,792,4],[760,7,760,16],[761,15,761,16],[761,7,761,9],[791,12,792,14],[698,2,699,4],[760,2,761,4],[822,0,824,0],[760,1,762,1],[791,0,793,0],[791,1,793,1],[1,0,2,22],[16,14,17,16],[48,2,48,3],[48,4,48,5],[48,6,48,7],[47,2,47,7],[47,8,47,13],[48,8,48,9],[48,10,48,11],[48,12,48,13],[47,14,48,16],[47,0,49,0],[16,2,16,7],[17,5,17,7],[17,2,17,4],[16,8,16,13],[544,8,544,9],[264,0,266,0],[264,1,266,1],[16,17,17,19],[109,17,110,19],[110,2,110,3],[110,4,110,5],[574,19,575,20],[17,8,17,10],[17,11,17,13],[110,8,110,9],[110,10,110,11],[110,12,110,13],[16,20,17,22],[47,17,48,19],[420,5,420,7],[543,0,545,0],[419,0,421,0],[419,1,421,1],[419,2,420,4],[450,5,451,7],[419,5,419,16],[512,2,512,10],[420,11,420,13]]}
["Генеральна прокуратура України"]
["Відділ статистики, ведення Єдиного реєстру досудових розслідувань"]
[]
[]
["АНАЛІТИЧНИЙ   ЗБІРНИК"]
[]
["статистичної інформації про роботу прокурора"]
["за 9 місяців 2015 року"]
[]
[{"$f":"'1'!AK25","v":"Прокуратура Чернігівської області"}]
["(у розрізі районів)"]
[]
[{"$f":"G19","v":2015}]
["РОЗДІЛ 1. Представництво інтересів громадян та держави в судах"]
["Таблиця 1. Усього"]
[]
["Код","Прокуратура","Досудове врегулювання спорів",null,null,null,null,null,"Розгляд справи судом",null,null,null,null,null,"Сума за рішеннями, які передано на примусове виконання (тис.грн.)",null,null,"Кількість справ у яких забезпечено участь прокурора",null,null,"Сума за рішеннями прийнятими на користь сторони, в інтересах якої прокурор вступив у справу (тис.грн.)"]
[null,null,"Кількість направлених звернень  ",null,null,"Кількість позовів (заяв, скарг, подань), внесених у разі неврегулювання спору",null,null,"Задоволено позовів, заяв, скарг, подань",null,null,"Сума по них (тис.грн.)"]
[null,null,2014,2015," %",{"$f":"C19","v":2014},{"$f":"D19","v":2015}," %",{"$f":"F19","v":2014},{"$f":"G19","v":2015}," %",{"$f":"I19","v":2014},{"$f":"J19","v":2015}," %",{"$f":"L19","v":2014},{"$f":"M19","v":2015}," %",{"$f":"O19","v":2014},{"$f":"P19","v":2015}," %",{"$f":"R19","v":2014},{"$f":"S19","v":2015}," %"]
[1,"Бахмацького р.",null,null,{"$f":"IF(C20=0,0,IF(D20=0,\"-100,0\",IF(D20*100/C20<200,ROUND(D20*100/C20-100,1),ROUND(D20/C20,1)&\" р\")))","v":0},null,null,{"$f":"IF(F20=0,0,IF(G20=0,\"-100,0\",IF(G20*100/F20<200,ROUND(G20*100/F20-100,1),ROUND(G20/F20,1)&\" р\")))","v":0},22,23,{"$f":"IF(I20=0,0,IF(J20=0,\"-100,0\",IF(J20*100/I20<200,ROUND(J20*100/I20-100,1),ROUND(J20/I20,1)&\" р\")))","v":4.5},1529,3808,{"$f":"IF(L20=0,0,IF(M20=0,\"-100,0\",IF(M20*100/L20<200,ROUND(M20*100/L20-100,1),ROUND(M20/L20,1)&\" р\")))","v":"2,5 р"},null,138,{"$f":"IF(O20=0,0,IF(P20=0,\"-100,0\",IF(P20*100/O20<200,ROUND(P20*100/O20-100,1),ROUND(P20/O20,1)&\" р\")))","v":0},22,11,{"$f":"IF(R20=0,0,IF(S20=0,\"-100,0\",IF(S20*100/R20<200,ROUND(S20*100/R20-100,1),ROUND(S20/R20,1)&\" р\")))","v":-50},null,null,{"$f":"IF(U20=0,0,IF(V20=0,\"-100,0\",IF(V20*100/U20<200,ROUND(V20*100/U20-100,1),ROUND(V20/U20,1)&\" р\")))","v":0}]
[2,"Бобровицького р.",null,null,0,null,null,0,9,6,-33.299999999999997,8890,130,-98.5,null,5,0,5,14,"2,8 р",null,null,0]
[3,"Борзнянського р.",null,null,{"$f":"IF(C22=0,0,IF(D22=0,\"-100,0\",IF(D22*100/C22<200,ROUND(D22*100/C22-100,1),ROUND(D22/C22,1)&\" р\")))","v":0},null,null,{"$f":"IF(F22=0,0,IF(G22=0,\"-100,0\",IF(G22*100/F22<200,ROUND(G22*100/F22-100,1),ROUND(G22/F22,1)&\" р\")))","v":0},15,18,{"$f":"IF(I22=0,0,IF(J22=0,\"-100,0\",IF(J22*100/I22<200,ROUND(J22*100/I22-100,1),ROUND(J22/I22,1)&\" р\")))","v":20},328,4918,{"$f":"IF(L22=0,0,IF(M22=0,\"-100,0\",IF(M22*100/L22<200,ROUND(M22*100/L22-100,1),ROUND(M22/L22,1)&\" р\")))","v":"15 р"},null,null,{"$f":"IF(O22=0,0,IF(P22=0,\"-100,0\",IF(P22*100/O22<200,ROUND(P22*100/O22-100,1),ROUND(P22/O22,1)&\" р\")))","v":0},9,5,{"$f":"IF(R22=0,0,IF(S22=0,\"-100,0\",IF(S22*100/R22<200,ROUND(S22*100/R22-100,1),ROUND(S22/R22,1)&\" р\")))","v":-44.4},null,null,{"$f":"IF(U22=0,0,IF(V22=0,\"-100,0\",IF(V22*100/U22<200,ROUND(V22*100/U22-100,1),ROUND(V22/U22,1)&\" р\")))","v":0}]
[4,"Варвинського р.",null,null,0,null,null,0,6,8,33.299999999999997,297,35,-88.2,null,19,0,5,5,0,null,null,0]
[5,"Городнянського р.",null,null,0,null,null,0,25,29,16,383,5348,"14 р",null,47,0,91,41,-54.9,null,null,0]
[6,"Ічнянського р.",null,null,0,null,null,0,18,12,-33.299999999999997,944,190,-79.900000000000006,null,35,0,18,17,-5.6,null,null,0]
[7,"Козелецького р.",null,null,0,null,null,0,15,28,86.7,419,355,-15.3,null,187,0,14,9,-35.700000000000003,null,null,0]
[8,"Коропського р.",null,null,0,null,null,0,11,15,36.4,118,242,"2,1 р",null,null,0,15,19,26.7,null,null,0]
[9,"Корюківського р.",null,null,0,null,null,0,15,20,33.299999999999997,1023,15910,"15,6 р",null,219,0,17,16,-5.9,null,null,0]
[10,"Куликівського р.",null,null,0,null,null,0,11,36,"3,3 р",375,13225,"35,3 р",null,20,0,10,34,"3,4 р",null,null,0]
[11,"Менського р.",null,null,0,null,null,0,29,18,-37.9,280,4080,"14,6 р",null,79,0,24,15,-37.5,null,null,0]
[12,"Ніжинського мр.пр.",null,null,0,null,null,0,59,42,-28.8,19056,3788,-80.099999999999994,null,2137,0,31,28,-9.6999999999999993,null,null,0]
[13,"Новгород-Сіверського р.",null,null,0,null,null,0,18,20,11.1,262,1056,"4 р",null,12,0,18,28,55.6,null,null,0]
[14,"Носівського р.",null,null,0,null,null,0,27,20,-25.9,37924,654,-98.3,null,59,0,13,15,15.4,null,null,0]
[15,"Прилуцька мр.пр.",null,null,0,null,null,0,29,31,6.9,4570,1458,-68.099999999999994,null,1448,0,50,50,0,null,null,0]
[16,"Ріпкинська р.",null,null,0,null,null,0,16,19,18.8,152,1048,"6,9 р",null,10,0,18,23,27.8,null,null,0]
[17,"Семенівського р.",null,null,0,null,null,0,6,41,"6,8 р",212,1122,"5,3 р",null,126,0,9,15,66.7,null,14,0]
[18,"Сосницького р.",null,null,0,null,null,0,4,18,"4,5 р",130,454,"3,5 р",null,44,0,6,17,"2,8 р",null,null,0]
[19,"Срібнянського р.",null,null,0,null,null,0,5,9,80,251,480,91.2,null,41,0,3,6,"2 р",null,null,0]
[20,"Талалаївського р.",null,null,0,null,null,0,14,7,-50,472,2257,"4,8 р",null,16,0,15,6,-60,null,null,0]
[21,"Чернігівського р.",null,null,0,null,null,0,33,36,9.1,993,10399,"10,5 р",null,1128,0,37,50,35.1,null,null,0]
[22,"м.Чернігова",null,null,0,null,null,0,120,84,-30,43347,16534,-61.9,null,3017,0,179,77,-57,1836,169,-90.8]
[23,"Щорського р.",null,null,0,null,null,0,7,11,57.1,123,371,"3 р",null,null,0,16,19,18.8,null,null,0]
[24,"Апарат прокуратури",null,null,0,null,null,0,31,69,"2,2 р",41164,122683,"3 р",null,1441,0,92,254,"2,8 р",18869,1122,-94.1]
[25,"Усього по області",null,0,{"$f":"IF(C44=0,0,IF(D44=0,\"-100,0\",IF(D44*100/C44<200,ROUND(D44*100/C44-100,1),ROUND(D44/C44,1)&\" р\")))","v":0},null,0,{"$f":"IF(F44=0,0,IF(G44=0,\"-100,0\",IF(G44*100/F44<200,ROUND(G44*100/F44-100,1),ROUND(G44/F44,1)&\" р\")))","v":0},561,620,{"$f":"IF(I44=0,0,IF(J44=0,\"-100,0\",IF(J44*100/I44<200,ROUND(J44*100/I44-100,1),ROUND(J44/I44,1)&\" р\")))","v":10.5},163522,210545,{"$f":"IF(L44=0,0,IF(M44=0,\"-100,0\",IF(M44*100/L44<200,ROUND(M44*100/L44-100,1),ROUND(M44/L44,1)&\" р\")))","v":28.8},null,10228,{"$f":"IF(O44=0,0,IF(P44=0,\"-100,0\",IF(P44*100/O44<200,ROUND(P44*100/O44-100,1),ROUND(P44/O44,1)&\" р\")))","v":0},720,774,{"$f":"IF(R44=0,0,IF(S44=0,\"-100,0\",IF(S44*100/R44<200,ROUND(S44*100/R44-100,1),ROUND(S44/R44,1)&\" р\")))","v":7.5},20705,1305,{"$f":"IF(U44=0,0,IF(V44=0,\"-100,0\",IF(V44*100/U44<200,ROUND(V44*100/U44-100,1),ROUND(V44/U44,1)&\" р\")))","v":-93.7}]
["РОЗДІЛ 1. Представництво інтересів громадян та держави в судах"]
["Таблиця 2. Усього"]
[]
["Код","Прокуратура","Апеляційні скарги",null,null,null,null,null,"Касаційні скарги",null,null,null,null,null,"Сума за рішеннями, скасованими за скаргами, заявами прокурора (тис.грн.)",null,null,"Площа повернутих земель та незаконне надання яких попереджено"]
[null,null,"Розглянуто",null,"Задоволено",null,"Питома вага",null,"Розглянуто",null,"Задоволено",null,"Питома вага"]
[null,null,{"$f":"C19","v":2014},{"$f":"D19","v":2015},{"$f":"C50","v":2014},2015,2014,2015,2014,2015,2014,2015,2014,2015,2014,2015," %",{"$f":"O50","v":2014},{"$f":"P50","v":2015}," %"]
[1,"Бахмацького р.",null,null,null,null,{"$f":"IF(C51=0,0,E51*100/C51)","v":0},{"$f":"IF(D51=0,0,F51*100/D51)","v":0},null,null,null,null,{"$f":"IF(I51=0,0,K51*100/I51)","v":0},{"$f":"IF(J51=0,0,L51*100/J51)","v":0},null,null,{"$f":"IF(O51=0,0,IF(P51=0,\"-100,0\",IF(P51*100/O51<200,ROUND(P51*100/O51-100,1),ROUND(P51/O51,1)&\" р\")))","v":0},null,62,{"$f":"IF(R51=0,0,IF(S51=0,\"-100,0\",IF(S51*100/R51<200,ROUND(S51*100/R51-100,1),ROUND(S51/R51,1)&\" р\")))","v":0}]
[2,"Бобровицького р.",null,null,null,null,{"$f":"IF(C52=0,0,E52*100/C52)","v":0},{"$f":"IF(D52=0,0,F52*100/D52)","v":0},null,null,null,null,{"$f":"IF(I52=0,0,K52*100/I52)","v":0},{"$f":"IF(J52=0,0,L52*100/J52)","v":0},null,null,0,null,null,0]
[3,"Борзнянського р.",null,null,null,null,{"$f":"IF(C53=0,0,E53*100/C53)","v":0},{"$f":"IF(D53=0,0,F53*100/D53)","v":0},null,null,null,null,{"$f":"IF(I53=0,0,K53*100/I53)","v":0},{"$f":"IF(J53=0,0,L53*100/J53)","v":0},null,null,{"$f":"IF(O53=0,0,IF(P53=0,\"-100,0\",IF(P53*100/O53<200,ROUND(P53*100/O53-100,1),ROUND(P53/O53,1)&\" р\")))","v":0},null,null,{"$f":"IF(R53=0,0,IF(S53=0,\"-100,0\",IF(S53*100/R53<200,ROUND(S53*100/R53-100,1),ROUND(S53/R53,1)&\" р\")))","v":0}]
[4,"Варвинського р.",null,null,null,null,0,0,null,null,null,null,0,0,null,null,0,null,null,0]
[5,"Городнянського р.",null,2,null,2,0,100,null,null,null,null,0,0,null,null,0,null,653,0]
[6,"Ічнянського р.",null,1,null,1,0,100,null,null,null,null,0,0,null,null,0,null,12,0]
[7,"Козелецького р.",null,null,null,null,0,0,null,null,null,null,0,0,null,null,0,null,38,0]
[8,"Коропського р.",null,null,null,null,0,0,null,null,null,null,0,0,null,null,0,null,null,0]
[9,"Корюківського р.",null,null,null,null,0,0,null,null,null,null,0,0,null,null,0,null,591,0]
[10,"Куликівського р.",null,null,null,null,0,0,null,null,null,null,0,0,null,null,0,null,54,0]
[11,"Менського р.",null,1,null,null,0,0,null,null,null,null,0,0,null,null,0,null,183,0]
[12,"Ніжинського мр.пр.",1,null,null,null,0,0,null,null,null,null,0,0,null,null,0,null,null,0]
[13,"Новгород-Сіверського р.",1,null,1,null,100,0,null,null,null,null,0,0,null,null,0,null,null,0]
[14,"Носівського р.",null,null,null,null,0,0,null,null,null,null,0,0,null,null,0,null,223,0]
[15,"Прилуцька мр.пр.",null,null,null,null,0,0,null,null,null,null,0,0,null,null,0,null,null,0]
[16,"Ріпкинська р.",null,null,null,null,0,0,null,null,null,null,0,0,null,null,0,null,43.53,0]
[17,"Семенівського р.",null,null,null,null,0,0,null,null,null,null,0,0,null,null,0,null,40,0]
[18,"Сосницького р.",null,null,null,null,0,0,null,null,null,null,0,0,null,null,0,null,null,0]
[19,"Срібнянського р.",null,null,null,null,0,0,null,null,null,null,0,0,null,null,0,null,7,0]
[20,"Талалаївського р.",null,null,null,null,0,0,null,null,null,null,0,0,null,null,0,null,161,0]
[21,"Чернігівського р.",null,null,null,null,0,0,null,null,null,null,0,0,null,null,0,null,23,0]
[22,"м.Чернігова",2,2,null,1,0,50,null,null,null,null,0,0,null,null,0,null,null,0]
[23,"Щорського р.",null,null,null,null,0,0,null,null,null,null,0,0,null,null,0,null,90,0]
[24,"Апарат прокуратури",12,34,9,23,75,67.647058823529406,2,6,null,4,0,66.666666666666671,24,922,"38,4 р",null,8333,0]
[25,"Усього по області",16,40,10,27,62.5,67.5,2,6,null,4,0,66.666666666666671,24,922,{"$f":"IF(O75=0,0,IF(P75=0,\"-100,0\",IF(P75*100/O75<200,ROUND(P75*100/O75-100,1),ROUND(P75/O75,1)&\" р\")))","v":"38,4 р"},null,10513.529999999999,{"$f":"IF(R75=0,0,IF(S75=0,\"-100,0\",IF(S75*100/R75<200,ROUND(S75*100/R75-100,1),ROUND(S75/R75,1)&\" р\")))","v":0}]
["РОЗДІЛ 1. Представництво інтересів громадян та держави в судах"]
["Таблиця 3. В інтересах громадян"]
[]
["Код","Прокуратура","Досудове врегулювання спорів",null,null,null,null,null,"Розгляд справи судом",null,null,null,null,null,"Сума за рішеннями, які передано на примусове виконання (тис.грн.)",null,null,"Кількість справ у яких забезпечено участь прокурора",null,null,"Сума за рішеннями прийнятими на користь сторони, в інтересах якої прокурор вступив у справу (тис.грн.)"]
[null,null,"Кількість направлених звернень  ",null,null,"Кількість позовів (заяв, скарг, подань), внесених у разі неврегулювання спору",null,null,"Задоволено позовів, заяв, скарг, подань",null,null,"Сума по них (тис.грн.)"]
[null,null,{"$f":"C50","v":2014},{"$f":"D50","v":2015}," %",{"$f":"C81","v":2014},{"$f":"D81","v":2015}," %",{"$f":"F81","v":2014},{"$f":"G81","v":2015}," %",{"$f":"I81","v":2014},{"$f":"J81","v":2015}," %",{"$f":"L81","v":2014},{"$f":"M81","v":2015}," %",{"$f":"O81","v":2014},{"$f":"P81","v":2015}," %",{"$f":"R81","v":2014},{"$f":"S81","v":2015}," %"]
[1,"Бахмацького р.",null,null,{"$f":"IF(C82=0,0,IF(D82=0,\"-100,0\",IF(D82*100/C82<200,ROUND(D82*100/C82-100,1),ROUND(D82/C82,1)&\" р\")))","v":0},null,null,{"$f":"IF(F82=0,0,IF(G82=0,\"-100,0\",IF(G82*100/F82<200,ROUND(G82*100/F82-100,1),ROUND(G82/F82,1)&\" р\")))","v":0},3,2,{"$f":"IF(I82=0,0,IF(J82=0,\"-100,0\",IF(J82*100/I82<200,ROUND(J82*100/I82-100,1),ROUND(J82/I82,1)&\" р\")))","v":-33.299999999999997},null,14,{"$f":"IF(L82=0,0,IF(M82=0,\"-100,0\",IF(M82*100/L82<200,ROUND(M82*100/L82-100,1),ROUND(M82/L82,1)&\" р\")))","v":0},null,8,{"$f":"IF(O82=0,0,IF(P82=0,\"-100,0\",IF(P82*100/O82<200,ROUND(P82*100/O82-100,1),ROUND(P82/O82,1)&\" р\")))","v":0},null,8,{"$f":"IF(R82=0,0,IF(S82=0,\"-100,0\",IF(S82*100/R82<200,ROUND(S82*100/R82-100,1),ROUND(S82/R82,1)&\" р\")))","v":0},null,null,{"$f":"IF(U82=0,0,IF(V82=0,\"-100,0\",IF(V82*100/U82<200,ROUND(V82*100/U82-100,1),ROUND(V82/U82,1)&\" р\")))","v":0}]
[2,"Бобровицького р.",null,null,0,null,null,0,2,null,"-100,0",180,null,"-100,0",null,null,0,null,3,0,null,null,0]
[3,"Борзнянського р.",null,null,0,null,null,0,2,9,"4,5 р",null,36,0,null,null,0,null,5,0,null,null,0]
[4,"Варвинського р.",null,null,0,null,null,0,null,2,0,null,16,0,null,null,0,null,2,0,null,null,0]
[5,"Городнянського р.",null,null,0,null,null,0,2,10,"5 р",null,73,0,null,40,0,null,28,0,null,null,0]
[6,"Ічнянського р.",null,null,0,null,null,0,1,null,"-100,0",null,null,0,null,null,0,null,6,0,null,null,0]
[7,"Козелецького р.",null,null,0,null,null,0,1,6,"6 р",null,24,0,null,24,0,null,2,0,null,null,0]
[8,"Коропського р.",null,null,0,null,null,0,1,2,"2 р",null,12,0,null,null,0,null,6,0,null,null,0]
[9,"Корюківського р.",null,null,0,null,null,0,1,2,"2 р",null,3,0,null,null,0,null,9,0,null,null,0]
[10,"Куликівського р.",null,null,0,null,null,0,1,1,0,null,11342,0,null,null,0,null,4,0,null,null,0]
[11,"Менського р.",null,null,0,null,null,0,6,6,0,5,12,"2,4 р",null,12,0,null,7,0,null,null,0]
[12,"Ніжинського мр.пр.",null,null,0,null,null,0,27,13,-51.9,208,170,-18.3,null,137,0,null,20,0,null,null,0]
[13,"Новгород-Сіверського р.",null,null,0,null,null,0,1,1,0,null,null,0,null,null,0,null,15,0,null,null,0]
[14,"Носівського р.",null,null,0,null,null,0,1,3,"3 р",null,204,0,null,null,0,null,6,0,null,null,0]
[15,"Прилуцька мр.пр.",null,null,0,null,null,0,1,4,"4 р",null,80,0,null,78,0,null,38,0,null,null,0]
[16,"Ріпкинська р.",null,null,0,null,null,0,1,6,"6 р",null,11,0,null,null,0,null,13,0,null,null,0]
[17,"Семенівського р.",null,null,0,null,null,0,1,34,"34 р",null,90,0,null,null,0,null,11,0,null,14,0]
[18,"Сосницького р.",null,null,0,null,null,0,null,1,0,null,null,0,null,null,0,null,3,0,null,null,0]
[19,"Срібнянського р.",null,null,0,null,null,0,null,1,0,null,8,0,null,8,0,null,2,0,null,null,0]
[20,"Талалаївського р.",null,null,0,null,null,0,7,3,-57.1,56,16,-71.400000000000006,null,16,0,null,3,0,null,null,0]
[21,"Чернігівського р.",null,null,0,null,null,0,14,4,-71.400000000000006,84,11,-86.9,null,84,0,null,22,0,null,null,0]
[22,"м.Чернігова",null,null,0,null,null,0,47,37,-21.3,401,363,-9.5,null,349,0,null,30,0,null,null,0]
[23,"Щорського р.",null,null,0,null,null,0,1,3,"3 р",null,25,0,null,null,0,null,13,0,null,null,0]
[24,"Апарат прокуратури",null,null,0,null,null,0,null,4,0,null,403,0,null,324,0,null,18,0,null,null,0]
[25,"Усього по області",null,0,0,null,0,0,126,154,22.2,941,12913,"13,7 р",null,1080,0,null,274,0,null,14,0]
["РОЗДІЛ 1. Представництво інтересів громадян та держави в судах"]
["Таблиця 4. В інтересах громадян"]
[]
["Код","Прокуратура","Апеляційні скарги",null,null,null,null,null,"Касаційні скарги",null,null,null,null,null,"Сума за рішеннями, скасованими за скаргами, заявами прокурора (тис.грн.)",null,null,"Площа повернутих земель та незаконне надання яких попереджено"]
[null,null,"Розглянуто",null,"Задоволено",null,"Питома вага",null,"Розглянуто",null,"Задоволено",null,"Питома вага"]
[null,null,{"$f":"C81","v":2014},{"$f":"D81","v":2015},{"$f":"C112","v":2014},2015,2014,2015,2014,2015,2014,2015,2014,2015,2014,2015," %",{"$f":"O112","v":2014},{"$f":"P112","v":2015}," %"]
[1,"Бахмацького р.",null,null,null,null,{"$f":"IF(C113=0,0,E113*100/C113)","v":0},{"$f":"IF(D113=0,0,F113*100/D113)","v":0},null,null,null,null,{"$f":"IF(I113=0,0,K113*100/I113)","v":0},{"$f":"IF(J113=0,0,L113*100/J113)","v":0},null,null,{"$f":"IF(O113=0,0,IF(P113=0,\"-100,0\",IF(P113*100/O113<200,ROUND(P113*100/O113-100,1),ROUND(P113/O113,1)&\" р\")))","v":0},null,null,{"$f":"IF(R113=0,0,IF(S113=0,\"-100,0\",IF(S113*100/R113<200,ROUND(S113*100/R113-100,1),ROUND(S113/R113,1)&\" р\")))","v":0}]
[2,"Бобровицького р.",null,null,null,null,{"$f":"IF(C114=0,0,E114*100/C114)","v":0},{"$f":"IF(D114=0,0,F114*100/D114)","v":0},null,null,null,null,{"$f":"IF(I114=0,0,K114*100/I114)","v":0},{"$f":"IF(J114=0,0,L114*100/J114)","v":0},null,null,0,null,null,0]
[3,"Борзнянського р.",null,null,null,null,0,0,null,null,null,null,0,0,null,null,0,null,null,0]
[4,"Варвинського р.",null,null,null,null,0,0,null,null,null,null,0,0,null,null,0,null,null,0]
[5,"Городнянського р.",null,1,null,1,0,100,null,null,null,null,0,0,null,null,0,null,null,0]
[6,"Ічнянського р.",null,null,null,null,0,0,null,null,null,null,0,0,null,null,0,null,null,0]
[7,"Козелецького р.",null,null,null,null,0,0,null,null,null,null,0,0,null,null,0,null,null,0]
[8,"Коропського р.",null,null,null,null,0,0,null,null,null,null,0,0,null,null,0,null,null,0]
[9,"Корюківського р.",null,null,null,null,0,0,null,null,null,null,0,0,null,null,0,null,null,0]
[10,"Куликівського р.",null,null,null,null,0,0,null,null,null,null,0,0,null,null,0,null,54,0]
[11,"Менського р.",null,null,null,null,0,0,null,null,null,null,0,0,null,null,0,null,null,0]
[12,"Ніжинського мр.пр.",null,null,null,null,0,0,null,null,null,null,0,0,null,null,0,null,null,0]
[13,"Новгород-Сіверського р.",null,null,null,null,0,0,null,null,null,null,0,0,null,null,0,null,null,0]
[14,"Носівського р.",null,null,null,null,0,0,null,null,null,null,0,0,null,null,0,null,4,0]
[15,"Прилуцька мр.пр.",null,null,null,null,0,0,null,null,null,null,0,0,null,null,0,null,null,0]
[16,"Ріпкинська р.",null,null,null,null,0,0,null,null,null,null,0,0,null,null,0,null,null,0]
[17,"Семенівського р.",null,null,null,null,0,0,null,null,null,null,0,0,null,null,0,null,null,0]
[18,"Сосницького р.",null,null,null,null,0,0,null,null,null,null,0,0,null,null,0,null,null,0]
[19,"Срібнянського р.",null,null,null,null,0,0,null,null,null,null,0,0,null,null,0,null,null,0]
[20,"Талалаївського р.",null,null,null,null,0,0,null,null,null,null,0,0,null,null,0,null,null,0]
[21,"Чернігівського р.",null,null,null,null,0,0,null,null,null,null,0,0,null,null,0,null,null,0]
[22,"м.Чернігова",null,null,null,null,0,0,null,null,null,null,0,0,null,null,0,null,null,0]
[23,"Щорського р.",null,null,null,null,0,0,null,null,null,null,0,0,null,null,0,null,null,0]
[24,"Апарат прокуратури",null,8,null,6,0,75,null,null,null,null,0,0,null,303,0,null,null,0]
[25,"Усього по області",null,9,null,7,0,77.777777777777771,null,0,null,0,0,0,null,303,0,null,58,0]
["РОЗДІЛ 1. Представництво інтересів громадян та держави в судах"]
["Таблиця 5. На захист інтересів держави"]
[]
["Код","Прокуратура","Досудове врегулювання спорів",null,null,null,null,null,"Розгляд справи судом",null,null,null,null,null,"Сума за рішеннями, які передано на примусове виконання (тис.грн.)",null,null,"Кількість справ у яких забезпечено участь прокурора",null,null,"Сума за рішеннями прийнятими на користь сторони, в інтересах якої прокурор вступив у справу (тис.грн.)"]
[null,null,"Кількість направлених звернень  ",null,null,"Кількість позовів (заяв, скарг, подань), внесених у разі неврегулювання спору",null,null,"Задоволено позовів, заяв, скарг, подань",null,null,"Сума по них (тис.грн.)"]
[null,null,{"$f":"C112","v":2014},{"$f":"D112","v":2015}," %",{"$f":"C143","v":2014},{"$f":"D143","v":2015}," %",{"$f":"F143","v":2014},{"$f":"G143","v":2015}," %",{"$f":"I143","v":2014},{"$f":"J143","v":2015}," %",{"$f":"L143","v":2014},{"$f":"M143","v":2015}," %",{"$f":"O143","v":2014},{"$f":"P143","v":2015}," %",{"$f":"R143","v":2014},{"$f":"S143","v":2015}," %"]
[1,"Бахмацького р.",null,null,{"$f":"IF(C144=0,0,IF(D144=0,\"-100,0\",IF(D144*100/C144<200,ROUND(D144*100/C144-100,1),ROUND(D144/C144,1)&\" р\")))","v":0},null,null,{"$f":"IF(F144=0,0,IF(G144=0,\"-100,0\",IF(G144*100/F144<200,ROUND(G144*100/F144-100,1),ROUND(G144/F144,1)&\" р\")))","v":0},18,20,{"$f":"IF(I144=0,0,IF(J144=0,\"-100,0\",IF(J144*100/I144<200,ROUND(J144*100/I144-100,1),ROUND(J144/I144,1)&\" р\")))","v":11.1},1529,3789,{"$f":"IF(L144=0,0,IF(M144=0,\"-100,0\",IF(M144*100/L144<200,ROUND(M144*100/L144-100,1),ROUND(M144/L144,1)&\" р\")))","v":"2,5 р"},null,130,{"$f":"IF(O144=0,0,IF(P144=0,\"-100,0\",IF(P144*100/O144<200,ROUND(P144*100/O144-100,1),ROUND(P144/O144,1)&\" р\")))","v":0},null,3,{"$f":"IF(R144=0,0,IF(S144=0,\"-100,0\",IF(S144*100/R144<200,ROUND(S144*100/R144-100,1),ROUND(S144/R144,1)&\" р\")))","v":0},null,null,{"$f":"IF(U144=0,0,IF(V144=0,\"-100,0\",IF(V144*100/U144<200,ROUND(V144*100/U144-100,1),ROUND(V144/U144,1)&\" р\")))","v":0}]
[2,"Бобровицького р.",null,null,0,null,null,0,7,6,-14.3,8710,130,-98.5,null,5,0,null,11,0,null,null,0]
[3,"Борзнянського р.",null,null,0,null,null,0,7,4,-42.9,310,4858,"15,7 р",null,null,0,null,null,0,null,null,0]
[4,"Варвинського р.",null,null,0,null,null,0,6,6,0,297,19,-93.6,null,19,0,null,3,0,null,null,0]
[5,"Городнянського р.",null,null,0,null,null,0,19,17,-10.5,378,5270,"13,9 р",null,6,0,null,13,0,null,null,0]
[6,"Ічнянського р.",null,null,0,null,null,0,17,11,-35.299999999999997,944,188,-80.099999999999994,null,35,0,null,11,0,null,null,0]
[7,"Козелецького р.",null,null,0,null,null,0,12,20,66.7,413,310,-24.9,null,142,0,null,7,0,null,null,0]
[8,"Коропського р.",null,null,0,null,null,0,10,13,30,118,230,94.9,null,null,0,null,13,0,null,null,0]
[9,"Корюківського р.",null,null,0,null,null,0,6,12,"2 р",1015,15879,"15,6 р",null,219,0,null,7,0,null,null,0]
[10,"Куликівського р.",null,null,0,null,null,0,6,33,"5,5 р",354,1873,"5,3 р",null,20,0,null,30,0,null,null,0]
[11,"Менського р.",null,null,0,null,null,0,15,8,-46.7,192,4060,"21,1 р",null,59,0,null,8,0,null,null,0]
[12,"Ніжинського мр.пр.",null,null,0,null,null,0,22,18,-18.2,18802,3505,-81.400000000000006,null,1972,0,null,8,0,null,null,0]
[13,"Новгород-Сіверського р.",null,null,0,null,null,0,11,16,45.5,185,1046,"5,7 р",null,null,0,null,13,0,null,null,0]
[14,"Носівського р.",null,null,0,null,null,0,16,11,-31.3,37904,442,-98.8,null,51,0,null,9,0,null,null,0]
[15,"Прилуцька мр.пр.",null,null,0,null,null,0,24,22,-8.3000000000000007,4561,1361,-70.2,null,1355,0,null,10,0,null,null,0]
[16,"Ріпкинська р.",null,null,0,null,null,0,10,12,20,140,1034,"7,4 р",null,10,0,null,10,0,null,null,0]
[17,"Семенівського р.",null,null,0,null,null,0,5,7,40,212,1032,"4,9 р",null,126,0,null,4,0,null,null,0]
[18,"Сосницького р.",null,null,0,null,null,0,4,17,"4,3 р",130,454,"3,5 р",null,44,0,null,14,0,null,null,0]
[19,"Срібнянського р.",null,null,0,null,null,0,5,8,60,251,472,88,null,33,0,null,4,0,null,null,0]
[20,"Талалаївського р.",null,null,0,null,null,0,7,4,-42.9,416,2241,"5,4 р",null,null,0,null,3,0,null,null,0]
[21,"Чернігівського р.",null,null,0,null,null,0,12,27,"2,3 р",893,10365,"11,6 р",null,1026,0,null,28,0,null,null,0]
[22,"м.Чернігова",null,null,0,null,null,0,65,44,-32.299999999999997,42929,16167,-62.3,null,2664,0,null,45,0,null,169,0]
[23,"Щорського р.",null,null,0,null,null,0,6,8,33.299999999999997,123,346,"2,8 р",null,null,0,null,6,0,null,null,0]
[24,"Апарат прокуратури",null,null,0,null,null,0,28,62,"2,2 р",40386,122230,"3 р",null,991,0,null,221,0,null,1122,0]
[25,"Усього по області",null,0,0,null,0,0,345,406,17.7,161449,197301,22.2,null,8907,0,null,481,0,null,1291,0]
["РОЗДІЛ 1. Представництво інтересів громадян та держави в судах"]
["Таблиця 6. На захист інтересів держави"]
[]
["Код","Прокуратура","Апеляційні скарги",null,null,null,null,null,"Касаційні скарги",null,null,null,null,null,"Сума за рішеннями, скасованими за скаргами, заявами прокурора (тис.грн.)",null,null,"Площа повернутих земель та незаконне надання яких попереджено"]
[null,null,"Розглянуто",null,"Задоволено",null,"Питома вага",null,"Розглянуто",null,"Задоволено",null,"Питома вага"]
[null,null,{"$f":"C143","v":2014},{"$f":"D143","v":2015},{"$f":"C174","v":2014},{"$f":"D174","v":2015},{"$f":"E174","v":2014},{"$f":"F174","v":2015},{"$f":"G174","v":2014},{"$f":"H174","v":2015},{"$f":"I174","v":2014},{"$f":"J174","v":2015},{"$f":"K174","v":2014},{"$f":"L174","v":2015},{"$f":"M174","v":2014},{"$f":"N174","v":2015}," %",{"$f":"O174","v":2014},{"$f":"P174","v":2015}," %"]
[1,"Бахмацького р.",null,null,null,null,{"$f":"IF(C175=0,0,E175*100/C175)","v":0},{"$f":"IF(D175=0,0,F175*100/D175)","v":0},null,null,null,null,{"$f":"IF(I175=0,0,K175*100/I175)","v":0},{"$f":"IF(J175=0,0,L175*100/J175)","v":0},null,null,{"$f":"IF(O175=0,0,IF(P175=0,\"-100,0\",IF(P175*100/O175<200,ROUND(P175*100/O175-100,1),ROUND(P175/O175,1)&\" р\")))","v":0},null,62,{"$f":"IF(R175=0,0,IF(S175=0,\"-100,0\",IF(S175*100/R175<200,ROUND(S175*100/R175-100,1),ROUND(S175/R175,1)&\" р\")))","v":0}]
[2,"Бобровицького р.",null,null,null,null,{"$f":"IF(C176=0,0,E176*100/C176)","v":0},{"$f":"IF(D176=0,0,F176*100/D176)","v":0},null,null,null,null,{"$f":"IF(I176=0,0,K176*100/I176)","v":0},{"$f":"IF(J176=0,0,L176*100/J176)","v":0},null,null,0,null,null,0]
[3,"Борзнянського р.",null,null,null,null,0,0,null,null,null,null,0,0,null,null,0,null,null,0]
[4,"Варвинського р.",null,null,null,null,0,0,null,null,null,null,0,0,null,null,0,null,null,0]
[5,"Городнянського р.",null,1,null,1,0,100,null,null,null,null,0,0,null,null,0,null,653,0]
[6,"Ічнянського р.",null,1,null,1,0,100,null,null,null,null,0,0,null,null,0,null,12,0]
[7,"Козелецького р.",null,null,null,null,0,0,null,null,null,null,0,0,null,null,0,null,38,0]
[8,"Коропського р.",null,null,null,null,0,0,null,null,null,null,0,0,null,null,0,null,null,0]
[9,"Корюківського р.",null,null,null,null,0,0,null,null,null,null,0,0,null,null,0,null,591,0]
[10,"Куликівського р.",null,null,null,null,0,0,null,null,null,null,0,0,null,null,0,null,null,0]
[11,"Менського р.",null,1,null,null,0,0,null,null,null,null,0,0,null,null,0,null,183,0]
[12,"Ніжинського мр.пр.",null,null,null,null,0,0,null,null,null,null,0,0,null,null,0,null,null,0]
[13,"Новгород-Сіверського р.",null,null,null,null,0,0,null,null,null,null,0,0,null,null,0,null,null,0]
[14,"Носівського р.",null,null,null,null,0,0,null,null,null,null,0,0,null,null,0,null,219,0]
[15,"Прилуцька мр.пр.",null,null,null,null,0,0,null,null,null,null,0,0,null,null,0,null,null,0]
[16,"Ріпкинська р.",null,null,null,null,0,0,null,null,null,null,0,0,null,null,0,null,43.53,0]
[17,"Семенівського р.",null,null,null,null,0,0,null,null,null,null,0,0,null,null,0,null,40,0]
[18,"Сосницького р.",null,null,null,null,0,0,null,null,null,null,0,0,null,null,0,null,null,0]
[19,"Срібнянського р.",null,null,null,null,0,0,null,null,null,null,0,0,null,null,0,null,7,0]
[20,"Талалаївського р.",null,null,null,null,0,0,null,null,null,null,0,0,null,null,0,null,161,0]
[21,"Чернігівського р.",null,null,null,null,0,0,null,null,null,null,0,0,null,null,0,null,23,0]
[22,"м.Чернігова",null,2,null,1,0,50,null,null,null,null,0,0,null,null,0,null,null,0]
[23,"Щорського р.",null,null,null,null,0,0,null,null,null,null,0,0,null,null,0,null,90,0]
[24,"Апарат прокуратури",null,26,null,17,0,65.384615384615387,null,6,null,4,0,66.666666666666671,null,619,0,null,8329,0]
[25,"Усього по області",null,31,null,20,0,64.516129032258064,null,6,null,4,0,66.666666666666671,null,619,0,null,10451.529999999999,0]
["РОЗДІЛ 1. Представництво інтересів громадян та держави в судах"]
["Таблиця 7. На захист інтересів держави у бюджетній сфері"]
[]
["Код","Прокуратура","Досудове врегулювання спорів",null,null,null,null,null,"Розгляд справи судом",null,null,null,null,null,"Сума за рішеннями, які передано на примусове виконання (тис.грн.)",null,null,"Кількість справ у яких забезпечено участь прокурора",null,null,"Сума за рішеннями прийнятими на користь сторони, в інтересах якої прокурор вступив у справу (тис.грн.)"]
[null,null,"Кількість направлених звернень  ",null,null,"Кількість позовів (заяв, скарг, подань), внесених у разі неврегулювання спору",null,null,"Задоволено позовів, заяв, скарг, подань",null,null,"Сума по них (тис.грн.)"]
[null,null,{"$f":"C174","v":2014},{"$f":"D174","v":2015}," %",{"$f":"C205","v":2014},{"$f":"D205","v":2015}," %",{"$f":"F205","v":2014},{"$f":"G205","v":2015}," %",{"$f":"I205","v":2014},{"$f":"J205","v":2015}," %",{"$f":"L205","v":2014},{"$f":"M205","v":2015}," %",{"$f":"O205","v":2014},{"$f":"P205","v":2015}," %",{"$f":"R205","v":2014},{"$f":"S205","v":2015}," %"]
[1,"Бахмацького р.",null,null,{"$f":"IF(C206=0,0,IF(D206=0,\"-100,0\",IF(D206*100/C206<200,ROUND(D206*100/C206-100,1),ROUND(D206/C206,1)&\" р\")))","v":0},null,null,{"$f":"IF(F206=0,0,IF(G206=0,\"-100,0\",IF(G206*100/F206<200,ROUND(G206*100/F206-100,1),ROUND(G206/F206,1)&\" р\")))","v":0},null,1,{"$f":"IF(I206=0,0,IF(J206=0,\"-100,0\",IF(J206*100/I206<200,ROUND(J206*100/I206-100,1),ROUND(J206/I206,1)&\" р\")))","v":0},null,102,{"$f":"IF(L206=0,0,IF(M206=0,\"-100,0\",IF(M206*100/L206<200,ROUND(M206*100/L206-100,1),ROUND(M206/L206,1)&\" р\")))","v":0},null,102,{"$f":"IF(O206=0,0,IF(P206=0,\"-100,0\",IF(P206*100/O206<200,ROUND(P206*100/O206-100,1),ROUND(P206/O206,1)&\" р\")))","v":0},null,null,{"$f":"IF(R206=0,0,IF(S206=0,\"-100,0\",IF(S206*100/R206<200,ROUND(S206*100/R206-100,1),ROUND(S206/R206,1)&\" р\")))","v":0},null,null,{"$f":"IF(U206=0,0,IF(V206=0,\"-100,0\",IF(V206*100/U206<200,ROUND(V206*100/U206-100,1),ROUND(V206/U206,1)&\" р\")))","v":0}]
[2,"Бобровицького р.",null,null,0,null,null,0,null,null,0,null,null,0,null,null,0,null,null,0,null,null,0]
[3,"Борзнянського р.",null,null,0,null,null,0,null,4,0,null,166,0,null,null,0,null,null,0,null,null,0]
[4,"Варвинського р.",null,null,0,null,null,0,null,4,0,null,7,0,null,7,0,null,null,0,null,null,0]
[5,"Городнянського р.",null,null,0,null,null,0,null,1,0,null,2,0,null,null,0,null,null,0,null,null,0]
[6,"Ічнянського р.",null,null,0,null,null,0,null,2,0,null,8,0,null,null,0,null,null,0,null,null,0]
[7,"Козелецького р.",null,null,0,null,null,0,null,8,0,null,91,0,null,null,0,null,null,0,null,null,0]
[8,"Коропського р.",null,null,0,null,null,0,null,null,0,null,null,0,null,null,0,null,null,0,null,null,0]
[9,"Корюківського р.",null,null,0,null,null,0,null,3,0,null,170,0,null,153,0,null,1,0,null,null,0]
[10,"Куликівського р.",null,null,0,null,null,0,null,null,0,null,null,0,null,null,0,null,null,0,null,null,0]
[11,"Менського р.",null,null,0,null,null,0,null,null,0,null,null,0,null,null,0,null,null,0,null,null,0]
[12,"Ніжинського мр.пр.",null,null,0,null,null,0,null,5,0,null,364,0,null,172,0,null,3,0,null,null,0]
[13,"Новгород-Сіверського р.",null,null,0,null,null,0,null,1,0,null,1,0,null,null,0,null,null,0,null,null,0]
[14,"Носівського р.",null,null,0,null,null,0,null,null,0,null,null,0,null,null,0,null,null,0,null,null,0]
[15,"Прилуцька мр.пр.",null,null,0,null,null,0,null,1,0,null,null,0,null,null,0,null,null,0,null,null,0]
[16,"Ріпкинська р.",null,null,0,null,null,0,null,2,0,null,33,0,null,null,0,null,null,0,null,null,0]
[17,"Семенівського р.",null,null,0,null,null,0,null,1,0,null,5,0,null,null,0,null,null,0,null,null,0]
[18,"Сосницького р.",null,null,0,null,null,0,null,null,0,null,null,0,null,null,0,null,null,0,null,null,0]
[19,"Срібнянського р.",null,null,0,null,null,0,null,null,0,null,null,0,null,null,0,null,null,0,null,null,0]
[20,"Талалаївського р.",null,null,0,null,null,0,null,null,0,null,null,0,null,null,0,null,null,0,null,null,0]
[21,"Чернігівського р.",null,null,0,null,null,0,null,1,0,null,330,0,null,330,0,null,null,0,null,null,0]
[22,"м.Чернігова",null,null,0,null,null,0,null,19,0,null,2497,0,null,773,0,null,10,0,null,16,0]
[23,"Щорського р.",null,null,0,null,null,0,null,null,0,null,null,0,null,null,0,null,null,0,null,null,0]
[24,"Апарат прокуратури",null,null,0,null,null,0,null,5,0,null,351,0,null,6,0,null,32,0,null,null,0]
[25,"Усього по області",null,0,0,null,0,0,null,58,0,null,4127,0,null,1543,0,null,46,0,null,16,0]
["РОЗДІЛ 1. Представництво інтересів громадян та держави в судах"]
["Таблиця 8. На захист інтересів держави у бюджетній сфері"]
[]
["Код","Прокуратура","Апеляційні скарги",null,null,null,null,null,"Касаційні скарги",null,null,null,null,null,"Сума за рішеннями, скасованими за скаргами, заявами прокурора (тис.грн.)",null,null,"Площа повернутих земель та незаконне надання яких попереджено"]
[null,null,"Розглянуто",null,"Задоволено",null,"Питома вага",null,"Розглянуто",null,"Задоволено",null,"Питома вага"]
[null,null,{"$f":"C205","v":2014},{"$f":"D205","v":2015},{"$f":"C236","v":2014},{"$f":"D236","v":2015},{"$f":"E236","v":2014},{"$f":"F236","v":2015},{"$f":"G236","v":2014},{"$f":"H236","v":2015},{"$f":"I236","v":2014},{"$f":"J236","v":2015},{"$f":"K236","v":2014},{"$f":"L236","v":2015},{"$f":"M236","v":2014},{"$f":"N236","v":2015}," %",{"$f":"O236","v":2014},{"$f":"P236","v":2015}," %"]
[1,"Бахмацького р.",null,null,null,null,{"$f":"IF(C237=0,0,E237*100/C237)","v":0},{"$f":"IF(D237=0,0,F237*100/D237)","v":0},null,null,null,null,{"$f":"IF(I237=0,0,K237*100/I237)","v":0},{"$f":"IF(J237=0,0,L237*100/J237)","v":0},null,null,{"$f":"IF(O237=0,0,IF(P237=0,\"-100,0\",IF(P237*100/O237<200,ROUND(P237*100/O237-100,1),ROUND(P237/O237,1)&\" р\")))","v":0},null,null,{"$f":"IF(R237=0,0,IF(S237=0,\"-100,0\",IF(S237*100/R237<200,ROUND(S237*100/R237-100,1),ROUND(S237/R237,1)&\" р\")))","v":0}]
[2,"Бобровицького р.",null,null,null,null,{"$f":"IF(C238=0,0,E238*100/C238)","v":0},{"$f":"IF(D238=0,0,F238*100/D238)","v":0},null,null,null,null,{"$f":"IF(I238=0,0,K238*100/I238)","v":0},{"$f":"IF(J238=0,0,L238*100/J238)","v":0},null,null,0,null,null,0]
[3,"Борзнянського р.",null,null,null,null,0,0,null,null,null,null,0,0,null,null,0,null,null,0]
[4,"Варвинського р.",null,null,null,null,0,0,null,null,null,null,0,0,null,null,0,null,null,0]
[5,"Городнянського р.",null,null,null,null,0,0,null,null,null,null,0,0,null,null,0,null,null,0]
[6,"Ічнянського р.",null,null,null,null,0,0,null,null,null,null,0,0,null,null,0,null,null,0]
[7,"Козелецького р.",null,null,null,null,0,0,null,null,null,null,0,0,null,null,0,null,null,0]
[8,"Коропського р.",null,null,null,null,0,0,null,null,null,null,0,0,null,null,0,null,null,0]
[9,"Корюківського р.",null,null,null,null,0,0,null,null,null,null,0,0,null,null,0,null,null,0]
[10,"Куликівського р.",null,null,null,null,0,0,null,null,null,null,0,0,null,null,0,null,null,0]
[11,"Менського р.",null,null,null,null,0,0,null,null,null,null,0,0,null,null,0,null,null,0]
[12,"Ніжинського мр.пр.",null,null,null,null,0,0,null,null,null,null,0,0,null,null,0,null,null,0]
[13,"Новгород-Сіверського р.",null,null,null,null,0,0,null,null,null,null,0,0,null,null,0,null,null,0]
[14,"Носівського р.",null,null,null,null,0,0,null,null,null,null,0,0,null,null,0,null,null,0]
[15,"Прилуцька мр.пр.",null,null,null,null,0,0,null,null,null,null,0,0,null,null,0,null,null,0]
[16,"Ріпкинська р.",null,null,null,null,0,0,null,null,null,null,0,0,null,null,0,null,null,0]
[17,"Семенівського р.",null,null,null,null,0,0,null,null,null,null,0,0,null,null,0,null,null,0]
[18,"Сосницького р.",null,null,null,null,0,0,null,null,null,null,0,0,null,null,0,null,null,0]
[19,"Срібнянського р.",null,null,null,null,0,0,null,null,null,null,0,0,null,null,0,null,null,0]
[20,"Талалаївського р.",null,null,null,null,0,0,null,null,null,null,0,0,null,null,0,null,null,0]
[21,"Чернігівського р.",null,null,null,null,0,0,null,null,null,null,0,0,null,null,0,null,null,0]
[22,"м.Чернігова",null,1,null,null,0,0,null,null,null,null,0,0,null,null,0,null,null,0]
[23,"Щорського р.",null,null,null,null,0,0,null,null,null,null,0,0,null,null,0,null,null,0]
[24,"Апарат прокуратури",null,2,null,1,0,50,null,null,null,null,0,0,null,null,0,null,null,0]
[25,"Усього по області",null,3,null,1,0,33.333333333333336,null,0,null,0,0,0,null,0,0,null,0,0]
["РОЗДІЛ 1. Представництво інтересів громадян та держави в судах"]
["Таблиця 9. З питань захисту інтересів дітей"]
[]
["Код","Прокуратура","Досудове врегулювання спорів",null,null,null,null,null,"Розгляд справи судом",null,null,null,null,null,"Сума за рішеннями, які передано на примусове виконання (тис.грн.)",null,null,"Кількість справ у яких забезпечено участь прокурора",null,null,"Сума за рішеннями прийнятими на користь сторони, в інтересах якої прокурор вступив у справу (тис.грн.)"]
[null,null,"Кількість направлених звернень  ",null,null,"Кількість позовів (заяв, скарг, подань), внесених у разі неврегулювання спору",null,null,"Задоволено позовів, заяв, скарг, подань",null,null,"Сума по них (тис.грн.)"]
[null,null,{"$f":"C236","v":2014},{"$f":"D236","v":2015}," %",{"$f":"C267","v":2014},{"$f":"D267","v":2015}," %",{"$f":"F267","v":2014},{"$f":"G267","v":2015}," %",{"$f":"I267","v":2014},{"$f":"J267","v":2015}," %",{"$f":"L267","v":2014},{"$f":"M267","v":2015}," %",{"$f":"O267","v":2014},{"$f":"P267","v":2015}," %",{"$f":"R267","v":2014},{"$f":"S267","v":2015}," %"]
[1,"Бахмацького р.",null,null,{"$f":"IF(C268=0,0,IF(D268=0,\"-100,0\",IF(D268*100/C268<200,ROUND(D268*100/C268-100,1),ROUND(D268/C268,1)&\" р\")))","v":0},null,null,{"$f":"IF(F268=0,0,IF(G268=0,\"-100,0\",IF(G268*100/F268<200,ROUND(G268*100/F268-100,1),ROUND(G268/F268,1)&\" р\")))","v":0},null,3,{"$f":"IF(I268=0,0,IF(J268=0,\"-100,0\",IF(J268*100/I268<200,ROUND(J268*100/I268-100,1),ROUND(J268/I268,1)&\" р\")))","v":0},null,14,{"$f":"IF(L268=0,0,IF(M268=0,\"-100,0\",IF(M268*100/L268<200,ROUND(M268*100/L268-100,1),ROUND(M268/L268,1)&\" р\")))","v":0},null,8,{"$f":"IF(O268=0,0,IF(P268=0,\"-100,0\",IF(P268*100/O268<200,ROUND(P268*100/O268-100,1),ROUND(P268/O268,1)&\" р\")))","v":0},null,5,{"$f":"IF(R268=0,0,IF(S268=0,\"-100,0\",IF(S268*100/R268<200,ROUND(S268*100/R268-100,1),ROUND(S268/R268,1)&\" р\")))","v":0},null,null,{"$f":"IF(U268=0,0,IF(V268=0,\"-100,0\",IF(V268*100/U268<200,ROUND(V268*100/U268-100,1),ROUND(V268/U268,1)&\" р\")))","v":0}]
[2,"Бобровицького р.",null,null,0,null,null,0,null,null,0,null,null,0,null,null,0,null,4,0,null,null,0]
[3,"Борзнянського р.",null,null,0,null,null,0,null,1,0,null,6,0,null,null,0,null,5,0,null,null,0]
[4,"Варвинського р.",null,null,0,null,null,0,null,2,0,null,16,0,null,null,0,null,2,0,null,null,0]
[5,"Городнянського р.",null,null,0,null,null,0,null,7,0,null,51,0,null,40,0,null,21,0,null,null,0]
[6,"Ічнянського р.",null,null,0,null,null,0,null,null,0,null,null,0,null,null,0,null,4,0,null,null,0]
[7,"Козелецького р.",null,null,0,null,null,0,null,5,0,null,24,0,null,24,0,null,1,0,null,null,0]
[8,"Коропського р.",null,null,0,null,null,0,null,2,0,null,12,0,null,null,0,null,6,0,null,null,0]
[9,"Корюківського р.",null,null,0,null,null,0,null,1,0,null,null,0,null,null,0,null,8,0,null,null,0]
[10,"Куликівського р.",null,null,0,null,null,0,null,null,0,null,null,0,null,null,0,null,2,0,null,null,0]
[11,"Менського р.",null,null,0,null,null,0,null,3,0,null,9,0,null,9,0,null,4,0,null,null,0]
[12,"Ніжинського мр.пр.",null,null,0,null,null,0,null,4,0,null,24,0,null,null,0,null,8,0,null,null,0]
[13,"Новгород-Сіверського р.",null,null,0,null,null,0,null,2,0,null,1,0,null,null,0,null,16,0,null,null,0]
[14,"Носівського р.",null,null,0,null,null,0,null,1,0,null,165,0,null,null,0,null,4,0,null,null,0]
[15,"Прилуцька мр.пр.",null,null,0,null,null,0,null,4,0,null,82,0,null,78,0,null,26,0,null,null,0]
[16,"Ріпкинська р.",null,null,0,null,null,0,null,2,0,null,6,0,null,null,0,null,9,0,null,null,0]
[17,"Семенівського р.",null,null,0,null,null,0,null,null,0,null,null,0,null,null,0,null,5,0,null,null,0]
[18,"Сосницького р.",null,null,0,null,null,0,null,1,0,null,null,0,null,null,0,null,3,0,null,null,0]
[19,"Срібнянського р.",null,null,0,null,null,0,null,1,0,null,8,0,null,8,0,null,2,0,null,null,0]
[20,"Талалаївського р.",null,null,0,null,null,0,null,2,0,null,16,0,null,16,0,null,2,0,null,null,0]
[21,"Чернігівського р.",null,null,0,null,null,0,null,1,0,null,null,0,null,null,0,null,18,0,null,null,0]
[22,"м.Чернігова",null,null,0,null,null,0,null,6,0,null,94,0,null,82,0,null,23,0,null,null,0]
[23,"Щорського р.",null,null,0,null,null,0,null,1,0,null,7,0,null,null,0,null,12,0,null,null,0]
[24,"Апарат прокуратури",null,null,0,null,null,0,null,6,0,null,36,0,null,176,0,null,12,0,null,null,0]
[25,"Усього по області",null,0,0,null,0,0,null,55,0,null,571,0,null,441,0,null,202,0,null,0,0]
["РОЗДІЛ 1. Представництво інтересів громадян та держави в судах"]
["Таблиця 10. З питань захисту інтересів дітей"]
[]
["Код","Прокуратура","Апеляційні скарги",null,null,null,null,null,"Касаційні скарги",null,null,null,null,null,"Сума за рішеннями, скасованими за скаргами, заявами прокурора (тис.грн.)",null,null,"Площа повернутих земель та незаконне надання яких попереджено"]
[null,null,"Розглянуто",null,"Задоволено",null,"Питома вага",null,"Розглянуто",null,"Задоволено",null,"Питома вага"]
[null,null,{"$f":"C267","v":2014},{"$f":"D267","v":2015},{"$f":"C298","v":2014},{"$f":"D298","v":2015},{"$f":"E298","v":2014},{"$f":"F298","v":2015},{"$f":"G298","v":2014},{"$f":"H298","v":2015},{"$f":"I298","v":2014},{"$f":"J298","v":2015},{"$f":"K298","v":2014},{"$f":"L298","v":2015},{"$f":"M298","v":2014},{"$f":"N298","v":2015}," %",{"$f":"O298","v":2014},{"$f":"P298","v":2015}," %"]
[1,"Бахмацького р.",null,null,null,null,{"$f":"IF(C299=0,0,E299*100/C299)","v":0},{"$f":"IF(D299=0,0,F299*100/D299)","v":0},null,null,null,null,{"$f":"IF(I299=0,0,K299*100/I299)","v":0},{"$f":"IF(J299=0,0,L299*100/J299)","v":0},null,null,{"$f":"IF(O299=0,0,IF(P299=0,\"-100,0\",IF(P299*100/O299<200,ROUND(P299*100/O299-100,1),ROUND(P299/O299,1)&\" р\")))","v":0},null,null,{"$f":"IF(R299=0,0,IF(S299=0,\"-100,0\",IF(S299*100/R299<200,ROUND(S299*100/R299-100,1),ROUND(S299/R299,1)&\" р\")))","v":0}]
[2,"Бобровицького р.",null,null,null,null,{"$f":"IF(C300=0,0,E300*100/C300)","v":0},{"$f":"IF(D300=0,0,F300*100/D300)","v":0},null,null,null,null,{"$f":"IF(I300=0,0,K300*100/I300)","v":0},{"$f":"IF(J300=0,0,L300*100/J300)","v":0},null,null,0,null,null,0]
[3,"Борзнянського р.",null,null,null,null,0,0,null,null,null,null,0,0,null,null,0,null,null,0]
[4,"Варвинського р.",null,null,null,null,0,0,null,null,null,null,0,0,null,null,0,null,null,0]
[5,"Городнянського р.",null,null,null,null,0,0,null,null,null,null,0,0,null,null,0,null,null,0]
[6,"Ічнянського р.",null,null,null,null,0,0,null,null,null,null,0,0,null,null,0,null,null,0]
[7,"Козелецького р.",null,null,null,null,0,0,null,null,null,null,0,0,null,null,0,null,null,0]
[8,"Коропського р.",null,null,null,null,0,0,null,null,null,null,0,0,null,null,0,null,null,0]
[9,"Корюківського р.",null,null,null,null,0,0,null,null,null,null,0,0,null,null,0,null,null,0]
[10,"Куликівського р.",null,null,null,null,0,0,null,null,null,null,0,0,null,null,0,null,null,0]
[11,"Менського р.",null,null,null,null,0,0,null,null,null,null,0,0,null,null,0,null,null,0]
[12,"Ніжинського мр.пр.",null,null,null,null,0,0,null,null,null,null,0,0,null,null,0,null,null,0]
[13,"Новгород-Сіверського р.",null,null,null,null,0,0,null,null,null,null,0,0,null,null,0,null,null,0]
[14,"Носівського р.",null,null,null,null,0,0,null,null,null,null,0,0,null,null,0,null,null,0]
[15,"Прилуцька мр.пр.",null,null,null,null,0,0,null,null,null,null,0,0,null,null,0,null,null,0]
[16,"Ріпкинська р.",null,null,null,null,0,0,null,null,null,null,0,0,null,null,0,null,null,0]
[17,"Семенівського р.",null,null,null,null,0,0,null,null,null,null,0,0,null,null,0,null,null,0]
[18,"Сосницького р.",null,null,null,null,0,0,null,null,null,null,0,0,null,null,0,null,null,0]
[19,"Срібнянського р.",null,null,null,null,0,0,null,null,null,null,0,0,null,null,0,null,null,0]
[20,"Талалаївського р.",null,null,null,null,0,0,null,null,null,null,0,0,null,null,0,null,null,0]
[21,"Чернігівського р.",null,null,null,null,0,0,null,null,null,null,0,0,null,null,0,null,null,0]
[22,"м.Чернігова",null,null,null,null,0,0,null,null,null,null,0,0,null,null,0,null,null,0]
[23,"Щорського р.",null,null,null,null,0,0,null,null,null,null,0,0,null,null,0,null,null,0]
[24,"Апарат прокуратури",1,5,1,5,100,100,null,null,null,null,0,0,null,38,0,null,null,0]
[25,"Усього по області",1,5,1,5,100,100,null,0,null,0,0,0,null,38,0,null,0,0]
["РОЗДІЛ 1. Представництво інтересів громадян та держави в судах"]
["Таблиця 11. З питань земельних відносин"]
[]
["Код","Прокуратура","Досудове врегулювання спорів",null,null,null,null,null,"Розгляд справи судом",null,null,null,null,null,"Сума за рішеннями, які передано на примусове виконання (тис.грн.)",null,null,"Кількість справ у яких забезпечено участь прокурора",null,null,"Сума за рішеннями прийнятими на користь сторони, в інтересах якої прокурор вступив у справу (тис.грн.)"]
[null,null,"Кількість направлених звернень  ",null,null,"Кількість позовів (заяв, скарг, подань), внесених у разі неврегулювання спору",null,null,"Задоволено позовів, заяв, скарг, подань",null,null,"Сума по них (тис.грн.)"]
[null,null,{"$f":"C298","v":2014},{"$f":"D298","v":2015}," %",{"$f":"C329","v":2014},{"$f":"D329","v":2015}," %",{"$f":"F329","v":2014},{"$f":"G329","v":2015}," %",{"$f":"I329","v":2014},{"$f":"J329","v":2015}," %",{"$f":"L329","v":2014},{"$f":"M329","v":2015}," %",{"$f":"O329","v":2014},{"$f":"P329","v":2015}," %",{"$f":"R329","v":2014},{"$f":"S329","v":2015}," %"]
[1,"Бахмацького р.",null,null,{"$f":"IF(C330=0,0,IF(D330=0,\"-100,0\",IF(D330*100/C330<200,ROUND(D330*100/C330-100,1),ROUND(D330/C330,1)&\" р\")))","v":0},null,null,{"$f":"IF(F330=0,0,IF(G330=0,\"-100,0\",IF(G330*100/F330<200,ROUND(G330*100/F330-100,1),ROUND(G330/F330,1)&\" р\")))","v":0},12,13,{"$f":"IF(I330=0,0,IF(J330=0,\"-100,0\",IF(J330*100/I330<200,ROUND(J330*100/I330-100,1),ROUND(J330/I330,1)&\" р\")))","v":8.3000000000000007},1473,3663,{"$f":"IF(L330=0,0,IF(M330=0,\"-100,0\",IF(M330*100/L330<200,ROUND(M330*100/L330-100,1),ROUND(M330/L330,1)&\" р\")))","v":"2,5 р"},null,3,{"$f":"IF(O330=0,0,IF(P330=0,\"-100,0\",IF(P330*100/O330<200,ROUND(P330*100/O330-100,1),ROUND(P330/O330,1)&\" р\")))","v":0},null,2,{"$f":"IF(R330=0,0,IF(S330=0,\"-100,0\",IF(S330*100/R330<200,ROUND(S330*100/R330-100,1),ROUND(S330/R330,1)&\" р\")))","v":0},null,null,{"$f":"IF(U330=0,0,IF(V330=0,\"-100,0\",IF(V330*100/U330<200,ROUND(V330*100/U330-100,1),ROUND(V330/U330,1)&\" р\")))","v":0}]
[2,"Бобровицького р.",null,null,0,null,null,0,5,1,-80,4852,61,-98.7,null,null,0,null,null,0,null,null,0]
[3,"Борзнянського р.",null,null,0,null,null,0,3,1,-66.7,84,4692,"55,9 р",null,null,0,null,null,0,null,null,0]
[4,"Варвинського р.",null,null,0,null,null,0,3,1,-66.7,294,null,"-100,0",null,null,0,null,2,0,null,null,0]
[5,"Городнянського р.",null,null,0,null,null,0,6,8,33.299999999999997,305,5013,"16,4 р",null,null,0,null,3,0,null,null,0]
[6,"Ічнянського р.",null,null,0,null,null,0,11,3,-72.7,626,136,-78.3,null,null,0,null,7,0,null,null,0]
[7,"Козелецького р.",null,null,0,null,null,0,4,8,"2 р",77,168,"2,2 р",null,128,0,null,2,0,null,null,0]
[8,"Коропського р.",null,null,0,null,null,0,1,6,"6 р",38,111,"2,9 р",null,null,0,null,6,0,null,null,0]
[9,"Корюківського р.",null,null,0,null,null,0,1,5,"5 р",989,15672,"15,8 р",null,28,0,null,1,0,null,null,0]
[10,"Куликівського р.",null,null,0,null,null,0,4,28,"7 р",201,12726,"63,3 р",null,null,0,null,null,0,null,null,0]
[11,"Менського р.",null,null,0,null,null,0,6,6,0,90,3967,"44,1 р",null,null,0,null,5,0,null,null,0]
[12,"Ніжинського мр.пр.",null,null,0,null,null,0,1,2,"2 р",1,84,"84 р",null,84,0,null,3,0,null,null,0]
[13,"Новгород-Сіверського р.",null,null,0,null,null,0,3,13,"4,3 р",160,932,"5,8 р",null,null,0,null,12,0,null,null,0]
[14,"Носівського р.",null,null,0,null,null,0,7,8,14.3,37522,345,-99.1,null,null,0,null,8,0,null,null,0]
[15,"Прилуцька мр.пр.",null,null,0,null,null,0,7,3,-57.1,419,298,-28.9,null,262,0,null,4,0,null,null,0]
[16,"Ріпкинська р.",null,null,0,null,null,0,3,5,66.7,94,949,"10,1 р",null,null,0,null,3,0,null,null,0]
[17,"Семенівського р.",null,null,0,null,null,0,4,8,"2 р",204,935,"4,6 р",null,null,0,null,5,0,null,null,0]
[18,"Сосницького р.",null,null,0,null,null,0,3,11,"3,7 р",130,767,"5,9 р",null,null,0,null,11,0,null,null,0]
[19,"Срібнянського р.",null,null,0,null,null,0,3,2,-33.299999999999997,182,155,-14.8,null,32,0,null,2,0,null,null,0]
[20,"Талалаївського р.",null,null,0,null,null,0,5,3,-40,413,2143,"5,2 р",null,null,0,null,2,0,null,null,0]
[21,"Чернігівського р.",null,null,0,null,null,0,7,18,"2,6 р",615,9854,"16 р",null,524,0,null,21,0,null,null,0]
[22,"м.Чернігова",null,null,0,null,null,0,9,3,-66.7,2571,47,-98.2,null,35,0,null,6,0,null,null,0]
[23,"Щорського р.",null,null,0,null,null,0,3,4,33.299999999999997,71,327,"4,6 р",null,null,0,null,4,0,null,null,0]
[24,"Апарат прокуратури",null,null,0,null,null,0,13,24,84.6,3308,109279,"33 р",null,null,0,null,89,0,null,null,0]
[25,"Усього по області",null,0,0,null,0,0,124,184,48.4,54719,172324,"3,1 р",null,1096,0,null,198,0,null,0,0]
["РОЗДІЛ 1. Представництво інтересів громадян та держави в судах"]
["Таблиця 12. З питань земельних відносин"]
[]
["Код","Прокуратура","Апеляційні скарги",null,null,null,null,null,"Касаційні скарги",null,null,null,null,null,"Сума за рішеннями, скасованими за скаргами, заявами прокурора (тис.грн.)",null,null,"Площа повернутих земель та незаконне надання яких попереджено"]
[null,null,"Розглянуто",null,"Задоволено",null,"Питома вага",null,"Розглянуто",null,"Задоволено",null,"Питома вага"]
[null,null,{"$f":"C329","v":2014},{"$f":"D329","v":2015},{"$f":"C360","v":2014},{"$f":"D360","v":2015},{"$f":"E360","v":2014},{"$f":"F360","v":2015},{"$f":"G360","v":2014},{"$f":"H360","v":2015},{"$f":"I360","v":2014},{"$f":"J360","v":2015},{"$f":"K360","v":2014},{"$f":"L360","v":2015},{"$f":"M360","v":2014},{"$f":"N360","v":2015}," %",{"$f":"O360","v":2014},{"$f":"P360","v":2015}," %"]
[1,"Бахмацького р.",null,null,null,null,{"$f":"IF(C361=0,0,E361*100/C361)","v":0},{"$f":"IF(D361=0,0,F361*100/D361)","v":0},null,null,null,null,{"$f":"IF(I361=0,0,K361*100/I361)","v":0},{"$f":"IF(J361=0,0,L361*100/J361)","v":0},null,null,{"$f":"IF(O361=0,0,IF(P361=0,\"-100,0\",IF(P361*100/O361<200,ROUND(P361*100/O361-100,1),ROUND(P361/O361,1)&\" р\")))","v":0},null,62,{"$f":"IF(R361=0,0,IF(S361=0,\"-100,0\",IF(S361*100/R361<200,ROUND(S361*100/R361-100,1),ROUND(S361/R361,1)&\" р\")))","v":0}]
[2,"Бобровицького р.",null,null,null,null,{"$f":"IF(C362=0,0,E362*100/C362)","v":0},{"$f":"IF(D362=0,0,F362*100/D362)","v":0},null,null,null,null,{"$f":"IF(I362=0,0,K362*100/I362)","v":0},{"$f":"IF(J362=0,0,L362*100/J362)","v":0},null,null,0,null,null,0]
[3,"Борзнянського р.",null,null,null,null,0,0,null,null,null,null,0,0,null,null,0,null,null,0]
[4,"Варвинського р.",null,null,null,null,0,0,null,null,null,null,0,0,null,null,0,null,null,0]
[5,"Городнянського р.",null,1,null,1,0,100,null,null,null,null,0,0,null,null,0,null,652.5,0]
[6,"Ічнянського р.",null,1,null,1,0,100,null,null,null,null,0,0,null,null,0,null,12,0]
[7,"Козелецького р.",null,null,null,null,0,0,null,null,null,null,0,0,null,null,0,null,38,0]
[8,"Коропського р.",null,null,null,null,0,0,null,null,null,null,0,0,null,null,0,null,null,0]
[9,"Корюківського р.",null,null,null,null,0,0,null,null,null,null,0,0,null,null,0,null,591,0]
[10,"Куликівського р.",null,null,null,null,0,0,null,null,null,null,0,0,null,null,0,null,54,0]
[11,"Менського р.",null,null,null,null,0,0,null,null,null,null,0,0,null,null,0,null,183,0]
[12,"Ніжинського мр.пр.",1,null,null,null,0,0,null,null,null,null,0,0,null,null,0,null,null,0]
[13,"Новгород-Сіверського р.",1,null,1,null,100,0,null,null,null,null,0,0,null,null,0,null,null,0]
[14,"Носівського р.",null,null,null,null,0,0,null,null,null,null,0,0,null,null,0,null,223,0]
[15,"Прилуцька мр.пр.",null,null,null,null,0,0,null,null,null,null,0,0,null,null,0,null,null,0]
[16,"Ріпкинська р.",null,null,null,null,0,0,null,null,null,null,0,0,null,null,0,null,43.53,0]
[17,"Семенівського р.",null,null,null,null,0,0,null,null,null,null,0,0,null,null,0,null,40,0]
[18,"Сосницького р.",null,null,null,null,0,0,null,null,null,null,0,0,null,null,0,null,null,0]
[19,"Срібнянського р.",null,null,null,null,0,0,null,null,null,null,0,0,null,null,0,null,7,0]
[20,"Талалаївського р.",null,null,null,null,0,0,null,null,null,null,0,0,null,null,0,null,161,0]
[21,"Чернігівського р.",null,null,null,null,0,0,null,null,null,null,0,0,null,null,0,null,23,0]
[22,"м.Чернігова",1,null,null,null,0,0,null,null,null,null,0,0,null,null,0,null,null,0]
[23,"Щорського р.",null,null,null,null,0,0,null,null,null,null,0,0,null,null,0,null,90,0]
[24,"Апарат прокуратури",1,10,null,7,0,70,null,null,null,null,0,0,null,212,0,null,8333,0]
[25,"Усього по області",4,12,1,9,25,75,null,0,null,0,0,0,null,212,0,null,10513.029999999999,0]
["РОЗДІЛ 2. Нагляд за додержанням законів органами, які проводять оперативно-розшукову діяльність та досудове розслідування"]
["Таблиця 13. Всього"]
[]
["Код","Прокуратура","Виявлено та внесено до Реєстру відомості про вчинені кримінальні правопорушення, раніше не обліковані",null,null,"З числа укритих від обліку надіслано до суду ",null,null,"Питома вага",null,"Закрито за п.п.1, 2, 3 ч.1 ст. 284 КПК",null,null,"Скасовано постанов про закриття кримінальних проваджень",null,null,"у т.ч. направлено до суду",null,null,"Питома вага"]
[]
[null,null,{"$f":"C360","v":2014},{"$f":"D360","v":2015}," %",{"$f":"C391","v":2014},{"$f":"D391","v":2015}," %",{"$f":"F391","v":2014},{"$f":"G391","v":2015},{"$f":"I391","v":2014},{"$f":"J391","v":2015}," %",{"$f":"K391","v":2014},{"$f":"L391","v":2015}," %",{"$f":"N391","v":2014},{"$f":"O391","v":2015}," %",{"$f":"Q391","v":2014},{"$f":"R391","v":2015}]
[1,"Бахмацького р.",3,2,{"$f":"IF(C392=0,0,IF(D392=0,\"-100,0\",IF(D392*100/C392<200,ROUND(D392*100/C392-100,1),ROUND(D392/C392,1)&\" р\")))","v":-33.299999999999997},null,null,{"$f":"IF(F392=0,0,IF(G392=0,\"-100,0\",IF(G392*100/F392<200,ROUND(G392*100/F392-100,1),ROUND(G392/F392,1)&\" р\")))","v":0},{"$f":"IF(C392=0,0,F392*100/C392)","v":0},{"$f":"IF(D392=0,0,G392*100/D392)","v":0},null,2,{"$f":"IF(K392=0,0,IF(L392=0,\"-100,0\",IF(L392*100/K392<200,ROUND(L392*100/K392-100,1),ROUND(L392/K392,1)&\" р\")))","v":0},32,29,{"$f":"IF(N392=0,0,IF(O392=0,\"-100,0\",IF(O392*100/N392<200,ROUND(O392*100/N392-100,1),ROUND(O392/N392,1)&\" р\")))","v":-9.4},1,null,{"$f":"IF(Q392=0,0,IF(R392=0,\"-100,0\",IF(R392*100/Q392<200,ROUND(R392*100/Q392-100,1),ROUND(R392/Q392,1)&\" р\")))","v":"-100,0"},{"$f":"IF(N392=0,0,Q392*100/N392)","v":3.125},{"$f":"IF(O392=0,0,R392*100/O392)","v":0}]
[2,"Бобровицького р.",null,null,0,null,null,0,0,0,null,null,0,3,3,0,null,1,0,0,33.333333333333336]
[3,"Борзнянського р.",null,null,{"$f":"IF(C394=0,0,IF(D394=0,\"-100,0\",IF(D394*100/C394<200,ROUND(D394*100/C394-100,1),ROUND(D394/C394,1)&\" р\")))","v":0},null,null,{"$f":"IF(F394=0,0,IF(G394=0,\"-100,0\",IF(G394*100/F394<200,ROUND(G394*100/F394-100,1),ROUND(G394/F394,1)&\" р\")))","v":0},{"$f":"IF(C394=0,0,F394*100/C394)","v":0},{"$f":"IF(D394=0,0,G394*100/D394)","v":0},null,null,{"$f":"IF(K394=0,0,IF(L394=0,\"-100,0\",IF(L394*100/K394<200,ROUND(L394*100/K394-100,1),ROUND(L394/K394,1)&\" р\")))","v":0},8,14,{"$f":"IF(N394=0,0,IF(O394=0,\"-100,0\",IF(O394*100/N394<200,ROUND(O394*100/N394-100,1),ROUND(O394/N394,1)&\" р\")))","v":75},null,null,{"$f":"IF(Q394=0,0,IF(R394=0,\"-100,0\",IF(R394*100/Q394<200,ROUND(R394*100/Q394-100,1),ROUND(R394/Q394,1)&\" р\")))","v":0},{"$f":"IF(N394=0,0,Q394*100/N394)","v":0},{"$f":"IF(O394=0,0,R394*100/O394)","v":0}]
[4,"Варвинського р.",null,null,0,null,null,0,0,0,null,null,0,20,5,-75,1,null,"-100,0",5,0]
[5,"Городнянського р.",null,1,0,null,null,0,0,0,null,null,0,15,10,-33.299999999999997,null,null,0,0,0]
[6,"Ічнянського р.",1,1,0,null,null,0,0,0,null,null,0,11,12,9.1,null,null,0,0,0]
[7,"Козелецького р.",1,null,"-100,0",null,null,0,0,0,null,null,0,34,24,-29.4,2,null,"-100,0",5.882352941176471,0]
[8,"Коропського р.",1,1,0,null,null,0,0,0,null,1,0,7,7,0,null,null,0,0,0]
[9,"Корюківського р.",1,null,"-100,0",null,null,0,0,0,null,1,0,12,12,0,null,null,0,0,0]
[10,"Куликівського р.",null,null,0,null,null,0,0,0,null,null,0,8,12,50,null,null,0,0,0]
[11,"Менського р.",1,3,"3 р",null,null,0,0,0,null,null,0,18,20,11.1,null,null,0,0,0]
[12,"Ніжинського мр.пр.",null,null,0,null,null,0,0,0,null,null,0,37,51,37.799999999999997,1,null,"-100,0",2.7027027027027026,0]
[13,"Новгород-Сіверського р.",1,1,0,null,null,0,0,0,1,null,"-100,0",10,8,-20,null,null,0,0,0]
[14,"Носівського р.",5,13,"2,6 р",null,1,0,0,7.6923076923076925,4,4,0,12,16,33.299999999999997,null,1,0,0,6.25]
[15,"Прилуцька мр.пр.",4,6,50,2,null,"-100,0",50,0,null,null,0,31,36,16.100000000000001,1,1,0,3.225806451612903,2.7777777777777777]
[16,"Ріпкинська р.",2,null,"-100,0",1,null,"-100,0",50,0,null,null,0,10,10,0,null,null,0,0,0]
[17,"Семенівського р.",null,6,0,null,1,0,0,16.666666666666668,null,3,0,7,5,-28.6,null,null,0,0,0]
[18,"Сосницького р.",2,4,"2 р",null,null,0,0,0,null,null,0,9,12,33.299999999999997,null,null,0,0,0]
[19,"Срібнянського р.",null,null,0,null,null,0,0,0,null,null,0,8,6,-25,null,null,0,0,0]
[20,"Талалаївського р.",null,null,0,null,null,0,0,0,null,null,0,5,8,60,null,null,0,0,0]
[21,"Чернігівського р.",null,null,0,null,null,0,0,0,null,null,0,49,38,-22.4,null,null,0,0,0]
[22,"м.Чернігова",3,2,-33.299999999999997,1,null,"-100,0",33.333333333333336,0,null,3,0,108,432,"4 р",1,25,"25 р",0.92592592592592593,5.7870370370370372]
[23,"Щорського р.",null,null,0,null,null,0,0,0,null,null,0,11,7,-36.4,null,null,0,0,0]
[24,"Апарат прокуратури",null,10,0,null,null,0,0,0,null,7,0,49,75,53.1,null,1,0,0,1.3333333333333333]
[25,"Усього по області",29,50,{"$f":"IF(C416=0,0,IF(D416=0,\"-100,0\",IF(D416*100/C416<200,ROUND(D416*100/C416-100,1),ROUND(D416/C416,1)&\" р\")))","v":72.400000000000006},4,2,{"$f":"IF(F416=0,0,IF(G416=0,\"-100,0\",IF(G416*100/F416<200,ROUND(G416*100/F416-100,1),ROUND(G416/F416,1)&\" р\")))","v":-50},13.793103448275861,4,6,21,{"$f":"IF(K416=0,0,IF(L416=0,\"-100,0\",IF(L416*100/K416<200,ROUND(L416*100/K416-100,1),ROUND(L416/K416,1)&\" р\")))","v":"3,5 р"},525,852,{"$f":"IF(N416=0,0,IF(O416=0,\"-100,0\",IF(O416*100/N416<200,ROUND(O416*100/N416-100,1),ROUND(O416/N416,1)&\" р\")))","v":62.3},7,29,{"$f":"IF(Q416=0,0,IF(R416=0,\"-100,0\",IF(R416*100/Q416<200,ROUND(R416*100/Q416-100,1),ROUND(R416/Q416,1)&\" р\")))","v":"4,1 р"},{"$f":"IF(N416=0,0,Q416*100/N416)","v":1.3333333333333333},{"$f":"IF(O416=0,0,R416*100/O416)","v":3.403755868544601}]
["РОЗДІЛ 2. Нагляд за додержанням законів органами, які проводять оперативно-розшукову діяльність та досудове розслідування"]
["Таблиця 14. "]
[]
["Код","Прокуратура","Скасовано постанов про закриття кримінальних проваджень",null,null,"з них:"]
[null,null,null,null,null,"слідчих прокуратури",null,null,"слідчих МВС",null,null,"слідчих ДФС",null,null,"служби безпеки"]
[null,null,{"$f":"C391","v":2014},{"$f":"D391","v":2015}," %",{"$f":"C422","v":2014},{"$f":"D422","v":2015}," %",{"$f":"F422","v":2014},{"$f":"G422","v":2015}," %",{"$f":"I422","v":2014},{"$f":"J422","v":2015}," %",{"$f":"L422","v":2014},{"$f":"M422","v":2015}," %"]
[1,"Бахмацького р.",32,29,{"$f":"IF(C423=0,0,IF(D423=0,\"-100,0\",IF(D423*100/C423<200,ROUND(D423*100/C423-100,1),ROUND(D423/C423,1)&\" р\")))","v":-9.4},null,null,{"$f":"IF(F423=0,0,IF(G423=0,\"-100,0\",IF(G423*100/F423<200,ROUND(G423*100/F423-100,1),ROUND(G423/F423,1)&\" р\")))","v":0},32,29,{"$f":"IF(I423=0,0,IF(J423=0,\"-100,0\",IF(J423*100/I423<200,ROUND(J423*100/I423-100,1),ROUND(J423/I423,1)&\" р\")))","v":-9.4},null,null,{"$f":"IF(L423=0,0,IF(M423=0,\"-100,0\",IF(M423*100/L423<200,ROUND(M423*100/L423-100,1),ROUND(M423/L423,1)&\" р\")))","v":0},null,null,{"$f":"IF(O423=0,0,IF(P423=0,\"-100,0\",IF(P423*100/O423<200,ROUND(P423*100/O423-100,1),ROUND(P423/O423,1)&\" р\")))","v":0}]
[2,"Бобровицького р.",3,3,0,null,null,0,3,3,0,null,null,0,null,null,0]
[3,"Борзнянського р.",8,14,{"$f":"IF(C425=0,0,IF(D425=0,\"-100,0\",IF(D425*100/C425<200,ROUND(D425*100/C425-100,1),ROUND(D425/C425,1)&\" р\")))","v":75},null,null,{"$f":"IF(F425=0,0,IF(G425=0,\"-100,0\",IF(G425*100/F425<200,ROUND(G425*100/F425-100,1),ROUND(G425/F425,1)&\" р\")))","v":0},8,14,{"$f":"IF(I425=0,0,IF(J425=0,\"-100,0\",IF(J425*100/I425<200,ROUND(J425*100/I425-100,1),ROUND(J425/I425,1)&\" р\")))","v":75},null,null,{"$f":"IF(L425=0,0,IF(M425=0,\"-100,0\",IF(M425*100/L425<200,ROUND(M425*100/L425-100,1),ROUND(M425/L425,1)&\" р\")))","v":0},null,null,{"$f":"IF(O425=0,0,IF(P425=0,\"-100,0\",IF(P425*100/O425<200,ROUND(P425*100/O425-100,1),ROUND(P425/O425,1)&\" р\")))","v":0}]
[4,"Варвинського р.",20,5,-75,null,null,0,20,5,-75,null,null,0,null,null,0]
[5,"Городнянського р.",15,10,-33.299999999999997,null,null,0,15,10,-33.299999999999997,null,null,0,null,null,0]
[6,"Ічнянського р.",11,12,9.1,null,null,0,11,12,9.1,null,null,0,null,null,0]
[7,"Козелецького р.",34,24,-29.4,null,null,0,34,24,-29.4,null,null,0,null,null,0]
[8,"Коропського р.",7,7,0,null,null,0,7,7,0,null,null,0,null,null,0]
[9,"Корюківського р.",12,12,0,null,null,0,12,12,0,null,null,0,null,null,0]
[10,"Куликівського р.",8,12,50,null,null,0,8,12,50,null,null,0,null,null,0]
[11,"Менського р.",18,20,11.1,null,null,0,18,20,11.1,null,null,0,null,null,0]
[12,"Ніжинського мр.пр.",37,51,37.799999999999997,null,null,0,37,51,37.799999999999997,null,null,0,null,null,0]
[13,"Новгород-Сіверського р.",10,8,-20,null,null,0,10,8,-20,null,null,0,null,null,0]
[14,"Носівського р.",12,16,33.299999999999997,null,null,0,12,16,33.299999999999997,null,null,0,null,null,0]
[15,"Прилуцька мр.пр.",31,36,16.100000000000001,null,null,0,31,36,16.100000000000001,null,null,0,null,null,0]
[16,"Ріпкинська р.",10,10,0,null,null,0,10,10,0,null,null,0,null,null,0]
[17,"Семенівського р.",7,5,-28.6,null,null,0,7,5,-28.6,null,null,0,null,null,0]
[18,"Сосницького р.",9,12,33.299999999999997,null,null,0,9,12,33.299999999999997,null,null,0,null,null,0]
[19,"Срібнянського р.",8,6,-25,null,null,0,8,6,-25,null,null,0,null,null,0]
[20,"Талалаївського р.",5,8,60,null,null,0,5,8,60,null,null,0,null,null,0]
[21,"Чернігівського р.",49,38,-22.4,null,null,0,49,38,-22.4,null,null,0,null,null,0]
[22,"м.Чернігова",108,432,"4 р",null,null,0,108,432,"4 р",null,null,0,null,null,0]
[23,"Щорського р.",11,7,-36.4,null,null,0,11,7,-36.4,null,null,0,null,null,0]
[24,"Апарат прокуратури",49,75,53.1,12,14,16.7,31,54,74.2,6,7,16.7,null,null,0]
[25,"Усього по області",525,852,{"$f":"IF(C447=0,0,IF(D447=0,\"-100,0\",IF(D447*100/C447<200,ROUND(D447*100/C447-100,1),ROUND(D447/C447,1)&\" р\")))","v":62.3},12,14,{"$f":"IF(F447=0,0,IF(G447=0,\"-100,0\",IF(G447*100/F447<200,ROUND(G447*100/F447-100,1),ROUND(G447/F447,1)&\" р\")))","v":16.7},507,831,{"$f":"IF(I447=0,0,IF(J447=0,\"-100,0\",IF(J447*100/I447<200,ROUND(J447*100/I447-100,1),ROUND(J447/I447,1)&\" р\")))","v":63.9},6,7,{"$f":"IF(L447=0,0,IF(M447=0,\"-100,0\",IF(M447*100/L447<200,ROUND(M447*100/L447-100,1),ROUND(M447/L447,1)&\" р\")))","v":16.7},null,0,{"$f":"IF(O447=0,0,IF(P447=0,\"-100,0\",IF(P447*100/O447<200,ROUND(P447*100/O447-100,1),ROUND(P447/O447,1)&\" р\")))","v":0}]
["РОЗДІЛ 2. Нагляд за додержанням законів органами, які проводять оперативно-розшукову діяльність та досудове розслідування"]
["Таблиця 15  Прийнято прокурором участь у розгляді слідчим суддею скарг на рішення, дії чи бездіяльність слідчого або прокурора "]
[]
["Код","Прокуратура","Прийнято прокурором участь у розгляді слідчим суддею скарг на рішення, дії чи бездіяльність слідчого або прокурора ",null,null,"Із задоволеннням скарги",null,null,"з них на рішення дії чи бездіяльність:"]
[null,null,null,null,null,null,null,null,"прокурорів",null,null,"слідчих прокуратури",null,null,"слідчих МВС",null,null,"Міндоходів",null,null,"служби безпеки"]
[null,null,{"$f":"C422","v":2014},{"$f":"D422","v":2015}," %",{"$f":"C453","v":2014},{"$f":"D453","v":2015}," %",{"$f":"F453","v":2014},{"$f":"G453","v":2015}," %",{"$f":"I453","v":2014},{"$f":"J453","v":2015}," %",{"$f":"L453","v":2014},{"$f":"M453","v":2015}," %",{"$f":"O453","v":2014},{"$f":"P453","v":2015}," %",{"$f":"R453","v":2014},{"$f":"S453","v":2015}," %"]
[1,"Бахмацького р.",6,2,{"$f":"IF(C454=0,0,IF(D454=0,\"-100,0\",IF(D454*100/C454<200,ROUND(D454*100/C454-100,1),ROUND(D454/C454,1)&\" р\")))","v":-66.7},null,1,{"$f":"IF(F454=0,0,IF(G454=0,\"-100,0\",IF(G454*100/F454<200,ROUND(G454*100/F454-100,1),ROUND(G454/F454,1)&\" р\")))","v":0},null,null,{"$f":"IF(I454=0,0,IF(J454=0,\"-100,0\",IF(J454*100/I454<200,ROUND(J454*100/I454-100,1),ROUND(J454/I454,1)&\" р\")))","v":0},null,null,{"$f":"IF(L454=0,0,IF(M454=0,\"-100,0\",IF(M454*100/L454<200,ROUND(M454*100/L454-100,1),ROUND(M454/L454,1)&\" р\")))","v":0},null,1,{"$f":"IF(O454=0,0,IF(P454=0,\"-100,0\",IF(P454*100/O454<200,ROUND(P454*100/O454-100,1),ROUND(P454/O454,1)&\" р\")))","v":0},null,null,{"$f":"IF(R454=0,0,IF(S454=0,\"-100,0\",IF(S454*100/R454<200,ROUND(S454*100/R454-100,1),ROUND(S454/R454,1)&\" р\")))","v":0},null,null,{"$f":"IF(U454=0,0,IF(V454=0,\"-100,0\",IF(V454*100/U454<200,ROUND(V454*100/U454-100,1),ROUND(V454/U454,1)&\" р\")))","v":0}]
[2,"Бобровицького р.",null,1,0,null,null,0,null,null,0,null,null,0,null,null,0,null,null,0,null,null,0]
[3,"Борзнянського р.",null,null,{"$f":"IF(C456=0,0,IF(D456=0,\"-100,0\",IF(D456*100/C456<200,ROUND(D456*100/C456-100,1),ROUND(D456/C456,1)&\" р\")))","v":0},null,null,{"$f":"IF(F456=0,0,IF(G456=0,\"-100,0\",IF(G456*100/F456<200,ROUND(G456*100/F456-100,1),ROUND(G456/F456,1)&\" р\")))","v":0},null,null,{"$f":"IF(I456=0,0,IF(J456=0,\"-100,0\",IF(J456*100/I456<200,ROUND(J456*100/I456-100,1),ROUND(J456/I456,1)&\" р\")))","v":0},null,null,{"$f":"IF(L456=0,0,IF(M456=0,\"-100,0\",IF(M456*100/L456<200,ROUND(M456*100/L456-100,1),ROUND(M456/L456,1)&\" р\")))","v":0},null,null,{"$f":"IF(O456=0,0,IF(P456=0,\"-100,0\",IF(P456*100/O456<200,ROUND(P456*100/O456-100,1),ROUND(P456/O456,1)&\" р\")))","v":0},null,null,{"$f":"IF(R456=0,0,IF(S456=0,\"-100,0\",IF(S456*100/R456<200,ROUND(S456*100/R456-100,1),ROUND(S456/R456,1)&\" р\")))","v":0},null,null,{"$f":"IF(U456=0,0,IF(V456=0,\"-100,0\",IF(V456*100/U456<200,ROUND(V456*100/U456-100,1),ROUND(V456/U456,1)&\" р\")))","v":0}]
[4,"Варвинського р.",null,null,0,null,null,0,null,null,0,null,null,0,null,null,0,null,null,0,null,null,0]
[5,"Городнянського р.",12,3,-75,5,1,-80,2,null,"-100,0",null,null,0,3,1,-66.7,null,null,0,null,null,0]
[6,"Ічнянського р.",3,1,-66.7,1,null,"-100,0",null,null,0,null,null,0,1,null,"-100,0",null,null,0,null,null,0]
[7,"Козелецького р.",5,5,0,null,1,0,null,null,0,null,null,0,null,1,0,null,null,0,null,null,0]
[8,"Коропського р.",null,null,0,null,null,0,null,null,0,null,null,0,null,null,0,null,null,0,null,null,0]
[9,"Корюківського р.",null,4,0,null,1,0,null,null,0,null,null,0,null,1,0,null,null,0,null,null,0]
[10,"Куликівського р.",1,null,"-100,0",null,null,0,null,null,0,null,null,0,null,null,0,null,null,0,null,null,0]
[11,"Менського р.",4,5,25,2,2,0,null,2,0,null,null,0,2,null,"-100,0",null,null,0,null,null,0]
[12,"Ніжинського мр.пр.",1,1,0,null,1,0,null,1,0,null,null,0,null,null,0,null,null,0,null,null,0]
[13,"Новгород-Сіверського р.",3,4,33.299999999999997,2,1,-50,null,null,0,null,null,0,2,1,-50,null,null,0,null,null,0]
[14,"Носівського р.",null,8,0,null,1,0,null,null,0,null,null,0,null,1,0,null,null,0,null,null,0]
[15,"Прилуцька мр.пр.",3,3,0,null,null,0,null,null,0,null,null,0,null,null,0,null,null,0,null,null,0]
[16,"Ріпкинська р.",8,9,12.5,3,5,66.7,null,null,0,null,null,0,3,5,66.7,null,null,0,null,null,0]
[17,"Семенівського р.",3,2,-33.299999999999997,null,1,0,null,null,0,null,null,0,null,1,0,null,null,0,null,null,0]
[18,"Сосницького р.",null,null,0,null,null,0,null,null,0,null,null,0,null,null,0,null,null,0,null,null,0]
[19,"Срібнянського р.",3,3,0,1,null,"-100,0",null,null,0,null,null,0,1,null,"-100,0",null,null,0,null,null,0]
[20,"Талалаївського р.",null,null,0,null,null,0,null,null,0,null,null,0,null,null,0,null,null,0,null,null,0]
[21,"Чернігівського р.",null,null,0,null,null,0,null,null,0,null,null,0,null,null,0,null,null,0,null,null,0]
[22,"м.Чернігова",15,5,-66.7,5,3,-40,4,1,-75,null,null,0,1,2,"2 р",null,null,0,null,null,0]
[23,"Щорського р.",null,null,0,null,null,0,null,null,0,null,null,0,null,null,0,null,null,0,null,null,0]
[24,"Апарат прокуратури",62,58,-6.5,16,10,-37.5,1,1,0,13,7,-46.2,2,1,-50,null,1,0,null,null,0]
[25,"Усього по області",129,114,{"$f":"IF(C478=0,0,IF(D478=0,\"-100,0\",IF(D478*100/C478<200,ROUND(D478*100/C478-100,1),ROUND(D478/C478,1)&\" р\")))","v":-11.6},35,28,{"$f":"IF(F478=0,0,IF(G478=0,\"-100,0\",IF(G478*100/F478<200,ROUND(G478*100/F478-100,1),ROUND(G478/F478,1)&\" р\")))","v":-20},7,5,{"$f":"IF(I478=0,0,IF(J478=0,\"-100,0\",IF(J478*100/I478<200,ROUND(J478*100/I478-100,1),ROUND(J478/I478,1)&\" р\")))","v":-28.6},13,7,{"$f":"IF(L478=0,0,IF(M478=0,\"-100,0\",IF(M478*100/L478<200,ROUND(M478*100/L478-100,1),ROUND(M478/L478,1)&\" р\")))","v":-46.2},15,15,{"$f":"IF(O478=0,0,IF(P478=0,\"-100,0\",IF(P478*100/O478<200,ROUND(P478*100/O478-100,1),ROUND(P478/O478,1)&\" р\")))","v":0},null,1,{"$f":"IF(R478=0,0,IF(S478=0,\"-100,0\",IF(S478*100/R478<200,ROUND(S478*100/R478-100,1),ROUND(S478/R478,1)&\" р\")))","v":0},null,0,{"$f":"IF(U478=0,0,IF(V478=0,\"-100,0\",IF(V478*100/U478<200,ROUND(V478*100/U478-100,1),ROUND(V478/U478,1)&\" р\")))","v":0}]
["РОЗДІЛ 2. Нагляд за додержанням законів органами, які проводять оперативно-розшукову діяльність та досудове розслідування"]
["Таблиця 16. З питань нагляду за додержанням законності в діяльності правоохоронних органів на стадії досудового розслідування та ОРД"]
[]
["Код","Прокуратура","Розглянуто документів прокурора з вжиттям заходів до усунення порушень законів у діяльності органів",null,null,null,null,null,null,null,null,"Притягнуто до дисциплінарної відповідальності працівників органів за документами прокурора"]
[null,null,"внутрішніх справ",null,null,"фіскальної служби",null,null,"служби безпеки",null,null,"внутрішніх справ",null,null,"фіскальної служби",null,null,"служби безпеки"]
[null,null,{"$f":"F453","v":2014},{"$f":"G453","v":2015}," %",{"$f":"C484","v":2014},{"$f":"D484","v":2015}," %",{"$f":"F484","v":2014},{"$f":"G484","v":2015}," %",{"$f":"I484","v":2014},{"$f":"J484","v":2015}," %",{"$f":"L484","v":2014},{"$f":"M484","v":2015}," %",{"$f":"O484","v":2014},{"$f":"P484","v":2015}," %"]
[1,"Бахмацького р.",10,9,{"$f":"IF(C485=0,0,IF(D485=0,\"-100,0\",IF(D485*100/C485<200,ROUND(D485*100/C485-100,1),ROUND(D485/C485,1)&\" р\")))","v":-10},0,0,{"$f":"IF(F485=0,0,IF(G485=0,\"-100,0\",IF(G485*100/F485<200,ROUND(G485*100/F485-100,1),ROUND(G485/F485,1)&\" р\")))","v":0},0,0,{"$f":"IF(I485=0,0,IF(J485=0,\"-100,0\",IF(J485*100/I485<200,ROUND(J485*100/I485-100,1),ROUND(J485/I485,1)&\" р\")))","v":0},15,9,{"$f":"IF(L485=0,0,IF(M485=0,\"-100,0\",IF(M485*100/L485<200,ROUND(M485*100/L485-100,1),ROUND(M485/L485,1)&\" р\")))","v":-40},0,0,{"$f":"IF(O485=0,0,IF(P485=0,\"-100,0\",IF(P485*100/O485<200,ROUND(P485*100/O485-100,1),ROUND(P485/O485,1)&\" р\")))","v":0},0,0,{"$f":"IF(R485=0,0,IF(S485=0,\"-100,0\",IF(S485*100/R485<200,ROUND(S485*100/R485-100,1),ROUND(S485/R485,1)&\" р\")))","v":0}]
[2,"Бобровицького р.",8,3,-62.5,0,0,0,0,0,0,6,2,-66.7,0,0,0,0,0,0]
[3,"Борзнянського р.",7,5,{"$f":"IF(C487=0,0,IF(D487=0,\"-100,0\",IF(D487*100/C487<200,ROUND(D487*100/C487-100,1),ROUND(D487/C487,1)&\" р\")))","v":-28.6},0,0,{"$f":"IF(F487=0,0,IF(G487=0,\"-100,0\",IF(G487*100/F487<200,ROUND(G487*100/F487-100,1),ROUND(G487/F487,1)&\" р\")))","v":0},0,0,{"$f":"IF(I487=0,0,IF(J487=0,\"-100,0\",IF(J487*100/I487<200,ROUND(J487*100/I487-100,1),ROUND(J487/I487,1)&\" р\")))","v":0},7,4,{"$f":"IF(L487=0,0,IF(M487=0,\"-100,0\",IF(M487*100/L487<200,ROUND(M487*100/L487-100,1),ROUND(M487/L487,1)&\" р\")))","v":-42.9},0,0,{"$f":"IF(O487=0,0,IF(P487=0,\"-100,0\",IF(P487*100/O487<200,ROUND(P487*100/O487-100,1),ROUND(P487/O487,1)&\" р\")))","v":0},0,0,{"$f":"IF(R487=0,0,IF(S487=0,\"-100,0\",IF(S487*100/R487<200,ROUND(S487*100/R487-100,1),ROUND(S487/R487,1)&\" р\")))","v":0}]
[4,"Варвинського р.",5,7,40,0,0,0,0,0,0,4,4,0,0,0,0,0,0,0]
[5,"Городнянського р.",8,7,-12.5,0,0,0,0,0,0,9,7,-22.2,0,0,0,0,0,0]
[6,"Ічнянського р.",5,8,60,0,0,0,0,0,0,7,7,0,0,0,0,0,0,0]
[7,"Козелецького р.",6,7,16.7,0,0,0,0,0,0,7,5,-28.6,0,0,0,0,0,0]
[8,"Коропського р.",6,4,-33.299999999999997,0,0,0,0,0,0,5,5,0,0,0,0,0,0,0]
[9,"Корюківського р.",7,8,14.3,0,0,0,0,0,0,11,8,-27.3,0,0,0,0,0,0]
[10,"Куликівського р.",4,8,"2 р",0,0,0,0,0,0,5,9,80,0,0,0,0,0,0]
[11,"Менського р.",15,19,26.7,0,0,0,0,0,0,11,17,54.5,0,0,0,0,0,0]
[12,"Ніжинського мр.пр.",20,18,-10,0,0,0,0,0,0,34,26,-23.5,0,0,0,0,0,0]
[13,"Новгород-Сіверського р.",6,6,0,0,0,0,0,0,0,7,7,0,0,0,0,0,0,0]
[14,"Носівського р.",8,7,-12.5,0,0,0,0,0,0,9,11,22.2,0,0,0,0,0,0]
[15,"Прилуцька мр.пр.",17,11,-35.299999999999997,0,0,0,0,0,0,21,13,-38.1,0,0,0,0,0,0]
[16,"Ріпкинська р.",6,3,-50,0,0,0,0,0,0,8,7,-12.5,0,0,0,0,0,0]
[17,"Семенівського р.",1,3,"3 р",0,0,0,0,0,0,2,3,50,0,0,0,0,0,0]
[18,"Сосницького р.",5,4,-20,0,0,0,0,0,0,4,5,25,0,0,0,0,0,0]
[19,"Срібнянського р.",3,4,33.299999999999997,0,0,0,0,0,0,3,4,33.299999999999997,0,0,0,0,0,0]
[20,"Талалаївського р.",4,4,0,0,0,0,0,0,0,3,4,33.299999999999997,0,0,0,0,0,0]
[21,"Чернігівського р.",24,18,-25,0,0,0,0,0,0,37,25,-32.4,0,0,0,0,0,0]
[22,"м.Чернігова",69,34,-50.7,4,0,"-100,0",0,0,0,40,37,-7.5,5,0,"-100,0",0,0,0]
[23,"Щорського р.",5,5,0,0,0,0,0,0,0,6,6,0,0,0,0,0,0,0]
[24,"Апарат прокуратури",33,32,-3,6,2,-66.7,1,2,"2 р",64,54,-15.6,11,10,-9.1,4,2,-50]
[25,"Усього по області",297,234,-21.2,10,2,-80,1,2,"2 р",333,279,-16.2,16,10,-37.5,4,2,-50]
["РОЗДІЛ 2. Нагляд за додержанням законів органами, які проводять оперативно-розшукову діяльність та досудове розслідування"]
["Таблиця 17. З питань нагляду за додержанням законності в діяльності правоохоронних органів на стадії досудового розслідування та ОРД"]
[]
["Код","Прокуратура","Повідомлено про підозру за направленими до суду кримінальними провадженнями працівникам органів",null,null,null,null,null,null,null,null,"Розглянуті апеляційні скарги прокурора на судові рішення з питань досудового розслідування ",null,null,null,null,null,"Питома вага"]
[null,null,"внутрішніх справ",null,null,"фіскальної служби",null,null,"служби безпеки",null,null,"усього",null,null,"задоволено"]
[null,null,{"$f":"C484","v":2014},{"$f":"D484","v":2015}," %",{"$f":"C515","v":2014},{"$f":"D515","v":2015}," %",{"$f":"F515","v":2014},{"$f":"G515","v":2015}," %",{"$f":"I515","v":2014},{"$f":"J515","v":2015}," %",{"$f":"L515","v":2014},{"$f":"M515","v":2015}," %",{"$f":"O515","v":2014},{"$f":"P515","v":2015}]
[1,"Бахмацького р.",null,null,{"$f":"IF(C516=0,0,IF(D516=0,\"-100,0\",IF(D516*100/C516<200,ROUND(D516*100/C516-100,1),ROUND(D516/C516,1)&\" р\")))","v":0},null,null,{"$f":"IF(F516=0,0,IF(G516=0,\"-100,0\",IF(G516*100/F516<200,ROUND(G516*100/F516-100,1),ROUND(G516/F516,1)&\" р\")))","v":0},null,null,{"$f":"IF(I516=0,0,IF(J516=0,\"-100,0\",IF(J516*100/I516<200,ROUND(J516*100/I516-100,1),ROUND(J516/I516,1)&\" р\")))","v":0},0,0,{"$f":"IF(L516=0,0,IF(M516=0,\"-100,0\",IF(M516*100/L516<200,ROUND(M516*100/L516-100,1),ROUND(M516/L516,1)&\" р\")))","v":0},null,null,{"$f":"IF(O516=0,0,IF(P516=0,\"-100,0\",IF(P516*100/O516<200,ROUND(P516*100/O516-100,1),ROUND(P516/O516,1)&\" р\")))","v":0},{"$f":"IF(L516=0,0,O516*100/L516)","v":0},{"$f":"IF(M516=0,0,P516*100/M516)","v":0}]
[2,"Бобровицького р.",null,null,0,null,null,0,null,null,0,0,0,0,null,null,0,0,0]
[3,"Борзнянського р.",null,null,{"$f":"IF(C518=0,0,IF(D518=0,\"-100,0\",IF(D518*100/C518<200,ROUND(D518*100/C518-100,1),ROUND(D518/C518,1)&\" р\")))","v":0},null,null,{"$f":"IF(F518=0,0,IF(G518=0,\"-100,0\",IF(G518*100/F518<200,ROUND(G518*100/F518-100,1),ROUND(G518/F518,1)&\" р\")))","v":0},null,null,{"$f":"IF(I518=0,0,IF(J518=0,\"-100,0\",IF(J518*100/I518<200,ROUND(J518*100/I518-100,1),ROUND(J518/I518,1)&\" р\")))","v":0},0,0,{"$f":"IF(L518=0,0,IF(M518=0,\"-100,0\",IF(M518*100/L518<200,ROUND(M518*100/L518-100,1),ROUND(M518/L518,1)&\" р\")))","v":0},null,null,{"$f":"IF(O518=0,0,IF(P518=0,\"-100,0\",IF(P518*100/O518<200,ROUND(P518*100/O518-100,1),ROUND(P518/O518,1)&\" р\")))","v":0},{"$f":"IF(L518=0,0,O518*100/L518)","v":0},{"$f":"IF(M518=0,0,P518*100/M518)","v":0}]
[4,"Варвинського р.",null,null,0,null,null,0,null,null,0,0,0,0,null,null,0,0,0]
[5,"Городнянського р.",null,null,0,null,null,0,null,null,0,0,0,0,null,null,0,0,0]
[6,"Ічнянського р.",null,null,0,null,null,0,null,null,0,0,0,0,null,null,0,0,0]
[7,"Козелецького р.",null,null,0,null,null,0,null,null,0,0,0,0,null,null,0,0,0]
[8,"Коропського р.",null,null,0,null,null,0,null,null,0,0,0,0,null,null,0,0,0]
[9,"Корюківського р.",null,null,0,null,null,0,null,null,0,0,0,0,null,null,0,0,0]
[10,"Куликівського р.",null,null,0,null,null,0,null,null,0,0,0,0,null,null,0,0,0]
[11,"Менського р.",null,null,0,null,null,0,null,null,0,1,0,"-100,0",1,null,"-100,0",100,0]
[12,"Ніжинського мр.пр.",null,null,0,null,null,0,null,null,0,1,2,"2 р",1,2,"2 р",100,100]
[13,"Новгород-Сіверського р.",null,null,0,null,null,0,null,null,0,0,0,0,null,null,0,0,0]
[14,"Носівського р.",null,null,0,null,null,0,null,null,0,0,0,0,null,null,0,0,0]
[15,"Прилуцька мр.пр.",null,null,0,null,null,0,null,null,0,0,2,0,null,2,0,0,100]
[16,"Ріпкинська р.",null,null,0,null,null,0,null,null,0,0,1,0,null,1,0,0,100]
[17,"Семенівського р.",null,null,0,null,null,0,null,null,0,0,0,0,null,null,0,0,0]
[18,"Сосницького р.",null,null,0,null,null,0,null,null,0,0,0,0,null,null,0,0,0]
[19,"Срібнянського р.",null,null,0,null,null,0,null,null,0,0,0,0,null,null,0,0,0]
[20,"Талалаївського р.",null,null,0,null,null,0,null,null,0,0,0,0,null,null,0,0,0]
[21,"Чернігівського р.",null,null,0,null,null,0,null,null,0,2,0,"-100,0",2,null,"-100,0",100,0]
[22,"м.Чернігова",null,null,0,null,null,0,null,null,0,1,1,0,1,1,0,100,100]
[23,"Щорського р.",null,null,0,null,null,0,null,null,0,0,0,0,null,null,0,0,0]
[24,"Апарат прокуратури",null,9,0,null,null,0,null,null,0,10,3,-70,5,2,-60,50,66.666666666666671]
[25,"Усього по області",null,9,0,null,0,0,null,0,0,15,9,-40,10,8,-20,66.666666666666671,88.888888888888886]
["РОЗДІЛ 2. Нагляд за додержанням законів органами, які проводять оперативно-розшукову діяльність та досудове розслідування"]
["Таблиця 18. Нагляд за додержанням законів при здійсненні (ОРД)"]
[]
["Код","Прокуратура","Перевірено ОРС",null,null,null,null,null,null,null,"Скасовано незаконних постанов "]
[null,null,"Усього по органах",null,"Усього по МВС",null,"Усього по ДФС",null,"Усього по СБУ",null,"Усього по органах",null,"Усього по МВС",null,"Усього по ДФС",null,"Усього по СБУ"]
[null,null,{"$f":"C515","v":2014},{"$f":"D515","v":2015},{"$f":"C546","v":2014},{"$f":"D546","v":2015},{"$f":"E546","v":2014},2015,2014,2015,2014,2015,2014,2015,2014,2015,2014,2015]
[1,"Бахмацького р.",67,87,67,87,null,null,null,null,1,5,1,5]
[2,"Бобровицького р.",32,66,32,66,null,null,null,null,null,2,null,2]
[3,"Борзнянського р.",20,26,20,26,null,null,null,null,2,3,2,3]
[4,"Варвинського р.",13,14,13,14,null,null,null,null,1,null,1]
[5,"Городнянського р.",18,33,18,33,null,null,null,null,1,1,1,1]
[6,"Ічнянського р.",36,26,36,26,null,null,null,null,4,3,4,3]
[7,"Козелецького р.",32,165,32,165,null,null,null,null,3,1,3,1]
[8,"Коропського р.",24,26,24,26,null,null,null,null,6,1,6,1]
[9,"Корюківського р.",15,15,15,15,null,null,null,null,2,2,2,2]
[10,"Куликівського р.",27,32,27,32,null,null,null,null,2,3,2,3]
[11,"Менського р.",39,52,39,51,null,null,null,null,9,3,9,2]
[12,"Ніжинського мр.пр.",151,125,151,125,null,null,null,null,15,17,15,17]
[13,"Новгород-Сіверського р.",36,33,36,33,null,null,null,null,6,5,6,5]
[14,"Носівського р.",45,35,45,35,null,null,null,null,2,2,2,2]
[15,"Прилуцька мр.пр.",137,114,137,114,null,null,null,null,14,9,14,9]
[16,"Ріпкинська р.",18,25,18,25,null,null,null,null,6,3,6,3]
[17,"Семенівського р.",29,29,29,29,null,null,null,null,1,1,1,1]
[18,"Сосницького р.",10,16,10,16,null,null,null,null,null,3,null,3]
[19,"Срібнянського р.",21,19,21,19]
[20,"Талалаївського р.",27,35,27,35,null,null,null,null,3,2,3,2]
[21,"Чернігівського р.",147,136,147,136,null,null,null,null,1,9,1,9]
[22,"м.Чернігова",322,401,258,401,64,null,null,null,13,38,11,38,2]
[23,"Щорського р.",39,26,39,26,null,null,null,null,null,1,null,1]
[24,"Апарат прокуратури",1068,743,888,655,71,5,96,58,46,39,40,38,1,null,5]
[25,"Усього по області",2389,2279,2145,2190,135,5,96,58,138,153,130,151,3,0,5,0]
["РОЗДІЛ 2. Нагляд за додержанням законів органами, які проводять оперативно-розшукову діяльність та досудове розслідування"]
["Таблиця 19. Негласні слідчі (розшукові) дії (Усього)"]
[]
["Код","Прокуратура","розглянуто прокурором клопотань слідчих ",null,null,null,null,null,"Питома вага",null,"внесено прокурором особисто ",null,null,"рішення суду за результатами розгляду клопотання прокурора або слідчого ",null,null,null,null,null,"Питома вага"]
[null,null,"прокурором погоджено",null,null,"прокурором відмовлено",null,null,null,null,null,null,null,"судом задоволено",null,null,"судом відмовлено"]
[null,null,{"$f":"C732","v":2014},{"$f":"D732","v":2015}," %",{"$f":"C577","v":2014},{"$f":"D577","v":2015}," %",{"$f":"F577","v":2014},{"$f":"G577","v":2015},{"$f":"F577","v":2014},{"$f":"G577","v":2015}," %",{"$f":"K577","v":2014},{"$f":"L577","v":2015}," %",{"$f":"N577","v":2014},{"$f":"O577","v":2015}," %",{"$f":"Q577","v":2014},{"$f":"R577","v":2015}]
[1,"Бахмацького р.",21,16,{"$f":"IF(C578=0,0,IF(D578=0,\"-100,0\",IF(D578*100/C578<200,ROUND(D578*100/C578-100,1),ROUND(D578/C578,1)&\" р\")))","v":-23.8},1,1,{"$f":"IF(F578=0,0,IF(G578=0,\"-100,0\",IF(G578*100/F578<200,ROUND(G578*100/F578-100,1),ROUND(G578/F578,1)&\" р\")))","v":0},{"$f":"IF((C578+F578)=0,0,C578*100/(C578+F578))","v":95.454545454545453},{"$f":"IF((D578+G578)=0,0,D578*100/(D578+G578))","v":94.117647058823536},null,null,{"$f":"IF(K578=0,0,IF(L578=0,\"-100,0\",IF(L578*100/K578<200,ROUND(L578*100/K578-100,1),ROUND(L578/K578,1)&\" р\")))","v":0},14,15,{"$f":"IF(N578=0,0,IF(O578=0,\"-100,0\",IF(O578*100/N578<200,ROUND(O578*100/N578-100,1),ROUND(O578/N578,1)&\" р\")))","v":7.1},2,null,{"$f":"IF(Q578=0,0,IF(R578=0,\"-100,0\",IF(R578*100/Q578<200,ROUND(R578*100/Q578-100,1),ROUND(R578/Q578,1)&\" р\")))","v":"-100,0"},{"$f":"IF((N578+Q578)=0,0,N578*100/(N578+Q578))","v":87.5},{"$f":"IF((O578+R578)=0,0,O578*100/(O578+R578))","v":100}]
[2,"Бобровицького р.",26,29,11.5,null,null,0,{"$f":"IF((C579+F579)=0,0,C579*100/(C579+F579))","v":100},{"$f":"IF((D579+G579)=0,0,D579*100/(D579+G579))","v":100},null,null,0,26,29,11.5,null,null,0,{"$f":"IF((N579+Q579)=0,0,N579*100/(N579+Q579))","v":100},{"$f":"IF((O579+R579)=0,0,O579*100/(O579+R579))","v":100}]
[3,"Борзнянського р.",14,13,{"$f":"IF(C580=0,0,IF(D580=0,\"-100,0\",IF(D580*100/C580<200,ROUND(D580*100/C580-100,1),ROUND(D580/C580,1)&\" р\")))","v":-7.1},null,6,{"$f":"IF(F580=0,0,IF(G580=0,\"-100,0\",IF(G580*100/F580<200,ROUND(G580*100/F580-100,1),ROUND(G580/F580,1)&\" р\")))","v":0},{"$f":"IF((C580+F580)=0,0,C580*100/(C580+F580))","v":100},{"$f":"IF((D580+G580)=0,0,D580*100/(D580+G580))","v":68.421052631578945},null,null,{"$f":"IF(K580=0,0,IF(L580=0,\"-100,0\",IF(L580*100/K580<200,ROUND(L580*100/K580-100,1),ROUND(L580/K580,1)&\" р\")))","v":0},14,13,{"$f":"IF(N580=0,0,IF(O580=0,\"-100,0\",IF(O580*100/N580<200,ROUND(O580*100/N580-100,1),ROUND(O580/N580,1)&\" р\")))","v":-7.1},null,null,{"$f":"IF(Q580=0,0,IF(R580=0,\"-100,0\",IF(R580*100/Q580<200,ROUND(R580*100/Q580-100,1),ROUND(R580/Q580,1)&\" р\")))","v":0},{"$f":"IF((N580+Q580)=0,0,N580*100/(N580+Q580))","v":100},{"$f":"IF((O580+R580)=0,0,O580*100/(O580+R580))","v":100}]
[4,"Варвинського р.",11,6,-45.5,3,null,"-100,0",78.571428571428569,100,null,null,0,11,6,-45.5,null,null,0,100,100]
[5,"Городнянського р.",29,9,-69,10,null,"-100,0",74.358974358974365,100,null,null,0,28,9,-67.900000000000006,null,null,0,100,100]
[6,"Ічнянського р.",12,6,-50,null,2,0,100,75,null,null,0,9,6,-33.299999999999997,null,null,0,100,100]
[7,"Козелецького р.",22,22,0,null,null,0,100,100,null,null,0,20,22,10,null,null,0,100,100]
[8,"Коропського р.",36,21,-41.7,4,2,-50,90,91.304347826086953,null,null,0,29,14,-51.7,null,null,0,100,100]
[9,"Корюківського р.",14,14,0,null,1,0,100,93.333333333333329,null,1,0,9,15,66.7,null,null,0,100,100]
[10,"Куликівського р.",1,16,"16 р",null,5,0,100,76.19047619047619,null,null,0,1,16,"16 р",null,null,0,100,100]
[11,"Менського р.",19,10,-47.4,null,2,0,100,83.333333333333329,null,null,0,19,10,-47.4,null,null,0,100,100]
[12,"Ніжинського мр.пр.",53,65,22.6,8,20,"2,5 р",86.885245901639351,76.470588235294116,null,1,0,44,65,47.7,null,null,0,100,100]
[13,"Новгород-Сіверського р.",40,19,-52.5,3,1,-66.7,93.023255813953483,95,null,3,0,35,19,-45.7,null,null,0,100,100]
[14,"Носівського р.",10,26,"2,6 р",null,null,0,100,100,null,null,0,10,26,"2,6 р",null,null,0,100,100]
[15,"Прилуцька мр.пр.",28,62,"2,2 р",null,2,0,100,96.875,null,3,0,27,59,"2,2 р",null,null,0,100,100]
[16,"Ріпкинська р.",21,15,-28.6,null,null,0,100,100,null,null,0,20,15,-25,1,null,"-100,0",95.238095238095241,100]
[17,"Семенівського р.",3,1,-66.7,null,null,0,100,100,null,null,0,3,1,-66.7,null,null,0,100,100]
[18,"Сосницького р.",6,3,-50,null,null,0,100,100,null,null,0,3,2,-33.299999999999997,null,null,0,100,100]
[19,"Срібнянського р.",20,7,-65,1,null,"-100,0",95.238095238095241,100,null,null,0,20,7,-65,null,null,0,100,100]
[20,"Талалаївського р.",3,3,0,null,null,0,100,100,null,null,0,3,3,0,null,null,0,100,100]
[21,"Чернігівського р.",28,63,"2,3 р",10,14,40,73.684210526315795,81.818181818181813,null,null,0,28,63,"2,3 р",null,null,0,100,100]
[22,"м.Чернігова",321,215,-33,5,56,"11,2 р",98.466257668711663,79.335793357933582,null,5,0,243,177,-27.2,null,null,0,100,100]
[23,"Щорського р.",16,3,-81.3,null,1,0,100,75,null,null,0,12,3,-75,null,null,0,100,100]
[24,"Апарат прокуратури",374,375,0.3,43,14,-67.400000000000006,89.68824940047962,96.401028277634964,null,null,0,362,371,2.5,null,null,0,100,100]
[25,"Усього по області",1131,1019,{"$f":"IF(C602=0,0,IF(D602=0,\"-100,0\",IF(D602*100/C602<200,ROUND(D602*100/C602-100,1),ROUND(D602/C602,1)&\" р\")))","v":-9.9},89,127,{"$f":"IF(F602=0,0,IF(G602=0,\"-100,0\",IF(G602*100/F602<200,ROUND(G602*100/F602-100,1),ROUND(G602/F602,1)&\" р\")))","v":42.7},92.704918032786878,88.917975567190226,null,13,{"$f":"IF(K602=0,0,IF(L602=0,\"-100,0\",IF(L602*100/K602<200,ROUND(L602*100/K602-100,1),ROUND(L602/K602,1)&\" р\")))","v":0},993,966,{"$f":"IF(N602=0,0,IF(O602=0,\"-100,0\",IF(O602*100/N602<200,ROUND(O602*100/N602-100,1),ROUND(O602/N602,1)&\" р\")))","v":-2.7},3,0,{"$f":"IF(Q602=0,0,IF(R602=0,\"-100,0\",IF(R602*100/Q602<200,ROUND(R602*100/Q602-100,1),ROUND(R602/Q602,1)&\" р\")))","v":"-100,0"},99.698795180722897,100]
["РОЗДІЛ 2. Нагляд за додержанням законів органами, які проводять оперативно-розшукову діяльність та досудове розслідування"]
["Таблиця 20. Негласні слідчі (розшукові) дії (Усього)"]
[]
["Код","Прокуратура","Прийнято рішень про проведення НСРД в порядку ст. 250 КПК України ",null,null,"у т.ч.",null,null,"Прийнято прокурором рішень",null,null,"Прийнято прокурором самостійно рішень про проведення НСРД",null,null,"у т.ч.",null,null,"За рішенням прокурора "]
[null,null,null,null,null,"з відмовою у задоволенні ",null,null,null,null,null,null,null,null,"з подальшим розсекреченням "]
[null,null,{"$f":"C763","v":2014},{"$f":"D763","v":2015}," %",{"$f":"C608","v":2014},{"$f":"D608","v":2015}," %",{"$f":"F608","v":2014},{"$f":"G608","v":2015}," %",{"$f":"I608","v":2014},{"$f":"J608","v":2015}," %",{"$f":"L608","v":2014},{"$f":"M608","v":2015}," %",{"$f":"O608","v":2014},{"$f":"P608","v":2015}," %"]
[1,"Бахмацького р.",null,null,{"$f":"IF(C609=0,0,IF(D609=0,\"-100,0\",IF(D609*100/C609<200,ROUND(D609*100/C609-100,1),ROUND(D609/C609,1)&\" р\")))","v":0},null,null,{"$f":"IF(F609=0,0,IF(G609=0,\"-100,0\",IF(G609*100/F609<200,ROUND(G609*100/F609-100,1),ROUND(G609/F609,1)&\" р\")))","v":0},3,6,{"$f":"IF(I609=0,0,IF(J609=0,\"-100,0\",IF(J609*100/I609<200,ROUND(J609*100/I609-100,1),ROUND(J609/I609,1)&\" р\")))","v":"2 р"},6,4,{"$f":"IF(L609=0,0,IF(M609=0,\"-100,0\",IF(M609*100/L609<200,ROUND(M609*100/L609-100,1),ROUND(M609/L609,1)&\" р\")))","v":-33.299999999999997},6,4,{"$f":"IF(O609=0,0,IF(P609=0,\"-100,0\",IF(P609*100/O609<200,ROUND(P609*100/O609-100,1),ROUND(P609/O609,1)&\" р\")))","v":-33.299999999999997},2,null,{"$f":"IF(R609=0,0,IF(S609=0,\"-100,0\",IF(S609*100/R609<200,ROUND(S609*100/R609-100,1),ROUND(S609/R609,1)&\" р\")))","v":"-100,0"}]
[2,"Бобровицького р.",null,null,0,null,null,0,null,5,0,null,3,0,null,2,0,null,2,0]
[3,"Борзнянського р.",null,null,{"$f":"IF(C611=0,0,IF(D611=0,\"-100,0\",IF(D611*100/C611<200,ROUND(D611*100/C611-100,1),ROUND(D611/C611,1)&\" р\")))","v":0},null,null,{"$f":"IF(F611=0,0,IF(G611=0,\"-100,0\",IF(G611*100/F611<200,ROUND(G611*100/F611-100,1),ROUND(G611/F611,1)&\" р\")))","v":0},null,null,{"$f":"IF(I611=0,0,IF(J611=0,\"-100,0\",IF(J611*100/I611<200,ROUND(J611*100/I611-100,1),ROUND(J611/I611,1)&\" р\")))","v":0},null,null,{"$f":"IF(L611=0,0,IF(M611=0,\"-100,0\",IF(M611*100/L611<200,ROUND(M611*100/L611-100,1),ROUND(M611/L611,1)&\" р\")))","v":0},null,null,{"$f":"IF(O611=0,0,IF(P611=0,\"-100,0\",IF(P611*100/O611<200,ROUND(P611*100/O611-100,1),ROUND(P611/O611,1)&\" р\")))","v":0},null,null,{"$f":"IF(R611=0,0,IF(S611=0,\"-100,0\",IF(S611*100/R611<200,ROUND(S611*100/R611-100,1),ROUND(S611/R611,1)&\" р\")))","v":0}]
[4,"Варвинського р.",null,null,0,null,null,0,null,null,0,3,null,"-100,0",null,null,0,null,null,0]
[5,"Городнянського р.",null,null,0,null,null,0,11,10,-9.1,4,4,0,4,4,0,2,4,"2 р"]
[6,"Ічнянського р.",null,null,0,null,null,0,5,8,60,null,null,0,null,null,0,null,3,0]
[7,"Козелецького р.",null,null,0,null,null,0,7,4,-42.9,4,null,"-100,0",2,null,"-100,0",null,7,0]
[8,"Коропського р.",null,null,0,null,null,0,9,4,-55.6,null,null,0,null,null,0,1,null,"-100,0"]
[9,"Корюківського р.",null,1,0,null,null,0,3,1,-66.7,null,4,0,null,2,0,null,null,0]
[10,"Куликівського р.",null,null,0,null,null,0,2,7,"3,5 р",null,3,0,null,3,0,null,4,0]
[11,"Менського р.",null,null,0,null,null,0,10,8,-20,4,5,25,3,3,0,3,null,"-100,0"]
[12,"Ніжинського мр.пр.",null,1,0,null,null,0,10,13,30,1,1,0,1,null,"-100,0",2,null,"-100,0"]
[13,"Новгород-Сіверського р.",2,3,50,null,null,0,11,4,-63.6,null,3,0,null,2,0,5,1,-80]
[14,"Носівського р.",null,1,0,null,null,0,3,3,0,7,1,-85.7,4,null,"-100,0",null,1,0]
[15,"Прилуцька мр.пр.",1,null,"-100,0",null,null,0,16,10,-37.5,12,11,-8.3000000000000007,11,10,-9.1,null,null,0]
[16,"Ріпкинська р.",null,null,0,null,null,0,6,8,33.299999999999997,4,7,75,2,7,"3,5 р",1,1,0]
[17,"Семенівського р.",null,null,0,null,null,0,1,3,"3 р",2,2,0,2,2,0,null,null,0]
[18,"Сосницького р.",null,null,0,null,null,0,2,3,50,null,null,0,null,null,0,null,null,0]
[19,"Срібнянського р.",null,null,0,null,null,0,2,2,0,1,1,0,null,1,0,2,2,0]
[20,"Талалаївського р.",null,null,0,null,null,0,null,null,0,null,null,0,1,null,"-100,0",null,null,0]
[21,"Чернігівського р.",2,2,0,null,null,0,10,13,30,8,2,-75,7,2,-71.400000000000006,4,null,"-100,0"]
[22,"м.Чернігова",8,2,-75,null,null,0,82,41,-50,1,3,"3 р",null,null,0,8,3,-62.5]
[23,"Щорського р.",null,null,0,null,null,0,7,null,"-100,0",6,null,"-100,0",4,null,"-100,0",1,null,"-100,0"]
[24,"Апарат прокуратури",3,null,"-100,0",null,null,0,179,185,3.4,52,98,88.5,37,72,94.6,36,22,-38.9]
[25,"Усього по області",16,10,{"$f":"IF(C633=0,0,IF(D633=0,\"-100,0\",IF(D633*100/C633<200,ROUND(D633*100/C633-100,1),ROUND(D633/C633,1)&\" р\")))","v":-37.5},null,0,{"$f":"IF(F633=0,0,IF(G633=0,\"-100,0\",IF(G633*100/F633<200,ROUND(G633*100/F633-100,1),ROUND(G633/F633,1)&\" р\")))","v":0},389,338,{"$f":"IF(I633=0,0,IF(J633=0,\"-100,0\",IF(J633*100/I633<200,ROUND(J633*100/I633-100,1),ROUND(J633/I633,1)&\" р\")))","v":-13.1},117,152,{"$f":"IF(L633=0,0,IF(M633=0,\"-100,0\",IF(M633*100/L633<200,ROUND(M633*100/L633-100,1),ROUND(M633/L633,1)&\" р\")))","v":29.9},86,114,{"$f":"IF(O633=0,0,IF(P633=0,\"-100,0\",IF(P633*100/O633<200,ROUND(P633*100/O633-100,1),ROUND(P633/O633,1)&\" р\")))","v":32.6},67,50,{"$f":"IF(R633=0,0,IF(S633=0,\"-100,0\",IF(S633*100/R633<200,ROUND(S633*100/R633-100,1),ROUND(S633/R633,1)&\" р\")))","v":-25.4}]
["РОЗДІЛ 2. Нагляд за додержанням законів органами, які проводять оперативно-розшукову діяльність та досудове розслідування"]
["Таблиця 21. Клопотання до суду про застосування запобіжних заходів"]
[]
["Код","Прокуратура","Подано до суду клопотань",null,null,"у т.ч."]
[null,null,null,null,null,"про особисте зобов'язання",null,null,"про заставу",null,null,"про домашній арешт ",null,null,"про тримання під вартою"]
[null,null,{"$f":"C546","v":2014},{"$f":"D546","v":2015}," %",{"$f":"C639","v":2014},{"$f":"D639","v":2015}," %",{"$f":"F639","v":2014},{"$f":"G639","v":2015}," %",{"$f":"I639","v":2014},{"$f":"J639","v":2015}," %",{"$f":"L639","v":2014},{"$f":"M639","v":2015}," %"]
[1,"Бахмацького р.",22,33,{"$f":"IF(C640=0,0,IF(D640=0,\"-100,0\",IF(D640*100/C640<200,ROUND(D640*100/C640-100,1),ROUND(D640/C640,1)&\" р\")))","v":50},13,19,{"$f":"IF(F640=0,0,IF(G640=0,\"-100,0\",IF(G640*100/F640<200,ROUND(G640*100/F640-100,1),ROUND(G640/F640,1)&\" р\")))","v":46.2},null,null,{"$f":"IF(I640=0,0,IF(J640=0,\"-100,0\",IF(J640*100/I640<200,ROUND(J640*100/I640-100,1),ROUND(J640/I640,1)&\" р\")))","v":0},2,7,{"$f":"IF(L640=0,0,IF(M640=0,\"-100,0\",IF(M640*100/L640<200,ROUND(M640*100/L640-100,1),ROUND(M640/L640,1)&\" р\")))","v":"3,5 р"},6,7,{"$f":"IF(O640=0,0,IF(P640=0,\"-100,0\",IF(P640*100/O640<200,ROUND(P640*100/O640-100,1),ROUND(P640/O640,1)&\" р\")))","v":16.7}]
[2,"Бобровицького р.",18,19,5.6,7,2,-71.400000000000006,null,null,0,1,2,"2 р",10,15,50]
[3,"Борзнянського р.",9,8,{"$f":"IF(C642=0,0,IF(D642=0,\"-100,0\",IF(D642*100/C642<200,ROUND(D642*100/C642-100,1),ROUND(D642/C642,1)&\" р\")))","v":-11.1},1,4,{"$f":"IF(F642=0,0,IF(G642=0,\"-100,0\",IF(G642*100/F642<200,ROUND(G642*100/F642-100,1),ROUND(G642/F642,1)&\" р\")))","v":"4 р"},null,null,{"$f":"IF(I642=0,0,IF(J642=0,\"-100,0\",IF(J642*100/I642<200,ROUND(J642*100/I642-100,1),ROUND(J642/I642,1)&\" р\")))","v":0},2,null,{"$f":"IF(L642=0,0,IF(M642=0,\"-100,0\",IF(M642*100/L642<200,ROUND(M642*100/L642-100,1),ROUND(M642/L642,1)&\" р\")))","v":"-100,0"},6,4,{"$f":"IF(O642=0,0,IF(P642=0,\"-100,0\",IF(P642*100/O642<200,ROUND(P642*100/O642-100,1),ROUND(P642/O642,1)&\" р\")))","v":-33.299999999999997}]
[4,"Варвинського р.",2,2,0,1,null,"-100,0",null,null,0,1,null,"-100,0",null,2,0]
[5,"Городнянського р.",21,19,-9.5,10,9,-10,null,null,0,1,3,"3 р",10,7,-30]
[6,"Ічнянського р.",22,20,-9.1,9,13,44.4,null,null,0,9,7,-22.2,4,null,"-100,0"]
[7,"Козелецького р.",27,44,63,16,33,"2,1 р",null,null,0,null,null,0,11,11,0]
[8,"Коропського р.",9,7,-22.2,4,1,-75,null,null,0,1,4,"4 р",4,2,-50]
[9,"Корюківського р.",24,33,37.5,17,26,52.9,null,null,0,1,null,"-100,0",6,7,16.7]
[10,"Куликівського р.",6,3,-50,3,1,-66.7,null,null,0,null,null,0,3,2,-33.299999999999997]
[11,"Менського р.",21,24,14.3,null,8,0,null,null,0,1,5,"5 р",20,11,-45]
[12,"Ніжинського мр.пр.",37,56,51.4,6,16,"2,7 р",null,null,0,null,null,0,31,40,29]
[13,"Новгород-Сіверського р.",29,24,-17.2,17,10,-41.2,null,null,0,3,5,66.7,9,9,0]
[14,"Носівського р.",13,31,"2,4 р",null,14,0,null,null,0,5,5,0,8,12,50]
[15,"Прилуцька мр.пр.",32,39,21.9,2,1,-50,null,null,0,2,4,"2 р",27,33,22.2]
[16,"Ріпкинська р.",16,20,25,3,null,"-100,0",null,null,0,6,3,-50,7,17,"2,4 р"]
[17,"Семенівського р.",17,19,11.8,14,14,0,null,null,0,1,1,0,2,4,"2 р"]
[18,"Сосницького р.",9,7,-22.2,1,1,0,null,null,0,4,4,0,4,2,-50]
[19,"Срібнянського р.",6,8,33.299999999999997,3,6,"2 р",null,null,0,null,null,0,3,2,-33.299999999999997]
[20,"Талалаївського р.",2,3,50,1,null,"-100,0",null,null,0,null,null,0,1,3,"3 р"]
[21,"Чернігівського р.",31,23,-25.8,5,null,"-100,0",null,null,0,7,2,-71.400000000000006,19,21,10.5]
[22,"м.Чернігова",108,95,-12,16,20,25,null,null,0,12,8,-33.299999999999997,80,67,-16.3]
[23,"Щорського р.",13,17,30.8,5,2,-60,null,null,0,3,6,"2 р",5,9,80]
[24,"Апарат прокуратури",68,86,26.5,11,17,54.5,13,2,-84.6,null,11,0,44,56,27.3]
[25,"Усього по області",565,640,13.3,165,217,{"$f":"IF(F664=0,0,IF(G664=0,\"-100,0\",IF(G664*100/F664<200,ROUND(G664*100/F664-100,1),ROUND(G664/F664,1)&\" р\")))","v":31.5},13,2,-84.6,62,77,24.2,323,343,6.2]
["РОЗДІЛ 2. Нагляд за додержанням законів органами, які проводять оперативно-розшукову діяльність та досудове розслідування"]
["Таблиця 22. Клопотання до суду про застосування запобіжних заходів"]
[]
["Код","Прокуратура","Відкликано прокурором клопотань",null,null,"Питома вага до поданих до суду клопотань",null,"у т.ч."]
[null,null,null,null,null,null,null,"про особисте зобов'язання",null,"Питома вага",null,"про заставу",null,"Питома вага",null,"про домашній арешт ",null,"Питома вага",null,"про тримання під вартою",null,"Питома вага"]
[null,null,{"$f":"C639","v":2014},{"$f":"D639","v":2015}," %",{"$f":"C670","v":2014},{"$f":"D670","v":2015},{"$f":"F670","v":2014},2015,2014,2015,2014,2015,2014,2015,{"$f":"L670","v":2014},{"$f":"M670","v":2015},{"$f":"P670","v":2014},{"$f":"Q670","v":2015},{"$f":"N670","v":2014},{"$f":"O670","v":2015},{"$f":"T670","v":2014},{"$f":"U670","v":2015}]
[1,"Бахмацького р.",null,null,{"$f":"IF(C671=0,0,IF(D671=0,\"-100,0\",IF(D671*100/C671<200,ROUND(D671*100/C671-100,1),ROUND(D671/C671,1)&\" р\")))","v":0},{"$f":"IF(C640=0,0,C671*100/C640)","v":0},{"$f":"IF(D640=0,0,D671*100/D640)","v":0},null,null,{"$f":"IF(F640=0,0,H671*100/F640)","v":0},{"$f":"IF(G640=0,0,I671*100/G640)","v":0},null,null,{"$f":"IF(I640=0,0,L671*100/I640)","v":0},{"$f":"IF(J640=0,0,M671*100/J640)","v":0},null,null,{"$f":"IF(L640=0,0,P671*100/L640)","v":0},{"$f":"IF(M640=0,0,Q671*100/M640)","v":0},null,null,{"$f":"IF(O640=0,0,T671*100/O640)","v":0},{"$f":"IF(P640=0,0,U671*100/P640)","v":0}]
[2,"Бобровицького р.",null,null,0,0,0,null,null,0,0,null,null,0,0,null,null,0,0,null,null,0,0]
[3,"Борзнянського р.",null,null,{"$f":"IF(C673=0,0,IF(D673=0,\"-100,0\",IF(D673*100/C673<200,ROUND(D673*100/C673-100,1),ROUND(D673/C673,1)&\" р\")))","v":0},0,0,null,null,0,0,null,null,0,0,null,null,0,0,null,null,0,0]
[4,"Варвинського р.",null,null,0,0,0,null,null,0,0,null,null,0,0,null,null,0,0,null,null,0,0]
[5,"Городнянського р.",null,null,0,0,0,null,null,0,0,null,null,0,0,null,null,0,0,null,null,0,0]
[6,"Ічнянського р.",null,null,0,0,0,null,null,0,0,null,null,0,0,null,null,0,0,null,null,0,0]
[7,"Козелецького р.",null,null,0,0,0,null,null,0,0,null,null,0,0,null,null,0,0,null,null,0,0]
[8,"Коропського р.",null,null,0,0,0,null,null,0,0,null,null,0,0,null,null,0,0,null,null,0,0]
[9,"Корюківського р.",null,null,0,0,0,null,null,0,0,null,null,0,0,null,null,0,0,null,null,0,0]
[10,"Куликівського р.",null,null,0,0,0,null,null,0,0,null,null,0,0,null,null,0,0,null,null,0,0]
[11,"Менського р.",null,null,0,0,0,null,null,0,0,null,null,0,0,null,null,0,0,null,null,0,0]
[12,"Ніжинського мр.пр.",null,null,0,0,0,null,null,0,0,null,null,0,0,null,null,0,0,null,null,0,0]
[13,"Новгород-Сіверського р.",null,null,0,0,0,null,null,0,0,null,null,0,0,null,null,0,0,null,null,0,0]
[14,"Носівського р.",null,null,0,0,0,null,null,0,0,null,null,0,0,null,null,0,0,null,null,0,0]
[15,"Прилуцька мр.пр.",null,null,0,0,0,null,null,0,0,null,null,0,0,null,null,0,0,null,null,0,0]
[16,"Ріпкинська р.",null,null,0,0,0,null,null,0,0,null,null,0,0,null,null,0,0,null,null,0,0]
[17,"Семенівського р.",null,null,0,0,0,null,null,0,0,null,null,0,0,null,null,0,0,null,null,0,0]
[18,"Сосницького р.",null,null,0,0,0,null,null,0,0,null,null,0,0,null,null,0,0,null,null,0,0]
[19,"Срібнянського р.",null,null,0,0,0,null,null,0,0,null,null,0,0,null,null,0,0,null,null,0,0]
[20,"Талалаївського р.",null,null,0,0,0,null,null,0,0,null,null,0,0,null,null,0,0,null,null,0,0]
[21,"Чернігівського р.",null,null,0,0,0,null,null,0,0,null,null,0,0,null,null,0,0,null,null,0,0]
[22,"м.Чернігова",null,null,0,0,0,null,null,0,0,null,null,0,0,null,null,0,0,null,null,0,0]
[23,"Щорського р.",null,null,0,0,0,null,null,0,0,null,null,0,0,null,null,0,0,null,null,0,0]
[24,"Апарат прокуратури",null,null,0,0,0,null,null,0,0,null,null,0,0,null,null,0,0,null,null,0,0]
[25,"Усього по області",null,0,{"$f":"IF(C695=0,0,IF(D695=0,\"-100,0\",IF(D695*100/C695<200,ROUND(D695*100/C695-100,1),ROUND(D695/C695,1)&\" р\")))","v":0},0,0,null,0,0,0,null,0,0,0,null,0,0,0,null,0,0,0]
["РОЗДІЛ 2. Нагляд за додержанням законів органами, які проводять оперативно-розшукову діяльність та досудове розслідування"]
["Таблиця 23. Клопотання до суду про застосування запобіжних заходів"]
[]
["Код","Прокуратура","Відмовлено слідчим суддею у задоволенні клопотань",null,null,"Питома вага",null,"у т.ч.",null,null,null,null,null,null,null,"про тримання під вартою у т.ч. з обранням"]
[null,null,null,null,null,null,null,"про домашній арешт ",null,"Питома вага",null,"про тримання під вартою",null,"Питома вага",null,"особистого зобов’язання",null,"особистої поруки",null,"застави",null,"домашнього арешту"]
[null,null,{"$f":"C639","v":2014},{"$f":"D639","v":2015}," %",{"$f":"C701","v":2014},{"$f":"D701","v":2015},{"$f":"F701","v":2014},2015,2014,2015,2014,2015,2014,2015,{"$f":"N701","v":2014},2015,2014,2015,2014,2015,2014,2015]
[1,"Бахмацького р.",null,null,{"$f":"IF(C702=0,0,IF(D702=0,\"-100,0\",IF(D702*100/C702<200,ROUND(D702*100/C702-100,1),ROUND(D702/C702,1)&\" р\")))","v":0},{"$f":"IF(C640=0,0,C702*100/C640)","v":0},{"$f":"IF(D640=0,0,D702*100/D640)","v":0},null,null,{"$f":"IF(L640=0,0,H702*100/L640)","v":0},{"$f":"IF(M640=0,0,I702*100/M640)","v":0},null,null,{"$f":"IF(O640=0,0,L702*100/O640)","v":0},{"$f":"IF(P640=0,0,M702*100/P640)","v":0}]
[2,"Бобровицького р.",1,3,"3 р",5.5555555555555554,15.789473684210526,null,null,0,0,1,3,10,20,null,null,null,null,null,null,1,3]
[3,"Борзнянського р.",null,1,{"$f":"IF(C704=0,0,IF(D704=0,\"-100,0\",IF(D704*100/C704<200,ROUND(D704*100/C704-100,1),ROUND(D704/C704,1)&\" р\")))","v":0},0,12.5,null,null,0,0,null,1,0,25,null,null,null,null,null,null,null,1]
[4,"Варвинського р.",null,null,0,0,0,null,null,0,0,null,null,0,0]
[5,"Городнянського р.",1,1,0,4.7619047619047619,5.2631578947368425,null,null,0,0,1,1,10,14.285714285714286,null,null,null,null,null,null,1,1]
[6,"Ічнянського р.",null,null,0,0,0,null,null,0,0,null,null,0,0]
[7,"Козелецького р.",null,null,0,0,0,null,null,0,0,null,null,0,0]
[8,"Коропського р.",2,null,"-100,0",22.222222222222221,0,null,null,0,0,2,null,50,0,null,null,null,null,null,null,2]
[9,"Корюківського р.",null,null,0,0,0,null,null,0,0,null,null,0,0]
[10,"Куликівського р.",null,1,0,0,33.333333333333336,null,null,0,0,null,1,0,50,null,null,null,null,null,null,null,1]
[11,"Менського р.",2,3,50,9.5238095238095237,12.5,null,null,0,0,2,3,10,27.272727272727273,null,1,null,null,null,null,2,2]
[12,"Ніжинського мр.пр.",1,2,"2 р",2.7027027027027026,3.5714285714285716,null,null,0,0,1,2,3.225806451612903,5,null,1]
[13,"Новгород-Сіверського р.",2,4,"2 р",6.8965517241379306,16.666666666666668,null,1,0,20,2,3,22.222222222222221,33.333333333333336,null,null,null,null,null,null,2,3]
[14,"Носівського р.",null,1,0,0,3.225806451612903,null,null,0,0,null,1,0,8.3333333333333339,null,null,null,null,null,null,null,1]
[15,"Прилуцька мр.пр.",1,5,"5 р",3.125,12.820512820512821,1,null,50,0,null,5,0,15.151515151515152,null,null,null,null,null,null,null,5]
[16,"Ріпкинська р.",3,5,66.7,18.75,25,null,null,0,0,3,5,42.857142857142854,29.411764705882351,null,1,null,null,null,null,3,4]
[17,"Семенівського р.",null,null,0,0,0,null,null,0,0,null,null,0,0]
[18,"Сосницького р.",1,null,"-100,0",11.111111111111111,0,null,null,0,0,1,null,25,0,null,null,null,null,null,null,1]
[19,"Срібнянського р.",null,null,0,0,0,null,null,0,0,null,null,0,0]
[20,"Талалаївського р.",null,null,0,0,0,null,null,0,0,null,null,0,0]
[21,"Чернігівського р.",2,3,50,6.4516129032258061,13.043478260869565,1,1,14.285714285714286,50,1,2,5.2631578947368425,9.5238095238095237,null,1,null,null,null,null,1,1]
[22,"м.Чернігова",7,13,85.7,6.4814814814814818,13.684210526315789,2,null,16.666666666666668,0,5,13,6.25,19.402985074626866,null,4,1,null,null,null,3,8]
[23,"Щорського р.",3,3,0,23.076923076923077,17.647058823529413,null,2,0,33.333333333333336,3,1,60,11.111111111111111,1,null,null,null,null,null,2]
[24,"Апарат прокуратури",8,10,25,11.764705882352942,11.627906976744185,null,2,0,18.181818181818183,8,8,18.181818181818183,14.285714285714286,2,1,2,null,null,1,4,3]
[25,"Усього по області",34,55,{"$f":"IF(C726=0,0,IF(D726=0,\"-100,0\",IF(D726*100/C726<200,ROUND(D726*100/C726-100,1),ROUND(D726/C726,1)&\" р\")))","v":61.8},6.0176991150442474,8.59375,4,6,6.4516129032258061,7.7922077922077921,30,49,9.2879256965944279,14.285714285714286,3,9,3,0,null,1,22,33]
["РОЗДІЛ 2. Нагляд за додержанням законів органами, які проводять оперативно-розшукову діяльність та досудове розслідування"]
["Таблиця 24. Клопотання до суду про застосування запобіжних заходів"]
[]
["Код","Прокуратура","Подано апел. скарг на ухвали слідчого судді про відмову в застосуванні запобіжного заходу ",null,null,"Питома вага",null,"у т.ч."]
[null,null,null,null,null,null,null,"про домашній арешт ",null,null,"Питома вага",null,"про тримання під вартою",null,null,"Питома вага"]
[null,null,{"$f":"C670","v":2014},{"$f":"D670","v":2015}," %",{"$f":"C732","v":2014},{"$f":"D732","v":2015},{"$f":"F732","v":2014},2015," %",{"$f":"H732","v":2014},{"$f":"I732","v":2015},2014,2015," %",{"$f":"M732","v":2014},{"$f":"N732","v":2015}]
[1,"Бахмацького р.",null,null,{"$f":"IF(C733=0,0,IF(D733=0,\"-100,0\",IF(D733*100/C733<200,ROUND(D733*100/C733-100,1),ROUND(D733/C733,1)&\" р\")))","v":0},{"$f":"IF(C702=0,0,C733*100/C702)","v":0},{"$f":"IF(D702=0,0,D733*100/D702)","v":0},null,null,{"$f":"IF(H733=0,0,IF(I733=0,\"-100,0\",IF(I733*100/H733<200,ROUND(I733*100/H733-100,1),ROUND(I733/H733,1)&\" р\")))","v":0},{"$f":"IF(H702=0,0,H733*100/H702)","v":0},{"$f":"IF(I702=0,0,I733*100/I702)","v":0},null,null,{"$f":"IF(M733=0,0,IF(N733=0,\"-100,0\",IF(N733*100/M733<200,ROUND(N733*100/M733-100,1),ROUND(N733/M733,1)&\" р\")))","v":0},{"$f":"IF(L702=0,0,M733*100/L702)","v":0},{"$f":"IF(M702=0,0,N733*100/M702)","v":0}]
[2,"Бобровицького р.",null,null,0,0,0,null,null,0,0,0,null,null,0,0,0]
[3,"Борзнянського р.",null,null,{"$f":"IF(C735=0,0,IF(D735=0,\"-100,0\",IF(D735*100/C735<200,ROUND(D735*100/C735-100,1),ROUND(D735/C735,1)&\" р\")))","v":0},0,0,null,null,{"$f":"IF(H735=0,0,IF(I735=0,\"-100,0\",IF(I735*100/H735<200,ROUND(I735*100/H735-100,1),ROUND(I735/H735,1)&\" р\")))","v":0},0,0,null,null,{"$f":"IF(M735=0,0,IF(N735=0,\"-100,0\",IF(N735*100/M735<200,ROUND(N735*100/M735-100,1),ROUND(N735/M735,1)&\" р\")))","v":0},0,0]
[4,"Варвинського р.",null,null,0,0,0,null,null,0,0,0,null,null,0,0,0]
[5,"Городнянського р.",null,null,0,0,0,null,null,0,0,0,null,null,0,0,0]
[6,"Ічнянського р.",null,null,0,0,0,null,null,0,0,0,null,null,0,0,0]
[7,"Козелецького р.",null,null,0,0,0,null,null,0,0,0,null,null,0,0,0]
[8,"Коропського р.",null,null,0,0,0,null,null,0,0,0,null,null,0,0,0]
[9,"Корюківського р.",null,null,0,0,0,null,null,0,0,0,null,null,0,0,0]
[10,"Куликівського р.",null,null,0,0,0,null,null,0,0,0,null,null,0,0,0]
[11,"Менського р.",2,null,"-100,0",100,0,null,null,0,0,0,2,null,"-100,0",100,0]
[12,"Ніжинського мр.пр.",1,null,"-100,0",100,0,null,null,0,0,0,1,null,"-100,0",100,0]
[13,"Новгород-Сіверського р.",null,null,0,0,0,null,null,0,0,0,null,null,0,0,0]
[14,"Носівського р.",null,null,0,0,0,null,null,0,0,0,null,null,0,0,0]
[15,"Прилуцька мр.пр.",null,3,0,0,60,null,null,0,0,0,null,3,0,0,60]
[16,"Ріпкинська р.",2,null,"-100,0",66.666666666666671,0,null,null,0,0,0,2,null,"-100,0",66.666666666666671,0]
[17,"Семенівського р.",null,null,0,0,0,null,null,0,0,0,null,null,0,0,0]
[18,"Сосницького р.",null,null,0,0,0,null,null,0,0,0,null,null,0,0,0]
[19,"Срібнянського р.",null,null,0,0,0,null,null,0,0,0,null,null,0,0,0]
[20,"Талалаївського р.",null,null,0,0,0,null,null,0,0,0,null,null,0,0,0]
[21,"Чернігівського р.",1,2,"2 р",50,66.666666666666671,1,null,"-100,0",100,0,null,2,0,0,100]
[22,"м.Чернігова",3,1,-66.7,42.857142857142854,7.6923076923076925,null,null,0,0,0,3,1,-66.7,60,7.6923076923076925]
[23,"Щорського р.",null,null,0,0,0,null,null,0,0,0,null,null,0,0,0]
[24,"Апарат прокуратури",4,2,-50,50,20,null,null,0,0,0,4,2,-50,50,25]
[25,"Усього по області",13,8,{"$f":"IF(C757=0,0,IF(D757=0,\"-100,0\",IF(D757*100/C757<200,ROUND(D757*100/C757-100,1),ROUND(D757/C757,1)&\" р\")))","v":-38.5},38.235294117647058,14.545454545454545,1,0,{"$f":"IF(H757=0,0,IF(I757=0,\"-100,0\",IF(I757*100/H757<200,ROUND(I757*100/H757-100,1),ROUND(I757/H757,1)&\" р\")))","v":"-100,0"},25,0,12,8,{"$f":"IF(M757=0,0,IF(N757=0,\"-100,0\",IF(N757*100/M757<200,ROUND(N757*100/M757-100,1),ROUND(N757/M757,1)&\" р\")))","v":-33.299999999999997},40,16.326530612244898]
["РОЗДІЛ 2. Нагляд за додержанням законів органами, які проводять оперативно-розшукову діяльність та досудове розслідування"]
["Таблиця 25. Клопотання до суду про застосування запобіжних заходів"]
[]
["Код","Прокуратура","Задоволено апеляційних скарг",null,null,"Питома вага",null,"у т.ч."]
[null,null,null,null,null,null,null,"про домашній арешт ",null,null,"Питома вага",null,"про тримання під вартою",null,null,"Питома вага"]
[null,null,{"$f":"C701","v":2014},{"$f":"D701","v":2015}," %",{"$f":"C763","v":2014},{"$f":"D763","v":2015},{"$f":"F763","v":2014},{"$f":"G763","v":2015}," %",{"$f":"H763","v":2014},{"$f":"I763","v":2015},{"$f":"K763","v":2014},{"$f":"L763","v":2015}," %",{"$f":"M763","v":2014},{"$f":"N763","v":2015}]
[1,"Бахмацького р.",null,null,{"$f":"IF(C764=0,0,IF(D764=0,\"-100,0\",IF(D764*100/C764<200,ROUND(D764*100/C764-100,1),ROUND(D764/C764,1)&\" р\")))","v":0},{"$f":"IF(C733=0,0,C764*100/C733)","v":0},{"$f":"IF(D733=0,0,D764*100/D733)","v":0},null,null,{"$f":"IF(H764=0,0,IF(I764=0,\"-100,0\",IF(I764*100/H764<200,ROUND(I764*100/H764-100,1),ROUND(I764/H764,1)&\" р\")))","v":0},{"$f":"IF(H733=0,0,H764*100/H733)","v":0},{"$f":"IF(I733=0,0,I764*100/I733)","v":0},null,null,{"$f":"IF(M764=0,0,IF(N764=0,\"-100,0\",IF(N764*100/M764<200,ROUND(N764*100/M764-100,1),ROUND(N764/M764,1)&\" р\")))","v":0},{"$f":"IF(M733=0,0,M764*100/M733)","v":0},{"$f":"IF(N733=0,0,N764*100/N733)","v":0}]
[2,"Бобровицького р.",null,null,0,0,0,null,null,0,0,0,null,null,0,0,0]
[3,"Борзнянського р.",null,null,{"$f":"IF(C766=0,0,IF(D766=0,\"-100,0\",IF(D766*100/C766<200,ROUND(D766*100/C766-100,1),ROUND(D766/C766,1)&\" р\")))","v":0},0,0,null,null,{"$f":"IF(H766=0,0,IF(I766=0,\"-100,0\",IF(I766*100/H766<200,ROUND(I766*100/H766-100,1),ROUND(I766/H766,1)&\" р\")))","v":0},0,0,null,null,{"$f":"IF(M766=0,0,IF(N766=0,\"-100,0\",IF(N766*100/M766<200,ROUND(N766*100/M766-100,1),ROUND(N766/M766,1)&\" р\")))","v":0},0,0]
[4,"Варвинського р.",null,null,0,0,0,null,null,0,0,0,null,null,0,0,0]
[5,"Городнянського р.",null,null,0,0,0,null,null,0,0,0,null,null,0,0,0]
[6,"Ічнянського р.",null,null,0,0,0,null,null,0,0,0,null,null,0,0,0]
[7,"Козелецького р.",null,null,0,0,0,null,null,0,0,0,null,null,0,0,0]
[8,"Коропського р.",null,null,0,0,0,null,null,0,0,0,null,null,0,0,0]
[9,"Корюківського р.",null,null,0,0,0,null,null,0,0,0,null,null,0,0,0]
[10,"Куликівського р.",null,null,0,0,0,null,null,0,0,0,null,null,0,0,0]
[11,"Менського р.",null,null,0,0,0,null,null,0,0,0,null,null,0,0,0]
[12,"Ніжинського мр.пр.",1,null,"-100,0",100,0,null,null,0,0,0,1,null,"-100,0",100,0]
[13,"Новгород-Сіверського р.",null,null,0,0,0,null,null,0,0,0,null,null,0,0,0]
[14,"Носівського р.",null,null,0,0,0,null,null,0,0,0,null,null,0,0,0]
[15,"Прилуцька мр.пр.",null,2,0,0,66.666666666666671,null,null,0,0,0,null,2,0,0,66.666666666666671]
[16,"Ріпкинська р.",null,null,0,0,0,null,null,0,0,0,null,null,0,0,0]
[17,"Семенівського р.",null,null,0,0,0,null,null,0,0,0,null,null,0,0,0]
[18,"Сосницького р.",null,null,0,0,0,null,null,0,0,0,null,null,0,0,0]
[19,"Срібнянського р.",null,null,0,0,0,null,null,0,0,0,null,null,0,0,0]
[20,"Талалаївського р.",null,null,0,0,0,null,null,0,0,0,null,null,0,0,0]
[21,"Чернігівського р.",1,null,"-100,0",100,0,1,null,"-100,0",100,0,null,null,0,0,0]
[22,"м.Чернігова",1,null,"-100,0",33.333333333333336,0,null,null,0,0,0,1,null,"-100,0",33.333333333333336,0]
[23,"Щорського р.",null,null,0,0,0,null,null,0,0,0,null,null,0,0,0]
[24,"Апарат прокуратури",3,1,-66.7,75,50,null,null,0,0,0,3,1,-66.7,75,50]
[25,"Усього по області",6,3,{"$f":"IF(C788=0,0,IF(D788=0,\"-100,0\",IF(D788*100/C788<200,ROUND(D788*100/C788-100,1),ROUND(D788/C788,1)&\" р\")))","v":-50},46.153846153846153,37.5,1,0,{"$f":"IF(H788=0,0,IF(I788=0,\"-100,0\",IF(I788*100/H788<200,ROUND(I788*100/H788-100,1),ROUND(I788/H788,1)&\" р\")))","v":"-100,0"},100,0,5,3,{"$f":"IF(M788=0,0,IF(N788=0,\"-100,0\",IF(N788*100/M788<200,ROUND(N788*100/M788-100,1),ROUND(N788/M788,1)&\" р\")))","v":-40},41.666666666666664,37.5]
["РОЗДІЛ 3. Участь прокурорів у судовому розгляді кримінальних проваджень та перегляді судових рішень"]
["Таблиця 26. Участь прокурорів у судовому розгляді кримінальних проваджень судами всіх інстанцій"]
[]
["Код","Прокуратура","Участь у розгляді проваджень судами (усього)",null,null,"Участь у судовому розгляді проваджень судами І інстанції з ухваленням вироку ",null,null,"з них:",null,null,null,"Всього розглянуто апеляційних скарг",null,null,"Відсоток апеляційної практики",null,"Задоволено апеляційних скарг",null,null,"Питома вага задоволених апеляцій"]
[null,null,null,null,null,null,null,null,"з ухваленням вироку на підставі угоди",null,"у т.ч.: про визнання винуватості"]
[null,null,{"$f":"C732","v":2014},{"$f":"D732","v":2015}," %",{"$f":"C794","v":2014},{"$f":"D794","v":2015}," %",{"$f":"F794","v":2014},{"$f":"G794","v":2015},{"$f":"I794","v":2014},{"$f":"J794","v":2015},{"$f":"K794","v":2014},{"$f":"L794","v":2015}," %",{"$f":"M794","v":2014},{"$f":"N794","v":2015},{"$f":"P794","v":2014},{"$f":"Q794","v":2015}," %",{"$f":"R794","v":2014},{"$f":"S794","v":2015}]
[1,"Бахмацького р.",{"$f":"Y795+AA795","v":179},{"$f":"Z795+AB795","v":142},{"$f":"IF(C795=0,0,IF(D795=0,\"-100,0\",IF(D795*100/C795<200,ROUND(D795*100/C795-100,1),ROUND(D795/C795,1)&\" р\")))","v":-20.7},104,83,{"$f":"IF(F795=0,0,IF(G795=0,\"-100,0\",IF(G795*100/F795<200,ROUND(G795*100/F795-100,1),ROUND(G795/F795,1)&\" р\")))","v":-20.2},1,null,null,null,0,0,{"$f":"IF(M795=0,0,IF(N795=0,\"-100,0\",IF(N795*100/M795<200,ROUND(N795*100/M795-100,1),ROUND(N795/M795,1)&\" р\")))","v":0},{"$f":"IF(AC795=0,0,(AE795-AK795)*100/AC795)","v":0},{"$f":"IF(AD795=0,0,(AF795-AL795)*100/AD795)","v":0},null,null,{"$f":"IF(R795=0,0,IF(S795=0,\"-100,0\",IF(S795*100/R795<200,ROUND(S795*100/R795-100,1),ROUND(S795/R795,1)&\" р\")))","v":0},{"$f":"IF(M795=0,0,R795*100/M795)","v":0},{"$f":"IF(N795=0,0,S795*100/N795)","v":0},null,null,179,142,0,0,{"$f":"AE795+AG795-AI795","v":0},{"$f":"AF795+AH795-AJ795","v":0},null,null,null,null,{"$f":"AK795+AM795","v":0},{"$f":"AL795+AN795","v":0},0,0,0,0]
[2,"Бобровицького р.",82,69,-15.9,51,63,23.5,4,null,2,null,0,1,0,{"$f":"IF(AC796=0,0,(AE796-AK796)*100/AC796)","v":0},0,null,null,0,{"$f":"IF(M796=0,0,R796*100/M796)","v":0},0,null,null,82,69,0,0,{"$f":"AE796+AG796-AI796","v":0},{"$f":"AF796+AH796-AJ796","v":0},null,null,null,null,{"$f":"AK796+AM796","v":0},{"$f":"AL796+AN796","v":0},0,0,0,0]
[3,"Борзнянського р.",{"$f":"Y797+AA797","v":120},{"$f":"Z797+AB797","v":123},{"$f":"IF(C797=0,0,IF(D797=0,\"-100,0\",IF(D797*100/C797<200,ROUND(D797*100/C797-100,1),ROUND(D797/C797,1)&\" р\")))","v":2.5},47,78,{"$f":"IF(F797=0,0,IF(G797=0,\"-100,0\",IF(G797*100/F797<200,ROUND(G797*100/F797-100,1),ROUND(G797/F797,1)&\" р\")))","v":66},1,2,1,1,0,0,{"$f":"IF(M797=0,0,IF(N797=0,\"-100,0\",IF(N797*100/M797<200,ROUND(N797*100/M797-100,1),ROUND(N797/M797,1)&\" р\")))","v":0},{"$f":"IF(AC797=0,0,(AE797-AK797)*100/AC797)","v":0},{"$f":"IF(AD797=0,0,(AF797-AL797)*100/AD797)","v":0},null,null,{"$f":"IF(R797=0,0,IF(S797=0,\"-100,0\",IF(S797*100/R797<200,ROUND(S797*100/R797-100,1),ROUND(S797/R797,1)&\" р\")))","v":0},{"$f":"IF(M797=0,0,R797*100/M797)","v":0},{"$f":"IF(N797=0,0,S797*100/N797)","v":0},null,null,120,123,0,0,0,0,null,null,null,null,0,0,0,0,0,0]
[4,"Варвинського р.",87,76,-12.6,34,22,-35.299999999999997,1,null,1,null,1,2,"2 р",100,0,1,null,"-100,0",100,0,null,null,87,76,0,0,1,0,1,null,null,null,0,0,0,0,0,0]
[5,"Городнянського р.",130,103,-20.8,47,53,12.8,null,null,null,null,0,0,0,0,0,null,null,0,0,0,null,null,130,103,0,0,0,0,null,null,null,null,0,0,0,0,0,0]
[6,"Ічнянського р.",143,122,-14.7,66,59,-10.6,null,null,null,null,0,0,0,0,0,null,null,0,0,0,null,null,143,122,0,0,0,0,null,null,null,null,0,0,0,0,0,0]
[7,"Козелецького р.",134,105,-21.6,66,65,-1.5,1,null,1,null,0,0,0,0,0,null,null,0,0,0,null,null,134,105,0,0,0,0,null,null,null,null,0,0,0,0,0,0]
[8,"Коропського р.",72,73,1.4,47,67,42.6,null,null,null,null,0,0,0,0,0,null,null,0,0,0,null,null,72,73,0,0,0,0,null,null,null,null,0,0,0,0,0,0]
[9,"Корюківського р.",132,142,7.6,47,77,63.8,1,null,null,null,0,0,0,0,0,null,null,0,0,0,null,null,132,142,0,0,0,0,null,null,null,null,0,0,0,0,0,0]
[10,"Куликівського р.",66,67,1.5,33,52,57.6,null,1,null,1,0,0,0,0,0,null,null,0,0,0,null,null,66,67,0,0,0,0,null,null,null,null,0,0,0,0,0,0]
[11,"Менського р.",535,221,-58.7,40,64,60,1,5,null,2,0,2,0,0,100,null,1,0,0,50,null,null,535,221,0,0,0,1,null,1,null,null,0,0,0,0,0,0]
[12,"Ніжинського мр.пр.",190,177,-6.8,160,167,4.4000000000000004,null,1,null,null,0,0,0,0,0,null,null,0,0,0,null,null,190,177,0,0,0,0,null,null,null,null,0,0,0,0,0,0]
[13,"Новгород-Сіверського р.",127,104,-18.100000000000001,54,48,-11.1,null,1,null,1,0,0,0,0,0,null,null,0,0,0,null,null,126,104,1,0,0,0,null,null,null,null,0,0,0,0,0,0]
[14,"Носівського р.",92,87,-5.4,51,61,19.600000000000001,1,null,null,null,0,0,0,0,0,null,null,0,0,0,null,null,92,87,0,0,0,0,null,null,null,null,0,0,0,0,0,0]
[15,"Прилуцька мр.пр.",426,276,-35.200000000000003,166,178,7.2,null,null,null,null,0,0,0,0,0,null,null,0,0,0,null,null,426,276,0,0,0,0,null,null,null,null,0,0,0,0,0,0]
[16,"Ріпкинська р.",113,80,-29.2,35,35,0,null,1,null,null,0,0,0,0,0,null,null,0,0,0,null,null,113,80,0,0,0,2,null,null,null,2,0,0,0,0,0,0]
[17,"Семенівського р.",66,71,7.6,38,46,21.1,5,2,4,2,0,0,0,0,0,null,null,0,0,0,null,null,66,71,0,0,0,0,null,null,null,null,0,0,0,0,0,0]
[18,"Сосницького р.",49,77,57.1,24,30,25,null,null,null,null,0,0,0,0,0,null,null,0,0,0,null,null,49,77,0,0,0,0,null,null,null,null,0,0,0,0,0,0]
[19,"Срібнянського р.",63,70,11.1,24,20,-16.7,null,null,null,null,0,0,0,0,0,null,null,0,0,0,null,null,63,70,0,0,0,0,null,null,null,null,0,0,0,0,0,0]
[20,"Талалаївського р.",85,50,-41.2,43,16,-62.8,null,null,null,null,0,0,0,0,0,null,null,0,0,0,null,null,85,50,0,0,0,0,null,null,null,null,0,0,0,0,0,0]
[21,"Чернігівського р.",144,99,-31.3,74,72,-2.7,null,1,null,null,0,0,0,0,0,null,null,0,0,0,null,null,144,99,0,0,1,0,null,null,1,null,0,0,0,0,0,0]
[22,"м.Чернігова",1130,831,-26.5,295,311,5.4,2,1,null,null,2,1,-50,100,0,1,null,"-100,0",50,0,null,null,1129,831,1,0,1,0,1,null,null,null,0,0,0,0,0,0]
[23,"Щорського р.",39,46,17.899999999999999,25,42,68,null,null,null,null,0,0,0,0,0,null,null,0,0,0,null,null,39,46,0,0,0,0,null,null,null,null,0,0,0,0,0,0]
[24,"Апарат прокуратури",443,569,28.4,62,72,16.100000000000001,null,null,null,null,135,204,51.1,83.870967741935488,90.449438202247194,104,161,54.8,77.037037037037038,78.921568627450981,null,null,441,569,2,0,124,178,104,161,51,46,31,29,0,0,31,29]
[25,"Усього по області",4724,3780,{"$f":"IF(C819=0,0,IF(D819=0,\"-100,0\",IF(D819*100/C819<200,ROUND(D819*100/C819-100,1),ROUND(D819/C819,1)&\" р\")))","v":-20},1683,1781,{"$f":"IF(F819=0,0,IF(G819=0,\"-100,0\",IF(G819*100/F819<200,ROUND(G819*100/F819-100,1),ROUND(G819/F819,1)&\" р\")))","v":5.8},23,15,13,7,138,210,{"$f":"IF(M819=0,0,IF(N819=0,\"-100,0\",IF(N819*100/M819<200,ROUND(N819*100/M819-100,1),ROUND(N819/M819,1)&\" р\")))","v":52.2},83.464566929133852,89.502762430939228,106,162,{"$f":"IF(R819=0,0,IF(S819=0,\"-100,0\",IF(S819*100/R819<200,ROUND(S819*100/R819-100,1),ROUND(S819/R819,1)&\" р\")))","v":52.8},76.811594202898547,77.142857142857139,null,null,4720,3780,4,0,127,181,106,162,52,48,31,29,0,0,31,29]
["РОЗДІЛ 5. Нагляд за додержанням законів при виконанні судових рішень у кримінальних провадженнях, а також при застосуванні інших заходів примусового характеру"]
["Таблиця 27. Всього"]
[]
["Код","Прокуратура","Звільнено за ініціативою прокурора незаконно утримуваних осіб",null,null,"Розглянуто документів прокурора з вжиттям заходів щодо усунення порушень закону",null,null,"Притягнуто до дисциплінарної, адміністративної відповідальності працівників"]
[]
[null,null,{"$f":"C794","v":2014},{"$f":"D794","v":2015}," %",{"$f":"C825","v":2014},{"$f":"D825","v":2015}," %",{"$f":"F825","v":2014},{"$f":"G825","v":2015}," %"]
[1,"Бахмацького р.",0,0,{"$f":"IF(C826=0,0,IF(D826=0,\"-100,0\",IF(D826*100/C826<200,ROUND(D826*100/C826-100,1),ROUND(D826/C826,1)&\" р\")))","v":0},10,15,{"$f":"IF(F826=0,0,IF(G826=0,\"-100,0\",IF(G826*100/F826<200,ROUND(G826*100/F826-100,1),ROUND(G826/F826,1)&\" р\")))","v":50},12,16,{"$f":"IF(I826=0,0,IF(J826=0,\"-100,0\",IF(J826*100/I826<200,ROUND(J826*100/I826-100,1),ROUND(J826/I826,1)&\" р\")))","v":33.299999999999997}]
[2,"Бобровицького р.",0,0,0,3,8,"2,7 р",6,1,-83.3]
[3,"Борзнянського р.",0,0,{"$f":"IF(C828=0,0,IF(D828=0,\"-100,0\",IF(D828*100/C828<200,ROUND(D828*100/C828-100,1),ROUND(D828/C828,1)&\" р\")))","v":0},5,7,{"$f":"IF(F828=0,0,IF(G828=0,\"-100,0\",IF(G828*100/F828<200,ROUND(G828*100/F828-100,1),ROUND(G828/F828,1)&\" р\")))","v":40},2,3,{"$f":"IF(I828=0,0,IF(J828=0,\"-100,0\",IF(J828*100/I828<200,ROUND(J828*100/I828-100,1),ROUND(J828/I828,1)&\" р\")))","v":50}]
[4,"Варвинського р.",0,0,0,7,9,28.6,3,4,33.299999999999997]
[5,"Городнянського р.",0,0,0,8,11,37.5,8,6,-25]
[6,"Ічнянського р.",0,0,0,11,12,9.1,5,5,0]
[7,"Козелецького р.",0,0,0,4,7,75,3,3,0]
[8,"Коропського р.",0,0,0,4,5,25,1,1,0]
[9,"Корюківського р.",0,0,0,5,6,20,4,5,25]
[10,"Куликівського р.",0,0,0,5,7,40,2,5,"2,5 р"]
[11,"Менського р.",0,0,0,40,43,7.5,13,14,7.7]
[12,"Ніжинського мр.пр.",0,0,0,12,11,-8.3000000000000007,9,9,0]
[13,"Новгород-Сіверського р.",0,0,0,7,9,28.6,3,7,"2,3 р"]
[14,"Носівського р.",0,0,0,4,10,"2,5 р",3,7,"2,3 р"]
[15,"Прилуцька мр.пр.",0,0,0,20,12,-40,13,10,-23.1]
[16,"Ріпкинська р.",0,0,0,8,9,12.5,6,4,-33.299999999999997]
[17,"Семенівського р.",0,0,0,4,4,0,1,0,"-100,0"]
[18,"Сосницького р.",0,0,0,6,7,16.7,2,3,50]
[19,"Срібнянського р.",0,0,0,2,2,0,2,2,0]
[20,"Талалаївського р.",0,0,0,4,3,-25,1,2,"2 р"]
[21,"Чернігівського р.",0,0,0,8,9,12.5,7,10,42.9]
[22,"м.Чернігова",0,0,0,15,16,6.7,23,23,0]
[23,"Щорського р.",0,0,0,6,6,0,4,4,0]
[24,"Апарат прокуратури",0,0,0,26,36,38.5,44,42,-4.5]
[25,"Усього по області",0,0,0,224,264,17.899999999999999,177,186,5.0999999999999996]
["РОЗДІЛ 6. Розгляд звернень"]
["Таблиця 28. Всього"]
[]
["Код","Прокуратура","Вирішено звернень",null,null,"у т.ч., що надійшли від народних депутатів України",null,null,"Задоволено (з вирішених)",null,null,"Питома вага",null,"Задоволено з тих, що надійшло від народних депутатів",null,null,"Задоволено з тих, що раніше відхилялись підпорядкованими прокурорами"]
[]
[null,null,{"$f":"M794","v":2014},{"$f":"N794","v":2015}," %",{"$f":"C856","v":2014},{"$f":"D856","v":2015}," %",{"$f":"F856","v":2014},{"$f":"G856","v":2015}," %",{"$f":"I856","v":2014},{"$f":"J856","v":2015},{"$f":"L856","v":2014},{"$f":"M856","v":2015}," %",{"$f":"N856","v":2014},{"$f":"O856","v":2015}," %"]
[1,"Бахмацького р.",124,108,{"$f":"IF(C857=0,0,IF(D857=0,\"-100,0\",IF(D857*100/C857<200,ROUND(D857*100/C857-100,1),ROUND(D857/C857,1)&\" р\")))","v":-12.9},null,1,{"$f":"IF(F857=0,0,IF(G857=0,\"-100,0\",IF(G857*100/F857<200,ROUND(G857*100/F857-100,1),ROUND(G857/F857,1)&\" р\")))","v":0},4,10,{"$f":"IF(I857=0,0,IF(J857=0,\"-100,0\",IF(J857*100/I857<200,ROUND(J857*100/I857-100,1),ROUND(J857/I857,1)&\" р\")))","v":"2,5 р"},{"$f":"IF(C857=0,0,I857*100/C857)","v":3.225806451612903},{"$f":"IF(D857=0,0,J857*100/D857)","v":9.2592592592592595},null,null,{"$f":"IF(N857=0,0,IF(O857=0,\"-100,0\",IF(O857*100/N857<200,ROUND(O857*100/N857-100,1),ROUND(O857/N857,1)&\" р\")))","v":0},null,null,{"$f":"IF(Q857=0,0,IF(R857=0,\"-100,0\",IF(R857*100/Q857<200,ROUND(R857*100/Q857-100,1),ROUND(R857/Q857,1)&\" р\")))","v":0}]
[2,"Бобровицького р.",97,97,0,null,null,0,2,null,"-100,0",2.0618556701030926,0,null,null,0,null,null,0]
[3,"Борзнянського р.",58,76,{"$f":"IF(C859=0,0,IF(D859=0,\"-100,0\",IF(D859*100/C859<200,ROUND(D859*100/C859-100,1),ROUND(D859/C859,1)&\" р\")))","v":31},2,null,{"$f":"IF(F859=0,0,IF(G859=0,\"-100,0\",IF(G859*100/F859<200,ROUND(G859*100/F859-100,1),ROUND(G859/F859,1)&\" р\")))","v":"-100,0"},null,7,{"$f":"IF(I859=0,0,IF(J859=0,\"-100,0\",IF(J859*100/I859<200,ROUND(J859*100/I859-100,1),ROUND(J859/I859,1)&\" р\")))","v":0},{"$f":"IF(C859=0,0,I859*100/C859)","v":0},{"$f":"IF(D859=0,0,J859*100/D859)","v":9.2105263157894743},null,null,{"$f":"IF(N859=0,0,IF(O859=0,\"-100,0\",IF(O859*100/N859<200,ROUND(O859*100/N859-100,1),ROUND(O859/N859,1)&\" р\")))","v":0},null,null,{"$f":"IF(Q859=0,0,IF(R859=0,\"-100,0\",IF(R859*100/Q859<200,ROUND(R859*100/Q859-100,1),ROUND(R859/Q859,1)&\" р\")))","v":0}]
[4,"Варвинського р.",38,39,2.6,null,null,0,null,2,0,0,5.1282051282051286,null,null,0,null,null,0]
[5,"Городнянського р.",56,51,-8.9,null,null,0,7,15,"2,1 р",12.5,29.411764705882351,null,null,0,null,null,0]
[6,"Ічнянського р.",66,78,18.2,null,null,0,3,3,0,4.5454545454545459,3.8461538461538463,null,null,0,null,null,0]
[7,"Козелецького р.",118,90,-23.7,null,null,0,2,1,-50,1.6949152542372881,1.1111111111111112,null,null,0,null,null,0]
[8,"Коропського р.",25,35,40,null,null,0,null,null,0,0,0,null,null,0,null,null,0]
[9,"Корюківського р.",27,19,-29.6,null,null,0,null,null,0,0,0,null,null,0,null,null,0]
[10,"Куликівського р.",48,58,20.8,null,null,0,null,25,0,0,43.103448275862071,null,null,0,null,null,0]
[11,"Менського р.",164,265,61.6,null,1,0,15,25,66.7,9.1463414634146343,9.433962264150944,null,null,0,null,null,0]
[12,"Ніжинського мр.пр.",247,127,-48.6,1,null,"-100,0",11,4,-63.6,4.4534412955465585,3.1496062992125986,null,null,0,null,null,0]
[13,"Новгород-Сіверського р.",115,76,-33.9,null,1,0,7,1,-85.7,6.0869565217391308,1.3157894736842106,null,null,0,null,null,0]
[14,"Носівського р.",39,55,41,null,null,0,2,5,"2,5 р",5.1282051282051286,9.0909090909090917,null,null,0,null,null,0]
[15,"Прилуцька мр.пр.",253,226,-10.7,null,null,0,8,6,-25,3.1620553359683794,2.6548672566371683,null,null,0,null,null,0]
[16,"Ріпкинська р.",75,71,-5.3,null,null,0,4,3,-25,5.333333333333333,4.225352112676056,null,null,0,null,null,0]
[17,"Семенівського р.",29,66,"2,3 р",null,null,0,3,10,"3,3 р",10.344827586206897,15.151515151515152,null,null,0,null,null,0]
[18,"Сосницького р.",15,10,-33.299999999999997,null,null,0,null,1,0,0,10,null,null,0,null,null,0]
[19,"Срібнянського р.",31,16,-48.4,null,null,0,null,2,0,0,12.5,null,null,0,null,null,0]
[20,"Талалаївського р.",41,43,4.9000000000000004,null,null,0,8,2,-75,19.512195121951219,4.6511627906976747,null,null,0,null,null,0]
[21,"Чернігівського р.",171,146,-14.6,1,1,0,24,18,-25,14.035087719298245,12.328767123287671,null,null,0,null,null,0]
[22,"м.Чернігова",1288,1790,39,4,2,-50,68,79,16.2,5.2795031055900621,4.4134078212290504,1,1,0,null,null,0]
[23,"Щорського р.",49,72,46.9,null,null,0,4,3,-25,8.1632653061224492,4.166666666666667,null,null,0,null,null,0]
[24,"Апарат прокуратури",1694,1697,0.2,153,124,-19,44,32,-27.3,2.5974025974025974,1.8856806128461991,1,1,0,1,1,0]
[25,"Усього по області",4894,5311,{"$f":"IF(C881=0,0,IF(D881=0,\"-100,0\",IF(D881*100/C881<200,ROUND(D881*100/C881-100,1),ROUND(D881/C881,1)&\" р\")))","v":8.5},162,130,{"$f":"IF(F881=0,0,IF(G881=0,\"-100,0\",IF(G881*100/F881<200,ROUND(G881*100/F881-100,1),ROUND(G881/F881,1)&\" р\")))","v":-19.8},224,254,{"$f":"IF(I881=0,0,IF(J881=0,\"-100,0\",IF(J881*100/I881<200,ROUND(J881*100/I881-100,1),ROUND(J881/I881,1)&\" р\")))","v":13.4},4.5770331017572534,4.7825268311052529,2,2,{"$f":"IF(N881=0,0,IF(O881=0,\"-100,0\",IF(O881*100/N881<200,ROUND(O881*100/N881-100,1),ROUND(O881/N881,1)&\" р\")))","v":0},1,1,{"$f":"IF(Q881=0,0,IF(R881=0,\"-100,0\",IF(R881*100/Q881<200,ROUND(R881*100/Q881-100,1),ROUND(R881/Q881,1)&\" р\")))","v":0}]
["РОЗДІЛ 7. Висвітлення діяльності органів прокуратури"]
["Таблиця 29. Всього"]
[]
["Код","Прокуратура","Інформація в органи влади",null,null,"Виступи в засобах масової інформації",null,null,"з них:",null,null,null,null,null,"Підготовлено програм"]
[null,null,null,null,null,null,null,null,"друковані ЗМІ",null,null,"електронні ЗМІ"]
[null,null,{"$f":"C825","v":2014},{"$f":"D825","v":2015}," %",{"$f":"C887","v":2014},{"$f":"D887","v":2015}," %",{"$f":"F887","v":2014},{"$f":"G887","v":2015}," %",{"$f":"I887","v":2014},{"$f":"J887","v":2015}," %",{"$f":"L887","v":2014},{"$f":"M887","v":2015}," %"]
[1,"Бахмацького р.",9,9,{"$f":"IF(C888=0,0,IF(D888=0,\"-100,0\",IF(D888*100/C888<200,ROUND(D888*100/C888-100,1),ROUND(D888/C888,1)&\" р\")))","v":0},17,15,{"$f":"IF(F888=0,0,IF(G888=0,\"-100,0\",IF(G888*100/F888<200,ROUND(G888*100/F888-100,1),ROUND(G888/F888,1)&\" р\")))","v":-11.8},16,4,{"$f":"IF(I888=0,0,IF(J888=0,\"-100,0\",IF(J888*100/I888<200,ROUND(J888*100/I888-100,1),ROUND(J888/I888,1)&\" р\")))","v":-75},null,null,{"$f":"IF(L888=0,0,IF(M888=0,\"-100,0\",IF(M888*100/L888<200,ROUND(M888*100/L888-100,1),ROUND(M888/L888,1)&\" р\")))","v":0},null,null,{"$f":"IF(O888=0,0,IF(P888=0,\"-100,0\",IF(P888*100/O888<200,ROUND(P888*100/O888-100,1),ROUND(P888/O888,1)&\" р\")))","v":0}]
[2,"Бобровицького р.",2,2,0,6,4,-33.299999999999997,6,4,-33.299999999999997,null,null,0,null,null,0]
[3,"Борзнянського р.",1,6,{"$f":"IF(C890=0,0,IF(D890=0,\"-100,0\",IF(D890*100/C890<200,ROUND(D890*100/C890-100,1),ROUND(D890/C890,1)&\" р\")))","v":"6 р"},9,9,{"$f":"IF(F890=0,0,IF(G890=0,\"-100,0\",IF(G890*100/F890<200,ROUND(G890*100/F890-100,1),ROUND(G890/F890,1)&\" р\")))","v":0},8,7,{"$f":"IF(I890=0,0,IF(J890=0,\"-100,0\",IF(J890*100/I890<200,ROUND(J890*100/I890-100,1),ROUND(J890/I890,1)&\" р\")))","v":-12.5},1,2,{"$f":"IF(L890=0,0,IF(M890=0,\"-100,0\",IF(M890*100/L890<200,ROUND(M890*100/L890-100,1),ROUND(M890/L890,1)&\" р\")))","v":"2 р"},null,null,{"$f":"IF(O890=0,0,IF(P890=0,\"-100,0\",IF(P890*100/O890<200,ROUND(P890*100/O890-100,1),ROUND(P890/O890,1)&\" р\")))","v":0}]
[4,"Варвинського р.",1,2,"2 р",16,10,-37.5,1,1,0,15,8,-46.7,null,null,0]
[5,"Городнянського р.",5,5,0,14,23,64.3,8,11,37.5,5,2,-60,null,null,0]
[6,"Ічнянського р.",5,5,0,14,18,28.6,12,7,-41.7,null,null,0,null,null,0]
[7,"Козелецького р.",6,6,0,22,34,54.5,14,12,-14.3,2,null,"-100,0",null,null,0]
[8,"Коропського р.",1,1,0,5,7,40,3,4,33.299999999999997,null,null,0,null,null,0]
[9,"Корюківського р.",2,4,"2 р",12,14,16.7,8,10,25,null,null,0,null,null,0]
[10,"Куликівського р.",4,4,0,7,9,28.6,6,7,16.7,null,null,0,null,null,0]
[11,"Менського р.",5,2,-60,17,18,5.9,13,3,-76.900000000000006,null,1,0,null,null,0]
[12,"Ніжинського мр.пр.",12,2,-83.3,22,13,-40.9,18,5,-72.2,4,1,-75,null,null,0]
[13,"Новгород-Сіверського р.",13,10,-23.1,13,13,0,6,5,-16.7,7,6,-14.3,null,null,0]
[14,"Носівського р.",5,6,20,9,9,0,5,4,-20,null,null,0,null,null,0]
[15,"Прилуцька мр.пр.",8,7,-12.5,24,27,12.5,15,11,-26.7,7,null,"-100,0",null,null,0]
[16,"Ріпкинська р.",3,3,0,6,17,"2,8 р",5,4,-20,null,null,0,null,null,0]
[17,"Семенівського р.",3,3,0,12,13,8.3000000000000007,5,3,-40,null,1,0,null,null,0]
[18,"Сосницького р.",2,2,0,6,6,0,5,2,-60,null,null,0,null,null,0]
[19,"Срібнянського р.",null,2,0,10,6,-40,9,6,-33.299999999999997,null,null,0,null,null,0]
[20,"Талалаївського р.",3,4,33.299999999999997,7,2,-71.400000000000006,6,2,-66.7,null,null,0,null,null,0]
[21,"Чернігівського р.",5,5,0,6,8,33.299999999999997,5,3,-40,null,null,0,null,null,0]
[22,"м.Чернігова",9,9,0,277,190,-31.4,52,8,-84.6,47,5,-89.4,null,1,0]
[23,"Щорського р.",null,4,0,6,15,"2,5 р",3,4,33.299999999999997,null,1,0,null,null,0]
[24,"Апарат прокуратури",14,8,-42.9,1071,1399,30.6,139,161,15.8,285,273,-4.2,null,null,0]
[25,"Усього по області",119,111,-6.7,1619,1879,16.100000000000001,371,288,-22.4,373,300,-19.600000000000001,null,1,0]
["РОЗДІЛ 8. Розгляд запитів на інформацію"]
["Таблиця 30. Всього"]
[]
["Код","Прокуратура","Розглянуто запитів",null,null,"Надано інформацію на запит",null,null,"з них:",null,null,null,null,null,"Відмовлено у задоволенні запиту",null,null,"Надано роз'яснення",null,null,"Надіслано іншим розпорядникам"]
[null,null,null,null,null,null,null,null,"протягом 48 годин",null,null,"з продовженням строку розгляду запиту"]
[null,null,{"$f":"C856","v":2014},{"$f":"D856","v":2015}," %",{"$f":"C918","v":2014},{"$f":"D918","v":2015}," %",{"$f":"F918","v":2014},{"$f":"G918","v":2015}," %",{"$f":"I918","v":2014},{"$f":"J918","v":2015}," %",{"$f":"L918","v":2014},{"$f":"M918","v":2015}," %",{"$f":"O918","v":2014},{"$f":"P918","v":2015}," %",{"$f":"R918","v":2014},{"$f":"S918","v":2015}," %"]
[1,"Бахмацького р.",1,1,{"$f":"IF(C919=0,0,IF(D919=0,\"-100,0\",IF(D919*100/C919<200,ROUND(D919*100/C919-100,1),ROUND(D919/C919,1)&\" р\")))","v":0},1,1,{"$f":"IF(F919=0,0,IF(G919=0,\"-100,0\",IF(G919*100/F919<200,ROUND(G919*100/F919-100,1),ROUND(G919/F919,1)&\" р\")))","v":0},null,null,{"$f":"IF(I919=0,0,IF(J919=0,\"-100,0\",IF(J919*100/I919<200,ROUND(J919*100/I919-100,1),ROUND(J919/I919,1)&\" р\")))","v":0},null,1,{"$f":"IF(L919=0,0,IF(M919=0,\"-100,0\",IF(M919*100/L919<200,ROUND(M919*100/L919-100,1),ROUND(M919/L919,1)&\" р\")))","v":0},null,null,{"$f":"IF(O919=0,0,IF(P919=0,\"-100,0\",IF(P919*100/O919<200,ROUND(P919*100/O919-100,1),ROUND(P919/O919,1)&\" р\")))","v":0},null,null,{"$f":"IF(R919=0,0,IF(S919=0,\"-100,0\",IF(S919*100/R919<200,ROUND(S919*100/R919-100,1),ROUND(S919/R919,1)&\" р\")))","v":0},null,null,{"$f":"IF(U919=0,0,IF(V919=0,\"-100,0\",IF(V919*100/U919<200,ROUND(V919*100/U919-100,1),ROUND(V919/U919,1)&\" р\")))","v":0}]
[2,"Бобровицького р.",null,null,0,null,null,0,null,null,0,null,null,0,null,null,0,null,null,0,null,null,0]
[3,"Борзнянського р.",2,2,{"$f":"IF(C921=0,0,IF(D921=0,\"-100,0\",IF(D921*100/C921<200,ROUND(D921*100/C921-100,1),ROUND(D921/C921,1)&\" р\")))","v":0},1,2,{"$f":"IF(F921=0,0,IF(G921=0,\"-100,0\",IF(G921*100/F921<200,ROUND(G921*100/F921-100,1),ROUND(G921/F921,1)&\" р\")))","v":"2 р"},null,null,{"$f":"IF(I921=0,0,IF(J921=0,\"-100,0\",IF(J921*100/I921<200,ROUND(J921*100/I921-100,1),ROUND(J921/I921,1)&\" р\")))","v":0},null,null,{"$f":"IF(L921=0,0,IF(M921=0,\"-100,0\",IF(M921*100/L921<200,ROUND(M921*100/L921-100,1),ROUND(M921/L921,1)&\" р\")))","v":0},null,null,{"$f":"IF(O921=0,0,IF(P921=0,\"-100,0\",IF(P921*100/O921<200,ROUND(P921*100/O921-100,1),ROUND(P921/O921,1)&\" р\")))","v":0},1,null,{"$f":"IF(R921=0,0,IF(S921=0,\"-100,0\",IF(S921*100/R921<200,ROUND(S921*100/R921-100,1),ROUND(S921/R921,1)&\" р\")))","v":"-100,0"},null,null,{"$f":"IF(U921=0,0,IF(V921=0,\"-100,0\",IF(V921*100/U921<200,ROUND(V921*100/U921-100,1),ROUND(V921/U921,1)&\" р\")))","v":0}]
[4,"Варвинського р.",1,1,0,1,1,0,null,null,0,null,null,0,null,null,0,null,null,0,null,null,0]
[5,"Городнянського р.",1,1,0,1,1,0,null,null,0,null,null,0,null,null,0,null,null,0,null,null,0]
[6,"Ічнянського р.",1,2,"2 р",1,2,"2 р",null,null,0,null,null,0,null,null,0,null,null,0,null,null,0]
[7,"Козелецького р.",1,null,"-100,0",1,null,"-100,0",null,null,0,null,null,0,null,null,0,null,null,0,null,null,0]
[8,"Коропського р.",1,1,0,1,1,0,null,null,0,null,null,0,null,null,0,null,null,0,null,null,0]
[9,"Корюківського р.",2,2,0,2,1,-50,null,null,0,null,null,0,null,null,0,null,1,0,null,null,0]
[10,"Куликівського р.",1,1,0,1,1,0,null,null,0,null,null,0,null,null,0,null,null,0,null,null,0]
[11,"Менського р.",1,1,0,1,1,0,null,null,0,null,null,0,null,null,0,null,null,0,null,null,0]
[12,"Ніжинського мр.пр.",4,1,-75,2,1,-50,null,null,0,null,null,0,null,null,0,2,null,"-100,0",null,null,0]
[13,"Новгород-Сіверського р.",2,1,-50,1,1,0,null,null,0,null,null,0,null,null,0,1,null,"-100,0",null,null,0]
[14,"Носівського р.",null,1,0,null,1,0,null,null,0,null,null,0,null,null,0,null,null,0,null,null,0]
[15,"Прилуцька мр.пр.",2,1,-50,2,null,"-100,0",null,null,0,null,null,0,null,null,0,null,1,0,null,null,0]
[16,"Ріпкинська р.",2,1,-50,1,1,0,null,null,0,null,null,0,null,null,0,1,null,"-100,0",null,null,0]
[17,"Семенівського р.",1,1,0,1,1,0,null,1,0,null,null,0,null,null,0,null,null,0,null,null,0]
[18,"Сосницького р.",1,null,"-100,0",1,null,"-100,0",null,null,0,null,null,0,null,null,0,null,null,0,null,null,0]
[19,"Срібнянського р.",1,null,"-100,0",1,null,"-100,0",null,null,0,null,null,0,null,null,0,null,null,0,null,null,0]
[20,"Талалаївського р.",1,2,"2 р",1,2,"2 р",null,null,0,null,null,0,null,null,0,null,null,0,null,null,0]
[21,"Чернігівського р.",1,2,"2 р",1,1,0,null,null,0,null,null,0,null,null,0,null,1,0,null,null,0]
[22,"м.Чернігова",6,4,-33.299999999999997,4,3,-25,null,null,0,null,null,0,null,null,0,2,1,-50,null,null,0]
[23,"Щорського р.",1,2,"2 р",1,1,0,null,null,0,null,null,0,null,null,0,null,1,0,null,null,0]
[24,"Апарат прокуратури",22,43,95.5,19,33,73.7,null,null,0,null,1,0,null,null,0,3,10,"3,3 р",3,1,-66.7]
[25,"Усього по області",57,71,24.6,47,56,19.100000000000001,null,1,0,null,2,0,null,0,0,10,15,50,3,1,-66.7]

{"sheet":"Довідки1","index":14,"n_rows":84,"n_cols":16,"rows_kept":84,"cut":false,"hidden":false,"merged":[[6,0,6,3],[0,0,0,7],[1,0,1,7],[2,0,2,7],[4,0,4,3],[5,0,5,3],[7,0,8,1],[7,2,7,3],[8,2,8,3],[9,0,10,1],[9,2,9,3],[10,2,10,3],[21,0,21,3],[11,0,11,3],[12,0,12,3],[13,0,13,3],[14,0,16,1],[14,2,14,3],[15,2,15,3],[16,2,16,3],[17,0,19,1],[17,2,17,3],[18,2,18,3],[19,2,19,3],[20,0,20,3],[31,0,31,3],[22,0,22,3],[23,0,23,3],[24,0,26,0],[24,1,24,3],[25,1,25,3],[26,1,26,3],[27,0,27,3],[28,0,28,3],[29,0,30,0],[29,1,29,3],[30,1,30,3],[53,0,53,3],[32,0,34,2],[35,0,37,2],[38,0,40,2],[41,0,41,3],[42,0,42,3],[43,0,45,2],[46,0,46,3],[47,0,49,2],[50,0,50,3],[51,0,51,3],[52,1,52,3],[64,0,64,3],[54,0,54,3],[55,0,56,0],[55,1,55,3],[56,1,56,3],[57,0,57,3],[58,0,58,3],[59,0,59,3],[60,0,60,3],[61,0,61,3],[62,0,62,3],[63,0,63,3],[76,0,76,3],[65,0,65,3],[66,0,66,3],[67,0,67,3],[68,1,68,3],[69,0,69,3],[70,0,70,3],[71,0,71,3],[72,0,72,3],[73,0,73,3],[74,0,74,3],[75,0,75,3],[82,0,82,3],[83,0,83,3],[77,0,77,3],[78,0,78,3],[79,0,80,0],[79,1,79,3],[80,1,80,3],[81,0,81,3]]}
["ДОВІДКА"]
[{"$f":"Довідки!A10","v":"Прокуратура Чернігівської області"}]
[{"$f":"Довідки!A8","v":"за 9 місяців 2015 року"}]
[]
[null,null,null,null,null,{"$f":"Довідки!F19","v":2014},{"$f":"Довідки!G19","v":2015},"Дин. %"]
["а",null,null,null,"б",1,2,3]
["Представництво інтересів громадян та держави в судах"]
["Досудове врегулювання спорів",null,"Кількість направлених звернень",null,1,null,0,{"$f":"IF(F8=0,0,IF(G8=0,\"-100,0\",IF(G8*100/F8<200,ROUND(G8*100/F8-100,1),ROUND(G8/F8,1)&\" р\")))","v":0}]
[null,null,"Кількість позовів (заяв, скарг, подань), внесених у разі неврегулювання спору",null,2,null,0,0]
["Розгляд справи судом",null,"Задоволено позовів, заяв, скарг, подань",null,3,561,620,10.5]
[null,null,"Сума по них (тис.грн.)",null,4,163522,210545,28.8]
["Сума за рішеннями, які передано на примусове виконання (тис.грн.)",null,null,null,5,null,10228,0]
["Кількість справ у яких забезпечено участь прокурора",null,null,null,6,720,774,7.5]
["Сума за рішеннями прийнятими на користь сторони, в інтересах якої прокурор вступив у справу (тис.грн.)",null,null,null,7,20705,1305,-93.7]
["Апеляційні скарги",null,"розглянуто",null,8,16,40,"2,5 р"]
[null,null,"задоволено",null,9,10,27,"2,7 р"]
[null,null,"питома вага",null,10,{"$f":"IF(F15=0,0,F16*100/F15)","v":62.5},{"$f":"IF(G15=0,0,G16*100/G15)","v":67.5},8]
["Касаційні скарги",null,"розглянуто",null,11,2,6,"3 р"]
[null,null,"задоволено",null,12,null,4,0]
[null,null,"питома вага",null,13,{"$f":"IF(F18=0,0,F19*100/F18)","v":0},{"$f":"IF(G18=0,0,G19*100/G18)","v":66.666666666666671}]
["Сума за рішеннями, скасованими за скаргами, заявами прокурора (тис.грн.)",null,null,null,14,24,922,"38,4 р"]
["Площа повернутих земель та незаконне надання яких попереджено",null,null,null,15,null,10513.529999999999,0]
["Нагляд за додержанням законів органами, які ведуть боротьбу зі злочинністю"]
["Виявлено та внесено до Реєстру відомості про вчинені кримінальні правопорушення, раніше не обліковані (за кримінальними провадженнями)",null,null,null,16,29,50,72.400000000000006]
["з них:","надіслано до суду",null,null,17,4,2,-50]
[null,"питома вага",null,null,18,{"$f":"IF(F24=0,0,F25*100/F24)","v":13.793103448275861},{"$f":"IF(G24=0,0,G25*100/G24)","v":4}]
[null,"закрито за п.п.1, 2, 3 ч.1 ст. 284 КПК",null,null,19,6,21,"3,5 р"]
["Винесено прокурором постанов про відновлення досудового розслідування ",null,null,null,20,5,5,0]
["Скасовано постанов про закриття кримінальних проваджень",null,null,null,21,525,852,62.3]
["у т.ч.","направлено до суду",null,null,22,7,29,"4,1 р"]
[null,"питома вага до всього",null,null,23,{"$f":"IF(F29=0,0,F30*100/F29)","v":1.3333333333333333},{"$f":"IF(G29=0,0,G30*100/G29)","v":3.403755868544601}]
["Прийнято прокурором участь у розгляді слідчим суддею скарг на рішення, дії чи бездіяльність слідчого або прокурора ",null,null,null,24,129,114,-11.6]
["Розглянуто документів прокурора з вжиттям заходів до усунення порушень законів у діяльності органів (з питань слідства та ОРД) (таб.4+6)",null,null,"внутрішніх справ",25,297,234,-21.2]
[null,null,null,"фіскальної служби",26,10,2,-80]
[null,null,null,"служби безпеки",27,1,2,"2 р"]
["Притягнуто до дисциплінарної відповідальності працівників органів за документами прокурора (з питань слідства та ОРД) (таб.4+6)",null,null,"внутрішніх справ",28,333,279,-16.2]
[null,null,null,"фіскальної служби",29,16,10,-37.5]
[null,null,null,"служби безпеки",30,4,2,-50]
["Повідомлено про підозру за направленими до суду кримінальними провадженнями працівникам органів (з питань слідства) (таб.4)",null,null,"внутрішніх справ",31,null,9,0]
[null,null,null,"фіскальної служби",32,null,0,0]
[null,null,null,"служби безпеки",33,null,0,0]
["Перевірено ОРС",null,null,null,34,2389,2279,-4.5999999999999996]
["Скасовано незаконних постанов з питань ОРД",null,null,null,35,138,153,10.9]
["Розглянуто прокурором клопотань слідчих ",null,null,"прокурором погоджено",36,1131,1019,-9.9]
[null,null,null,"прокурором відмовлено",37,89,127,42.7]
[null,null,null,"питома вага",38,{"$f":"IF((F44+F45)=0,0,F44*100/(F44+F45))","v":92.704918032786878},{"$f":"IF((G44+G45)=0,0,G44*100/(G44+G45))","v":88.917975567190226}]
["Внесено прокурором особисто ",null,null,null,39,null,13,0]
["Рішення суду за результатами розгляду клопотання прокурора або слідчого",null,null,"судом задоволено",40,993,966,-2.7]
[null,null,null,"судом відмовлено",41,3,0,"-100,0"]
[null,null,null,"питома вага",42,{"$f":"IF((F48+F49)=0,0,F48*100/(F48+F49))","v":99.698795180722897},{"$f":"IF((G48+G49)=0,0,G48*100/(G48+G49))","v":100}]
["Прийнято прокурором рішень ",null,null,null,43,389,338,-13.1]
["Прийнято прокурором самостійно рішень про проведення НСРД ",null,null,null,44,117,152,29.9]
["з них:","з подальшим розсекреченням ",null,null,45,86,114,32.6]
["За рішенням прокурора ",null,null,null,46,67,50,-25.4]
["Розглянуті апеляційні скарги прокурора на судові рішення з питань досудового розслідування ",null,null,null,47,15,9,-40]
["з них:","задоволено",null,null,48,10,8,-20]
[null,"питома вага",null,null,49,{"$f":"IF(F55=0,0,F56*100/F55)","v":66.666666666666671},{"$f":"IF(G55=0,0,G56*100/G55)","v":88.888888888888886}]
["Подано до суду клопотань",null,null,null,50,565,640,13.3]
["Відкликано прокурором клопотань",null,null,null,51,null,0,0]
["Відмовлено слідчим суддею у задоволенні клопотань",null,null,null,52,34,55,61.8]
["Питома вага до відхилених",null,null,null,53,{"$f":"IF(F58=0,0,F60*100/F58)","v":6.0176991150442474},{"$f":"IF(G58=0,0,G60*100/G58)","v":8.59375}]
["Подано апел. скарг на ухвали слідчого судді про відмову в застосуванні запобіжного заходу ",null,null,null,54,13,8,-38.5]
["Питома вага до внесених",null,null,null,55,{"$f":"IF(F60=0,0,F62*100/F60)","v":38.235294117647058},{"$f":"IF(G60=0,0,G62*100/G60)","v":14.545454545454545}]
["Задоволено апеляційних скарг",null,null,null,56,6,3,{"$f":"IF(F64=0,0,IF(G64=0,\"-100,0\",IF(G64*100/F64<200,ROUND(G64*100/F64-100,1),ROUND(G64/F64,1)&\" р\")))","v":-50}]
["Питома вага до внесених",null,null,null,57,{"$f":"IF(F62=0,0,F64*100/F62)","v":46.153846153846153},{"$f":"IF(G62=0,0,G64*100/G62)","v":37.5}]
["Участь прокурорів у судовому розгляді кримінальних проваджень та перегляді судових рішень "]
["Участь у розгляді справ судами (усього)",null,null,null,58,{"$f":"J67+M67","v":4724},{"$f":"K67+N67","v":3780},{"$f":"IF(F67=0,0,IF(G67=0,\"-100,0\",IF(G67*100/F67<200,ROUND(G67*100/F67-100,1),ROUND(G67/F67,1)&\" р\")))","v":-20},null,4720,3780,null,4,0,null,0]
["Участь у судовому розгляді проваджень судами І інстанції з ухваленням вироку",null,null,null,59,1683,1781,5.8]
["у т.ч.","з ухваленням вироку на підставі угоди",null,null,60,23,15,-34.799999999999997,null,0,0]
["У розгляді судом питань, пов’язаних з виконанням вироків",null,null,null,61,1892,885,-53.2,null,31,29]
["Переглянуто вироків відносно осіб за апеляційними скаргами",null,null,null,62,106,162,52.8,null,52,48,null,106,162]
["Відсоток апеляційної практики",null,null,null,63,{"$f":"IF(J72=0,0,(F71-J69)*100/J72)","v":83.464566929133852},{"$f":"IF(K72=0,0,(G71-K69)*100/K72)","v":89.502762430939228},null,null,{"$f":"F71+J71-J70-J69","v":127},{"$f":"G71+K71-K70-K69","v":181},null,32,48]
["Питома вага задоволених апеляцій",null,null,null,64,{"$f":"IF(M73=0,0,M71*100/M73)","v":76.811594202898547},{"$f":"IF(N73=0,0,N71*100/N73)","v":77.142857142857139},null,null,null,null,null,{"$f":"SUM(M71:M72)","v":138},{"$f":"SUM(N71:N72)","v":210}]
["Нагляд за додержанням законів при виконанні судових рішень у кримінальних провадженнях"]
["Звільнено за ініціативою прокурора незаконно утримуваних осіб",null,null,null,65,0,0,{"$f":"IF(F75=0,0,IF(G75=0,\"-100,0\",IF(G75*100/F75<200,ROUND(G75*100/F75-100,1),ROUND(G75/F75,1)&\" р\")))","v":0},null,null,null,null,0,0]
["Розглянуто документів прокурора з вжиттям заходів щодо усунення порушень закону",null,null,null,66,224,264,17.899999999999999,null,null,null,null,0,0]
["Притягнуто до дисциплінарної, адміністративної відповідальності працівників",null,null,null,67,177,186,5.0999999999999996]
["Розгляд звернень і висвітлення діяльності органів прокуратури"]
["Вирішено звернень",null,null,null,68,4894,5311,8.5]
["з них:","задоволено",null,null,69,224,254,13.4]
[null,"питома вага",null,null,70,{"$f":"IF(F79=0,0,F80*100/F79)","v":4.5770331017572534},{"$f":"IF(G79=0,0,G80*100/G79)","v":4.7825268311052529}]
["Задоволено з тих, що раніше відхилялись підпорядкованими прокурорами",null,null,null,71,1,1,0]
["Виступи в ЗМІ",null,null,null,72,1619,1879,{"$f":"IF(F83=0,0,IF(G83=0,\"-100,0\",IF(G83*100/F83<200,ROUND(G83*100/F83-100,1),ROUND(G83/F83,1)&\" р\")))","v":16.100000000000001}]
["Розглянуто запитів",null,null,null,73,57,71,24.6]

{"sheet":"Довідки2","index":15,"n_rows":84,"n_cols":16,"rows_kept":84,"cut":false,"hidden":false,"merged":[[83,0,83,3],[50,0,50,3],[52,1,52,3],[81,0,81,3],[82,0,82,3],[78,0,78,3],[79,1,79,3],[57,0,57,3],[58,0,58,3],[59,0,59,3],[60,0,60,3],[61,0,61,3],[62,0,62,3],[66,0,66,3],[77,0,77,3],[68,1,68,3],[31,0,31,3],[28,0,28,3],[76,0,76,3],[42,0,42,3],[71,0,71,3],[64,0,64,3],[72,0,72,3],[69,0,69,3],[70,0,70,3],[75,0,75,3],[32,0,34,2],[35,0,37,2],[38,0,40,2],[41,0,41,3],[43,0,45,2],[67,0,67,3],[9,0,10,1],[9,2,9,3],[10,2,10,3],[0,0,0,8],[3,0,3,8],[4,0,4,3],[5,0,5,3],[1,0,1,8],[2,0,2,8],[6,0,6,3],[7,0,8,1],[7,2,7,3],[8,2,8,3],[11,0,11,3],[12,0,12,3],[13,0,13,3],[14,0,16,1],[14,2,14,3],[15,2,15,3],[16,2,16,3],[17,0,19,1],[17,2,17,3],[18,2,18,3],[19,2,19,3],[23,0,23,3],[20,0,20,3],[21,0,21,3],[22,0,22,3],[24,0,26,0],[24,1,24,3],[26,1,26,3],[29,0,30,0],[29,1,29,3],[30,1,30,3],[25,1,25,3],[27,0,27,3],[79,0,80,0],[80,1,80,3],[46,0,46,3],[47,0,49,2],[51,0,51,3],[54,0,54,3],[55,0,56,0],[55,1,55,3],[56,1,56,3],[53,0,53,3],[63,0,63,3],[65,0,65,3],[73,0,73,3],[74,0,74,3]]}
["ДОВІДКА"]
[]
["за 3 місяці 2015 року"]
[]
[null,null,null,null,null,2014,2015,"Дин. %","Дин. по обл"]
["а",null,null,null,"б",1,2,3,4]
["Представництво інтересів громадян та держави в судах"]
["Досудове врегулювання спорів",null,"Кількість направлених звернень",null,1,null,null,{"$f":"IF(F8=0,0,IF(G8=0,\"-100,0\",IF(G8*100/F8<200,ROUND(G8*100/F8-100,1),ROUND(G8/F8,1)&\" р\")))","v":0},{"$f":"Довідки1!H8","v":0}]
[null,null,"Кількість позовів (заяв, скарг, подань), внесених у разі неврегулювання спору",null,2,null,null,0,{"$f":"Довідки1!H9","v":0}]
["Розгляд справи судом",null,"Задоволено позовів, заяв, скарг, подань",null,3,null,null,0,{"$f":"Довідки1!H10","v":10.5}]
[null,null,"Сума по них (тис.грн.)",null,4,null,null,0,{"$f":"Довідки1!H11","v":28.8}]
["Сума за рішеннями, які передано на примусове виконання (тис.грн.)",null,null,null,5,null,null,0,{"$f":"Довідки1!H12","v":0}]
["Кількість справ у яких забезпечено участь прокурора",null,null,null,6,null,null,0,{"$f":"Довідки1!H13","v":7.5}]
["Сума за рішеннями прийнятими на користь сторони, в інтересах якої прокурор вступив у справу (тис.грн.)",null,null,null,7,null,null,0,{"$f":"Довідки1!H14","v":-93.7}]
["Апеляційні скарги",null,"розглянуто",null,8,null,null,0,{"$f":"Довідки1!H15","v":"2,5 р"}]
[null,null,"задоволено",null,9,null,null,0,{"$f":"Довідки1!H16","v":"2,7 р"}]
[null,null,"питома вага",null,10,{"$f":"IF(F15=0,0,F16*100/F15)","v":0},{"$f":"IF(G15=0,0,G16*100/G15)","v":0},0,{"$f":"Довідки1!G17","v":67.5}]
["Касаційні скарги",null,"розглянуто",null,11,null,null,0,{"$f":"Довідки1!H18","v":"3 р"}]
[null,null,"задоволено",null,12,null,null,0,{"$f":"Довідки1!H19","v":0}]
[null,null,"питома вага",null,13,{"$f":"IF(F18=0,0,F19*100/F18)","v":0},{"$f":"IF(G18=0,0,G19*100/G18)","v":0},null,{"$f":"Довідки1!G20","v":66.666666666666671}]
["Сума за рішеннями, скасованими за скаргами, заявами прокурора (тис.грн.)",null,null,null,14,null,null,0,{"$f":"Довідки1!H21","v":"38,4 р"}]
["Площа повернутих земель та незаконне надання яких попереджено",null,null,null,15,null,null,0,{"$f":"Довідки1!H22","v":0}]
["Нагляд за додержанням законів органами, які ведуть боротьбу зі злочинністю",null,null,null,null,null,null,null,{"$f":"Довідки1!H23","v":0}]
["Виявлено та внесено до Реєстру відомості про вчинені кримінальні правопорушення, раніше не обліковані (за кримінальними провадженнями)",null,null,null,16,null,null,0,{"$f":"Довідки1!H24","v":72.400000000000006}]
["з них:","надіслано до суду",null,null,17,null,null,0,{"$f":"Довідки1!H25","v":-50}]
[null,"питома вага",null,null,18,{"$f":"IF(F24=0,0,F25*100/F24)","v":0},{"$f":"IF(G24=0,0,G25*100/G24)","v":0},null,{"$f":"Довідки1!G26","v":4}]
[null,"закрито за п.п.1, 2, 3 ч.1 ст. 284 КПК",null,null,19,null,null,0,{"$f":"Довідки1!H27","v":"3,5 р"}]
["Винесено прокурором постанов про відновлення досудового розслідування ",null,null,null,20,null,null,0,{"$f":"Довідки1!H28","v":0}]
["Скасовано постанов про закриття кримінальних проваджень",null,null,null,21,null,null,0,{"$f":"Довідки1!H29","v":62.3}]
["у т.ч.","направлено до суду",null,null,22,null,null,0,{"$f":"Довідки1!H30","v":"4,1 р"}]
[null,"питома вага до всього",null,null,23,{"$f":"IF(F29=0,0,F30*100/F29)","v":0},{"$f":"IF(G29=0,0,G30*100/G29)","v":0},null,{"$f":"Довідки1!G31","v":3.403755868544601}]
["Прийнято прокурором участь у розгляді слідчим суддею скарг на рішення, дії чи бездіяльність слідчого або прокурора ",null,null,null,24,null,null,0,{"$f":"Довідки1!H32","v":-11.6}]
["Розглянуто документів прокурора з вжиттям заходів до усунення порушень законів у діяльності органів (з питань слідства та ОРД) (таб.4+6)",null,null,"внутрішніх справ",25,0,0,0,{"$f":"Довідки1!H33","v":-21.2}]
[null,null,null,"фіскальної служби",26,0,0,0,{"$f":"Довідки1!H34","v":-80}]
[null,null,null,"служби безпеки",27,0,0,0,{"$f":"Довідки1!H35","v":"2 р"}]
["Притягнуто до дисциплінарної відповідальності працівників органів за документами прокурора (з питань слідства та ОРД) (таб.4+6)",null,null,"внутрішніх справ",28,0,0,0,{"$f":"Довідки1!H36","v":-16.2}]
[null,null,null,"фіскальної служби",29,0,0,0,{"$f":"Довідки1!H37","v":-37.5}]
[null,null,null,"служби безпеки",30,0,0,0,{"$f":"Довідки1!H38","v":-50}]
["Повідомлено про підозру за направленими до суду кримінальними провадженнями працівникам органів (з питань слідства) (таб.4)",null,null,"внутрішніх справ",31,null,null,0,{"$f":"Довідки1!H39","v":0}]
[null,null,null,"фіскальної служби",32,null,null,0,{"$f":"Довідки1!H40","v":0}]
[null,null,null,"служби безпеки",33,null,null,0,{"$f":"Довідки1!H41","v":0}]
["Перевірено ОРС",null,null,null,34,null,null,0,{"$f":"Довідки1!H42","v":-4.5999999999999996}]
["Скасовано незаконних постанов з питань ОРД",null,null,null,35,null,null,0,{"$f":"Довідки1!H43","v":10.9}]
["Розглянуто прокурором клопотань слідчих ",null,null,"прокурором погоджено",36,null,null,0,{"$f":"Довідки1!H44","v":-9.9}]
[null,null,null,"прокурором відмовлено",37,null,null,0,{"$f":"Довідки1!H45","v":42.7}]
[null,null,null,"питома вага",38,{"$f":"IF((F44+F45)=0,0,F44*100/(F44+F45))","v":0},{"$f":"IF((G44+G45)=0,0,G44*100/(G44+G45))","v":0},null,{"$f":"Довідки1!G46","v":88.917975567190226}]
["Внесено прокурором особисто ",null,null,null,39,null,null,0,{"$f":"Довідки1!H47","v":0}]
["Рішення суду за результатами розгляду клопотання прокурора або слідчого",null,null,"судом задоволено",40,null,null,0,{"$f":"Довідки1!H48","v":-2.7}]
[null,null,null,"судом відмовлено",41,null,null,0,{"$f":"Довідки1!H49","v":"-100,0"}]
[null,null,null,"питома вага",42,{"$f":"IF((F48+F49)=0,0,F48*100/(F48+F49))","v":0},{"$f":"IF((G48+G49)=0,0,G48*100/(G48+G49))","v":0},null,{"$f":"Довідки1!G50","v":100}]
["Прийнято прокурором рішень ",null,null,null,43,null,null,0,{"$f":"Довідки1!H51","v":-13.1}]
["Прийнято прокурором самостійно рішень про проведення НСРД ",null,null,null,44,null,null,0,{"$f":"Довідки1!H52","v":29.9}]
["з них:","з подальшим розсекреченням ",null,null,45,null,null,0,{"$f":"Довідки1!H53","v":32.6}]
["За рішенням прокурора ",null,null,null,46,null,null,0,{"$f":"Довідки1!H54","v":-25.4}]
["Розглянуті апеляційні скарги прокурора на судові рішення з питань досудового розслідування ",null,null,null,47,0,0,0,{"$f":"Довідки1!H55","v":-40}]
["з них:","задоволено",null,null,48,null,null,0,{"$f":"Довідки1!H56","v":-20}]
[null,"питома вага",null,null,49,{"$f":"IF(F55=0,0,F56*100/F55)","v":0},{"$f":"IF(G55=0,0,G56*100/G55)","v":0},null,{"$f":"Довідки1!G57","v":88.888888888888886}]
["Подано до суду клопотань",null,null,null,50,null,null,{"$f":"IF(F58=0,0,IF(G58=0,\"-100,0\",IF(G58*100/F58<200,ROUND(G58*100/F58-100,1),ROUND(G58/F58,1)&\" р\")))","v":0},{"$f":"Довідки1!H58","v":13.3}]
["Відкликано прокурором клопотань",null,null,null,51,null,null,0,{"$f":"Довідки1!H59","v":0}]
["Відмовлено слідчим суддею у задоволенні клопотань",null,null,null,52,null,null,0,{"$f":"Довідки1!H60","v":61.8}]
["Питома вага до відхилених",null,null,null,53,{"$f":"IF(F58=0,0,F60*100/F58)","v":0},{"$f":"IF(G58=0,0,G60*100/G58)","v":0},null,{"$f":"Довідки1!G61","v":8.59375}]
["Подано апел. скарг на ухвали слідчого судді про відмову в застосуванні запобіжного заходу ",null,null,null,54,null,null,0,{"$f":"Довідки1!H62","v":-38.5}]
["Питома вага до внесених",null,null,null,55,{"$f":"IF(F60=0,0,F62*100/F60)","v":0},{"$f":"IF(G60=0,0,G62*100/G60)","v":0},null,{"$f":"Довідки1!G63","v":14.545454545454545}]
["Задоволено апеляційних скарг",null,null,null,56,null,null,{"$f":"IF(F64=0,0,IF(G64=0,\"-100,0\",IF(G64*100/F64<200,ROUND(G64*100/F64-100,1),ROUND(G64/F64,1)&\" р\")))","v":0},{"$f":"Довідки1!H64","v":-50}]
["Питома вага до внесених",null,null,null,57,{"$f":"IF(F62=0,0,F64*100/F62)","v":0},{"$f":"IF(G62=0,0,G64*100/G62)","v":0},null,{"$f":"Довідки1!G65","v":37.5}]
["Участь прокурорів у судовому розгляді кримінальних проваджень та перегляді судових рішень "]
["Участь у розгляді справ судами (усього)",null,null,null,58,{"$f":"J67+M67","v":0},{"$f":"K67+N67","v":0},{"$f":"IF(F67=0,0,IF(G67=0,\"-100,0\",IF(G67*100/F67<200,ROUND(G67*100/F67-100,1),ROUND(G67/F67,1)&\" р\")))","v":0},{"$f":"Довідки1!H67","v":-20},0,0,null,0,0,null,0]
["Участь у судовому розгляді проваджень судами І інстанції з ухваленням вироку",null,null,null,59,null,null,0,{"$f":"Довідки1!H68","v":5.8}]
["у т.ч.","з ухваленням вироку на підставі угоди",null,null,60,null,null,0,{"$f":"Довідки1!H69","v":-34.799999999999997},0,0]
["У розгляді судом питань, пов’язаних з виконанням вироків",null,null,null,61,null,null,0,{"$f":"Довідки1!H70","v":-53.2},0,0]
["Переглянуто вироків відносно осіб за апеляційними скаргами",null,null,null,62,null,null,0,{"$f":"Довідки1!H71","v":52.8}]
["Відсоток апеляційної практики",null,null,null,63,{"$f":"IF(J72=0,0,(F71-J69)*100/J72)","v":0},{"$f":"IF(K72=0,0,(G71-K69)*100/K72)","v":0},null,{"$f":"Довідки1!G72","v":89.502762430939228},{"$f":"F71+J71-J70-J69","v":0},{"$f":"G71+K71-K70-K69","v":0}]
["Питома вага задоволених апеляцій",null,null,null,64,{"$f":"IF(M73=0,0,M71*100/M73)","v":0},{"$f":"IF(N73=0,0,N71*100/N73)","v":0},null,{"$f":"Довідки1!G73","v":77.142857142857139},null,null,null,{"$f":"SUM(M71:M72)","v":0},{"$f":"SUM(N71:N72)","v":0}]
["Нагляд за додержанням законів при виконанні судових рішень у кримінальних провадженнях"]
["Звільнено за ініціативою прокурора незаконно утримуваних осіб",null,null,null,65,0,0,{"$f":"IF(F75=0,0,IF(G75=0,\"-100,0\",IF(G75*100/F75<200,ROUND(G75*100/F75-100,1),ROUND(G75/F75,1)&\" р\")))","v":0},{"$f":"Довідки1!H75","v":0},null,null,null,0,0]
["Розглянуто документів прокурора з вжиттям заходів щодо усунення порушень закону",null,null,null,66,0,0,0,{"$f":"Довідки1!H76","v":17.899999999999999},null,null,null,0,0]
["Притягнуто до дисциплінарної, адміністративної відповідальності працівників",null,null,null,67,0,0,0,{"$f":"Довідки1!H77","v":5.0999999999999996}]
["Розгляд звернень і висвітлення діяльності органів прокуратури"]
["Вирішено звернень",null,null,null,68,null,null,0,{"$f":"Довідки1!H79","v":8.5}]
["з них:","задоволено",null,null,69,null,null,0,{"$f":"Довідки1!H80","v":13.4}]
[null,"питома вага",null,null,70,{"$f":"IF(F79=0,0,F80*100/F79)","v":0},{"$f":"IF(G79=0,0,G80*100/G79)","v":0},null,{"$f":"Довідки1!G81","v":4.7825268311052529}]
["Задоволено з тих, що раніше відхилялись підпорядкованими прокурорами",null,null,null,71,null,null,0,{"$f":"Довідки1!H82","v":0}]
["Виступи в ЗМІ",null,null,null,72,null,null,{"$f":"IF(F83=0,0,IF(G83=0,\"-100,0\",IF(G83*100/F83<200,ROUND(G83*100/F83-100,1),ROUND(G83/F83,1)&\" р\")))","v":0},{"$f":"Довідки1!H83","v":16.100000000000001}]
["Розглянуто запитів",null,null,null,73,null,null,0,{"$f":"Довідки1!H84","v":24.6}]