{"text_format":"1","workbook":"xlsx","n_sheets":8,"sheets":["Титульний","Форма 1-СЛМ","Довідки","Довідки1","Довідки2","Довідки3","Довідки4","Dov"],"not_rendered":{"charts":0,"images":0,"macros":1,"external_links":3,"defined_names":34,"comments":0,"pivot_tables":0},"unopened":[{"sheet":"Dov","index":7,"reason":"not_a_worksheet"}],"bounds":{"document_bytes":16777216,"sheet_cells":100000,"rows_first":2000,"rows_last":500,"rows_between":2000,"halvings":0,"cell_chars":16384,"cell_head_chars":4096},"cells_cut":0,"cells_raw":0,"read":"whole","date_system":"1900"}

{"sheet":"Титульний","index":0,"n_rows":27,"n_cols":6,"rows_kept":27,"cut":false,"hidden":false,"merged":[[0,5,0,6],[8,5,8,6],[1,0,1,6],[3,0,3,6],[4,0,4,6],[5,0,5,6],[6,0,6,6],[8,0,8,3],[9,0,9,3],[9,5,9,6],[21,0,21,6],[10,0,10,3],[11,0,11,3],[10,5,12,6]]}
[null,null,null,null,null,"Додаток 7\nдо Інструкції зі складання \nзвітності про роботу слідчих\n(підпункт 2 пункту 2 розділу I)"]
["ЗВІТНІСТЬ"]
[]
["ОСНОВНІ ПОКАЗНИКИ РОБОТИ СЛІДЧИХ ОРГАНІВ ПРОКУРАТУРИ "]
[]
[]
["за 4 місяці 2018 року"]
[]
["Подають:",null,null,null,"Строки\nподання","Форма № 1-СЛМ"]
["Слідчі підрозділи регіональних прокуратур  – керівнику регіональної прокуратури",null,null,null,"до 03 числа місяця, що настає за звітним періодом","(місячна)"]
["Керівники регіональних прокуратур – Генеральній прокуратурі України",null,null,null,"до 05 числа місяця, що настає за звітним періодом","ЗАТВЕРДЖЕНО\nНаказ \nГенеральної прокуратури України, \nМіністерства внутрішніх справ України, \nСлужби безпеки України, \nМіністерства фінансів України, \nНаціонального антикорупційного \nбюро України\nвід 24 жовтня 2017 року \n№ 298/875/593/866/200-О    \n\n\n\nза погодженням з Держстатом "]
["Структурні підрозділи Генеральної прокуратури України, які здійснюють досудове розслідування, – підрозділу з питань організаційного забезпечення Єдиного реєстру досудових розслідувань та інформаційно-аналітичної роботи Генеральної прокуратури України",null,null,null,"до 03 числа місяця, що настає за звітним періодом"]
[]
[]
[]
[]
[]
["Респондент: "]
["Найменування:","Прокуратура "]
["Місцезнаходження:","14000 Чернігів, вул.Князя Чорного, 9"]
[]
["(поштовий індекс, область, район, населений пункт, вулиця/провулок, площа тошо, № будинку)"]
[]
[]
[]
[]
[null,null,null,null,null,1]

{"sheet":"Форма 1-СЛМ","index":1,"n_rows":58,"n_cols":20,"rows_kept":58,"cut":false,"hidden":false,"merged":[[50,3,50,5],[51,3,51,5],[53,0,53,5],[42,0,42,3],[44,3,44,5],[45,3,45,5],[47,3,47,5],[48,3,48,5],[35,1,35,3],[36,0,36,3],[37,0,37,3],[38,0,41,1],[40,2,40,3],[41,2,41,3],[28,0,28,3],[18,0,18,3],[16,0,16,3],[11,0,15,0],[11,1,11,3],[12,1,13,1],[12,2,12,3],[13,2,13,3],[14,1,14,3],[19,1,19,3],[21,0,21,3],[7,0,7,3],[17,1,17,3],[6,0,6,3],[8,0,8,3],[9,0,9,3],[10,1,10,3],[31,1,31,3],[15,1,15,3],[38,2,38,3],[39,2,39,3],[30,0,30,3],[27,1,27,3],[20,0,20,3],[32,0,32,3],[33,1,33,3],[34,0,34,3],[24,0,24,3],[25,1,25,3],[29,1,29,3],[23,1,23,3],[26,0,26,3],[22,0,22,3],[5,0,5,3],[0,4,0,5],[0,1,0,3],[4,0,4,3],[3,0,3,3],[1,1,1,3],[2,0,2,3]]}
[]
["Таблиця 1"]
[null,null,null,null,"рядок"]
["а",null,null,null,"б",1]
["Залишок незакінчених кримінальних проваджень на початок звітного періоду",null,null,null,1,89]
["Розпочато проваджень у звітному періоді (у тому числі виділених в окреме провадження згідно з частиною третьою статті 217 КПК України)",null,null,null,2,17]
["Відновлено розслідування у раніше закритих кримінальних провадженнях",null,null,null,3,27]
["Відновлено розслідування у раніше зупинених кримінальних провадженнях",null,null,null,4,2]
["Надійшло проваджень від інших органів (у тому числі із судів), прийнятих до провадження",null,null,null,5,7]
["Закінчено кримінальних проваджень (з повторно закінченими)",null,null,null,6,82]
["з них:","закінчено проваджень у строки понад 2 місяці",null,null,7,6]
["Направлено до суду","обвинувальних актів",null,null,8,9]
[null,"у тому числі:","з угодою про примирення",null,9,null,null,null,null,null,null,null,null,null,null,null,null,null,null,4]
[null,null,"з угодою про визнання винуватості",null,10,3]
[null,"клопотань про застосування примусових заходів медичного характеру",null,null,11]
[null,"клопотань про звільнення підозрюваного від кримінальної відповідальності",null,null,12]
["Закрито кримінальних проваджень",null,null,null,13,73]
["з них:","закрито прокурором",null,null,14,1]
["Кількість кримінальних проваджень, у яких зупинено досудове розслідування",null,null,null,15,3]
["з них:","у зв’язку з оголошенням у розшук підозрюваного",null,null,16,3]
["Направлено кримінальних проваджень за підслідністю",null,null,null,17,4]
["Об’єднано кримінальних проваджень",null,null,null,18,12]
["Кількість підозрюваних, стосовно яких кримінальне провадження закрито прокурором на підставі пунктів 1-3 статті 284 КПК України",null,null,null,19]
["з них:","трималися під вартою",null,null,20]
["Кількість обвинувачених та підозрюваних, стосовно яких провадження закрито за реабілітуючими підставами (за кримінальними справами, розслідуваними до 20.11.2012)",null,null,null,21]
["з них:","трималися під вартою",null,null,22]
["Кількість виправданих осіб та осіб, стосовно яких провадження закриті судом за реабілітуючими підставами",null,null,null,23,3]
["з них:","трималися під вартою",null,null,24]
["Кількість виправданих осіб та осіб, стосовно яких справи закриті судом за відсутністю події або складу злочину і за недоведеністю обвинувачення (за кримінальними справами, направленими до суду до 20.11.2012)",null,null,null,25]
["з них:","трималися під вартою",null,null,26]
["Кількість осіб, стосовно яких провадження закриті судом у зв’язку з відмовою прокурора від підтримання державного обвинувачення",null,null,null,27]
["з них:","трималися під вартою",null,null,28]
["Залишок незакінчених кримінальних проваджень на кінець місяця",null,null,null,29,41]
["з них:","з повідомленням особи про підозру у вчиненні кримінального правопорушення",null,null,30]
["Кількість осіб, які тримаються під вартою, за незакінченими кримінальними провадженнями",null,null,null,31]
["з них:","зі строком тримання під вартою понад шістдесят днів",null,null,32]
["Повернуто кримінальних справ на додаткове розслідування",null,null,null,33]
["Повернуто обвинувальних актів, клопотань відповідно до пункту 3 частини третьої статті 314 КПК України",null,null,null,34,3]
["  Направлено до суду  \n  обвинувальних актів (без\n  повторних):",null,"про правопорушення, вчинені у складі організованої групи та злочинної організації",null,35,1]
[null,null,"про корупційні правопорушення",null,36]
[null,null,"про правопорушення, вчинені у сфері земельних правовідносин",null,37]
[null,null,"про правопорушення, вчинені у бюджетній системі",null,38]
["Контрольний рядок",null,null,null,39,{"$f":"SUM(F5:F42)","v":386}]
[]
["Прокурор",null,"Комашко В. В.","_______________________________"]
[null,null,"(прізвище, ім’я, по батькові)","                                                                 (підпис)",null,null,null,null,null,null,null,null,null,null,null,null,1]
[]
["Керівник органу",null,"Шкільнюк О. М.","_______________________________"]
["досудового розслідування",null,"(прізвище, ім’я, по батькові)","                                                                 (підпис)"]
[]
["Виконавець",null,null,"_______________________________"]
[null,null,"(прізвище, ім’я, по батькові)","                                                                 (підпис)"]
[]
["Телефон: ___________________________ факс: __________________________ електронна пошта: _______________________________"]
[]
["Звіт складено в        примірниках"]
["Примірник №1"]
["Примірник №2",null,null,"Вихідний № ___________   “___” _____________20 __р."]

{"sheet":"Довідки","index":2,"n_rows":364,"n_cols":25,"rows_kept":364,"cut":false,"hidden":true,"merged":[[166,0,168,0],[166,1,168,1],[266,0,268,0],[266,1,268,1],[167,5,167,6],[166,2,167,4],[267,5,267,7],[216,0,218,0],[216,1,218,1],[166,5,166,6],[166,7,167,9],[217,10,217,11],[266,2,267,4],[266,5,266,7],[266,8,267,9],[266,10,267,12],[216,2,217,4],[216,5,216,6],[216,7,217,9],[216,10,216,11],[216,12,217,14],[217,5,217,6],[266,13,266,15],[267,13,267,15],[0,0,0,24],[1,0,1,24],[2,0,2,24],[3,0,3,24],[4,0,4,24],[5,0,5,24],[6,0,6,24],[7,0,7,24],[8,0,8,24],[9,0,9,24],[10,0,10,24],[11,0,11,24],[12,0,12,24],[13,0,13,24],[16,5,16,19],[16,0,18,0],[16,1,18,1],[16,2,17,4],[17,5,17,7],[17,8,17,10],[17,11,17,13],[17,14,17,16],[17,17,17,19],[64,0,64,24],[66,0,68,0],[66,1,68,1],[66,2,67,4],[66,5,67,6],[66,7,67,9],[66,10,67,11],[66,12,67,14],[66,15,67,16],[66,17,66,24],[67,17,67,18],[67,19,67,20],[67,21,67,22],[67,23,67,24],[116,0,118,0],[116,1,118,1],[116,2,117,4],[116,5,117,7],[116,8,117,9],[116,10,116,11],[116,12,117,13],[116,14,117,16],[117,10,117,11],[166,17,167,19],[166,10,166,11],[166,12,167,14],[166,15,166,16],[167,15,167,16],[167,10,167,11],[316,11,317,13],[316,0,318,0],[316,1,318,1],[316,2,317,4],[316,5,317,7],[316,8,317,10]]}
["Генеральна прокуратура України"]
[]
["Управління організаційного забезпечення Єдиного реєстру досудових розслідувань\nта інформаційно - аналітичної роботи"]
[]
["АНАЛІТИЧНИЙ   ЗБІРНИК"]
[]
["статистичної інформації органів досудового розслідування\n(прокуратура)"]
[]
["за січень 2017 року"]
[]
["по Україні"]
["(у розрізі областей)"]
[]
[{"$f":"G19","v":2017}]
["Таблиця 1. Результати розслідування кримінальних проваджень "]
[]
["Код","Прокуратура","Знаходилось кримінальних проваджень",null,null,"з них:"]
[null,null,null,null,null,"Залишок незакінчених кримінальних проваджень на початок звітного періоду",null,null,"Розпочато проваджень у звітному періоді (у тому числі виділених в окреме провадження згідно з частиною третьою статті 217 КПК України)",null,null,"Відновлено розслідування у раніше закритих кримінальних провадженнях",null,null,"Відновлено розслідування у раніше зупинених кримінальних провадженнях",null,null,"Надійшло проваджень від інших органів (у тому числі із судів), прийнятих до провадження"]
[null,null,2016,2017," %",{"$f":"C19","v":2016},{"$f":"D19","v":2017}," %",{"$f":"F19","v":2016},{"$f":"G19","v":2017}," %",{"$f":"I19","v":2016},{"$f":"J19","v":2017}," %",{"$f":"L19","v":2016},{"$f":"M19","v":2017}," %",{"$f":"O19","v":2016},{"$f":"P19","v":2017}," %"]
[1,"АР Крим",null,50,{"$f":"IF(C20=0,0,IF(D20=0,\"-100,0\",IF(D20*100/C20<200,ROUND(D20*100/C20-100,1),ROUND(D20/C20,1)&\" р\")))","v":0},15,31,{"$f":"IF(F20=0,0,IF(G20=0,\"-100,0\",IF(G20*100/F20<200,ROUND(G20*100/F20-100,1),ROUND(G20/F20,1)&\" р\")))","v":"2,1 р"},4,19,null,null,null,{"$f":"IF(L20=0,0,IF(M20=0,\"-100,0\",IF(M20*100/L20<200,ROUND(M20*100/L20-100,1),ROUND(M20/L20,1)&\" р\")))","v":0},null,null,{"$f":"IF(O20=0,0,IF(P20=0,\"-100,0\",IF(P20*100/O20<200,ROUND(P20*100/O20-100,1),ROUND(P20/O20,1)&\" р\")))","v":0},null,null,{"$f":"IF(R20=0,0,IF(S20=0,\"-100,0\",IF(S20*100/R20<200,ROUND(S20*100/R20-100,1),ROUND(S20/R20,1)&\" р\")))","v":0}]
[2,"Вінницької області",null,138,0,82,94,14.6,30,43,4,2,1,-50,null,null,0,null,null,0]
[3,"Волинської області",null,89,0,57,51,-10.5,19,31,57,5,7,40,null,null,0,null,null,0]
[4,"Дніпропетровської області",null,393,0,239,228,-4.5999999999999996,108,151,null,17,14,-17.600000000000001,null,null,0,null,null,0]
[5,"Донецької області",null,343,0,166,191,15.1,70,138,null,6,14,"2,3 р",null,null,0,null,null,0]
[6,"Житомирської області",null,85,0,47,54,14.9,20,28,null,3,3,0,null,null,0,null,null,0]
[7,"Закарпатської області",null,105,0,52,63,21.2,31,37,1,2,5,"2,5 р",null,null,0,null,null,0]
[8,"Запорізької області",null,305,0,109,228,"2,1 р",37,74,null,2,3,50,null,null,0,null,null,0]
[9,"Івано-Франківської області",null,73,0,40,61,52.5,10,12,null,1,null,"-100,0",null,null,0,null,null,0]
[10,"Київської області",null,384,0,174,318,82.8,71,64,2,11,2,-81.8,null,null,0,null,null,0]
[11,"міста Києва",null,588,0,485,345,-28.9,191,183,null,3,60,"20 р",null,null,0,null,null,0]
[12,"Кіровоградської області",null,100,0,72,76,5.6,16,21,0,2,3,50,null,null,0,null,null,0]
[13,"Луганської області",null,121,0,111,79,-28.8,16,37,null,2,5,"2,5 р",null,null,0,null,null,0]
[14,"Львівської області",null,121,0,42,55,31,34,55,null,2,11,"5,5 р",null,null,0,null,null,0]
[15,"Миколаївської області",null,192,0,123,167,35.799999999999997,43,22,null,8,3,-62.5,null,null,0,null,null,0]
[16,"Одеської області",null,419,0,273,271,-0.7,83,141,3,14,7,-50,null,null,0,null,null,0]
[17,"Полтавської області",null,114,0,55,69,25.5,35,37,1,9,8,-11.1,null,null,0,null,null,0]
[18,"Рівненської області",null,66,0,41,39,-4.9000000000000004,26,22,null,2,5,"2,5 р",null,null,0,null,null,0]
[19,"Сумської області",null,119,0,68,76,11.8,23,38,null,5,5,0,null,null,0,null,null,0]
[20,"Тернопільської області",null,87,0,39,53,35.9,10,30,1,3,4,33.299999999999997,null,null,0,null,null,0]
[21,"Харківської області",null,465,0,264,313,18.600000000000001,201,121,2,62,31,-50,null,null,0,null,null,0]
[22,"Херсонської області",null,108,0,63,71,12.7,27,31,230,6,6,0,null,null,0,null,null,0]
[23,"Хмельницької області",null,86,0,51,65,27.5,7,17,null,1,4,"4 р",null,null,0,null,null,0]
[24,"Черкаської області",null,117,0,96,82,-14.6,24,24,22,8,11,37.5,null,null,0,null,null,0]
[25,"Чернівецької області",null,107,0,50,81,62,25,22,null,4,4,0,null,null,0,null,null,0]
[26,"Чернігівської області",null,138,0,52,89,71.2,27,36,null,5,13,"2,6 р",null,null,0,null,null,0]
[27,"Усього (без ЦА)",null,4913,0,2866,3250,13.4,1188,1434,null,185,229,23.8,0,0,0,0,0,0]
[28,"Центральний апарат",null,792,0,347,548,57.9,104,239,null,1,5,"5 р",0,0,0,0,0,0]
[29,"№17",null,323,0,294,228,-22.4,73,91,3,1,4,"4 р",null,null,0,null,null,0]
[30,"№26",null,51,0,13,17,30.8,3,34,0,null,null,0,null,null,0,null,null,0]
[31,"№07",null,0,0,21,null,"-100,0",20,null,8,null,null,0,null,null,0,null,null,0]
[32,"№07/1",null,129,0,null,93,0,null,35,24,null,1,0,null,null,0,null,null,0]
[33,"№29",null,0,0,19,null,"-100,0",8,null,null,null,null,0,null,null,0,null,null,0]
[34,"№29/1",null,33,{"$f":"IF(C53=0,0,IF(D53=0,\"-100,0\",IF(D53*100/C53<200,ROUND(D53*100/C53-100,1),ROUND(D53/C53,1)&\" р\")))","v":0},null,33,0,null,null,null,null,null,0,null,null,0,null,null,0]
[35,"№23",null,179,0,null,155,0,null,24,null,null,null,0,null,null,0,null,null,0]
[36,"№25",null,46,0,null,null,0,null,46,null,null,null,0,null,null,0,null,null,0]
[37,"№30",null,31,null,null,22,0,null,9,null,null,null,0,null,null,0,null,null,0]
[38,"Усього (без ВП)",null,5705,{"$f":"IF(C57=0,0,IF(D57=0,\"-100,0\",IF(D57*100/C57<200,ROUND(D57*100/C57-100,1),ROUND(D57/C57,1)&\" р\")))","v":0},3213,3798,18.2,1292,1673,null,186,234,25.8,0,0,0,0,0,0]
[39,"Апарат ГВП",null,184,0,56,94,67.900000000000006,47,90,null,null,null,0,null,null,0,null,null,0]
[40,"Західного регіону",null,570,0,335,387,15.5,368,179,1272,7,4,-42.9,null,null,0,null,null,0]
[41,"Південного регіону",null,627,0,306,284,-7.2,265,340,null,13,3,-76.900000000000006,null,null,0,null,null,0]
[42,"Центрального регіону",null,637,0,425,407,-4.2,274,226,null,3,4,33.299999999999997,null,null,0,null,null,0]
[43,"Сил АТО",null,701,0,742,439,-40.799999999999997,219,257,5,3,5,66.7,null,null,0,null,null,0]
[44,"Усього по ВП",null,2719,0,1864,1611,-13.6,1173,1092,null,26,16,-38.5,0,0,0,0,0,0]
[45,"Усього по Україні",null,8424,0,5077,5409,6.5,2465,2765,8,212,250,17.899999999999999,0,0,0,0,0,0]
["Таблиця 2. Результати розслідування кримінальних проваджень "]
[]
["Код","Прокуратура","Закінчено кримінальних проваджень (з повторно закінченими)",null,null,"Питома вага",null,"закінчено проваджень у строки понад 2 місяці",null,null,"Питома вага",null,"Направлено до суду проваджень з обвинувальним актом",null,null,"Питома вага",null,"у т. ч.:"]
[null,null,null,null,null,null,null,null,null,null,null,null,null,null,null,null,null,"з угодами про примирення",null,"Питома вага",null,"з угодами про визнання винуватості",null,"Питома вага"]
[null,null,2016,2017," %",{"$f":"C69","v":2016},{"$f":"D69","v":2017},{"$f":"F69","v":2016},{"$f":"G69","v":2017}," %",{"$f":"H69","v":2016},{"$f":"I69","v":2017},2016,2017," %",{"$f":"M69","v":2016},{"$f":"N69","v":2017},{"$f":"P69","v":2016},2017,2016,2017,2016,2017,2016,2017]
[1,"АР Крим",1,6,{"$f":"IF(C70=0,0,IF(D70=0,\"-100,0\",IF(D70*100/C70<200,ROUND(D70*100/C70-100,1),ROUND(D70/C70,1)&\" р\")))","v":"6 р"},{"$f":"IF(C20=0,0,C70*100/C20)","v":0},{"$f":"IF(D20=0,0,D70*100/D20)","v":12},null,3,{"$f":"IF(H70=0,0,IF(I70=0,\"-100,0\",IF(I70*100/H70<200,ROUND(I70*100/H70-100,1),ROUND(I70/H70,1)&\" р\")))","v":0},{"$f":"IF(C70=0,0,H70*100/C70)","v":0},1,null,3,{"$f":"IF(M70=0,0,IF(N70=0,\"-100,0\",IF(N70*100/M70<200,ROUND(N70*100/M70-100,1),ROUND(N70/M70,1)&\" р\")))","v":0},{"$f":"IF(C70=0,0,M70*100/C70)","v":0},{"$f":"IF(D70=0,0,N70*100/D70)","v":50},null,null,{"$f":"IF(M70=0,0,R70*100/M70)","v":0},{"$f":"IF(N70=0,0,S70*100/N70)","v":0},null,null,{"$f":"IF(M70=0,0,V70*100/M70)","v":0},{"$f":"IF(N70=0,0,W70*100/N70)","v":0}]
[2,"Вінницької області",15,11,-26.7,0,7.9710144927536231,4,3,-25,26.666666666666668,51,4,4,0,{"$f":"IF(C71=0,0,M71*100/C71)","v":26.666666666666668},36.363636363636367,null,null,{"$f":"IF(M71=0,0,R71*100/M71)","v":0},0,null,null,{"$f":"IF(M71=0,0,V71*100/M71)","v":0},0]
[3,"Волинської області",7,8,14.3,0,8.9887640449438209,null,null,0,0,null,2,3,50,28.571428571428573,37.5,null,null,0,0,null,1,0,33.333333333333336]
[4,"Дніпропетровської області",58,29,-50,0,7.3791348600508906,3,null,"-100,0",5.1724137931034484,201,6,10,66.7,10.344827586206897,34.482758620689658,null,1,0,10,null,null,0,0]
[5,"Донецької області",48,51,6.3,0,14.868804664723031,1,null,"-100,0",2.0833333333333335,null,7,9,28.6,14.583333333333334,17.647058823529413,null,null,0,0,4,3,57.142857142857146,33.333333333333336]
[6,"Житомирської області",14,13,-7.1,0,15.294117647058824,0,2,0,0,null,1,4,"4 р",7.1428571428571432,30.76923076923077,null,null,0,0,null,null,0,0]
[7,"Закарпатської області",14,9,-35.700000000000003,0,8.5714285714285712,1,null,"-100,0",7.1428571428571432,null,5,3,-40,35.714285714285715,33.333333333333336,null,null,0,0,2,1,40,33.333333333333336]
[8,"Запорізької області",6,23,"3,8 р",0,7.5409836065573774,3,2,-33.299999999999997,50,1,4,4,0,66.666666666666671,17.391304347826086,1,null,25,0,1,null,25,0]
[9,"Івано-Франківської області",5,5,0,0,6.8493150684931505,null,1,0,0,null,1,4,"4 р",20,80,null,null,0,0,null,1,0,25]
[10,"Київської області",14,14,0,0,3.6458333333333335,1,null,"-100,0",7.1428571428571432,null,6,1,-83.3,42.857142857142854,7.1428571428571432,null,1,0,100,4,null,66.666666666666671,0]
[11,"міста Києва",97,93,-4.0999999999999996,0,15.816326530612244,null,null,0,0,3,3,7,"2,3 р",3.0927835051546393,7.5268817204301079,0,null,0,0,1,null,33.333333333333336,0]
[12,"Кіровоградської області",13,14,7.7,0,14,1,2,"2 р",7.6923076923076925,538,1,3,"3 р",7.6923076923076925,21.428571428571427,null,null,0,0,null,null,0,0]
[13,"Луганської області",5,21,"4,2 р",0,17.355371900826448,1,null,"-100,0",20,null,3,9,"3 р",60,42.857142857142854,null,null,0,0,null,null,0,0]
[14,"Львівської області",10,19,90,0,15.702479338842975,null,1,0,0,null,2,5,"2,5 р",20,26.315789473684209,null,null,0,0,null,1,0,20]
[15,"Миколаївської області",8,17,"2,1 р",0,8.8541666666666661,1,null,"-100,0",12.5,null,1,2,"2 р",12.5,11.764705882352942,null,null,0,0,null,2,0,100]
[16,"Одеської області",24,43,79.2,0,10.262529832935561,1,2,"2 р",4.166666666666667,null,1,6,"6 р",4.166666666666667,13.953488372093023,null,null,0,0,null,null,0,0]
[17,"Полтавської області",11,16,45.5,0,14.035087719298245,1,1,0,9.0909090909090917,null,3,6,"2 р",27.272727272727273,37.5,null,null,0,0,1,1,33.333333333333336,16.666666666666668]
[18,"Рівненської області",8,17,"2,1 р",0,25.757575757575758,1,null,"-100,0",12.5,2,4,4,0,50,23.529411764705884,null,null,0,0,2,1,50,25]
[19,"Сумської області",9,13,44.4,0,10.92436974789916,null,2,0,0,null,3,6,"2 р",33.333333333333336,46.153846153846153,1,null,33.333333333333336,0,1,null,33.333333333333336,0]
[20,"Тернопільської області",10,8,-20,0,9.1954022988505741,1,null,"-100,0",10,20,1,2,"2 р",10,25,null,null,0,0,null,null,0,0]
[21,"Харківської області",95,25,-73.7,0,5.376344086021505,1,null,"-100,0",1.0526315789473684,null,2,10,"5 р",2.1052631578947367,40,null,null,0,0,1,2,50,20]
[22,"Херсонської області",20,13,-35,0,12.037037037037036,null,null,0,0,null,1,null,"-100,0",5,0,null,null,0,0,null,null,0,0]
[23,"Хмельницької області",11,2,-81.8,0,2.3255813953488373,3,null,"-100,0",27.272727272727273,1,5,2,-60,45.454545454545453,100,null,null,0,0,null,null,0,0]
[24,"Черкаської області",25,13,-48,0,11.111111111111111,null,1,0,0,null,5,3,-40,20,23.076923076923077,null,null,0,0,null,null,0,0]
[25,"Чернівецької області",7,10,42.9,0,9.3457943925233646,1,2,"2 р",14.285714285714286,13,3,6,"2 р",42.857142857142854,60,null,null,0,0,null,3,0,50]
[26,"Чернігівської області",10,19,90,0,13.768115942028986,null,1,0,0,50,3,1,-66.7,30,5.2631578947368425,null,null,0,0,null,null,0,0]
[27,"Усього (без ЦА)",545,512,-6.1,0,10.421331162222675,25,23,-8,4.5871559633027523,null,77,117,51.9,14.128440366972477,22.8515625,2,2,2.5974025974025974,1.7094017094017093,17,16,22.077922077922079,13.675213675213675]
[28,"Центральний апарат",11,39,"3,5 р",0,4.9242424242424239,7,29,"4,1 р",63.636363636363633,null,9,33,"3,7 р",81.818181818181813,84.615384615384613,0,1,0,3.0303030303030303,0,2,0,6.0606060606060606]
[29,"№17",4,9,"2,3 р",0,2.7863777089783284,2,2,0,50,3,4,5,25,100,55.555555555555557,null,null,0,0,null,2,0,40]
[30,"№26",null,22,0,0,43.137254901960787,null,22,0,0,7,null,22,0,0,100,null,null,0,0,null,null,0,0]
[31,"№07",4,null,"-100,0",0,0,3,null,"-100,0",75,null,3,null,"-100,0",75,0,null,null,0,0,null,null,0,0]
[32,"№07/1",null,2,0,0,1.5503875968992249,null,null,0,0,null,null,1,0,0,50,null,null,0,0,null,null,0,0]
[33,"№29",3,null,"-100,0",0,0,2,null,"-100,0",66.666666666666671,null,2,null,"-100,0",66.666666666666671,0,null,null,0,0,null,null,0,0]
[34,"№29/1",null,null,0,0,0,null,null,0,0,null,null,null,0,0,0,null,null,0,0,null,null,0,0]
[35,"№23",null,4,0,0,2.2346368715083798,null,3,0,0,null,null,3,0,0,75,null,1,0,33.333333333333336,null,null,0,0]
[36,"№25",null,1,0,0,2.1739130434782608,null,1,0,0,null,null,1,0,0,100,null,null,0,{"$f":"IF(N105=0,0,S105*100/N105)","v":0},null,null,0,0]
[37,"№30",null,1,0,0,3.225806451612903,null,1,0,0,null,null,1,0,0,100,null,null,0,{"$f":"IF(N106=0,0,S106*100/N106)","v":0},null,null,0,0]
[38,"Усього (без ВП)",556,551,-0.9,0,9.6581945661700264,32,52,62.5,5.7553956834532372,null,86,150,74.400000000000006,15.467625899280575,27.22323049001815,2,3,2.3255813953488373,2,17,18,19.767441860465116,12]
[39,"Апарат ГВП",4,10,"2,5 р",0,5.4347826086956523,3,9,"3 р",75,null,3,9,"3 р",75,90,null,null,0,0,2,null,66.666666666666671,0]
[40,"Західного регіону",77,72,-6.5,0,12.631578947368421,2,7,"3,5 р",2.5974025974025974,33,60,58,-3.3,77.922077922077918,80.555555555555557,null,null,0,0,5,14,8.3333333333333339,24.137931034482758]
[41,"Південного регіону",125,133,6.4,0,21.212121212121211,2,null,"-100,0",1.6,null,97,107,10.3,77.599999999999994,80.451127819548873,null,null,0,0,12,3,12.371134020618557,2.8037383177570092]
[42,"Центрального регіону",137,90,-34.299999999999997,0,14.128728414442699,4,3,-25,2.9197080291970803,1,108,81,-25,78.832116788321173,90,null,null,0,0,3,1,2.7777777777777777,1.2345679012345678]
[43,"Сил АТО",118,119,0.8,0,16.975748930099858,8,3,-62.5,6.7796610169491522,33,96,84,-12.5,81.355932203389827,70.588235294117652,1,null,1.0416666666666667,0,22,28,22.916666666666668,33.333333333333336]
[44,"Усього по ВП",461,424,-8,0,15.59396837072453,19,22,15.8,4.1214750542299345,215,364,339,-6.9,78.958785249457705,79.952830188679243,1,0,0.27472527472527475,0,44,46,12.087912087912088,13.569321533923304]
[45,"Усього по Україні",1017,975,-4.0999999999999996,0,11.574074074074074,51,74,45.1,5.0147492625368733,221,450,489,8.6999999999999993,44.247787610619469,50.153846153846153,3,3,0.66666666666666663,0.61349693251533743,61,64,13.555555555555555,13.087934560327199]
["Таблиця 3. Результати розслідування кримінальних проваджень "]
[]
["Код","Прокуратура","Направлено до суду клопотань про звільнення підозрюваного від крим. відповідальності",null,null,"Закрито кримінальних проваджень",null,null,"Питома вага",null,"з них:",null,"Питома вага",null,"Зупинено кримінальних проваджень"]
[null,null,null,null,null,null,null,null,null,null,"закрито прокурором"]
[null,null,2016,2017," %",{"$f":"C119","v":2016},{"$f":"D119","v":2017}," %",{"$f":"F119","v":2016},{"$f":"G119","v":2017},{"$f":"F119","v":2016},{"$f":"G119","v":2017},{"$f":"K119","v":2016},{"$f":"L119","v":2017},{"$f":"M119","v":2016},{"$f":"N119","v":2017}," %"]
[1,"АР Крим",null,null,{"$f":"IF(C120=0,0,IF(D120=0,\"-100,0\",IF(D120*100/C120<200,ROUND(D120*100/C120-100,1),ROUND(D120/C120,1)&\" р\")))","v":0},1,3,{"$f":"IF(F120=0,0,IF(G120=0,\"-100,0\",IF(G120*100/F120<200,ROUND(G120*100/F120-100,1),ROUND(G120/F120,1)&\" р\")))","v":"3 р"},{"$f":"IF(F20=0,0,F120*100/F20)","v":6.666666666666667},{"$f":"IF(G20=0,0,G120*100/G20)","v":9.67741935483871},null,null,{"$f":"IF(F120=0,0,K120*100/F120)","v":0},0,null,9,{"$f":"IF(O120=0,0,IF(P120=0,\"-100,0\",IF(P120*100/O120<200,ROUND(P120*100/O120-100,1),ROUND(P120/O120,1)&\" р\")))","v":0}]
[2,"Вінницької області",null,null,0,11,7,-36.4,13.414634146341463,7.4468085106382977,null,null,0,0,null,null,0]
[3,"Волинської області",null,null,0,5,5,0,8.7719298245614041,9.8039215686274517,null,null,0,0,null,null,0]
[4,"Дніпропетровської області",null,null,0,52,19,-63.5,21.757322175732217,8.3333333333333339,null,null,0,0,5,null,"-100,0"]
[5,"Донецької області",null,1,0,41,41,0,24.698795180722893,21.465968586387433,null,null,0,0,1,2,"2 р"]
[6,"Житомирської області",null,1,0,13,8,-38.5,27.659574468085108,14.814814814814815,null,null,0,0,null,1,0]
[7,"Закарпатської області",null,null,0,9,6,-33.299999999999997,17.307692307692307,9.5238095238095237,null,null,0,0,null,null,0]
[8,"Запорізької області",null,null,0,2,19,"9,5 р",1.834862385321101,8.3333333333333339,null,null,0,0,null,4,0]
[9,"Івано-Франківської області",null,null,0,4,1,-75,10,1.639344262295082,null,null,0,0,1,null,"-100,0"]
[10,"Київської області",null,null,0,8,13,62.5,4.5977011494252871,4.0880503144654092,null,null,0,0,2,1,-50]
[11,"міста Києва",0,null,0,94,86,-8.5,19.381443298969071,24.927536231884059,0,null,0,0,1,3,"3 р"]
[12,"Кіровоградської області",null,null,0,12,11,-8.3000000000000007,16.666666666666668,14.473684210526315,null,0,0,0,1,0,"-100,0"]
[13,"Луганської області",null,null,0,2,12,"6 р",1.8018018018018018,15.189873417721518,null,null,0,0,null,10,0]
[14,"Львівської області",null,null,0,8,14,75,19.047619047619047,25.454545454545453,null,null,0,0,2,null,"-100,0"]
[15,"Миколаївської області",null,null,0,7,15,"2,1 р",5.691056910569106,8.9820359281437128,null,null,0,0,1,1,0]
[16,"Одеської області",null,null,0,23,37,60.9,8.4249084249084252,13.653136531365314,null,null,0,0,1,1,0]
[17,"Полтавської області",null,null,0,8,10,25,14.545454545454545,14.492753623188406,null,null,0,0,1,null,"-100,0"]
[18,"Рівненської області",null,null,0,4,13,"3,3 р",9.7560975609756095,33.333333333333336,null,null,0,0,null,null,0]
[19,"Сумської області",null,null,0,6,7,16.7,8.8235294117647065,9.2105263157894743,null,null,0,0,2,null,"-100,0"]
[20,"Тернопільської області",null,null,0,9,6,-33.299999999999997,23.076923076923077,11.320754716981131,null,null,0,0,null,null,0]
[21,"Харківської області",null,null,0,93,15,-83.9,35.227272727272727,4.7923322683706067,null,null,0,0,1,2,"2 р"]
[22,"Херсонської області",null,null,0,19,13,-31.6,30.158730158730158,18.309859154929576,null,null,0,0,null,null,0]
[23,"Хмельницької області",null,null,0,6,null,"-100,0",11.764705882352942,0,null,null,0,0,1,null,"-100,0"]
[24,"Черкаської області",null,null,0,20,10,-50,20.833333333333332,12.195121951219512,null,null,0,0,null,1,0]
[25,"Чернівецької області",null,null,0,4,4,0,8,4.9382716049382713,null,null,0,0,null,null,0]
[26,"Чернігівської області",null,null,0,7,18,"2,6 р",13.461538461538462,20.224719101123597,null,null,0,0,1,null,"-100,0"]
[27,"Усього (без ЦА)",0,2,0,468,393,-16,16.329378925331472,12.092307692307692,0,0,0,0,21,35,66.7]
[28,"Центральний апарат",0,0,0,2,6,"3 р",0.57636887608069165,1.0948905109489051,0,0,0,0,6,46,"7,7 р"]
[29,"№17",null,null,0,null,4,0,0,1.7543859649122806,null,null,0,0,6,28,"4,7 р"]
[30,"№26",null,null,0,null,null,0,0,0,null,null,0,0,null,13,0]
[31,"№07",null,null,0,1,null,"-100,0",4.7619047619047619,0,null,null,0,0,null,null,0]
[32,"№07/1",null,null,0,null,1,0,0,1.075268817204301,null,null,0,0,null,null,0]
[33,"№29",null,null,0,1,null,"-100,0",5.2631578947368425,0,null,null,0,0,null,null,0]
[34,"№29/1",null,null,0,null,null,0,0,0,null,null,0,0,null,null,0]
[35,"№23",null,null,0,null,1,0,0,0.64516129032258063,null,null,0,0,null,1,0]
[36,"№25",null,null,0,null,null,0,0,0,null,null,0,0,null,1,0]
[37,"№30",null,null,0,null,null,0,0,0,null,null,0,0,null,3,0]
[38,"Усього (без ВП)",0,2,0,470,399,-15.1,14.628073451602864,10.505529225908372,0,0,0,0,27,81,"3 р"]
[39,"Апарат ГВП",null,null,0,1,1,0,1.7857142857142858,1.0638297872340425,null,null,0,0,1,8,"8 р"]
[40,"Західного регіону",null,1,0,17,13,-23.5,5.0746268656716422,3.3591731266149871,null,null,0,0,212,17,-92]
[41,"Південного регіону",7,null,"-100,0",21,26,23.8,6.8627450980392153,9.1549295774647881,null,4,0,15.384615384615385,83,117,41]
[42,"Центрального регіону",1,3,"3 р",28,6,-78.599999999999994,6.5882352941176467,1.4742014742014742,4,null,14.285714285714286,0,68,22,-67.599999999999994]
[43,"Сил АТО",null,null,0,22,35,59.1,2.9649595687331538,7.9726651480637809,2,1,9.0909090909090917,2.8571428571428572,22,17,-22.7]
[44,"Усього по ВП",8,4,-50,89,81,-9,4.7746781115879831,5.027932960893855,6,5,6.7415730337078648,6.1728395061728394,386,181,-53.1]
[45,"Усього по Україні",8,6,-25,559,480,-14.1,11.010439235769155,8.8740987243483076,6,5,1.0733452593917709,1.0416666666666667,413,262,-36.6]
["Таблиця 4. Дані про виправданих осіб, та осіб стосовно яких кримінальне провадження закрито (без повторних) за реабілітуючих підстав"]
[]
["Код","Прокуратура","Кількість підозрюваних, стосовно яких кримінальне провадження закрито прокурором на підставі п.п. 1-3 ст.284 КПК України",null,null,"з них:",null,"Кількість виправданих і осіб, стосовно яких провадження закриті судом за реабілітуючими підставами",null,null,"з них:",null,"Кількість осіб, стосовно яких провадження закриті судом у зв’язку з відмовою прокурора від підтримання держ. обвинувачення",null,null,"з них:",null,"Повернуто обвинувальних актів, клопотань відповідно \nдо п. 3 ч. 3 ст. 314 КПК України"]
[null,null,null,null,null,"трималися під вартою",null,null,null,null,"трималися під вартою",null,null,null,null,"трималися під вартою"]
[null,null,{"$f":"F119","v":2016},{"$f":"G119","v":2017}," %",{"$f":"C169","v":2016},{"$f":"D169","v":2017},{"$f":"F169","v":2016},{"$f":"G169","v":2017}," %",{"$f":"H169","v":2016},{"$f":"I169","v":2017},{"$f":"K169","v":2016},{"$f":"L169","v":2017}," %",{"$f":"M169","v":2016},{"$f":"N169","v":2017},2016,2017," %"]
[1,"АР Крим",null,null,{"$f":"IF(C170=0,0,IF(D170=0,\"-100,0\",IF(D170*100/C170<200,ROUND(D170*100/C170-100,1),ROUND(D170/C170,1)&\" р\")))","v":0},null,null,null,null,{"$f":"IF(H170=0,0,IF(I170=0,\"-100,0\",IF(I170*100/H170<200,ROUND(I170*100/H170-100,1),ROUND(I170/H170,1)&\" р\")))","v":0},null,null,null,null,{"$f":"IF(M170=0,0,IF(N170=0,\"-100,0\",IF(N170*100/M170<200,ROUND(N170*100/M170-100,1),ROUND(N170/M170,1)&\" р\")))","v":0}]
[2,"Вінницької області",null,null,0,null,null,null,null,0,null,null,null,null,0]
[3,"Волинської області",null,null,0,null,null,null,null,0,null,null,null,null,0]
[4,"Дніпропетровської області",null,null,0,null,null,null,null,0,null,null,null,null,0,null,null,1,1]
[5,"Донецької області",null,null,0,null,null,null,null,0,null,null,null,null,0,null,null,null,1]
[6,"Житомирської області",null,null,0,null,null,null,null,0,null,null,null,null,0]
[7,"Закарпатської області",null,null,0,null,null,null,null,0,null,null,null,null,0]
[8,"Запорізької області",null,null,0,null,null,null,null,0,null,null,null,null,0,null,null,null,1]
[9,"Івано-Франківської області",null,null,0,null,null,null,null,0,null,null,null,null,0]
[10,"Київської області",null,null,0,null,null,null,null,0,null,null,null,null,0]
[11,"міста Києва",1,null,"-100,0",0,null,0,null,0,0,null,0,null,0,0,null,1]
[12,"Кіровоградської області",null,null,0,null,null,null,0,0,null,null,null,null,0,null,null,1]
[13,"Луганської області",null,null,0,null,null,null,null,0,null,null,null,null,0]
[14,"Львівської області",null,null,0,null,null,null,null,0,null,null,null,null,0]
[15,"Миколаївської області",null,null,0,null,null,null,null,0,null,null,null,null,0]
[16,"Одеської області",null,null,0,null,null,null,null,0,null,null,null,null,0,null,null,null,2]
[17,"Полтавської області",null,null,0,null,null,1,null,"-100,0",null,null,null,null,0]
[18,"Рівненської області",null,null,0,null,null,null,null,0,null,null,null,null,0,null,null,2]
[19,"Сумської області",null,null,0,null,null,null,null,0,null,null,null,null,0]
[20,"Тернопільської області",null,null,0,null,null,null,null,0,null,null,null,null,0,null,null,1,1]
[21,"Харківської області",null,null,0,null,null,null,null,0,null,null,null,null,0]
[22,"Херсонської області",null,null,0,null,null,null,null,0,null,null,null,null,0]
[23,"Хмельницької області",null,null,0,null,null,null,null,0,null,null,null,null,0,null,null,1]
[24,"Черкаської області",null,null,0,null,null,null,null,0,null,null,null,null,0]
[25,"Чернівецької області",null,null,0,null,null,null,null,0,null,null,null,null,0]
[26,"Чернігівської області",null,null,0,null,null,null,null,0,null,null,null,null,0]
[27,"Усього (без ЦА)",1,0,"-100,0",0,0,1,0,"-100,0",0,0,0,0,0,0,0,7,6,0]
[28,"Центральний апарат",0,0,0,0,0,0,0,0,0,0,0,0,0,0,0,0,0,0]
[29,"№17",null,null,0,null,null,null,null,0,null,null,null,null,0]
[30,"№26",null,null,0,null,null,null,null,0,null,null,null,null,0]
[31,"№07",null,null,0,null,null,null,null,0,null,null,null,null,0]
[32,"№07/1",null,null,0,null,null,null,null,0,null,null,null,null,0]
[33,"№29",null,null,0,null,null,null,null,0,null,null,null,null,0]
[34,"№29/1",null,null,0,null,null,null,null,0,null,null,null,null,0]
[35,"№23",null,null,0,null,null,null,null,0,null,null,null,null,0]
[36,"№25",null,null,0,null,null,null,null,0,null,null,null,null,0]
[37,"№30",null,null,0,null,null,null,null,0,null,null,null,null,0]
[38,"Усього (без ВП)",1,0,"-100,0",0,0,1,0,"-100,0",0,0,0,0,0,0,0,7,6,0]
[39,"Апарат ГВП",null,null,0,null,null,null,null,0,null,null,null,null,0]
[40,"Західного регіону",null,null,0,null,null,null,null,0,null,null,null,null,0,null,null,null,7]
[41,"Південного регіону",null,null,0,null,null,null,null,0,null,null,null,null,0]
[42,"Центрального регіону",null,null,0,null,null,null,null,0,null,null,null,null,0,null,null,null,1]
[43,"Сил АТО",null,null,0,null,null,null,null,0,null,null,null,null,0]
[44,"Усього по ВП",0,0,0,0,0,0,0,0,0,0,0,0,0,0,0,0,8,0]
[45,"Усього по Україні",1,0,"-100,0",0,0,1,0,"-100,0",0,0,0,0,0,0,0,7,14,0]
["Таблиця 5. Дані про виправданих осіб, та осіб стосовно яких кримінальне провадження закрито (без повторних) за реабілітуючих підстав",null,null,null,null,null,null,null,null,null,null,null,0,0,null,0,0]
[]
["Код","Прокуратура","Кількість підозрюваних, стосовно яких провадження закрито за реабіліт. підставами (за кримінальними справами, розслідуваними до 20.11.2012)",null,null,"з них:",null,"Кількість виправданих і осіб (за справами, направленими до суду до 20.11.2012)",null,null,"з них:",null,"Повернуто кримінальних справ на додаткове розслідування"]
[null,null,null,null,null,"трималися під вартою",null,null,null,null,"трималися під вартою"]
[null,null,{"$f":"F169","v":2016},{"$f":"G169","v":2017}," %",{"$f":"C219","v":2016},{"$f":"D219","v":2017},{"$f":"F219","v":2016},{"$f":"G219","v":2017}," %",{"$f":"H219","v":2016},{"$f":"I219","v":2017},{"$f":"M169","v":2016},{"$f":"N169","v":2017}," %"]
[1,"АР Крим",null,null,{"$f":"IF(C220=0,0,IF(D220=0,\"-100,0\",IF(D220*100/C220<200,ROUND(D220*100/C220-100,1),ROUND(D220/C220,1)&\" р\")))","v":0},null,null,null,null,{"$f":"IF(H220=0,0,IF(I220=0,\"-100,0\",IF(I220*100/H220<200,ROUND(I220*100/H220-100,1),ROUND(I220/H220,1)&\" р\")))","v":0}]
[2,"Вінницької області",null,null,0,null,null,null,null,0]
[3,"Волинської області",null,null,0,null,null,null,null,0]
[4,"Дніпропетровської області",5,null,"-100,0",1,null,null,null,0]
[5,"Донецької області",null,null,0,null,null,null,null,0]
[6,"Житомирської області",null,null,0,null,null,null,null,0]
[7,"Закарпатської області",null,null,0,null,null,null,null,0]
[8,"Запорізької області",null,null,0,null,null,null,null,0,null,null,1]
[9,"Івано-Франківської області",null,null,0,null,null,null,null,0]
[10,"Київської області",null,null,0,null,null,null,null,0]
[11,"міста Києва",0,null,0,0,null,0,null,0,0]
[12,"Кіровоградської області",null,null,0,null,null,null,null,0,null,null,null,1]
[13,"Луганської області",null,null,0,null,null,null,null,0]
[14,"Львівської області",1,null,"-100,0",null,null,null,null,0,null,null,1]
[15,"Миколаївської області",null,null,0,null,null,null,null,0]
[16,"Одеської області",null,null,0,null,null,null,1,0]
[17,"Полтавської області",null,null,0,null,null,null,null,0]
[18,"Рівненської області",null,null,0,null,null,null,null,0]
[19,"Сумської області",null,null,0,null,null,null,null,0]
[20,"Тернопільської області",null,null,0,null,null,null,null,0]
[21,"Харківської області",null,null,0,null,null,null,null,0]
[22,"Херсонської області",null,null,0,null,null,null,null,0]
[23,"Хмельницької області",null,null,0,null,null,null,null,0]
[24,"Черкаської області",null,null,0,null,null,null,null,0]
[25,"Чернівецької області",null,null,0,null,null,null,null,0]
[26,"Чернігівської області",null,null,0,null,null,null,null,0]
[27,"Усього (без ЦА)",6,0,"-100,0",1,0,0,1,0,0,0,2,1,0]
[28,"Центральний апарат",0,0,0,0,0,0,0,0,0,0,0,0,0]
[29,"№17",null,null,0,null,null,null,null,0]
[30,"№26",null,null,0,null,null,null,null,0]
[31,"№07",null,null,0,null,null,null,null,0]
[32,"№07/1",null,null,0,null,null,null,null,0]
[33,"№29",null,null,0,null,null,null,null,0]
[34,"№29/1",null,null,0,null,null,null,null,0]
[35,"№23",null,null,0,null,null,null,null,0]
[36,"№25",null,null,0,null,null,null,null,0]
[37,"№30",null,null,0,null,null,null,null,0]
[38,"Усього (без ВП)",6,0,"-100,0",1,0,0,1,0,0,0,2,1,0]
[39,"Апарат ГВП",null,null,0,null,null,null,null,0]
[40,"Західного регіону",null,null,0,null,null,null,null,0]
[41,"Південного регіону",null,null,0,null,null,null,null,0]
[42,"Центрального регіону",null,null,0,null,null,null,null,0]
[43,"Сил АТО",null,null,0,null,null,null,null,0]
[44,"Усього по ВП",0,0,0,0,0,0,0,0,0,0,0,0,0]
[45,"Усього по Україні",6,0,"-100,0",1,0,0,1,0,0,0,2,1,0]
["Таблиця 6. Результати розслідування кримінальних проваджень "]
[]
["Код","Прокуратура","Залишок незакінчених кримінальних проваджень на кінець місяця",null,null,"з них:",null,null,"Питома вага",null,"Кількість осіб, які тримаються під вартою за незакінченими кримінальними провадженнями",null,null,"з них:"]
[null,null,null,null,null,"з повідомленням особі про підозру у вчиненні крим. правопорушення",null,null,null,null,null,null,null,"зі строком тримання під вартою понад шістдесят днів"]
[null,null,{"$f":"C169","v":2016},{"$f":"D169","v":2017}," %",{"$f":"C269","v":2016},{"$f":"D269","v":2017}," %",{"$f":"F269","v":2016},{"$f":"G269","v":2017},{"$f":"F269","v":2016},{"$f":"G269","v":2017}," %",{"$f":"K269","v":2016},{"$f":"L269","v":2017}," %"]
[1,"АР Крим",18,35,{"$f":"IF(C270=0,0,IF(D270=0,\"-100,0\",IF(D270*100/C270<200,ROUND(D270*100/C270-100,1),ROUND(D270/C270,1)&\" р\")))","v":94.4},1,2,{"$f":"IF(F270=0,0,IF(G270=0,\"-100,0\",IF(G270*100/F270<200,ROUND(G270*100/F270-100,1),ROUND(G270/F270,1)&\" р\")))","v":"2 р"},{"$f":"IF(C270=0,0,F270*100/C270)","v":5.5555555555555554},{"$f":"IF(D270=0,0,G270*100/D270)","v":5.7142857142857144},1,1,null,null,null,{"$f":"IF(N270=0,0,IF(O270=0,\"-100,0\",IF(O270*100/N270<200,ROUND(O270*100/N270-100,1),ROUND(O270/N270,1)&\" р\")))","v":0}]
[2,"Вінницької області",90,106,17.8,4,3,-25,{"$f":"IF(C271=0,0,F271*100/C271)","v":4.4444444444444446},{"$f":"IF(D271=0,0,G271*100/D271)","v":2.8301886792452828},null,2,null,null,1,0]
[3,"Волинської області",66,69,4.5,2,6,"3 р",3.0303030303030303,8.695652173913043,null,null,null,null,null,0]
[4,"Дніпропетровської області",268,330,23.1,6,11,83.3,2.2388059701492535,3.3333333333333335,1,2,null,1,null,"-100,0"]
[5,"Донецької області",163,243,49.1,12,14,16.7,7.3619631901840492,5.761316872427984,8,1,null,1,null,"-100,0"]
[6,"Житомирської області",53,57,7.5,2,2,0,3.7735849056603774,3.5087719298245612,null,null,null,null,null,0]
[7,"Закарпатської області",58,88,51.7,2,3,50,3.4482758620689653,3.4090909090909092,null,2,null,null,null,0]
[8,"Запорізької області",139,272,95.7,5,11,"2,2 р",3.5971223021582732,4.0441176470588234,2,1,null,null,null,0]
[9,"Івано-Франківської області",42,65,54.8,1,1,0,2.3809523809523809,1.5384615384615385,1,2,null,null,null,0]
[10,"Київської області",199,349,75.400000000000006,13,6,-53.8,6.5326633165829149,1.7191977077363896,null,2,null,null,2,0]
[11,"міста Києва",556,395,-29,25,23,-8,4.4964028776978413,5.8227848101265822,2,16,null,null,10,0]
[12,"Кіровоградської області",69,80,15.9,1,4,"4 р",1.4492753623188406,5,null,0,null,null,0,0]
[13,"Луганської області",119,76,-36.1,2,3,50,1.680672268907563,3.9473684210526314,null,null,null,null,null,0]
[14,"Львівської області",59,78,32.200000000000003,2,5,"2,5 р",3.3898305084745761,6.4102564102564106,null,5,null,null,null,0]
[15,"Миколаївської області",154,166,7.8,3,8,"2,7 р",1.948051948051948,4.8192771084337354,null,null,null,null,null,0]
[16,"Одеської області",321,329,2.5,17,13,-23.5,5.29595015576324,3.9513677811550152,8,null,null,5,null,"-100,0"]
[17,"Полтавської області",78,87,11.5,2,4,"2 р",2.5641025641025643,4.5977011494252871,null,null,null,null,null,0]
[18,"Рівненської області",55,42,-23.6,5,null,"-100,0",9.0909090909090917,0,null,null,null,null,null,0]
[19,"Сумської області",79,98,24.1,7,5,-28.6,8.8607594936708853,5.1020408163265305,null,null,null,null,null,0]
[20,"Тернопільської області",38,68,78.900000000000006,1,2,"2 р",2.6315789473684212,2.9411764705882355,null,null,null,null,null,0]
[21,"Харківської області",320,402,25.6,5,7,40,1.5625,1.7412935323383085,null,null,null,null,null,0]
[22,"Херсонської області",59,86,45.8,5,5,0,8.4745762711864412,5.8139534883720927,null,1,null,null,null,0]
[23,"Хмельницької області",46,75,63,4,null,"-100,0",8.695652173913043,0,null,null,null,null,null,0]
[24,"Черкаської області",93,89,-4.3,null,1,0,0,1.1235955056179776,null,null,null,null,null,0]
[25,"Чернівецької області",60,90,50,2,1,-50,3.3333333333333335,1.1111111111111112,null,null,null,null,null,0]
[26,"Чернігівської області",66,96,45.5,6,3,-50,9.0909090909090917,3.125,4,null,null,2,null,"-100,0"]
[27,"Усього (без ЦА)",3268,3871,18.5,135,143,5.9,4.1309669522643819,3.6941358822009818,27,35,null,9,13,44.4]
[28,"Центральний апарат",373,551,47.7,37,50,35.1,9.9195710455764079,9.0744101633393832,12,16,0,11,12,9.1]
[29,"№17",319,266,-16.600000000000001,31,18,-41.9,9.7178683385579934,6.7669172932330826,12,4,0,11,3,-72.7]
[30,"№26",16,16,0,1,4,"4 р",6.25,25,null,null,null,null,null,0]
[31,"№07",18,null,"-100,0",2,null,"-100,0",11.111111111111111,0,null,null,null,null,null,0]
[32,"№07/1",null,112,0,null,13,0,0,11.607142857142858,null,8,null,null,7,0]
[33,"№29",20,null,"-100,0",3,null,"-100,0",15,0,null,null,null,null,null,0]
[34,"№29/1",null,null,0,null,null,0,0,0,null,null,null,null,null,0]
[35,"№23",null,95,0,null,11,0,0,11.578947368421053,null,3,null,null,2,0]
[36,"№25",null,40,0,null,4,0,0,10,null,1,null,null,null,0]
[37,"№30",null,22,0,null,null,0,0,0,null,null,null,null,null,0]
[38,"Усього (без ВП)",3641,4422,21.5,172,193,12.2,4.723976929414996,4.3645409317051111,39,51,null,20,25,25]
[39,"Апарат ГВП",73,75,2.7,10,13,30,13.698630136986301,17.333333333333332,12,10,null,8,9,12.5]
[40,"Західного регіону",396,458,15.7,33,20,-39.4,8.3333333333333339,4.3668122270742362,9,4,0,2,null,"-100,0"]
[41,"Південного регіону",341,322,-5.6,24,40,66.7,7.0381231671554252,12.422360248447205,8,13,null,1,8,"8 р"]
[42,"Центрального регіону",464,501,8,41,26,-36.6,8.8362068965517242,5.1896207584830343,7,7,null,3,2,-33.299999999999997]
[43,"Сил АТО",780,509,-34.700000000000003,40,24,-40,5.1282051282051286,4.7151277013752457,19,6,null,14,5,-64.3]
[44,"Усього по ВП",2054,1865,-9.1999999999999993,148,123,-16.899999999999999,7.2054527750730282,6.5951742627345844,55,40,null,28,24,-14.3]
[45,"Усього по Україні",5695,6287,10.4,320,316,-1.3,5.6189640035118522,5.0262446317798632,94,91,null,48,49,2.1]
["Таблиця 7. Направлено до суду кримінальних проваджень з обвинувальним актом (без повторних)"]
[]
["Код","Прокуратура","Про правопорушення, вчинені в складі ОГ та ЗО",null,null,"Про корупційні правопорушення",null,null,"Про правопорушення, вчинені у сфері земельних правовідносин",null,null,"Про правопорушення, вчинені у бюджетній системі"]
[]
[null,null,2016,2017," %",{"$f":"C319","v":2016},{"$f":"D319","v":2017}," %",{"$f":"F319","v":2016},{"$f":"G319","v":2017}," %",{"$f":"I319","v":2016},{"$f":"J319","v":2017}," %"]
[1,"АР Крим",null,null,{"$f":"IF(C320=0,0,IF(D320=0,\"-100,0\",IF(D320*100/C320<200,ROUND(D320*100/C320-100,1),ROUND(D320/C320,1)&\" р\")))","v":0},null,null,{"$f":"IF(F320=0,0,IF(G320=0,\"-100,0\",IF(G320*100/F320<200,ROUND(G320*100/F320-100,1),ROUND(G320/F320,1)&\" р\")))","v":0},null,null,{"$f":"IF(I320=0,0,IF(J320=0,\"-100,0\",IF(J320*100/I320<200,ROUND(J320*100/I320-100,1),ROUND(J320/I320,1)&\" р\")))","v":0},null,null,{"$f":"IF(L320=0,0,IF(M320=0,\"-100,0\",IF(M320*100/L320<200,ROUND(M320*100/L320-100,1),ROUND(M320/L320,1)&\" р\")))","v":0}]
[2,"Вінницької області",null,null,0,1,null,"-100,0",null,null,0,null,null,0]
[3,"Волинської області",null,null,0,null,1,0,null,null,0,null,null,0]
[4,"Дніпропетровської області",null,null,0,3,2,-33.299999999999997,null,1,0,null,null,0]
[5,"Донецької області",null,null,0,1,3,"3 р",null,null,0,null,null,0]
[6,"Житомирської області",null,1,0,null,2,0,null,null,0,null,null,0]
[7,"Закарпатської області",null,null,0,4,2,-50,1,null,"-100,0",null,null,0]
[8,"Запорізької області",null,null,0,null,2,0,null,null,0,null,null,0]
[9,"Івано-Франківської області",1,null,"-100,0",1,3,"3 р",1,1,0,null,null,0]
[10,"Київської області",null,null,0,3,null,"-100,0",null,null,0,null,null,0]
[11,"міста Києва",null,null,0,2,null,"-100,0",null,null,0,null,null,0]
[12,"Кіровоградської області",null,1,0,null,2,0,null,null,0,null,null,0]
[13,"Луганської області",null,null,0,1,3,"3 р",null,null,0,null,null,0]
[14,"Львівської області",null,null,0,1,2,"2 р",null,null,0,null,null,0]
[15,"Миколаївської області",null,null,0,null,1,0,null,null,0,null,null,0]
[16,"Одеської області",null,null,0,1,3,"3 р",null,null,0,null,null,0]
[17,"Полтавської області",null,null,0,1,2,"2 р",null,null,0,null,null,0]
[18,"Рівненської області",null,null,0,null,2,0,null,null,0,null,null,0]
[19,"Сумської області",null,null,0,null,4,0,null,1,0,null,2,0]
[20,"Тернопільської області",null,null,0,1,null,"-100,0",null,null,0,null,null,0]
[21,"Харківської області",null,null,0,2,3,50,null,null,0,null,null,0]
[22,"Херсонської області",null,null,0,null,null,0,null,null,0,null,null,0]
[23,"Хмельницької області",null,null,0,2,2,0,null,null,0,null,null,0]
[24,"Черкаської області",null,null,0,null,3,0,null,null,0,null,null,0]
[25,"Чернівецької області",null,null,0,3,1,-66.7,null,null,0,null,null,0]
[26,"Чернігівської області",null,null,0,1,1,0,null,1,0,null,null,0]
[27,"Усього (без ЦА)",1,2,"2 р",28,44,57.1,2,4,"2 р",0,2,0]
[28,"Центральний апарат",1,0,"-100,0",5,3,-40,0,0,0,0,0,0]
[29,"№17",null,null,0,1,2,"2 р",null,null,0,null,null,0]
[30,"№26",null,null,0,null,null,0,null,null,0,null,null,0]
[31,"№07",1,null,"-100,0",2,null,"-100,0",null,null,0,null,null,0]
[32,"№07/1",null,null,0,null,null,0,null,null,0,null,null,0]
[33,"№29",null,null,0,2,null,"-100,0",null,null,0,null,null,0]
[34,"№29/1",null,null,0,null,null,0,null,null,0,null,null,0]
[35,"№23",null,null,0,null,null,0,null,null,0,null,null,0]
[36,"№25",null,null,0,null,1,0,null,null,0,null,null,0]
[37,"№30",null,null,0,null,null,0,null,null,0,null,null,0]
[38,"Усього (без ВП)",2,2,{"$f":"IF(C357=0,0,IF(D357=0,\"-100,0\",IF(D357*100/C357<200,ROUND(D357*100/C357-100,1),ROUND(D357/C357,1)&\" р\")))","v":0},33,47,42.4,2,4,"2 р",0,2,0]
[39,"Апарат ГВП",null,null,0,3,2,-33.299999999999997,null,null,0,null,null,0]
[40,"Західного регіону",null,null,0,4,11,"2,8 р",1,null,"-100,0",null,null,0]
[41,"Південного регіону",2,null,"-100,0",3,1,-66.7,null,null,0,null,null,0]
[42,"Центрального регіону",null,null,0,6,5,-16.7,null,null,0,null,1,0]
[43,"Сил АТО",null,null,0,2,3,50,null,null,0,null,null,0]
[44,"Усього по ВП",2,0,"-100,0",18,22,22.2,1,0,"-100,0",0,1,0]
[45,"Усього по Україні",4,2,-50,51,69,35.299999999999997,3,4,33.299999999999997,0,3,0]

{"sheet":"Довідки1","index":3,"n_rows":45,"n_cols":8,"rows_kept":45,"cut":false,"hidden":true,"merged":[[38,1,38,3],[39,0,39,3],[20,2,20,3],[10,1,10,3],[11,1,11,3],[12,1,12,3],[19,2,19,3],[13,2,13,3],[13,1,14,1],[18,1,18,3],[37,0,37,3],[26,1,26,3],[30,1,30,3],[24,0,24,3],[25,0,25,3],[33,0,33,3],[0,0,0,7],[1,0,1,7],[2,0,2,7],[3,0,3,7],[5,0,5,3],[6,0,6,3],[36,1,36,3],[31,0,31,3],[32,1,32,3],[19,1,20,1],[8,0,8,3],[9,1,9,3],[23,0,23,3],[22,1,22,3],[16,1,16,3],[17,1,17,3],[21,0,21,3],[15,1,15,3],[14,2,14,3],[7,0,7,3],[9,0,20,0],[35,0,35,3],[29,0,29,3],[27,0,27,3],[28,1,28,3],[34,1,34,3],[40,0,40,3],[41,0,44,1],[44,2,44,3],[43,2,43,3],[42,2,42,3],[41,2,41,3]]}
["ДОВІДКА"]
["про слідчу роботу"]
["в органах прокуратури "]
[{"$f":"Довідки!A9","v":"за січень 2017 року"}]
[]
[null,null,null,null,"Рядок",{"$f":"Довідки!F19","v":2016},{"$f":"Довідки!G19","v":2017},"Дин. %"]
["а",null,null,null,"б",1,2,3]
["Знаходилось кримінальних проваджень",null,null,null,1,4505,5471,{"$f":"IF(F8=0,0,IF(G8=0,\"-100,0\",IF(G8*100/F8<200,ROUND(G8*100/F8-100,1),ROUND(G8/F8,1)&\" р\")))","v":21.4}]
["Закінчено кримінальних проваджень (з повторно закінченими)",null,null,null,2,556,551,{"$f":"IF(F9=0,0,IF(G9=0,\"-100,0\",IF(G9*100/F9<200,ROUND(G9*100/F9-100,1),ROUND(G9/F9,1)&\" р\")))","v":-0.9}]
["Направлено до суду","закінчено проваджень у строки понад 2 місяці",null,null,3,32,52,62.5]
[null,"питома вага закінчених у строки понад 2 місяці",null,null,4,{"$f":"IF(F9=0,0,F10*100/F9)","v":5.7553956834532372},{"$f":"IF(G9=0,0,G10*100/G9)","v":9.4373865698729578}]
[null,"проваджень з обвинувальним актом",null,null,5,86,150,74.400000000000006]
[null,"питома вага проваджень з обвинувальним актом",null,null,6,{"$f":"IF(F9=0,0,F12*100/F9)","v":15.467625899280575},{"$f":"IF(G9=0,0,G12*100/G9)","v":27.22323049001815}]
[null,"у т.ч.:","з угодами про примирення",null,7,2,3,{"$f":"IF(F14=0,0,IF(G14=0,\"-100,0\",IF(G14*100/F14<200,ROUND(G14*100/F14-100,1),ROUND(G14/F14,1)&\" р\")))","v":50}]
[null,null,"з угодами про визнання винуватості",null,8,17,18,5.9]
[null,"клопотань про застосування примусових заходів медичного характеру",null,null,9,0,0,0]
[null,"клопотань про звільнення підозрюваного від кримінальної відповідальності",null,null,10,0,2,0]
[null,"закрито кримінальних проваджень",null,null,11,470,399,-15.1]
[null,"питома вага",null,null,12,{"$f":"IF(F9=0,0,F18*100/F9)","v":84.532374100719423},{"$f":"IF(G9=0,0,G18*100/G9)","v":72.41379310344827}]
[null,"з них:","закрито прокурором",null,13,0,0,{"$f":"IF(F20=0,0,IF(G20=0,\"-100,0\",IF(G20*100/F20<200,ROUND(G20*100/F20-100,1),ROUND(G20/F20,1)&\" р\")))","v":0}]
[null,null,"питома вага",null,14,{"$f":"IF(F18=0,0,F20*100/F18)","v":0},{"$f":"IF(G18=0,0,G20*100/G18)","v":0}]
["Зупинено кримінальних проваджень",null,null,null,15,27,81,"3 р"]
["з них:","у зв'язку з невстановленням місцезнаходження підозрюваного",null,null,16,19,65,"3,4 р"]
["Направлено кримінальних проваджень за підслідністю",null,null,null,17,89,89,0]
["Приєднано кримінальних проваджень до інших проваджень",null,null,null,18,192,328,70.8]
["Кількість підозрюваних, стосовно яких кримінальне провадження закрито прокурором на підставі п.п. 1-3 ст.284 КПК України",null,null,null,19,1,0,"-100,0"]
["з них:","трималися під вартою",null,null,20,0,0,0]
["Кількість обвинувачених та підозрюваних, стосовно яких провадження закрито за реабілітуючими підставами (за кримінальними справами, розслідуваними до 20.11.2012)",null,null,null,21,6,0,{"$f":"IF(F28=0,0,IF(G28=0,\"-100,0\",IF(G28*100/F28<200,ROUND(G28*100/F28-100,1),ROUND(G28/F28,1)&\" р\")))","v":"-100,0"}]
["з них:","трималися під вартою",null,null,22,1,0,{"$f":"IF(F29=0,0,IF(G29=0,\"-100,0\",IF(G29*100/F29<200,ROUND(G29*100/F29-100,1),ROUND(G29/F29,1)&\" р\")))","v":"-100,0"}]
["Кількість виправданих і осіб, стосовно яких провадження закриті судом за реабілітуючими підставами",null,null,null,23,1,0,"-100,0"]
["з них:","трималися під вартою",null,null,24,0,0,0]
["Кількість виправданих і осіб, стосовно яких справи закриті судом за відсутністю події або складу злочину і за недоведеністю обвинувачення (за справами, направленими до суду до 20.11.2012)",null,null,null,25,0,1,0]
["з них:","трималися під вартою",null,null,26,0,0,0]
["Кількість осіб, стосовно яких провадження закриті судом у зв’язку з відмовою прокурора від підтримання державного обвинувачення",null,null,null,27,0,0,0]
["з них:","трималися під вартою",null,null,28,0,0,0]
["Залишок незакінчених кримінальних проваджень на кінець місяця",null,null,null,29,3641,4422,21.5]
["з них","з повідомленням особи про підозру у вчиненні кримінального правопорушення",null,null,30,172,193,12.2]
["Кількість осіб, які тримаються під вартою за незакінченими кримінальними провадженнями",null,null,null,31,39,51,30.8]
["з них","зі строком тримання під вартою понад шістдесят днів",null,null,32,20,25,{"$f":"IF(F39=0,0,IF(G39=0,\"-100,0\",IF(G39*100/F39<200,ROUND(G39*100/F39-100,1),ROUND(G39/F39,1)&\" р\")))","v":25}]
["Повернуто кримінальних справ на додаткове розслідування",null,null,null,33,2,1,{"$f":"IF(F40=0,0,IF(G40=0,\"-100,0\",IF(G40*100/F40<200,ROUND(G40*100/F40-100,1),ROUND(G40/F40,1)&\" р\")))","v":-50}]
["Повернуто обвинувальних актів, клопотань відповідно\nдо п. 3 ч. 3ст. 314 КПК України",null,null,null,34,7,6,{"$f":"IF(F41=0,0,IF(G41=0,\"-100,0\",IF(G41*100/F41<200,ROUND(G41*100/F41-100,1),ROUND(G41/F41,1)&\" р\")))","v":-14.3}]
["Направлено до суду кримінальних проваджень з обвинувальним актом (без повторних):",null,"про правопорушення, вчинені у складі ОГ та ЗО",null,35,2,2,0]
[null,null,"про корупційні правопорушення",null,36,33,47,42.4]
[null,null,"про правопорушення, вчинені у сфері земельних правовідносин",null,37,2,4,"2 р"]
[null,null,"про правопорушення, вчинені у бюджетній системі",null,38,0,2,0]

{"sheet":"Довідки2","index":4,"n_rows":45,"n_cols":8,"rows_kept":45,"cut":false,"hidden":true,"merged":[[42,2,42,3],[41,2,41,3],[39,0,39,3],[40,0,40,3],[41,0,44,1],[43,2,43,3],[44,2,44,3],[27,0,27,3],[24,0,24,3],[25,0,25,3],[33,0,33,3],[36,1,36,3],[34,1,34,3],[28,1,28,3],[31,0,31,3],[32,1,32,3],[38,1,38,3],[13,2,13,3],[23,0,23,3],[22,1,22,3],[16,1,16,3],[17,1,17,3],[21,0,21,3],[19,1,20,1],[20,2,20,3],[15,1,15,3],[14,2,14,3],[37,0,37,3],[26,1,26,3],[30,1,30,3],[35,0,35,3],[29,0,29,3],[0,0,0,7],[1,0,1,7],[2,0,2,7],[3,0,3,7],[13,1,14,1],[10,1,10,3],[11,1,11,3],[12,1,12,3],[5,0,5,3],[6,0,6,3],[7,0,7,3],[8,0,8,3],[9,1,9,3],[9,0,20,0],[18,1,18,3],[19,2,19,3]]}
["ДОВІДКА"]
["про слідчу роботу"]
["в органах прокуратури України (Всього по Україні)"]
[{"$f":"Довідки1!A4","v":"за січень 2017 року"}]
[]
[null,null,null,null,"Рядок",{"$f":"Довідки1!F6","v":2016},{"$f":"Довідки1!G6","v":2017},"Дин. %"]
["а",null,null,null,"б",1,2,3]
["Знаходилось кримінальних проваджень",null,null,null,1,7542,8174,{"$f":"IF(F8=0,0,IF(G8=0,\"-100,0\",IF(G8*100/F8<200,ROUND(G8*100/F8-100,1),ROUND(G8/F8,1)&\" р\")))","v":8.4}]
["Закінчено кримінальних проваджень (з повторно закінченими)",null,null,null,2,1017,975,{"$f":"IF(F9=0,0,IF(G9=0,\"-100,0\",IF(G9*100/F9<200,ROUND(G9*100/F9-100,1),ROUND(G9/F9,1)&\" р\")))","v":-4.0999999999999996}]
["Направлено до суду","закінчено проваджень у строки понад 2 місяці",null,null,3,51,74,45.1]
[null,"питома вага закінчених у строки понад 2 місяці",null,null,4,{"$f":"IF(F9=0,0,F10*100/F9)","v":5.0147492625368733},{"$f":"IF(G9=0,0,G10*100/G9)","v":7.5897435897435894}]
[null,"проваджень з обвинувальним актом",null,null,5,450,489,8.6999999999999993]
[null,"питома вага проваджень з обвинувальним актом",null,null,6,{"$f":"IF(F9=0,0,F12*100/F9)","v":44.247787610619469},{"$f":"IF(G9=0,0,G12*100/G9)","v":50.153846153846153}]
[null,"у т.ч.:","з угодами про примирення",null,7,3,3,{"$f":"IF(F14=0,0,IF(G14=0,\"-100,0\",IF(G14*100/F14<200,ROUND(G14*100/F14-100,1),ROUND(G14/F14,1)&\" р\")))","v":0}]
[null,null,"з угодами про визнання винуватості",null,8,61,64,4.9000000000000004]
[null,"клопотань про застосування примусових заходів медичного характеру",null,null,9,0,0,0]
[null,"клопотань про звільнення підозрюваного від кримінальної відповідальності",null,null,10,8,6,-25]
[null,"закрито кримінальних проваджень",null,null,11,559,480,-14.1]
[null,"питома вага",null,null,12,{"$f":"IF(F9=0,0,F18*100/F9)","v":54.965585054080627},{"$f":"IF(G9=0,0,G18*100/G9)","v":49.230769230769234}]
[null,"з них:","закрито прокурором",null,13,6,5,{"$f":"IF(F20=0,0,IF(G20=0,\"-100,0\",IF(G20*100/F20<200,ROUND(G20*100/F20-100,1),ROUND(G20/F20,1)&\" р\")))","v":-16.7}]
[null,null,"питома вага",null,14,{"$f":"IF(F18=0,0,F20*100/F18)","v":1.0733452593917709},{"$f":"IF(G18=0,0,G20*100/G18)","v":1.0416666666666667}]
["Зупинено кримінальних проваджень",null,null,null,15,413,262,-36.6]
["з них:","у зв'язку з невстановленням місцезнаходження підозрюваного",null,null,16,400,243,-39.299999999999997]
["Направлено кримінальних проваджень за підслідністю",null,null,null,17,143,188,31.5]
["Приєднано кримінальних проваджень до інших проваджень",null,null,null,18,274,462,68.599999999999994]
["Кількість підозрюваних, стосовно яких кримінальне провадження закрито прокурором на підставі п.п. 1-3 ст.284 КПК України",null,null,null,19,1,0,"-100,0"]
["з них:","трималися під вартою",null,null,20,0,0,0]
["Кількість обвинувачених та підозрюваних, стосовно яких провадження закрито за реабілітуючими підставами (за кримінальними справами, розслідуваними до 20.11.2012)",null,null,null,21,6,0,{"$f":"IF(F28=0,0,IF(G28=0,\"-100,0\",IF(G28*100/F28<200,ROUND(G28*100/F28-100,1),ROUND(G28/F28,1)&\" р\")))","v":"-100,0"}]
["з них:","трималися під вартою",null,null,22,1,0,{"$f":"IF(F29=0,0,IF(G29=0,\"-100,0\",IF(G29*100/F29<200,ROUND(G29*100/F29-100,1),ROUND(G29/F29,1)&\" р\")))","v":"-100,0"}]
["Кількість виправданих і осіб, стосовно яких провадження закриті судом за реабілітуючими підставами",null,null,null,23,1,0,"-100,0"]
["з них:","трималися під вартою",null,null,24,0,0,0]
["Кількість виправданих і осіб, стосовно яких справи закриті судом за відсутністю події або складу злочину і за недоведеністю обвинувачення (за справами, направленими до суду до 20.11.2012)",null,null,null,25,0,1,0]
["з них:","трималися під вартою",null,null,26,0,0,0]
["Кількість осіб, стосовно яких провадження закриті судом у зв’язку з відмовою прокурора від підтримання державного обвинувачення",null,null,null,27,0,0,0]
["з них:","трималися під вартою",null,null,28,0,0,0]
["Залишок незакінчених кримінальних проваджень на кінець місяця",null,null,null,29,5695,6287,10.4]
["з них","з повідомленням особи про підозру у вчиненні кримінального правопорушення",null,null,30,320,316,-1.3]
["Кількість осіб, які тримаються під вартою за незакінченими кримінальними провадженнями",null,null,null,31,94,91,-3.2]
["з них","зі строком тримання під вартою понад шістдесят днів",null,null,32,48,49,2.1]
["Повернуто кримінальних справ на додаткове розслідування",null,null,null,33,2,1,{"$f":"IF(F40=0,0,IF(G40=0,\"-100,0\",IF(G40*100/F40<200,ROUND(G40*100/F40-100,1),ROUND(G40/F40,1)&\" р\")))","v":-50}]
["Повернуто обвинувальних актів, клопотань відповідно\nдо п. 3 ч. 3ст. 314 КПК України",null,null,null,34,7,14,{"$f":"IF(F41=0,0,IF(G41=0,\"-100,0\",IF(G41*100/F41<200,ROUND(G41*100/F41-100,1),ROUND(G41/F41,1)&\" р\")))","v":"2 р"}]
["Направлено до суду кримінальних проваджень з обвинувальним актом (без повторних):",null,"про правопорушення, вчинені у складі ОГ та ЗО",null,35,4,2,-50]
[null,null,"про корупційні правопорушення",null,36,51,69,35.299999999999997]
[null,null,"про правопорушення, вчинені у сфері земельних правовідносин",null,37,3,4,33.299999999999997]
[null,null,"про правопорушення, вчинені у бюджетній системі",null,38,0,3,0]

{"sheet":"Довідки3","index":5,"n_rows":45,"n_cols":9,"rows_kept":45,"cut":false,"hidden":true,"merged":[[8,0,8,3],[11,1,11,3],[0,0,0,8],[1,0,1,8],[2,0,2,8],[3,0,3,8],[9,1,9,3],[9,0,20,0],[13,1,14,1],[14,2,14,3],[5,0,5,3],[12,1,12,3],[13,2,13,3],[16,1,16,3],[18,1,18,3],[19,1,20,1],[6,0,6,3],[7,0,7,3],[28,1,28,3],[29,0,29,3],[17,1,17,3],[19,2,19,3],[10,1,10,3],[15,1,15,3],[26,1,26,3],[27,0,27,3],[20,2,20,3],[24,0,24,3],[25,0,25,3],[23,0,23,3],[21,0,21,3],[22,1,22,3],[34,1,34,3],[35,0,35,3],[36,1,36,3],[37,0,37,3],[30,1,30,3],[31,0,31,3],[32,1,32,3],[33,0,33,3],[41,2,41,3],[42,2,42,3],[38,1,38,3],[39,0,39,3],[40,0,40,3],[41,0,44,1],[43,2,43,3],[44,2,44,3]]}
["ДОВІДКА"]
["про слідчу роботу"]
["Усього по Україні"]
["за січень 2017 року"]
[]
[null,null,null,null,"Рядок",2016,2017,"Дин. %","Дин. % (по Укр. без ВП)"]
["а",null,null,null,"б",1,2,3,4]
["Знаходилось кримінальних проваджень",null,null,null,1,null,8424,{"$f":"IF(F8=0,0,IF(G8=0,\"-100,0\",IF(G8*100/F8<200,ROUND(G8*100/F8-100,1),ROUND(G8/F8,1)&\" р\")))","v":0},{"$f":"Довідки1!H8","v":21.4}]
["Закінчено кримінальних проваджень (з повторно закінченими)",null,null,null,2,1017,975,{"$f":"IF(F9=0,0,IF(G9=0,\"-100,0\",IF(G9*100/F9<200,ROUND(G9*100/F9-100,1),ROUND(G9/F9,1)&\" р\")))","v":-4.0999999999999996},{"$f":"Довідки1!H9","v":-0.9}]
["Направлено до суду","закінчено проваджень у строки понад 2 місяці",null,null,3,51,74,45.1,{"$f":"Довідки1!H10","v":62.5}]
[null,"питома вага закінчених у строки понад 2 місяці",null,null,4,{"$f":"IF(F9=0,0,F10*100/F9)","v":5.0147492625368733},{"$f":"IF(G9=0,0,G10*100/G9)","v":7.5897435897435894},null,{"$f":"Довідки1!G11","v":9.4373865698729578}]
[null,"проваджень з обвинувальним актом",null,null,5,450,489,8.6999999999999993,{"$f":"Довідки1!H12","v":74.400000000000006}]
[null,"питома вага проваджень з обвинувальним актом",null,null,6,{"$f":"IF(F9=0,0,F12*100/F9)","v":44.247787610619469},{"$f":"IF(G9=0,0,G12*100/G9)","v":50.153846153846153},null,{"$f":"Довідки1!G13","v":27.22323049001815}]
[null,"у т.ч.:","з угодами про примирення",null,7,3,3,{"$f":"IF(F14=0,0,IF(G14=0,\"-100,0\",IF(G14*100/F14<200,ROUND(G14*100/F14-100,1),ROUND(G14/F14,1)&\" р\")))","v":0},{"$f":"Довідки1!H14","v":50}]
[null,null,"з угодами про визнання винуватості",null,8,61,64,4.9000000000000004,{"$f":"Довідки1!H15","v":5.9}]
[null,"клопотань про застосування примусових заходів медичного характеру",null,null,9,0,0,0,{"$f":"Довідки1!H16","v":0}]
[null,"клопотань про звільнення підозрюваного від кримінальної відповідальності",null,null,10,8,6,-25,{"$f":"Довідки1!H17","v":0}]
[null,"закрито кримінальних проваджень",null,null,11,559,480,-14.1,{"$f":"Довідки1!H18","v":-15.1}]
[null,"питома вага",null,null,12,{"$f":"IF(F9=0,0,F18*100/F9)","v":54.965585054080627},{"$f":"IF(G9=0,0,G18*100/G9)","v":49.230769230769234},null,{"$f":"Довідки1!G19","v":72.41379310344827}]
[null,"з них:","закрито прокурором",null,13,6,5,{"$f":"IF(F20=0,0,IF(G20=0,\"-100,0\",IF(G20*100/F20<200,ROUND(G20*100/F20-100,1),ROUND(G20/F20,1)&\" р\")))","v":-16.7},{"$f":"Довідки1!H20","v":0}]
[null,null,"питома вага",null,14,{"$f":"IF(F18=0,0,F20*100/F18)","v":1.0733452593917709},{"$f":"IF(G18=0,0,G20*100/G18)","v":1.0416666666666667},null,{"$f":"Довідки1!G21","v":0}]
["Зупинено кримінальних проваджень",null,null,null,15,413,262,-36.6,{"$f":"Довідки1!H22","v":"3 р"}]
["з них:","у зв'язку з невстановленням місцезнаходження підозрюваного",null,null,16,400,243,-39.299999999999997,{"$f":"Довідки1!H23","v":"3,4 р"}]
["Направлено кримінальних проваджень за підслідністю",null,null,null,17,143,188,31.5,{"$f":"Довідки1!H24","v":0}]
["Приєднано кримінальних проваджень до інших проваджень",null,null,null,18,274,462,68.599999999999994,{"$f":"Довідки1!H25","v":70.8}]
["Кількість підозрюваних, стосовно яких кримінальне провадження закрито прокурором на підставі п.п. 1-3 ст.284 КПК України",null,null,null,19,1,0,"-100,0",{"$f":"Довідки1!H26","v":"-100,0"}]
["з них:","трималися під вартою",null,null,20,0,0,0,{"$f":"Довідки1!H27","v":0}]
["Кількість обвинувачених та підозрюваних, стосовно яких провадження закрито за реабілітуючими підставами (за кримінальними справами, розслідуваними до 20.11.2012)",null,null,null,21,6,0,{"$f":"IF(F28=0,0,IF(G28=0,\"-100,0\",IF(G28*100/F28<200,ROUND(G28*100/F28-100,1),ROUND(G28/F28,1)&\" р\")))","v":"-100,0"},{"$f":"Довідки1!H28","v":"-100,0"}]
["з них:","трималися під вартою",null,null,22,1,0,{"$f":"IF(F29=0,0,IF(G29=0,\"-100,0\",IF(G29*100/F29<200,ROUND(G29*100/F29-100,1),ROUND(G29/F29,1)&\" р\")))","v":"-100,0"},{"$f":"Довідки1!H29","v":"-100,0"}]
["Кількість виправданих і осіб, стосовно яких провадження закриті судом за реабілітуючими підставами",null,null,null,23,1,0,"-100,0",{"$f":"Довідки1!H30","v":"-100,0"}]
["з них:","трималися під вартою",null,null,24,0,0,0,{"$f":"Довідки1!H31","v":0}]
["Кількість виправданих і осіб, стосовно яких справи закриті судом за відсутністю події або складу злочину і за недоведеністю обвинувачення (за справами, направленими до суду до 20.11.2012)",null,null,null,25,0,1,0,{"$f":"Довідки1!H32","v":0}]
["з них:","трималися під вартою",null,null,26,0,0,0,{"$f":"Довідки1!H33","v":0}]
["Кількість осіб, стосовно яких провадження закриті судом у зв’язку з відмовою прокурора від підтримання державного обвинувачення",null,null,null,27,0,0,0,{"$f":"Довідки1!H34","v":0}]
["з них:","трималися під вартою",null,null,28,0,0,0,{"$f":"Довідки1!H35","v":0}]
["Залишок незакінчених кримінальних проваджень на кінець місяця",null,null,null,29,5695,6287,10.4,{"$f":"Довідки1!H36","v":21.5}]
["з них","з повідомленням особи про підозру у вчиненні кримінального правопорушення",null,null,30,320,316,-1.3,{"$f":"Довідки1!H37","v":12.2}]
["Кількість осіб, які тримаються під вартою за незакінченими кримінальними провадженнями",null,null,null,31,94,91,-3.2,{"$f":"Довідки1!H38","v":30.8}]
["з них","зі строком тримання під вартою понад шістдесят днів",null,null,32,48,49,2.1,{"$f":"Довідки1!H39","v":25}]
["Повернуто кримінальних справ на додаткове розслідування",null,null,null,33,2,1,{"$f":"IF(F40=0,0,IF(G40=0,\"-100,0\",IF(G40*100/F40<200,ROUND(G40*100/F40-100,1),ROUND(G40/F40,1)&\" р\")))","v":-50},{"$f":"Довідки1!H40","v":-50}]
["Повернуто обвинувальних актів, клопотань відповідно\nдо п. 3 ч. 3ст. 314 КПК України",null,null,null,34,7,14,{"$f":"IF(F41=0,0,IF(G41=0,\"-100,0\",IF(G41*100/F41<200,ROUND(G41*100/F41-100,1),ROUND(G41/F41,1)&\" р\")))","v":"2 р"},{"$f":"Довідки1!H41","v":-14.3}]
["Направлено до суду кримінальних проваджень з обвинувальним актом (без повторних):",null,"про правопорушення, вчинені у складі ОГ та ЗО",null,35,4,2,-50,{"$f":"Довідки1!H42","v":0}]
[null,null,"про корупційні правопорушення",null,36,51,69,35.299999999999997,{"$f":"Довідки1!H43","v":42.4}]
[null,null,"про правопорушення, вчинені у сфері земельних правовідносин",null,37,3,4,33.299999999999997,{"$f":"Довідки1!H44","v":"2 р"}]
[null,null,"про правопорушення, вчинені у бюджетній системі",null,38,0,3,0,{"$f":"Довідки1!H45","v":0}]

{"sheet":"Довідки4","index":6,"n_rows":54,"n_cols":110,"rows_kept":54,"cut":false,"hidden":true,"merged":[[6,86,7,88],[6,89,6,91],[7,89,7,91],[6,17,6,19],[6,20,6,31],[6,38,7,40],[6,35,6,37],[7,35,7,37],[6,47,7,49],[6,80,7,82],[6,62,7,64],[6,74,7,76],[6,77,6,79],[7,77,7,79],[6,53,6,55],[7,59,7,61],[6,5,7,7],[6,0,8,0],[6,1,8,1],[6,2,7,4],[6,32,7,34],[6,11,7,13],[7,29,7,31],[7,23,7,25],[6,14,6,16],[7,20,7,22],[7,14,7,16],[7,17,7,19],[7,26,7,28],[6,8,7,10],[6,68,7,70],[6,71,6,73],[7,71,7,73],[6,65,6,67],[7,65,7,67],[7,41,7,43],[6,41,6,43],[7,104,7,106],[7,107,7,109],[6,98,6,109],[7,98,7,100],[7,101,7,103],[6,92,7,94],[6,83,6,85],[7,83,7,85],[6,56,7,58],[7,53,7,55],[6,50,7,52],[6,44,7,46],[6,95,7,97],[6,59,6,61]]}
[]
[]
[]
[]
["Таблиця 1. Робота слідчого апарату органів прокуратури"]
["за січень 2017 року"]
["Код","Прокуратура","Залишок незакінчених кримінальних проваджень на початок звітного періоду",null,null,"Розпочато кримінальних проваджень у звітному періоді",null,null,"відновлено розслідування у раніше закритих кримінальних провадженнях",null,null,"Закінчено кримінальних проваджень (з повторно закінченими)",null,null,"з них",null,null,"Направлено до суду",null,null,"Направлено до суду",null,null,null,null,null,null,null,null,null,null,null,"Закрито кримінальних проваджень",null,null,"з них",null,null,"Зупинено кримінальних проваджень",null,null,"з них",null,null,"Направлено кримінальних проваджень за підслідністю",null,null,"Приєднано кримінальних проваджень до інших проваджень",null,null,"Кількість підозрюваних, стосовно яких кримінальне провадження закрито прокурором на підставі п.п. 1-3 ст.284 КПК України",null,null,"з них",null,null,"Кількість обвинувачених та підозрюваних, стосовно яких провадження закрито за реабілітуючими підставами (за кримінальними справами, розслідуваними до 20.11.2012)",null,null,"з них",null,null,"Кількість виправданих і осіб, стосовно яких провадження закриті судом за реабілітуючими підставами",null,null,"з них",null,null,"Кількість виправданих і осіб, стосовно яких справи закриті судом за відсутністю події або складу злочину і за недоведеністю обвинувачення (за справами, направленими до суду до 20.11.2012)",null,null,"з них",null,null,"Кількість осіб, стосовно яких провадження закриті судом у зв’язку з відмовою прокурора від підтримання державного обвинувачення",null,null,"з них",null,null,"Залишок незакінчених кримінальних проваджень на кінець місяця",null,null,"з них",null,null,"Кількість осіб, які тримаються під вартою за незакінченими кримінальними провадженнями",null,null,"з них",null,null,"Повернуто кримінальних справ на додаткове розслідування",null,null,"Повернуто обвинувальних актів, клопотань відповідно до п. 3 ч. 3ст. 314 КПК України",null,null,"Направлено до суду кримінальних проваджень з обвинувальним актом (без повторних): "]
[null,null,null,null,null,null,null,null,null,null,null,null,null,null,"закінчено проваджень у строки, понад 2 місяці",null,null,"проваджень з обвинувальним актом",null,null,"у т.ч.: з угодами про примирення",null,null,"у т.ч.: з угодами про визнання винуватості",null,null,"клопотань про застосування примусових заходів медичного характеру",null,null,"клопотань про звільнення підозрюваного від кримінальної відповідальності",null,null,null,null,null,"закрито прокурором",null,null,null,null,null,"у зв'язку з не встановленням місцезнаходження підозрюваного",null,null,null,null,null,null,null,null,null,null,null,"трималися під вартою",null,null,null,null,null,"трималися під вартою",null,null,null,null,null,"трималися під вартою",null,null,null,null,null,"трималися під вартою",null,null,null,null,null,"трималися під вартою",null,null,null,null,null,"з повідомленням особі про підозру у вчиненні кримінального правопорушення",null,null,null,null,null,"зі строком тримання під вартою понад шістдесят днів",null,null,null,null,null,null,null,null,"про правопорушення, вчинені в складі ОГ та ЗО",null,null,"про корупційні правопорушення",null,null,"про правопорушення, вчинені у сфері земельних правовідносин",null,null,"про правопорушення, вчинені у бюджетній системі"]
[null,null,2016,2017," %",{"$f":"C9","v":2016},{"$f":"D9","v":2017}," %",{"$f":"F9","v":2016},{"$f":"G9","v":2017}," %",{"$f":"I9","v":2016},{"$f":"J9","v":2017}," %",{"$f":"L9","v":2016},{"$f":"M9","v":2017}," %",{"$f":"O9","v":2016},{"$f":"P9","v":2017}," %",{"$f":"R9","v":2016},{"$f":"S9","v":2017}," %",{"$f":"U9","v":2016},{"$f":"V9","v":2017}," %",{"$f":"X9","v":2016},{"$f":"Y9","v":2017}," %",{"$f":"AA9","v":2016},{"$f":"AB9","v":2017}," %",{"$f":"AD9","v":2016},{"$f":"AE9","v":2017}," %",{"$f":"AG9","v":2016},{"$f":"AH9","v":2017}," %",{"$f":"AJ9","v":2016},{"$f":"AK9","v":2017}," %",{"$f":"AM9","v":2016},{"$f":"AN9","v":2017}," %",{"$f":"AP9","v":2016},{"$f":"AQ9","v":2017}," %",{"$f":"AS9","v":2016},{"$f":"AT9","v":2017}," %",{"$f":"AV9","v":2016},{"$f":"AW9","v":2017}," %",{"$f":"AY9","v":2016},{"$f":"AZ9","v":2017}," %",{"$f":"BB9","v":2016},{"$f":"BC9","v":2017}," %",{"$f":"BE9","v":2016},{"$f":"BF9","v":2017}," %",{"$f":"BH9","v":2016},{"$f":"BI9","v":2017}," %",{"$f":"BK9","v":2016},{"$f":"BL9","v":2017}," %",{"$f":"BN9","v":2016},{"$f":"BO9","v":2017}," %",{"$f":"BQ9","v":2016},{"$f":"BR9","v":2017}," %",{"$f":"BT9","v":2016},{"$f":"BU9","v":2017}," %",{"$f":"BW9","v":2016},{"$f":"BX9","v":2017}," %",{"$f":"BZ9","v":2016},{"$f":"CA9","v":2017}," %",{"$f":"CC9","v":2016},{"$f":"CD9","v":2017}," %",{"$f":"CF9","v":2016},{"$f":"CG9","v":2017}," %",{"$f":"CI9","v":2016},{"$f":"CJ9","v":2017}," %",{"$f":"CL9","v":2016},{"$f":"CM9","v":2017}," %",{"$f":"CO9","v":2016},{"$f":"CP9","v":2017}," %",{"$f":"CR9","v":2016},{"$f":"CS9","v":2017}," %",{"$f":"CU9","v":2016},{"$f":"CV9","v":2017}," %",{"$f":"CX9","v":2016},{"$f":"CY9","v":2017}," %",{"$f":"DA9","v":2016},{"$f":"DB9","v":2017}," %"]
[1,"АР Крим",15,31,{"$f":"IF(C10=0,0,IF(D10=0,\"-100,0\",IF(D10*100/C10<200,ROUND(D10*100/C10-100,1),ROUND(D10/C10,1)&\" р\")))","v":"2,1 р"},4,19,{"$f":"IF(F10=0,0,IF(G10=0,\"-100,0\",IF(G10*100/F10<200,ROUND(G10*100/F10-100,1),ROUND(G10/F10,1)&\" р\")))","v":"4,8 р"},null,null,{"$f":"IF(I10=0,0,IF(J10=0,\"-100,0\",IF(J10*100/I10<200,ROUND(J10*100/I10-100,1),ROUND(J10/I10,1)&\" р\")))","v":0},1,6,{"$f":"IF(L10=0,0,IF(M10=0,\"-100,0\",IF(M10*100/L10<200,ROUND(M10*100/L10-100,1),ROUND(M10/L10,1)&\" р\")))","v":"6 р"},null,3,{"$f":"IF(O10=0,0,IF(P10=0,\"-100,0\",IF(P10*100/O10<200,ROUND(P10*100/O10-100,1),ROUND(P10/O10,1)&\" р\")))","v":0},null,3,{"$f":"IF(R10=0,0,IF(S10=0,\"-100,0\",IF(S10*100/R10<200,ROUND(S10*100/R10-100,1),ROUND(S10/R10,1)&\" р\")))","v":0},null,null,{"$f":"IF(U10=0,0,IF(V10=0,\"-100,0\",IF(V10*100/U10<200,ROUND(V10*100/U10-100,1),ROUND(V10/U10,1)&\" р\")))","v":0},null,null,{"$f":"IF(X10=0,0,IF(Y10=0,\"-100,0\",IF(Y10*100/X10<200,ROUND(Y10*100/X10-100,1),ROUND(Y10/X10,1)&\" р\")))","v":0},null,null,{"$f":"IF(AA10=0,0,IF(AB10=0,\"-100,0\",IF(AB10*100/AA10<200,ROUND(AB10*100/AA10-100,1),ROUND(AB10/AA10,1)&\" р\")))","v":0},null,null,{"$f":"IF(AD10=0,0,IF(AE10=0,\"-100,0\",IF(AE10*100/AD10<200,ROUND(AE10*100/AD10-100,1),ROUND(AE10/AD10,1)&\" р\")))","v":0},1,3,{"$f":"IF(AG10=0,0,IF(AH10=0,\"-100,0\",IF(AH10*100/AG10<200,ROUND(AH10*100/AG10-100,1),ROUND(AH10/AG10,1)&\" р\")))","v":"3 р"},null,null,{"$f":"IF(AJ10=0,0,IF(AK10=0,\"-100,0\",IF(AK10*100/AJ10<200,ROUND(AK10*100/AJ10-100,1),ROUND(AK10/AJ10,1)&\" р\")))","v":0},null,9,{"$f":"IF(AM10=0,0,IF(AN10=0,\"-100,0\",IF(AN10*100/AM10<200,ROUND(AN10*100/AM10-100,1),ROUND(AN10/AM10,1)&\" р\")))","v":0},null,9,{"$f":"IF(AP10=0,0,IF(AQ10=0,\"-100,0\",IF(AQ10*100/AP10<200,ROUND(AQ10*100/AP10-100,1),ROUND(AQ10/AP10,1)&\" р\")))","v":0},null,null,{"$f":"IF(AS10=0,0,IF(AT10=0,\"-100,0\",IF(AT10*100/AS10<200,ROUND(AT10*100/AS10-100,1),ROUND(AT10/AS10,1)&\" р\")))","v":0},null,null,{"$f":"IF(AV10=0,0,IF(AW10=0,\"-100,0\",IF(AW10*100/AV10<200,ROUND(AW10*100/AV10-100,1),ROUND(AW10/AV10,1)&\" р\")))","v":0},null,null,{"$f":"IF(AY10=0,0,IF(AZ10=0,\"-100,0\",IF(AZ10*100/AY10<200,ROUND(AZ10*100/AY10-100,1),ROUND(AZ10/AY10,1)&\" р\")))","v":0},null,null,{"$f":"IF(BB10=0,0,IF(BC10=0,\"-100,0\",IF(BC10*100/BB10<200,ROUND(BC10*100/BB10-100,1),ROUND(BC10/BB10,1)&\" р\")))","v":0},null,null,{"$f":"IF(BE10=0,0,IF(BF10=0,\"-100,0\",IF(BF10*100/BE10<200,ROUND(BF10*100/BE10-100,1),ROUND(BF10/BE10,1)&\" р\")))","v":0},null,null,{"$f":"IF(BH10=0,0,IF(BI10=0,\"-100,0\",IF(BI10*100/BH10<200,ROUND(BI10*100/BH10-100,1),ROUND(BI10/BH10,1)&\" р\")))","v":0},null,null,{"$f":"IF(BK10=0,0,IF(BL10=0,\"-100,0\",IF(BL10*100/BK10<200,ROUND(BL10*100/BK10-100,1),ROUND(BL10/BK10,1)&\" р\")))","v":0},null,null,{"$f":"IF(BN10=0,0,IF(BO10=0,\"-100,0\",IF(BO10*100/BN10<200,ROUND(BO10*100/BN10-100,1),ROUND(BO10/BN10,1)&\" р\")))","v":0},null,null,{"$f":"IF(BQ10=0,0,IF(BR10=0,\"-100,0\",IF(BR10*100/BQ10<200,ROUND(BR10*100/BQ10-100,1),ROUND(BR10/BQ10,1)&\" р\")))","v":0},null,null,{"$f":"IF(BT10=0,0,IF(BU10=0,\"-100,0\",IF(BU10*100/BT10<200,ROUND(BU10*100/BT10-100,1),ROUND(BU10/BT10,1)&\" р\")))","v":0},null,null,{"$f":"IF(BW10=0,0,IF(BX10=0,\"-100,0\",IF(BX10*100/BW10<200,ROUND(BX10*100/BW10-100,1),ROUND(BX10/BW10,1)&\" р\")))","v":0},null,null,{"$f":"IF(BZ10=0,0,IF(CA10=0,\"-100,0\",IF(CA10*100/BZ10<200,ROUND(CA10*100/BZ10-100,1),ROUND(CA10/BZ10,1)&\" р\")))","v":0},18,35,{"$f":"IF(CC10=0,0,IF(CD10=0,\"-100,0\",IF(CD10*100/CC10<200,ROUND(CD10*100/CC10-100,1),ROUND(CD10/CC10,1)&\" р\")))","v":94.4},1,2,{"$f":"IF(CF10=0,0,IF(CG10=0,\"-100,0\",IF(CG10*100/CF10<200,ROUND(CG10*100/CF10-100,1),ROUND(CG10/CF10,1)&\" р\")))","v":"2 р"},1,1,{"$f":"IF(CI10=0,0,IF(CJ10=0,\"-100,0\",IF(CJ10*100/CI10<200,ROUND(CJ10*100/CI10-100,1),ROUND(CJ10/CI10,1)&\" р\")))","v":0},null,null,{"$f":"IF(CL10=0,0,IF(CM10=0,\"-100,0\",IF(CM10*100/CL10<200,ROUND(CM10*100/CL10-100,1),ROUND(CM10/CL10,1)&\" р\")))","v":0},null,null,{"$f":"IF(CO10=0,0,IF(CP10=0,\"-100,0\",IF(CP10*100/CO10<200,ROUND(CP10*100/CO10-100,1),ROUND(CP10/CO10,1)&\" р\")))","v":0},null,null,{"$f":"IF(CR10=0,0,IF(CS10=0,\"-100,0\",IF(CS10*100/CR10<200,ROUND(CS10*100/CR10-100,1),ROUND(CS10/CR10,1)&\" р\")))","v":0},null,null,{"$f":"IF(CU10=0,0,IF(CV10=0,\"-100,0\",IF(CV10*100/CU10<200,ROUND(CV10*100/CU10-100,1),ROUND(CV10/CU10,1)&\" р\")))","v":0},null,null,{"$f":"IF(CX10=0,0,IF(CY10=0,\"-100,0\",IF(CY10*100/CX10<200,ROUND(CY10*100/CX10-100,1),ROUND(CY10/CX10,1)&\" р\")))","v":0},null,null,{"$f":"IF(DA10=0,0,IF(DB10=0,\"-100,0\",IF(DB10*100/DA10<200,ROUND(DB10*100/DA10-100,1),ROUND(DB10/DA10,1)&\" р\")))","v":0},null,null,{"$f":"IF(DD10=0,0,IF(DE10=0,\"-100,0\",IF(DE10*100/DD10<200,ROUND(DE10*100/DD10-100,1),ROUND(DE10/DD10,1)&\" р\")))","v":0}]
[2,"Вінницької області",82,94,14.6,30,43,43.3,2,1,-50,15,11,-26.7,4,3,-25,4,4,0,null,null,0,null,null,0,null,null,0,null,null,0,11,7,-36.4,null,null,0,null,null,0,null,null,0,3,1,-66.7,4,19,"4,8 р",null,null,0,null,null,0,null,null,0,null,null,0,null,null,0,null,null,0,null,null,0,null,null,0,null,null,0,null,null,0,90,106,17.8,4,3,-25,null,2,0,null,1,0,null,null,0,null,null,0,null,null,0,1,null,"-100,0",null,null,0,null,null,0]
[3,"Волинської області",57,51,-10.5,19,31,63.2,5,7,40,7,8,14.3,null,null,0,2,3,50,null,null,0,null,1,0,null,null,0,null,null,0,5,5,0,null,null,0,null,null,0,null,null,0,1,1,0,2,4,"2 р",null,null,0,null,null,0,null,null,0,null,null,0,null,null,0,null,null,0,null,null,0,null,null,0,null,null,0,null,null,0,66,69,4.5,2,6,"3 р",null,null,0,null,null,0,null,null,0,null,null,0,null,null,0,null,1,0,null,null,0,null,null,0]
[4,"Дніпропетровської області",239,228,-4.5999999999999996,108,151,39.799999999999997,17,14,-17.600000000000001,58,29,-50,3,null,"-100,0",6,10,66.7,null,1,0,null,null,0,null,null,0,null,null,0,52,19,-63.5,null,null,0,5,null,"-100,0",5,null,"-100,0",2,6,"3 р",14,14,0,null,null,0,null,null,0,5,null,"-100,0",1,null,"-100,0",null,null,0,null,null,0,null,null,0,null,null,0,null,null,0,null,null,0,268,330,23.1,6,11,83.3,1,2,"2 р",1,null,"-100,0",null,null,0,1,1,0,null,null,0,3,2,-33.299999999999997,null,1,0,null,null,0]
[5,"Донецької області",166,191,15.1,70,138,97.1,6,14,"2,3 р",48,51,6.3,1,null,"-100,0",7,9,28.6,null,null,0,4,3,-25,null,null,0,null,1,0,41,41,0,null,null,0,1,2,"2 р",1,2,"2 р",6,3,-50,18,30,66.7,null,null,0,null,null,0,null,null,0,null,null,0,null,null,0,null,null,0,null,null,0,null,null,0,null,null,0,null,null,0,163,243,49.1,12,14,16.7,8,1,-87.5,1,null,"-100,0",null,null,0,null,1,0,null,null,0,1,3,"3 р",null,null,0,null,null,0]
[6,"Житомирської області",47,54,14.9,20,28,40,3,3,0,14,13,-7.1,0,2,0,1,4,"4 р",null,null,0,null,null,0,null,null,0,null,1,0,13,8,-38.5,null,null,0,null,1,0,null,1,0,null,null,0,null,11,0,null,null,0,null,null,0,null,null,0,null,null,0,null,null,0,null,null,0,null,null,0,null,null,0,null,null,0,null,null,0,53,57,7.5,2,2,0,null,null,0,null,null,0,null,null,0,null,null,0,null,1,0,null,2,0,null,null,0,null,null,0]
[7,"Закарпатської області",52,63,21.2,31,37,19.399999999999999,2,5,"2,5 р",14,9,-35.700000000000003,1,null,"-100,0",5,3,-40,null,null,0,2,1,-50,null,null,0,null,null,0,9,6,-33.299999999999997,null,null,0,null,null,0,null,null,0,7,3,-57.1,4,null,"-100,0",null,null,0,null,null,0,null,null,0,null,null,0,null,null,0,null,null,0,null,null,0,null,null,0,null,null,0,null,null,0,58,88,51.7,2,3,50,null,2,0,null,null,0,null,null,0,null,null,0,null,null,0,4,2,-50,1,null,"-100,0",null,null,0]
[8,"Запорізької області",109,228,"2,1 р",37,74,"2 р",2,3,50,6,23,"3,8 р",3,2,-33.299999999999997,4,4,0,1,null,"-100,0",1,null,"-100,0",null,null,0,null,null,0,2,19,"9,5 р",null,null,0,null,4,0,null,4,0,1,3,"3 р",null,null,0,null,null,0,null,null,0,null,null,0,null,null,0,null,null,0,null,null,0,null,null,0,null,null,0,null,null,0,null,null,0,139,272,95.7,5,11,"2,2 р",2,1,-50,null,null,0,1,null,"-100,0",null,1,0,null,null,0,null,2,0,null,null,0,null,null,0]
[9,"Івано-Франківської області",40,61,52.5,10,12,20,1,null,"-100,0",5,5,0,null,1,0,1,4,"4 р",null,null,0,null,1,0,null,null,0,null,null,0,4,1,-75,null,null,0,1,null,"-100,0",null,null,0,2,null,"-100,0",null,3,0,null,null,0,null,null,0,null,null,0,null,null,0,null,null,0,null,null,0,null,null,0,null,null,0,null,null,0,null,null,0,42,65,54.8,1,1,0,1,2,"2 р",null,null,0,null,null,0,null,null,0,1,null,"-100,0",1,3,"3 р",1,1,0,null,null,0]
[10,"Київської області",174,318,82.8,71,64,-9.9,11,2,-81.8,14,14,0,1,null,"-100,0",6,1,-83.3,null,1,0,4,null,"-100,0",null,null,0,null,null,0,8,13,62.5,null,null,0,2,1,-50,1,null,"-100,0",12,6,-50,18,12,-33.299999999999997,null,null,0,null,null,0,null,null,0,null,null,0,null,null,0,null,null,0,null,null,0,null,null,0,null,null,0,null,null,0,199,349,75.400000000000006,13,6,-53.8,null,2,0,null,2,0,null,null,0,null,null,0,null,null,0,3,null,"-100,0",null,null,0,null,null,0]
[11,"міста Києва",485,345,-28.9,191,183,-4.2,3,60,"20 р",97,93,-4.0999999999999996,null,null,0,3,7,"2,3 р",0,null,0,1,null,"-100,0",0,null,0,0,null,0,94,86,-8.5,0,null,0,1,3,"3 р",1,2,"2 р",9,2,-77.8,13,35,"2,7 р",1,null,"-100,0",0,null,0,0,null,0,0,null,0,0,null,0,0,null,0,0,null,0,0,null,0,0,null,0,0,null,0,556,395,-29,25,23,-8,2,16,"8 р",null,10,0,null,null,0,1,null,"-100,0",null,null,0,2,null,"-100,0",null,null,0,null,null,0]
[12,"Кіровоградської області",72,76,5.6,16,21,31.3,2,3,50,13,14,7.7,1,2,"2 р",1,3,"3 р",null,null,0,null,null,0,null,null,0,null,null,0,12,11,-8.3000000000000007,null,0,0,1,0,"-100,0",null,null,0,1,0,"-100,0",4,3,-25,null,null,0,null,null,0,null,null,0,null,null,0,null,0,0,null,null,0,null,null,0,null,null,0,null,null,0,null,null,0,69,80,15.9,1,4,"4 р",null,0,0,null,0,0,null,1,0,1,null,"-100,0",null,1,0,null,2,0,null,null,0,null,null,0]
[13,"Луганської області",111,79,-28.8,16,37,"2,3 р",2,5,"2,5 р",5,21,"4,2 р",1,null,"-100,0",3,9,"3 р",null,null,0,null,null,0,null,null,0,null,null,0,2,12,"6 р",null,null,0,null,10,0,null,1,0,1,1,0,2,8,"4 р",null,null,0,null,null,0,null,null,0,null,null,0,null,null,0,null,null,0,null,null,0,null,null,0,null,null,0,null,null,0,119,76,-36.1,2,3,50,null,null,0,null,null,0,null,null,0,null,null,0,null,null,0,1,3,"3 р",null,null,0,null,null,0]
[14,"Львівської області",42,55,31,34,55,61.8,2,11,"5,5 р",10,19,90,null,1,0,2,5,"2,5 р",null,null,0,null,1,0,null,null,0,null,null,0,8,14,75,null,null,0,2,null,"-100,0",1,null,"-100,0",null,3,0,5,10,"2 р",null,null,0,null,null,0,1,null,"-100,0",null,null,0,null,null,0,null,null,0,null,null,0,null,null,0,null,null,0,null,null,0,59,78,32.200000000000003,2,5,"2,5 р",null,5,0,null,null,0,1,null,"-100,0",null,null,0,null,null,0,1,2,"2 р",null,null,0,null,null,0]
[15,"Миколаївської області",123,167,35.799999999999997,43,22,-48.8,8,3,-62.5,8,17,"2,1 р",1,null,"-100,0",1,2,"2 р",null,null,0,null,2,0,null,null,0,null,null,0,7,15,"2,1 р",null,null,0,1,1,0,null,1,0,3,4,33.299999999999997,null,1,0,null,null,0,null,null,0,null,null,0,null,null,0,null,null,0,null,null,0,null,null,0,null,null,0,null,null,0,null,null,0,154,166,7.8,3,8,"2,7 р",null,null,0,null,null,0,null,null,0,null,null,0,null,null,0,null,1,0,null,null,0,null,null,0]
[16,"Одеської області",273,271,-0.7,83,141,69.900000000000006,14,7,-50,24,43,79.2,1,2,"2 р",1,6,"6 р",null,null,0,null,null,0,null,null,0,null,null,0,23,37,60.9,null,null,0,1,1,0,1,1,0,null,null,0,10,39,"3,9 р",null,null,0,null,null,0,null,null,0,null,null,0,null,null,0,null,null,0,null,1,0,null,null,0,null,null,0,null,null,0,321,329,2.5,17,13,-23.5,8,null,"-100,0",5,null,"-100,0",null,null,0,null,2,0,null,null,0,1,3,"3 р",null,null,0,null,null,0]
[17,"Полтавської області",55,69,25.5,35,37,5.7,9,8,-11.1,11,16,45.5,1,1,0,3,6,"2 р",null,null,0,1,1,0,null,null,0,null,null,0,8,10,25,null,null,0,1,null,"-100,0",1,null,"-100,0",null,3,0,null,null,0,null,null,0,null,null,0,null,null,0,null,null,0,1,null,"-100,0",null,null,0,null,null,0,null,null,0,null,null,0,null,null,0,78,87,11.5,2,4,"2 р",null,null,0,null,null,0,null,null,0,null,null,0,null,null,0,1,2,"2 р",null,null,0,null,null,0]
[18,"Рівненської області",41,39,-4.9000000000000004,26,22,-15.4,2,5,"2,5 р",8,17,"2,1 р",1,null,"-100,0",4,4,0,null,null,0,2,1,-50,null,null,0,null,null,0,4,13,"3,3 р",null,null,0,null,null,0,null,null,0,null,2,0,4,null,"-100,0",null,null,0,null,null,0,null,null,0,null,null,0,null,null,0,null,null,0,null,null,0,null,null,0,null,null,0,null,null,0,55,42,-23.6,5,null,"-100,0",null,null,0,null,null,0,null,null,0,2,null,"-100,0",null,null,0,null,2,0,null,null,0,null,null,0]
[19,"Сумської області",68,76,11.8,23,38,65.2,5,5,0,9,13,44.4,null,2,0,3,6,"2 р",1,null,"-100,0",1,null,"-100,0",null,null,0,null,null,0,6,7,16.7,null,null,0,2,null,"-100,0",1,null,"-100,0",1,1,0,null,2,0,null,null,0,null,null,0,null,null,0,null,null,0,null,null,0,null,null,0,null,null,0,null,null,0,null,null,0,null,null,0,79,98,24.1,7,5,-28.6,null,null,0,null,null,0,null,null,0,null,null,0,null,null,0,null,4,0,null,1,0,null,2,0]
[20,"Тернопільської області",39,53,35.9,10,30,"3 р",3,4,33.299999999999997,10,8,-20,1,null,"-100,0",1,2,"2 р",null,null,0,null,null,0,null,null,0,null,null,0,9,6,-33.299999999999997,null,null,0,null,null,0,null,null,0,1,3,"3 р",null,4,0,null,null,0,null,null,0,null,null,0,null,null,0,null,null,0,null,null,0,null,null,0,null,null,0,null,null,0,null,null,0,38,68,78.900000000000006,1,2,"2 р",null,null,0,null,null,0,null,null,0,1,1,0,null,null,0,1,null,"-100,0",null,null,0,null,null,0]
[21,"Харківської області",264,313,18.600000000000001,201,121,-39.799999999999997,62,31,-50,95,25,-73.7,1,null,"-100,0",2,10,"5 р",null,null,0,1,2,"2 р",null,null,0,null,null,0,93,15,-83.9,null,null,0,1,2,"2 р",1,null,"-100,0",14,1,-92.9,35,4,-88.6,null,null,0,null,null,0,null,null,0,null,null,0,null,null,0,null,null,0,null,null,0,null,null,0,null,null,0,null,null,0,320,402,25.6,5,7,40,null,null,0,null,null,0,null,null,0,null,null,0,null,null,0,2,3,50,null,null,0,null,null,0]
[22,"Херсонської області",63,71,12.7,27,31,14.8,6,6,0,20,13,-35,null,null,0,1,null,"-100,0",null,null,0,null,null,0,null,null,0,null,null,0,19,13,-31.6,null,null,0,null,null,0,null,null,0,5,null,"-100,0",6,3,-50,null,null,0,null,null,0,null,null,0,null,null,0,null,null,0,null,null,0,null,null,0,null,null,0,null,null,0,null,null,0,59,86,45.8,5,5,0,null,1,0,null,null,0,null,null,0,null,null,0,null,null,0,null,null,0,null,null,0,null,null,0]
[23,"Хмельницької області",51,65,27.5,7,17,"2,4 р",1,4,"4 р",11,2,-81.8,3,null,"-100,0",5,2,-60,null,null,0,null,null,0,null,null,0,null,null,0,6,null,"-100,0",null,null,0,1,null,"-100,0",null,null,0,null,1,0,null,4,0,null,null,0,null,null,0,null,null,0,null,null,0,null,null,0,null,null,0,null,null,0,null,null,0,null,null,0,null,null,0,46,75,63,4,null,"-100,0",null,null,0,null,null,0,null,null,0,1,null,"-100,0",null,null,0,2,2,0,null,null,0,null,null,0]
[24,"Черкаської області",96,82,-14.6,24,24,0,8,11,37.5,25,13,-48,null,1,0,5,3,-40,null,null,0,null,null,0,null,null,0,null,null,0,20,10,-50,null,null,0,null,1,0,null,null,0,1,1,0,1,2,"2 р",null,null,0,null,null,0,null,null,0,null,null,0,null,null,0,null,null,0,null,null,0,null,null,0,null,null,0,null,null,0,93,89,-4.3,null,1,0,null,null,0,null,null,0,null,null,0,null,null,0,null,null,0,null,3,0,null,null,0,null,null,0]
[25,"Чернівецької області",50,81,62,25,22,-12,4,4,0,7,10,42.9,1,2,"2 р",3,6,"2 р",null,null,0,null,3,0,null,null,0,null,null,0,4,4,0,null,null,0,null,null,0,null,null,0,2,null,"-100,0",6,3,-50,null,null,0,null,null,0,null,null,0,null,null,0,null,null,0,null,null,0,null,null,0,null,null,0,null,null,0,null,null,0,60,90,50,2,1,-50,null,null,0,null,null,0,null,null,0,null,null,0,null,null,0,3,1,-66.7,null,null,0,null,null,0]
[26,"Чернігівської області",52,89,71.2,27,36,33.299999999999997,5,13,"2,6 р",10,19,90,null,1,0,3,1,-66.7,null,null,0,null,null,0,null,null,0,null,null,0,7,18,"2,6 р",null,null,0,1,null,"-100,0",null,null,0,2,4,"2 р",null,6,0,null,null,0,null,null,0,null,null,0,null,null,0,null,null,0,null,null,0,null,null,0,null,null,0,null,null,0,null,null,0,66,96,45.5,6,3,-50,4,null,"-100,0",2,null,"-100,0",null,null,0,null,null,0,null,null,0,1,1,0,null,1,0,null,null,0]
[27,"Усього (без ЦА)",2866,3250,13.4,1188,1434,20.7,185,229,23.8,545,512,-6.1,25,23,-8,77,117,51.9,2,2,0,17,16,-5.9,0,0,0,0,2,0,468,393,-16,0,0,0,21,35,66.7,13,21,61.5,74,49,-33.799999999999997,146,217,48.6,1,0,"-100,0",0,0,0,6,0,"-100,0",1,0,"-100,0",1,0,"-100,0",0,0,0,0,1,0,0,0,0,0,0,0,0,0,0,3268,3871,18.5,135,143,5.9,27,35,29.6,9,13,44.4,2,1,-50,7,6,-14.3,1,2,"2 р",28,44,57.1,2,4,"2 р",0,2,0]
[28,"Центральний апарат",347,548,57.9,104,239,"2,3 р",1,5,"5 р",11,39,"3,5 р",7,29,"4,1 р",9,33,"3,7 р",0,1,0,0,2,0,0,0,0,0,0,0,2,6,"3 р",0,0,0,6,46,"7,7 р",6,44,"7,3 р",15,40,"2,7 р",46,111,"2,4 р",0,0,0,0,0,0,0,0,0,0,0,0,0,0,0,0,0,0,0,0,0,0,0,0,0,0,0,0,0,0,373,551,47.7,37,50,35.1,12,16,33.299999999999997,11,12,9.1,0,0,0,0,0,0,1,0,"-100,0",5,3,-40,0,0,0,0,0,0]
[29,"№17",294,228,-22.4,73,91,24.7,1,4,"4 р",4,9,"2,3 р",2,2,0,4,5,25,null,null,0,null,2,0,null,null,0,null,null,0,null,4,0,null,null,0,6,28,"4,7 р",6,27,"4,5 р",7,2,-71.400000000000006,31,14,-54.8,null,null,0,null,null,0,null,null,0,null,null,0,null,null,0,null,null,0,null,null,0,null,null,0,null,null,0,null,null,0,319,266,-16.600000000000001,31,18,-41.9,12,4,-66.7,11,3,-72.7,null,null,0,null,null,0,null,null,0,1,2,"2 р",null,null,0,null,null,0]
[30,"№26",13,17,{"$f":"IF(C39=0,0,IF(D39=0,\"-100,0\",IF(D39*100/C39<200,ROUND(D39*100/C39-100,1),ROUND(D39/C39,1)&\" р\")))","v":30.8},3,34,{"$f":"IF(F39=0,0,IF(G39=0,\"-100,0\",IF(G39*100/F39<200,ROUND(G39*100/F39-100,1),ROUND(G39/F39,1)&\" р\")))","v":"11,3 р"},null,null,{"$f":"IF(I39=0,0,IF(J39=0,\"-100,0\",IF(J39*100/I39<200,ROUND(J39*100/I39-100,1),ROUND(J39/I39,1)&\" р\")))","v":0},null,22,{"$f":"IF(L39=0,0,IF(M39=0,\"-100,0\",IF(M39*100/L39<200,ROUND(M39*100/L39-100,1),ROUND(M39/L39,1)&\" р\")))","v":0},null,22,{"$f":"IF(O39=0,0,IF(P39=0,\"-100,0\",IF(P39*100/O39<200,ROUND(P39*100/O39-100,1),ROUND(P39/O39,1)&\" р\")))","v":0},null,22,{"$f":"IF(R39=0,0,IF(S39=0,\"-100,0\",IF(S39*100/R39<200,ROUND(S39*100/R39-100,1),ROUND(S39/R39,1)&\" р\")))","v":0},null,null,{"$f":"IF(U39=0,0,IF(V39=0,\"-100,0\",IF(V39*100/U39<200,ROUND(V39*100/U39-100,1),ROUND(V39/U39,1)&\" р\")))","v":0},null,null,{"$f":"IF(X39=0,0,IF(Y39=0,\"-100,0\",IF(Y39*100/X39<200,ROUND(Y39*100/X39-100,1),ROUND(Y39/X39,1)&\" р\")))","v":0},null,null,{"$f":"IF(AA39=0,0,IF(AB39=0,\"-100,0\",IF(AB39*100/AA39<200,ROUND(AB39*100/AA39-100,1),ROUND(AB39/AA39,1)&\" р\")))","v":0},null,null,{"$f":"IF(AD39=0,0,IF(AE39=0,\"-100,0\",IF(AE39*100/AD39<200,ROUND(AE39*100/AD39-100,1),ROUND(AE39/AD39,1)&\" р\")))","v":0},null,null,{"$f":"IF(AG39=0,0,IF(AH39=0,\"-100,0\",IF(AH39*100/AG39<200,ROUND(AH39*100/AG39-100,1),ROUND(AH39/AG39,1)&\" р\")))","v":0},null,null,{"$f":"IF(AJ39=0,0,IF(AK39=0,\"-100,0\",IF(AK39*100/AJ39<200,ROUND(AK39*100/AJ39-100,1),ROUND(AK39/AJ39,1)&\" р\")))","v":0},null,13,{"$f":"IF(AM39=0,0,IF(AN39=0,\"-100,0\",IF(AN39*100/AM39<200,ROUND(AN39*100/AM39-100,1),ROUND(AN39/AM39,1)&\" р\")))","v":0},null,13,{"$f":"IF(AP39=0,0,IF(AQ39=0,\"-100,0\",IF(AQ39*100/AP39<200,ROUND(AQ39*100/AP39-100,1),ROUND(AQ39/AP39,1)&\" р\")))","v":0},null,null,{"$f":"IF(AS39=0,0,IF(AT39=0,\"-100,0\",IF(AT39*100/AS39<200,ROUND(AT39*100/AS39-100,1),ROUND(AT39/AS39,1)&\" р\")))","v":0},null,null,{"$f":"IF(AV39=0,0,IF(AW39=0,\"-100,0\",IF(AW39*100/AV39<200,ROUND(AW39*100/AV39-100,1),ROUND(AW39/AV39,1)&\" р\")))","v":0},null,null,{"$f":"IF(AY39=0,0,IF(AZ39=0,\"-100,0\",IF(AZ39*100/AY39<200,ROUND(AZ39*100/AY39-100,1),ROUND(AZ39/AY39,1)&\" р\")))","v":0},null,null,{"$f":"IF(BB39=0,0,IF(BC39=0,\"-100,0\",IF(BC39*100/BB39<200,ROUND(BC39*100/BB39-100,1),ROUND(BC39/BB39,1)&\" р\")))","v":0},null,null,{"$f":"IF(BE39=0,0,IF(BF39=0,\"-100,0\",IF(BF39*100/BE39<200,ROUND(BF39*100/BE39-100,1),ROUND(BF39/BE39,1)&\" р\")))","v":0},null,null,{"$f":"IF(BH39=0,0,IF(BI39=0,\"-100,0\",IF(BI39*100/BH39<200,ROUND(BI39*100/BH39-100,1),ROUND(BI39/BH39,1)&\" р\")))","v":0},null,null,{"$f":"IF(BK39=0,0,IF(BL39=0,\"-100,0\",IF(BL39*100/BK39<200,ROUND(BL39*100/BK39-100,1),ROUND(BL39/BK39,1)&\" р\")))","v":0},null,null,{"$f":"IF(BN39=0,0,IF(BO39=0,\"-100,0\",IF(BO39*100/BN39<200,ROUND(BO39*100/BN39-100,1),ROUND(BO39/BN39,1)&\" р\")))","v":0},null,null,{"$f":"IF(BQ39=0,0,IF(BR39=0,\"-100,0\",IF(BR39*100/BQ39<200,ROUND(BR39*100/BQ39-100,1),ROUND(BR39/BQ39,1)&\" р\")))","v":0},null,null,{"$f":"IF(BT39=0,0,IF(BU39=0,\"-100,0\",IF(BU39*100/BT39<200,ROUND(BU39*100/BT39-100,1),ROUND(BU39/BT39,1)&\" р\")))","v":0},null,null,{"$f":"IF(BW39=0,0,IF(BX39=0,\"-100,0\",IF(BX39*100/BW39<200,ROUND(BX39*100/BW39-100,1),ROUND(BX39/BW39,1)&\" р\")))","v":0},null,null,{"$f":"IF(BZ39=0,0,IF(CA39=0,\"-100,0\",IF(CA39*100/BZ39<200,ROUND(CA39*100/BZ39-100,1),ROUND(CA39/BZ39,1)&\" р\")))","v":0},16,16,{"$f":"IF(CC39=0,0,IF(CD39=0,\"-100,0\",IF(CD39*100/CC39<200,ROUND(CD39*100/CC39-100,1),ROUND(CD39/CC39,1)&\" р\")))","v":0},1,4,{"$f":"IF(CF39=0,0,IF(CG39=0,\"-100,0\",IF(CG39*100/CF39<200,ROUND(CG39*100/CF39-100,1),ROUND(CG39/CF39,1)&\" р\")))","v":"4 р"},null,null,{"$f":"IF(CI39=0,0,IF(CJ39=0,\"-100,0\",IF(CJ39*100/CI39<200,ROUND(CJ39*100/CI39-100,1),ROUND(CJ39/CI39,1)&\" р\")))","v":0},null,null,{"$f":"IF(CL39=0,0,IF(CM39=0,\"-100,0\",IF(CM39*100/CL39<200,ROUND(CM39*100/CL39-100,1),ROUND(CM39/CL39,1)&\" р\")))","v":0},null,null,{"$f":"IF(CO39=0,0,IF(CP39=0,\"-100,0\",IF(CP39*100/CO39<200,ROUND(CP39*100/CO39-100,1),ROUND(CP39/CO39,1)&\" р\")))","v":0},null,null,{"$f":"IF(CR39=0,0,IF(CS39=0,\"-100,0\",IF(CS39*100/CR39<200,ROUND(CS39*100/CR39-100,1),ROUND(CS39/CR39,1)&\" р\")))","v":0},null,null,{"$f":"IF(CU39=0,0,IF(CV39=0,\"-100,0\",IF(CV39*100/CU39<200,ROUND(CV39*100/CU39-100,1),ROUND(CV39/CU39,1)&\" р\")))","v":0},null,null,{"$f":"IF(CX39=0,0,IF(CY39=0,\"-100,0\",IF(CY39*100/CX39<200,ROUND(CY39*100/CX39-100,1),ROUND(CY39/CX39,1)&\" р\")))","v":0},null,null,{"$f":"IF(DA39=0,0,IF(DB39=0,\"-100,0\",IF(DB39*100/DA39<200,ROUND(DB39*100/DA39-100,1),ROUND(DB39/DA39,1)&\" р\")))","v":0},null,null,{"$f":"IF(DD39=0,0,IF(DE39=0,\"-100,0\",IF(DE39*100/DD39<200,ROUND(DE39*100/DD39-100,1),ROUND(DE39/DD39,1)&\" р\")))","v":0}]
[31,"№07",21,null,"-100,0",20,null,"-100,0",null,null,0,4,null,"-100,0",3,null,"-100,0",3,null,"-100,0",null,null,0,null,null,0,null,null,0,null,null,0,1,null,"-100,0",null,null,0,null,null,0,null,null,0,5,null,"-100,0",14,null,"-100,0",null,null,0,null,null,0,null,null,0,null,null,0,null,null,0,null,null,0,null,null,0,null,null,0,null,null,0,null,null,0,18,null,"-100,0",2,null,"-100,0",null,null,0,null,null,0,null,null,0,null,null,0,1,null,"-100,0",2,null,"-100,0",null,null,0,null,null,0]
[32,"№07/1",null,93,0,null,35,0,null,1,0,null,2,0,null,null,0,null,1,0,null,null,0,null,null,0,null,null,0,null,null,0,null,1,0,null,null,0,null,null,0,null,null,0,null,2,0,null,12,0,null,null,0,null,null,0,null,null,0,null,null,0,null,null,0,null,null,0,null,null,0,null,null,0,null,null,0,null,null,0,null,112,0,null,13,0,null,8,0,null,7,0,null,null,0,null,null,0,null,null,0,null,null,0,null,null,0,null,null,0]
[33,"№29",19,null,"-100,0",8,null,"-100,0",null,null,0,3,null,"-100,0",2,null,"-100,0",2,null,"-100,0",null,null,0,null,null,0,null,null,0,null,null,0,1,null,"-100,0",null,null,0,null,null,0,null,null,0,3,null,"-100,0",1,null,"-100,0",null,null,0,null,null,0,null,null,0,null,null,0,null,null,0,null,null,0,null,null,0,null,null,0,null,null,0,null,null,0,20,null,"-100,0",3,null,"-100,0",null,null,0,null,null,0,null,null,0,null,null,0,null,null,0,2,null,"-100,0",null,null,0,null,null,0]
[34,"№29/1",null,33,null,null,null,null,null,null,null,null,null,null,null,null,null,null,null,null,null,null,null,null,null,null,null,null,null,null,null,null,null,null,null,null,null,null,null,null,null,null,null,null,null,33]
[35,"№23",null,155,{"$f":"IF(C44=0,0,IF(D44=0,\"-100,0\",IF(D44*100/C44<200,ROUND(D44*100/C44-100,1),ROUND(D44/C44,1)&\" р\")))","v":0},null,24,{"$f":"IF(F44=0,0,IF(G44=0,\"-100,0\",IF(G44*100/F44<200,ROUND(G44*100/F44-100,1),ROUND(G44/F44,1)&\" р\")))","v":0},null,null,{"$f":"IF(I44=0,0,IF(J44=0,\"-100,0\",IF(J44*100/I44<200,ROUND(J44*100/I44-100,1),ROUND(J44/I44,1)&\" р\")))","v":0},null,4,{"$f":"IF(L44=0,0,IF(M44=0,\"-100,0\",IF(M44*100/L44<200,ROUND(M44*100/L44-100,1),ROUND(M44/L44,1)&\" р\")))","v":0},null,3,{"$f":"IF(O44=0,0,IF(P44=0,\"-100,0\",IF(P44*100/O44<200,ROUND(P44*100/O44-100,1),ROUND(P44/O44,1)&\" р\")))","v":0},null,3,{"$f":"IF(R44=0,0,IF(S44=0,\"-100,0\",IF(S44*100/R44<200,ROUND(S44*100/R44-100,1),ROUND(S44/R44,1)&\" р\")))","v":0},null,1,{"$f":"IF(U44=0,0,IF(V44=0,\"-100,0\",IF(V44*100/U44<200,ROUND(V44*100/U44-100,1),ROUND(V44/U44,1)&\" р\")))","v":0},null,null,{"$f":"IF(X44=0,0,IF(Y44=0,\"-100,0\",IF(Y44*100/X44<200,ROUND(Y44*100/X44-100,1),ROUND(Y44/X44,1)&\" р\")))","v":0},null,null,{"$f":"IF(AA44=0,0,IF(AB44=0,\"-100,0\",IF(AB44*100/AA44<200,ROUND(AB44*100/AA44-100,1),ROUND(AB44/AA44,1)&\" р\")))","v":0},null,null,{"$f":"IF(AD44=0,0,IF(AE44=0,\"-100,0\",IF(AE44*100/AD44<200,ROUND(AE44*100/AD44-100,1),ROUND(AE44/AD44,1)&\" р\")))","v":0},null,1,{"$f":"IF(AG44=0,0,IF(AH44=0,\"-100,0\",IF(AH44*100/AG44<200,ROUND(AH44*100/AG44-100,1),ROUND(AH44/AG44,1)&\" р\")))","v":0},null,null,{"$f":"IF(AJ44=0,0,IF(AK44=0,\"-100,0\",IF(AK44*100/AJ44<200,ROUND(AK44*100/AJ44-100,1),ROUND(AK44/AJ44,1)&\" р\")))","v":0},null,1,{"$f":"IF(AM44=0,0,IF(AN44=0,\"-100,0\",IF(AN44*100/AM44<200,ROUND(AN44*100/AM44-100,1),ROUND(AN44/AM44,1)&\" р\")))","v":0},null,1,{"$f":"IF(AP44=0,0,IF(AQ44=0,\"-100,0\",IF(AQ44*100/AP44<200,ROUND(AQ44*100/AP44-100,1),ROUND(AQ44/AP44,1)&\" р\")))","v":0},null,2,{"$f":"IF(AS44=0,0,IF(AT44=0,\"-100,0\",IF(AT44*100/AS44<200,ROUND(AT44*100/AS44-100,1),ROUND(AT44/AS44,1)&\" р\")))","v":0},null,77,{"$f":"IF(AV44=0,0,IF(AW44=0,\"-100,0\",IF(AW44*100/AV44<200,ROUND(AW44*100/AV44-100,1),ROUND(AW44/AV44,1)&\" р\")))","v":0},null,null,{"$f":"IF(AY44=0,0,IF(AZ44=0,\"-100,0\",IF(AZ44*100/AY44<200,ROUND(AZ44*100/AY44-100,1),ROUND(AZ44/AY44,1)&\" р\")))","v":0},null,null,{"$f":"IF(BB44=0,0,IF(BC44=0,\"-100,0\",IF(BC44*100/BB44<200,ROUND(BC44*100/BB44-100,1),ROUND(BC44/BB44,1)&\" р\")))","v":0},null,null,{"$f":"IF(BE44=0,0,IF(BF44=0,\"-100,0\",IF(BF44*100/BE44<200,ROUND(BF44*100/BE44-100,1),ROUND(BF44/BE44,1)&\" р\")))","v":0},null,null,{"$f":"IF(BH44=0,0,IF(BI44=0,\"-100,0\",IF(BI44*100/BH44<200,ROUND(BI44*100/BH44-100,1),ROUND(BI44/BH44,1)&\" р\")))","v":0},null,null,{"$f":"IF(BK44=0,0,IF(BL44=0,\"-100,0\",IF(BL44*100/BK44<200,ROUND(BL44*100/BK44-100,1),ROUND(BL44/BK44,1)&\" р\")))","v":0},null,null,{"$f":"IF(BN44=0,0,IF(BO44=0,\"-100,0\",IF(BO44*100/BN44<200,ROUND(BO44*100/BN44-100,1),ROUND(BO44/BN44,1)&\" р\")))","v":0},null,null,{"$f":"IF(BQ44=0,0,IF(BR44=0,\"-100,0\",IF(BR44*100/BQ44<200,ROUND(BR44*100/BQ44-100,1),ROUND(BR44/BQ44,1)&\" р\")))","v":0},null,null,{"$f":"IF(BT44=0,0,IF(BU44=0,\"-100,0\",IF(BU44*100/BT44<200,ROUND(BU44*100/BT44-100,1),ROUND(BU44/BT44,1)&\" р\")))","v":0},null,null,{"$f":"IF(BW44=0,0,IF(BX44=0,\"-100,0\",IF(BX44*100/BW44<200,ROUND(BX44*100/BW44-100,1),ROUND(BX44/BW44,1)&\" р\")))","v":0},null,null,{"$f":"IF(BZ44=0,0,IF(CA44=0,\"-100,0\",IF(CA44*100/BZ44<200,ROUND(CA44*100/BZ44-100,1),ROUND(CA44/BZ44,1)&\" р\")))","v":0},null,95,{"$f":"IF(CC44=0,0,IF(CD44=0,\"-100,0\",IF(CD44*100/CC44<200,ROUND(CD44*100/CC44-100,1),ROUND(CD44/CC44,1)&\" р\")))","v":0},null,11,{"$f":"IF(CF44=0,0,IF(CG44=0,\"-100,0\",IF(CG44*100/CF44<200,ROUND(CG44*100/CF44-100,1),ROUND(CG44/CF44,1)&\" р\")))","v":0},null,3,{"$f":"IF(CI44=0,0,IF(CJ44=0,\"-100,0\",IF(CJ44*100/CI44<200,ROUND(CJ44*100/CI44-100,1),ROUND(CJ44/CI44,1)&\" р\")))","v":0},null,2,{"$f":"IF(CL44=0,0,IF(CM44=0,\"-100,0\",IF(CM44*100/CL44<200,ROUND(CM44*100/CL44-100,1),ROUND(CM44/CL44,1)&\" р\")))","v":0},null,null,{"$f":"IF(CO44=0,0,IF(CP44=0,\"-100,0\",IF(CP44*100/CO44<200,ROUND(CP44*100/CO44-100,1),ROUND(CP44/CO44,1)&\" р\")))","v":0},null,null,{"$f":"IF(CR44=0,0,IF(CS44=0,\"-100,0\",IF(CS44*100/CR44<200,ROUND(CS44*100/CR44-100,1),ROUND(CS44/CR44,1)&\" р\")))","v":0},null,null,{"$f":"IF(CU44=0,0,IF(CV44=0,\"-100,0\",IF(CV44*100/CU44<200,ROUND(CV44*100/CU44-100,1),ROUND(CV44/CU44,1)&\" р\")))","v":0},null,null,{"$f":"IF(CX44=0,0,IF(CY44=0,\"-100,0\",IF(CY44*100/CX44<200,ROUND(CY44*100/CX44-100,1),ROUND(CY44/CX44,1)&\" р\")))","v":0},null,null,{"$f":"IF(DA44=0,0,IF(DB44=0,\"-100,0\",IF(DB44*100/DA44<200,ROUND(DB44*100/DA44-100,1),ROUND(DB44/DA44,1)&\" р\")))","v":0},null,null,{"$f":"IF(DD44=0,0,IF(DE44=0,\"-100,0\",IF(DE44*100/DD44<200,ROUND(DE44*100/DD44-100,1),ROUND(DE44/DD44,1)&\" р\")))","v":0}]
[36,"№25",null,null,null,null,46,null,null,null,null,null,1,null,null,1,null,null,1,null,null,null,null,null,null,null,null,null,null,null,null,null,null,null,null,null,null,null,null,1,null,null,1,null,null,null,null,null,4,null,null,null,null,null,null,null,null,null,null,null,null,null,null,null,null,null,null,null,null,null,null,null,null,null,null,null,null,null,null,null,null,40,null,null,4,null,null,1,null,null,null,null,null,null,null,null,null,null,null,null,null,null,1]
[37,"№30",null,22,null,null,9,null,null,null,null,null,1,null,null,1,null,null,1,null,null,null,null,null,null,null,null,null,null,null,null,null,null,null,null,null,null,null,null,3,null,null,2,null,null,1,null,null,4,null,null,null,null,null,null,null,null,null,null,null,null,null,null,null,null,null,null,null,null,null,null,null,null,null,null,null,null,null,null,null,null,22]
[38,"Усього (без ВП)",3213,3798,18.2,1292,1673,29.5,186,234,25.8,556,551,-0.9,32,52,62.5,86,150,74.400000000000006,2,3,50,17,18,5.9,0,0,0,0,2,0,470,399,-15.1,0,0,0,27,81,"3 р",19,65,"3,4 р",89,89,0,192,328,70.8,1,0,"-100,0",0,0,0,6,0,"-100,0",1,0,"-100,0",1,0,"-100,0",0,0,0,0,1,0,0,0,0,0,0,0,0,0,0,3641,4422,21.5,172,193,12.2,39,51,30.8,20,25,25,2,1,-50,7,6,-14.3,2,2,0,33,47,42.4,2,4,"2 р",0,2,0]
[39,"Апарат ГВП",56,94,67.900000000000006,47,90,91.5,null,null,0,4,10,"2,5 р",3,9,"3 р",3,9,"3 р",null,null,0,2,null,"-100,0",null,null,0,null,null,0,1,1,0,null,null,0,1,8,"8 р",null,7,0,null,2,0,25,89,"3,6 р",null,null,0,null,null,0,null,null,0,null,null,0,null,null,0,null,null,0,null,null,0,null,null,0,null,null,0,null,null,0,73,75,2.7,10,13,30,12,10,-16.7,8,9,12.5,null,null,0,null,null,0,null,null,0,3,2,-33.299999999999997,null,null,0,null,null,0]
[40,"Західного регіону",335,387,15.5,368,179,-51.4,7,4,-42.9,77,72,-6.5,2,7,"3,5 р",60,58,-3.3,null,null,0,5,14,"2,8 р",null,null,0,null,1,0,17,13,-23.5,null,null,0,212,17,-92,210,16,-92.4,7,11,57.1,11,8,-27.3,null,null,0,null,null,0,null,null,0,null,null,0,null,null,0,null,null,0,null,null,0,null,null,0,null,null,0,null,null,0,396,458,15.7,33,20,-39.4,9,4,-55.6,2,null,"-100,0",null,null,0,null,7,0,null,null,0,4,11,"2,8 р",1,null,"-100,0",null,null,0]
[41,"Південного регіону",306,284,-7.2,265,340,28.3,13,3,-76.900000000000006,125,133,6.4,2,null,"-100,0",97,107,10.3,null,null,0,12,3,-75,null,null,0,7,null,"-100,0",21,26,23.8,null,4,0,83,117,41,81,116,43.2,13,40,"3,1 р",9,12,33.299999999999997,null,null,0,null,null,0,null,null,0,null,null,0,null,null,0,null,null,0,null,null,0,null,null,0,null,null,0,null,null,0,341,322,-5.6,24,40,66.7,8,13,62.5,1,8,"8 р",null,null,0,null,null,0,2,null,"-100,0",3,1,-66.7,null,null,0,null,null,0]
[42,"Центрального регіону",425,407,-4.2,274,226,-17.5,3,4,33.299999999999997,137,90,-34.299999999999997,4,3,-25,108,81,-25,null,null,0,3,1,-66.7,null,null,0,1,3,"3 р",28,6,-78.599999999999994,4,null,"-100,0",68,22,-67.599999999999994,68,22,-67.599999999999994,16,19,18.8,14,1,-92.9,null,null,0,null,null,0,null,null,0,null,null,0,null,null,0,null,null,0,null,null,0,null,null,0,null,null,0,null,null,0,464,501,8,41,26,-36.6,7,7,0,3,2,-33.299999999999997,null,null,0,null,1,0,null,null,0,6,5,-16.7,null,null,0,null,1,0]
[43,"Сил АТО",742,439,null,219,257,null,3,5,null,118,119,null,8,3,null,96,84,null,1,null,null,22,28,null,null,null,null,null,null,null,22,35,null,2,1,null,22,17,null,22,17,null,18,27,null,23,24,null,null,null,null,null,null,null,null,null,null,null,null,null,null,null,null,null,null,null,null,null,null,null,null,null,null,null,null,null,null,null,780,509,null,40,24,null,19,6,null,14,5,null,null,null,null,null,null,null,null,null,null,2,3]
[44,"Усього по ВП",1864,1611,-13.6,1173,1092,-6.9,26,16,-38.5,461,424,-8,19,22,15.8,364,339,-6.9,1,0,"-100,0",44,46,4.5,0,0,0,8,4,-50,89,81,-9,6,5,-16.7,386,181,-53.1,381,178,-53.3,54,99,83.3,82,134,63.4,0,0,0,0,0,0,0,0,0,0,0,0,0,0,0,0,0,0,0,0,0,0,0,0,0,0,0,0,0,0,2054,1865,-9.1999999999999993,148,123,-16.899999999999999,55,40,-27.3,28,24,-14.3,0,0,0,0,8,0,2,0,"-100,0",18,22,22.2,1,0,"-100,0",0,1,0]
[45,"Усього по Україні",5077,5409,6.5,2465,2765,12.2,212,250,17.899999999999999,1017,975,-4.0999999999999996,51,74,45.1,450,489,8.6999999999999993,3,3,0,61,64,4.9000000000000004,0,0,0,8,6,-25,559,480,-14.1,6,5,-16.7,413,262,-36.6,400,243,-39.299999999999997,143,188,31.5,274,462,68.599999999999994,1,0,"-100,0",0,0,0,6,0,"-100,0",1,0,"-100,0",1,0,"-100,0",0,0,0,0,1,0,0,0,0,0,0,0,0,0,0,5695,6287,10.4,320,316,-1.3,94,91,-3.2,48,49,2.1,2,1,-50,7,14,"2 р",4,2,-50,51,69,35.299999999999997,3,4,33.299999999999997,0,3,0]