{"text_format":"1","workbook":"xlsx","n_sheets":12,"sheets":["Титульний","Таблиця 1","Таб 1","Таб 2-3","Таб 4-6","Таб 7-9","Таб 10-11","Довідки","Довідки1","Довідки2","Довідки3","Dov"],"not_rendered":{"charts":0,"images":0,"macros":1,"external_links":6,"defined_names":81,"comments":0,"pivot_tables":0},"unopened":[{"sheet":"Dov","index":11,"reason":"not_a_worksheet"}],"bounds":{"document_bytes":16777216,"sheet_cells":100000,"rows_first":2000,"rows_last":500,"rows_between":2000,"halvings":0,"cell_chars":16384,"cell_head_chars":4096},"cells_cut":0,"cells_raw":0,"read":"whole","date_system":"1900"}

{"sheet":"Титульний","index":0,"n_rows":23,"n_cols":7,"rows_kept":23,"cut":false,"hidden":false,"merged":[[6,0,6,6],[8,0,8,3],[9,0,9,3],[9,5,9,6],[1,0,1,6],[3,0,3,6],[4,0,4,6],[5,0,5,6],[8,5,8,6],[22,0,22,6],[15,0,15,3],[16,0,16,3],[13,0,13,3],[10,0,10,3],[14,0,14,3],[11,0,12,3],[11,4,12,4],[10,5,13,6]]}
[null,null,null,null,null,null,"Додаток 1\nдо Інструкції зі складання \nзвітності про роботу слідчих\n(підпункт 1 пункту 2 розділу I)"]
["ЗВІТНІСТЬ"]
[]
["ПРО РОБОТУ"]
["ПРО РОБОТУ СЛІДЧИХ ОРГАНІВ ПРОКУРАТУРИ"]
[" (без військових прокуратур)"]
["за 3 місяці 2019 року"]
[]
["Подають: ",null,null,null,"Терміни\nподання","Форма № 1-СЛ"]
["Слідчі підрозділи регіональних прокуратур – керівнику регіональної прокуратури ",null,null,null,"до 03 числа місяця, що настає за звітним періодом","(квартальна)\n\n"]
["Керівники регіональних прокуратур – Генеральній прокуратурі України ",null,null,null,"до 05 числа місяця, що настає за звітним періодом","ЗАТВЕРДЖЕНО\nНаказ \nГенеральної прокуратури України, \nМіністерства внутрішніх справ України, \nСлужби безпеки України, \nМіністерства фінансів України, \nНаціонального антикорупційного \nбюро України\nвід 24 жовтня 2017 року \n№ 298/875/593/866/200-О    \n\n\n\nза погодженням з Держстатом"]
["Структурні підрозділи Генеральної прокуратури України, які здійснюють досудове розслідування,  – підрозділу з питань організаційного забезпечення Єдиного реєстру досудових розслідувань та інформаційно-аналітичної роботи Генеральної прокуратури України ",null,null,null,"до 03 числа місяця, що настає за звітним періодом"]
[]
["Генеральна прокуратура України – Державній службі статистики України  ",null,null,null,"на 35 день, \nщо настає за звітним періодом (півріччя, рік)"]
[]
[]
[]
[]
["Респондент: "]
["Найменування:","прокуратура"]
["Місцезнаходження:","14000, вул. Князя Чорного 9, м. Чернігів"]
[]
["(поштовий індекс, область, район, населений пункт, вулиця/провулок, площа тощо, № будинку/корпусу)"]

{"sheet":"Таблиця 1","index":1,"n_rows":41,"n_cols":10,"rows_kept":41,"cut":false,"hidden":false,"merged":[[30,1,30,2],[35,1,35,2],[31,1,31,2],[2,8,2,9],[2,6,2,7],[4,0,4,2],[2,3,3,3],[2,4,2,5],[28,0,40,0],[34,1,34,2],[28,1,28,2],[16,0,16,2],[32,1,32,2],[17,1,17,2],[17,0,26,0],[40,1,40,2],[36,1,36,2],[37,1,37,2],[38,1,38,2],[39,1,39,2],[1,0,1,9],[7,1,10,1],[11,1,11,2],[6,0,15,0],[6,1,6,2],[12,1,15,1],[2,0,3,2],[18,1,21,1],[22,1,22,2],[23,1,26,1],[5,0,5,2],[27,0,27,2]]}
[]
["Таблиця 1. Кількість кримінальних проваджень, у яких закінчено досудове розслідування (без повторних)"]
[null,null,null,"рядок","Кількість\nнаправлених до суду\nобвинувальних\nактів",null,"Кількість\nнаправлених до суду клопотань про звільнення від кримінальної відповідальності ",null,"Кількість закритих\nкримінальних проваджень"]
[null,null,null,null,"усього","стосовно\nякої\nкількості\nосіб","усього","стосовно\nякої\nкількості\nосіб","усього","у тому числі за пунктами 1-3 частини першої статті 284 КПК України"]
["а",null,null,"б",1,2,3,4,5,6]
["Кримінальні правопорушення, вчинені державними службовцями, посада яких належить до категорії «А» ",null,null,1]
["з них:","У сфері службової діяльності ",null,2]
[null,"у тому числі:","зловживання владою або службовим становищем \n(стаття 364 КК України)",3]
[null,null,"службова недбалість (стаття 367 КК України)",4]
[null,null,"злочини щодо неправомірної вигоди (статті 368-370 КК України)",5]
[null,null,"інші кримінальні правопорушення, вчинені у сфері службової діяльності",6]
[null,"Кримінальні правопорушення, не пов’язані із службовою діяльністю",null,7]
[null,"у тому числі:","злочини проти життя та здоров’я особи (розділ ІІ КК України)",8]
[null,null,"злочини проти волі, честі та гідності особи (розділ ІІІ КК України)",9]
[null,null,"злочини проти безпеки руху та експлуатації транспорту (статті 276-292 КК України)",10]
[null,null,"інші кримінальні правопорушення, не пов’язані із службовою діяльністю",11]
["Кримінальні правопорушення, вчинені державними службовцями, посада яких належить до категорії «Б»",null,null,12]
["з них:"," У сфері службової діяльності ",null,13]
[null,"у тому числі:","зловживання владою або службовим становищем \n(стаття 364 КК України)",14]
[null,null,"службова недбалість (стаття 367 КК України)",15]
[null,null,"злочини щодо неправомірної вигоди (статті 368-370 КК України)",16]
[null,null,"інші кримінальні правопорушення, вчинені у сфері службової діяльності",17]
[null,"Кримінальні правопорушення, не пов’язані із службовою діяльністю",null,18]
[null,"у тому числі:","злочини проти життя та здоров’я особи (розділ ІІ КК України)",19]
[null,null,"злочини проти волі, честі та гідності особи (розділ ІІІ КК України)",20]
[null,null,"злочини проти безпеки руху та експлуатації транспорту (статті 276-292 КК України)",21]
[null,null,"інші кримінальні правопорушення, не пов’язані із службовою діяльністю",22]
["Кримінальні правопорушення, вчинені працівниками правоохоронних органів",null,null,23]
["з них:","Національної поліції України",null,24]
[null,"у т.ч.:","Національної гвардії України",25]
[null,"прокуратури",null,26]
[null,"Служби безпеки України",null,27]
[null,"Державної фіскальної служби України",null,28]
[null,"у т.ч.:","митної служби",29]
[null,"органів і установ Державної кримінально-виконавчої служби України",null,30]
[null,"Державної фінансової інспекції України",null,31]
[null,"Державної рибної охорони України",null,32]
[null,"Державної лісової охорони України",null,33]
[null,"Військової служби правопорядку у Збройних Силах України",null,34]
[null,"Державної прикордонної служби України",null,35]
[null,"працівниками інших органів, що здійснюють правозастосовні або правоохоронні функції",null,36]

{"sheet":"Таб 1","index":2,"n_rows":30,"n_cols":10,"rows_kept":30,"cut":false,"hidden":false,"merged":[[26,1,26,2],[23,0,23,2],[22,0,22,2],[24,1,24,2],[25,1,25,2],[29,0,29,2],[0,0,0,2],[12,0,12,2],[24,0,27,0],[27,1,27,2],[13,1,13,2],[18,1,21,1],[2,1,6,1],[1,0,11,0],[1,1,1,2],[17,1,17,2],[8,1,11,1],[7,1,7,2],[13,0,21,0],[14,1,16,1],[28,0,28,2]]}
["а",null,null,"б",1,2,3,4,5,6]
["з них:","У сфері службової діяльності ",null,37]
[null,"у тому числі:","зловживання владою або службовим становищем (стаття 364 КК України)",38]
[null,null,"перевищення влади або службових повноважень (стаття 365 КК України)",39]
[null,null,"службова недбалість (стаття 367 КК України)",40]
[null,null,"злочини щодо неправомірної вигоди (статті 368-370 КК України)",41]
[null,null,"інші кримінальні правопорушення, вчинені у сфері службової діяльності",42]
[null,"Кримінальні правопорушення, не пов’язані із службовою діяльністю",null,43]
[null,"у тому числі:","злочини проти життя та здоров’я особи (розділ ІІ КК України)",44]
[null,null,"злочини проти волі, честі та гідності особи (розділ ІІІ КК України)",45]
[null,null,"злочини проти безпеки руху та експ. транспорту (статті 276-292 КК України)",46]
[null,null,"інші кримінальні правопорушення, не пов’язані із службовою діяльністю",47]
["Кримінальні правопорушення, вчинені суддями",null,null,48]
["з них:","У сфері здійснення правосуддя",null,49]
[null,"у тому числі:","постановлення завідомо неправосудного вироку, рішення або ухвали (стаття 375 КК України)",50]
[null,null,"злочини щодо неправомірної вигоди (статті 368-370 КК України)",51]
[null,null,"інші кримінальні правопорушення, вчинені у сфері службової діяльності щодо здійснення правосуддя",52]
[null,"Не пов’язані із службовою діяльністю щодо здійснення правосуддя",null,53]
[null,"у тому числі:","злочини проти життя та здоров’я особи (розділ ІІ КК України)",54]
[null,null,"злочини проти волі, честі та гідності особи (розділ ІІІ КК України)",55]
[null,null,"злочини проти безпеки руху та експлуатації  транспорту (статті 276-292 КК України)",56]
[null,null,"інші кримінальні правопорушення, не пов’язані із службовою діяльністю",57]
["Інші кримінальні правопорушення",null,null,58]
["УСЬОГО",null,null,59]
["з них:","про правопорушення, вчинені організованою групою та злочинною організацією",null,60,null,null,"Х","Х",null,"Х"]
[null,"про корупційні правопорушення ",null,61,null,null,null,null,null,"Х"]
[null,"про правопорушення, вчинені у сфері земельних правовідносин",null,62]
[null,"про правопорушення, вчинені у бюджетній системі",null,63]
["Клопотання про застосування примусових заходів медичного характеру (не входить у рядок 59)",null,null,64,null,null,"Х","Х","Х","Х"]
["Контрольний рядок",null,null,65,{"$f":"SUM('Таблиця 1'!E6:E41)+SUM('Таб 1'!E2:E29)","v":0},{"$f":"SUM('Таблиця 1'!F6:F41)+SUM('Таб 1'!F2:F29)","v":0},{"$f":"SUM('Таблиця 1'!G6:G41)+SUM('Таб 1'!G2:G24)+G26+G27+G28","v":0},{"$f":"SUM('Таблиця 1'!H6:H41)+SUM('Таб 1'!H2:H24)+H26+H27+H28","v":0},{"$f":"SUM('Таблиця 1'!I6:I41)+SUM('Таб 1'!I2:I28)","v":0},{"$f":"SUM('Таблиця 1'!J6:J41)+SUM('Таб 1'!J2:J24)+J27+J28","v":0}]

{"sheet":"Таб 2-3","index":3,"n_rows":45,"n_cols":7,"rows_kept":45,"cut":false,"hidden":false,"merged":[[26,0,26,4],[5,0,5,4],[6,0,6,4],[7,0,7,4],[9,0,18,0],[11,1,16,2],[24,1,24,4],[21,0,21,4],[22,0,25,0],[25,1,25,4],[22,1,22,4],[23,1,23,4],[19,0,19,4],[20,0,20,4],[27,0,27,1],[27,2,27,4],[44,0,44,4],[30,0,30,4],[28,0,29,3],[31,0,32,2],[31,3,31,4],[32,3,32,4],[39,0,39,2],[39,3,39,4],[33,0,33,4],[34,0,34,4],[38,0,38,4],[37,0,37,4],[36,0,36,4],[40,0,40,2],[1,0,1,4],[18,2,18,4],[8,0,8,4],[9,1,9,4],[2,0,2,4],[3,0,3,4],[4,0,4,4],[17,1,17,4],[10,1,10,4],[11,3,11,4],[12,3,14,3],[15,3,15,4],[16,3,16,4],[40,3,40,4],[41,0,43,2],[41,3,41,4],[42,3,42,4],[43,3,43,4]]}
["Таблиця 2. Результати розслідування кримінальних проваджень "]
[null,null,null,null,null,"рядок"," Усього"]
["а",null,null,null,null,"б",1]
["Залишок незакінчених кримінальних проваджень на початок звітного періоду",null,null,null,null,1,1]
["Розпочато проваджень у звітному періоді (у тому числі виділених в окреме провадження згідно з частиною третьою статті 217 КПК України)",null,null,null,null,2]
["Відновлено розслідування у раніше закритих кримінальних провадженнях",null,null,null,null,3]
["Відновлено розслідування у раніше зупинених кримінальних провадженнях",null,null,null,null,4]
["Надійшло проваджень від інших органів (у тому числі із судів), прийнятих до провадження",null,null,null,null,5]
["Усього закінчено кримінальних проваджень у звітному періоді",null,null,null,null,6]
["з них (з рядка  6):","розслідування у яких розпочато у звітному періоді",null,null,null,7]
[null,"закінчено кримінальних проваджень у строки понад 2 місяці",null,null,null,8]
[null,"направлено до суду",null,"обвинувальних актів",null,9]
[null,null,null,"у тому числі:","у яких здійснювалося спеціальне досудове розслідування",10]
[null,null,null,null,"з угодою про примирення",11]
[null,null,null,null,"з угодою про визнання винуватості",12]
[null,null,null,"клопотань про застосування примусових заходів медичного характеру",null,13]
[null,null,null,"клопотань про звільнення підозрюваного від кримінальної відповідальності",null,14]
[null,"закрито кримінальних проваджень із числа закінчених",null,null,null,15]
[null,"з них:","закрито прокурором",null,null,16]
["Направлено кримінальних проваджень за підслідністю",null,null,null,null,17]
["Об’єднано кримінальних проваджень ",null,null,null,null,18]
["Кількість кримінальних проваджень, у яких зупинено досудове розслідування ",null,null,null,null,19]
["  з них:","за пунктом 1 частини першої статті 280 КПК України (у зв’язку з хворобою підозрюваного)",null,null,null,20]
[null,"за пунктом 2 частини першої статті 280 КПК України (у зв’язку з оголошенням у розшук підозрюваного)",null,null,null,21]
[null,"за пунктом 2¹ частини першої статті 280 КПК України (у зв’язку з відмовою слідчим суддею у задоволенні клопотання про здійснення спеціального досудового розслідування)",null,null,null,22]
[null,"за пунктом 3 частини першої статті 280 КПК України (для виконання процесуальних дій у межах міжнародного співробітництва)",null,null,null,23]
["Залишок незакінчених кримінальних проваджень ",null,null,null,null,24,1]
["з них:",null,"з повідомленням особи про підозру у вчиненні кримінального правопорушення",null,null,25]
["Із залишку незакінчених кримінальних проваджень, за якими особу повідомлено про підозру у вчиненні кримінального правопорушення, зі строком розслідування (з рядка 25)",null,null,null,"понад 2 місяці, але не більше 6 місяців",26]
[null,null,null,null,"понад 6 місяців, але не більше 1 року",27]
["Кількість осіб, які тримаються під вартою, за незакінченими кримінальними провадженнями",null,null,null,null,28]
["у тому числі зі строком:",null,null,"понад шістдесят днів, але не більше 6 місяців",null,29]
[null,null,null,"понад 6 місяців, але не більше 1 року ",null,30]
["Кількість слідчих (станом на 01.01)",null,null,null,null,31]
["Контрольний рядок",null,null,null,null,32,{"$f":"SUM(G4:G34)","v":2}]
["Таблиця 3. Строки досудового розслідування"]
[null,null,null,null,null,"рядок","Закінчено кримінальних проваджень (без повторно закінчених)"]
["а",null,null,null,null,"б",1]
["У С Ь О Г О",null,null,null,null,1]
["у тому числі: ",null,null,"у яких особі повідомлено про підозру у вчиненні злочину",null,2]
["з них (з рядка 2):",null,null,"закінчено у строк понад 2 місяці з дня повідомлення особі про підозру",null,3]
["закінчено у строк \n(з рядка 3):",null,null,"до 3 місяців",null,4]
[null,null,null,"від 3 до 6 місяців ",null,5]
[null,null,null,"від 6 місяців до 1 року",null,6]
["Контрольний рядок",null,null,null,null,7,{"$f":"SUM(G39:G44)","v":0}]

{"sheet":"Таб 4-6","index":4,"n_rows":37,"n_cols":11,"rows_kept":37,"cut":false,"hidden":false,"merged":[[34,0,34,2],[33,1,33,2],[27,0,27,2],[29,1,29,2],[11,0,12,2],[23,0,24,0],[23,1,23,2],[22,0,22,2],[28,1,28,2],[19,1,19,2],[18,1,18,2],[30,0,30,2],[31,1,31,2],[13,0,13,2],[14,0,14,4],[11,4,12,4],[11,3,12,3],[11,7,11,8],[13,6,13,8],[5,6,12,6],[28,0,29,0],[25,0,25,2],[26,1,26,2],[16,0,16,2],[17,0,17,2],[36,0,36,2],[5,7,5,8],[0,6,0,10],[4,7,4,8],[7,7,7,8],[9,7,9,8],[20,0,20,2],[21,1,21,2],[18,0,19,0],[35,1,35,2],[24,1,24,2],[2,6,2,8],[3,6,3,8],[32,0,32,2],[2,0,2,2],[3,0,10,1]]}
["Таблиця 4. Підстави закриття кримінальних проваджень (без повторно закритих)",null,null,null,null,null,"Таблиця 6. Кількість кримінальних проваджень, у яких зупинено досудове розслідування \n(без повторно зупинених)"]
[null,null,null,"рядок",null,null,null,null,null,"рядок"]
["а",null,null,"б",1,null,"а",null,null,"б",1]
["Закрито проваджень на підставі:",null,"пункту 1 частини першої статті 284 КПК України (за відсутністю події кримінального правопорушення)",1,null,null,"Залишок кримінальних проваджень, у яких зупинено досудове розслідування, на кінець звітного періоду",null,null,1]
[null,null,"пункту 2 частини першої статті 284 КПК України (за відсутністю складу кримінального правопорушення)",2,null,null,"з них:","зупинено вперше в поточному році",null,2]
[null,null,"пункту 3 частини першої статті 284 КПК України (за невстановленням доказів винуватості особи)",3,null,null,"у тому числі:","Унаслідок захворювання підозрюваного (пункт 1 частини першої статті 280 КПК України)",null,3]
[null,null,"пункту 4 частини першої статті 284 КПК України (законом скасована кримінальна відповідальність)",4,null,null,null,"з них:","зупинено вперше в поточному році",4]
[null,null,"пункту 5 частини першої статті 284 КПК України (у зв’язку зі смертю підозрюваного, обвинуваченого)",5,null,null,null,"Оголошено в розшук підозрюваного (пункт 2 частини першої статті 280 КПК України)",null,5]
[null,null,"пункту 6 частини першої статті 284 КПК України (за наявністю вироку по тому самому обвинуваченню)",6,null,null,null,"з них:","зупинено вперше в поточному році",6]
[null,null,"пункту 7 частини першої статті 284 КПК України (у разі відмови потерпілого від обвинувачення)",7,null,null,null,"Слідчий суддя відмовив у задоволенні клопотання про здійснення спеціального досудового розслідування (пункт 2¹ частини першої статті 280 КПК України)",null,7]
[null,null,"пункту 8 частини першої статті 284 КПК України (у разі неотримання згоди держави, яка видала особу)",8,null,null,null,"з них:","зупинено вперше в поточному році",8]
["Направлено до суду клопотань про звільнення підозрюваного, обвинуваченого від кримінальної відповідальності у зв’язку із закінченням строків давності (дані в таблицю 1 не включаються)",null,null,9,null,null,null,"За необхідності виконання процесуальних дій у межах міжнародного співробітництва (пункт 3 частини першої статті 280 КПК України)",null,9]
[null,null,null,null,null,null,null,"з них:","зупинено вперше в поточному році",10]
["Контрольний рядок",null,null,10,{"$f":"SUM(E4:E12)","v":0},null,"Контрольний рядок",null,null,11,{"$f":"SUM(K4:K13)","v":0}]
["Таблиця 5. Дані про виправданих осіб та осіб, стосовно яких кримінальне провадження\nзакрито за реабілітуючими підставами (без повторних) "]
[null,null,null,"рядок"]
["а",null,null,"б",1]
["Кількість підозрюваних осіб, стосовно яких кримінальне провадження закрито прокурором на підставі пунктів 1-3 частини першої статті 284 КПК України ",null,null,1,1]
["з них:","трималися під вартою",null,2]
[null,"перебували під домашнім арештом",null,3]
["Кількість обвинувачених та підозрюваних осіб, стосовно яких провадження закрито за реабілітуючими підставами (за кримінальними справами, розслідуваними до 20.11.2012)",null,null,4]
["з них:","трималися під вартою",null,5]
["Кількість виправданих осіб та осіб, стосовно яких провадження закриті судом за реабілітуючими підставами ",null,null,6]
["з них:","трималися під вартою",null,7]
[null,"перебували під домашнім арештом",null,8]
["Кількість виправданих осіб та осіб, стосовно яких справи закриті судом за відсутністю події або складу злочину і за недоведеністю обвинувачення (за кримінальними справами, направленими до суду до 20.11.2012)",null,null,9]
["з них:","трималися під вартою",null,10]
["Кількість осіб, стосовно яких кримінальні провадження закриті судом у зв’язку з відмовою прокурора від підтримання державного обвинувачення",null,null,11]
["з них:","трималися під вартою",null,12]
[null,"перебували під домашнім арештом",null,13]
["Кількість осіб, стосовно яких кримінальні справи закриті судом у зв’язку з відмовою прокурора від підтримання державного обвинувачення (за кримінальними справами, направленими до суду до 20.11.2012)",null,null,14]
["з них:","трималися під вартою",null,15]
["Кількість осіб, яких притягнуто до кримінальної відповідальності, але у зв’язку із зміною законодавства (декриміналізацією) провадження стосовно них закриті на стадії розслідування за відсутністю складу злочину",null,null,16]
["з них:","трималися під вартою",null,17]
["Кількість осіб, стосовно яких провадження закриті судом у зв’язку із зміною законодавства (декриміналізацією) за відсутністю складу злочину",null,null,18]
["з них:","трималися під вартою",null,19]
["Контрольний рядок",null,null,20,{"$f":"SUM(E18:E36)","v":1}]

{"sheet":"Таб 7-9","index":5,"n_rows":36,"n_cols":19,"rows_kept":36,"cut":false,"hidden":false,"merged":[[24,17,25,18],[26,10,27,14],[26,15,27,16],[20,6,22,6],[20,5,22,5],[0,0,0,8],[16,0,16,6],[2,0,2,6],[3,0,3,6],[4,0,4,6],[5,0,15,0],[6,2,6,6],[9,1,9,6],[15,1,15,6],[5,1,5,6],[6,1,8,1],[8,2,8,6],[11,4,11,6],[12,4,12,6],[13,4,13,6],[7,2,7,6],[24,0,24,2],[34,0,34,2],[35,0,35,2],[27,0,31,0],[28,1,28,2],[33,0,33,2],[30,1,30,2],[31,1,31,2],[27,1,27,2],[32,0,32,2],[26,0,26,2],[25,1,25,2],[30,12,30,14],[0,10,0,18],[3,10,3,12],[4,10,4,12],[5,10,6,10],[5,11,5,12],[6,11,6,12],[7,10,7,12],[11,10,11,16],[12,10,12,16],[13,11,13,16],[14,12,14,16],[16,11,16,16],[1,18,2,18],[1,17,2,17],[1,16,2,16],[28,10,28,18],[1,15,2,15],[1,13,2,13],[1,10,2,12],[10,10,10,16],[20,10,20,16],[15,12,15,16],[14,11,15,11],[17,12,17,16],[18,11,18,16],[19,11,19,16],[13,10,19,10],[1,14,2,14],[26,17,27,18],[24,10,25,14],[24,15,25,16],[23,0,23,2],[14,4,14,6],[11,1,14,1],[11,2,14,3],[8,10,9,18],[10,1,10,6],[17,0,18,8],[19,3,22,3],[20,7,22,7],[22,10,23,14],[22,17,23,18],[22,15,23,16],[20,4,22,4],[19,4,19,7]]}
["Таблиця 7. Кількість затриманих осіб як підозрюваних, обрання запобіжного заходу",null,null,null,null,null,null,null,null,null,"Таблиця 9. Забезпечення відшкодування збитків за закінченими кримінальними  провадженнями\n(за обвинувальними актами, клопотаннями, постановами про закриття провадження на підставі пункту 5 частини першої статті 284 КПК України) "]
[null,null,null,null,null,null,null,"рядок",null,null,null,null,null,"рядок","Установлено збитків\nна суму\n(у тис. грн.)","Відшкодовано збитків\nна суму\n(у тис. грн.)","Накладено арешт на майно на суму\n(у тис. грн.)","У тому числі вилучено грошей та цінностей \n(для забезпечення відшкодування збитків)\nна суму\n(у тис. грн)","Сума, на яку пред’явлено позови\n( у тис. грн.)"]
["а",null,null,null,null,null,null,"б",1]
["Затримано осіб у порядку, передбаченому статтями 207, 208 КПК України  ",null,null,null,null,null,null,1,null,null,"а",null,null,"б",1,2,3,4,5]
["Усього звільнено осіб",null,null,null,null,null,null,2,null,null,"УСЬОГО",null,null,1]
["у тому числі:","звільнено осіб слідчим (прокурором, судом) без застосування запобіжного заходу у вигляді тримання під вартою",null,null,null,null,null,3,null,null,"з них:","інтересам держави \nта територіальних громад",null,2]
[null,"з них:","за непідтвердженням підозри у вчиненні злочину",null,null,null,null,4,null,null,null,"про земельні правовідносини",null,3]
[null,null,"у зв’язку із закінченням установленого законом строку затримання",null,null,null,null,5,null,null,"Контрольний рядок",null,null,4,{"$f":"SUM(O5:O7)","v":0},{"$f":"SUM(P5:P7)","v":0},{"$f":"SUM(Q5:Q7)","v":0},{"$f":"SUM(R5:R7)","v":0},{"$f":"SUM(S5:S7)","v":0}]
[null,null,"у зв’язку із внесенням  клопотань слідчими про обрання більш м’яких запобіжних заходів (застави, домашнього арешту тощо) ",null,null,null,null,6]
[null,"у зв’язку з відмовою прокурора підтримати клопотання про застосування запобіжного заходу \nу вигляді тримання під вартою ",null,null,null,null,null,7]
[null,"через відмову суду в обранні запобіжного заходу у вигляді тримання під вартою",null,null,null,null,null,8]
[null,"з них:","у зв’язку з обранням\nінших запобіжних заходів:",null,"домашнього арешту",null,null,9]
[null,null,null,null," застави",null,null,10]
[null,null,null,null," особистої поруки",null,null,11]
[null,null,null,null," особистого зобов’язання ",null,null,12]
[null,"у зв’язку із скасуванням апеляційним судом постанови суду про тримання під вартою",null,null,null,null,null,13]
["Контрольний рядок",null,null,null,null,null,null,14,{"$f":"SUM(I4:I16)","v":0}]
["Таблиця 8. Кількість повернутих судом кримінальних проваджень, обвинувальних актів, клопотань прокурору та результати їх розслідування   "]
[]
[null,null,null,"рядок","Повернуто проваджень, обвинувальних актів, клопотань, у тому числі:"]
[null,null,null,null,"обвинувальних актів \n(пункт 3 частини третьої статті 314 КПК України) ","клопотань про застосування примусових заходів медичного характеру\n(пункт 3 частини третьої статті 314 \nКПК України)","клопотань про звільнення особи від кримінальної відповідальності\n(частина четверта статті 288 \nКПК України)","проваджень \n(пункт 1 частини \nтретьої статті 314, \nпункт 2 частини \nдругої статті 407 \nКПК України)"]
[]
[]
["а",null,null,"б",1,2,3,4]
["Усього надійшло із судів прокурору",null,null,1]
["з них:","направлено до суду в звітному періоді\nбез проведення досудового розслідування",null,2]
["Перебувало у слідчого в провадженні у звітному періоді",null,null,3]
["з них (з рядка 3):","направлено до суду обвинувальних актів",null,4]
[null,"закрито",null,5]
[null,"у т.ч.:","за пунктами 1-3 частини першої статті 284 КПК України",6]
[null,"направлено до суду клопотань про звільнення від кримінальної відповідальності",null,7]
[null,"направлено до суду клопотань про застосування примусових заходів медичного характеру",null,8]
["3упинено проваджень",null,null,9]
["Направлено проваджень за підслідністю",null,null,10]
["Залишок незакінчених кримінальних проваджень",null,null,11]
["Контрольний рядок",null,null,12,{"$f":"SUM(E25:E35)","v":0},{"$f":"SUM(F25:F35)","v":0},{"$f":"SUM(G25:G35)","v":0},{"$f":"SUM(H25:H35)","v":0}]

{"sheet":"Таб 10-11","index":6,"n_rows":33,"n_cols":21,"rows_kept":33,"cut":false,"hidden":false,"merged":[[18,12,19,16],[18,17,19,18],[18,19,19,20],[20,12,20,20],[22,12,22,16],[12,12,12,18],[14,12,15,16],[14,17,15,18],[14,19,15,20],[16,12,17,16],[16,17,17,18],[16,19,17,20],[0,12,1,20],[2,12,2,18],[3,12,3,18],[4,12,4,18],[5,12,11,12],[5,13,5,18],[6,13,7,13],[6,14,6,18],[7,14,7,18],[8,13,8,18],[9,14,9,18],[10,13,10,18],[11,13,11,18],[11,0,11,2],[4,0,4,2],[5,0,5,2],[6,0,10,0],[6,1,6,2],[8,1,8,2],[9,1,9,2],[10,1,10,2],[2,0,3,2],[2,3,3,3],[2,4,3,4],[2,5,2,10],[0,0,1,11],[12,0,16,0],[12,1,12,2],[14,1,14,2],[15,1,15,2],[16,1,16,2],[17,0,17,2],[18,0,22,0],[18,1,18,2],[20,1,20,2],[21,1,21,2],[22,1,22,2],[23,12,23,20],[29,0,29,2],[30,0,30,2],[31,0,31,2],[32,0,32,2],[23,0,23,2],[24,0,28,0],[24,1,24,2],[26,1,26,2],[27,1,27,2],[28,1,28,2]]}
["Таблиця 10. Кримінальні провадження про злочини, вчинені працівниками правоохоронних органів, щодо застосування катувань та іншого жорстокого поводження (без повторних) ",null,null,null,null,null,null,null,null,null,null,null,"Таблиця 11. Кількість повернутих справ судом для проведення додаткового розслідування відповідно до пункту 12 Перехідних положень КПК України"]
[]
[null,null,null,"рядок","Про катування та інше жорстоке поводження з особами","З них за злочинами, передбаченими статтями КК України:",null,null,null,null,null,"З графи 1",null,null,null,null,null,null,null,"рядок","Всього"]
[null,null,null,null,null,"стаття 127 ","стаття 364 ","стаття 365 ","стаття 367 ","стаття 373 ","за іншими статтями КК України","зі смертельними наслідками","а",null,null,null,null,null,null,"б",1]
["a",null,null,"б",1,2,3,4,5,6,7,8,"Повернуто справ судом для проведення додаткового розслідування",null,null,null,null,null,null,1]
["Розслідувалось кримінальних проваджень",null,null,1,null,null,null,null,null,null,null,null,"у тому числі:","направлено до суду обвинувальних актів",null,null,null,null,null,2]
["у тому числі стосовно працівників:","Національної поліції України",null,2,null,null,null,null,null,null,null,null,null,"з них:  ","з угодами про примирення",null,null,null,null,3]
[null,"з них:","Національної гвардії України",3,null,null,null,null,null,null,null,null,null,null,"з угодами про визнання винуватості",null,null,null,null,4]
[null,"Державної фіскальної служби України",null,4,null,null,null,null,null,null,null,null,null,"закрито",null,null,null,null,null,5]
[null,"Служби безпеки України",null,5,null,null,null,null,null,null,null,null,null,"з них:  ","за пунктами 1-3 частини першої статті 284 КПК України",null,null,null,null,6]
[null,"Державної кримінально-виконавчої служби України",null,6,null,null,null,null,null,null,null,null,null,"направлено до суду клопотань про звільнення від кримінальної відповідальності",null,null,null,null,null,7]
["З них: розпочатих у поточному році",null,null,7,null,null,null,null,null,null,null,null,null,"направлено за підслідністю ",null,null,null,null,null,8]
["у тому числі стосовно працівників:","Національної поліції України",null,8,null,null,null,null,null,null,null,null,"Контрольний рядок",null,null,null,null,null,null,9,{"$f":"SUM(U5:U12)","v":0}]
[null,"з них:","Національної гвардії України",9]
[null,"Державної фіскальної служби України",null,10,null,null,null,null,null,null,null,null,"\nПрокурор області",null,null,null,null,"Комашко В.В.\n(П.І.Б.)",null,"________________\n(підпис)"]
[null,"Служби безпеки України",null,11]
[null,"Державної кримінально-виконавчої служби України",null,12,null,null,null,null,null,null,null,null,"Начальник слідчого відділу\n",null,null,null,null,"Шкільнюк О.М.\n(П.І.Б.)",null,"________________\n(підпис)"]
["Направлено до суду обвинувальних актів",null,null,13]
["у тому числі стосовно працівників:","Національної поліції України",null,14,null,null,null,null,null,null,null,null,"Виконавець",null,null,null,null,"\n(П.І.Б.)",null,"________________\n(підпис)"]
[null,"з них:","Національної гвардії України",15]
[null,"Державної фіскальної служби України",null,16,null,null,null,null,null,null,null,null,"Телефон:                       факс:                        електронна пошта:                                                              "]
[null,"Служби безпеки України",null,17,null,null,null,null,null,null,null,null,"Звіт складено в        примірнику"]
[null,"Державної кримінально-виконавчої служби України",null,18,null,null,null,null,null,null,null,null,"Примірник № 1  ______________________________                  "]
["Кількість осіб, стосовно яких обвинувальні акти направлені до суду ",null,null,19,null,null,null,null,null,null,null,null,"Примірник № 2  ______________________________  Вихідний № _____________ від “_____” __________ 20____ р."]
["у тому числі стосовно працівників:","Національної поліції України",null,20]
[null,"з них:","Національної гвардії України",21]
[null,"Державної фіскальної служби України",null,22]
[null,"Служби безпеки України",null,23]
[null,"Державної кримінально-виконавчої служби України",null,24]
["Направлено до суду клопотань про звільнення підозрюваного від кримінальної відповідальності",null,null,25,null,null,"х"]
["Закрито кримінальних проваджень",null,null,26]
["Направлено за підслідністю",null,null,27]
["Контрольний рядок",null,null,28,{"$f":"SUM(E6:E32)","v":0},{"$f":"SUM(F6:F32)","v":0},0,0,0,0,0,0]

{"sheet":"Довідки","index":7,"n_rows":1366,"n_cols":30,"rows_kept":1366,"cut":false,"hidden":true,"merged":[[953,2,953,9],[902,4,902,5],[902,6,902,7],[902,10,902,11],[902,2,902,3],[902,8,902,9],[953,10,953,17],[954,2,954,3],[954,14,954,15],[954,16,954,17],[1266,12,1266,13],[1265,6,1265,9],[1266,8,1266,9],[1265,0,1267,0],[1265,1,1267,1],[1265,2,1266,3],[1266,6,1266,7],[1265,4,1266,5],[1265,10,1266,11],[1265,12,1265,13],[485,1,487,1],[329,5,330,7],[849,14,850,15],[849,16,850,17],[485,5,486,7],[434,8,434,10],[277,10,277,11],[486,8,486,10],[277,12,278,14],[277,15,277,16],[278,15,278,16],[433,8,433,16],[641,5,641,19],[797,2,798,4],[590,5,590,7],[537,5,537,19],[590,14,590,16],[590,17,590,19],[694,8,694,10],[694,11,694,13],[694,14,694,16],[798,11,798,13],[797,14,798,16],[797,8,797,13],[1109,2,1110,4],[954,8,954,9],[954,12,954,13],[1005,10,1005,17],[1058,2,1058,3],[1058,4,1058,5],[1058,6,1058,7],[1058,16,1058,17],[1058,14,1058,15],[1058,8,1058,9],[1109,8,1110,9],[1109,10,1110,12],[1058,10,1058,11],[1058,12,1058,13],[1006,12,1006,13],[1006,14,1006,15],[1005,2,1005,9],[1006,2,1006,3],[954,4,954,5],[954,6,954,7],[954,10,954,11],[1006,6,1006,7],[1109,5,1110,7],[1006,16,1006,17],[1057,2,1057,9],[1057,10,1057,17],[902,16,902,17],[329,2,330,4],[1006,10,1006,11],[1006,8,1006,9],[538,5,538,7],[538,11,538,13],[538,8,538,10],[590,8,590,10],[433,5,434,7],[589,2,589,19],[590,11,590,13],[485,2,486,4],[486,14,486,16],[538,17,538,19],[902,12,902,13],[849,10,850,11],[849,12,850,13],[902,14,902,15],[434,11,434,13],[486,11,486,13],[901,10,901,17],[849,18,850,19],[1161,0,1163,0],[1161,1,1163,1],[1213,0,1215,0],[1213,1,1215,1],[1161,2,1162,4],[1161,5,1162,7],[1213,5,1214,7],[1161,8,1162,9],[1213,8,1214,9],[1213,2,1214,4],[745,10,746,12],[745,13,746,14],[745,5,746,7],[538,14,538,16],[693,5,694,7],[693,8,693,16],[745,8,746,9],[798,8,798,10],[745,15,746,17],[797,17,797,19],[642,11,642,13],[642,14,642,16],[642,17,642,19],[797,5,797,7],[798,5,798,7],[14,0,14,19],[12,0,12,19],[11,0,11,19],[13,0,13,19],[329,10,330,12],[329,15,330,17],[381,15,382,16],[329,13,330,14],[329,8,330,9],[17,0,19,0],[17,1,19,1],[17,2,18,4],[225,0,227,0],[225,4,225,7],[226,6,226,7],[225,1,227,1],[173,0,175,0],[173,1,175,1],[121,0,123,0],[121,1,123,1],[122,7,122,9],[122,2,122,4],[226,4,226,5],[329,1,331,1],[0,0,0,19],[6,0,6,19],[3,0,3,19],[2,0,2,19],[1,0,1,19],[9,0,9,19],[7,0,7,19],[8,0,8,19],[10,0,10,19],[1057,0,1059,0],[1005,0,1007,0],[433,0,435,0],[433,1,435,1],[381,0,383,0],[797,1,799,1],[745,1,747,1],[745,2,746,4],[537,1,539,1],[537,2,538,4],[485,0,487,0],[537,0,539,0],[589,0,591,0],[589,1,591,1],[590,2,590,4],[381,1,383,1],[1006,4,1006,5],[849,0,851,0],[849,1,851,1],[901,2,901,9],[381,7,382,9],[381,2,382,4],[433,2,434,4],[381,5,382,6],[797,0,799,0],[745,18,746,19],[745,0,747,0],[641,0,643,0],[5,0,5,19],[693,0,695,0],[693,1,695,1],[693,2,694,4],[641,1,643,1],[642,8,642,10],[641,2,642,4],[642,5,642,7],[486,17,486,19],[226,16,226,17],[226,12,226,13],[225,10,225,13],[225,16,225,19],[226,18,226,19],[225,14,226,15],[226,10,226,11],[381,10,382,11],[381,12,382,14],[485,8,485,19],[434,14,434,16],[434,17,434,19],[225,8,226,9],[173,13,174,15],[173,16,174,18],[17,5,17,19],[18,5,18,7],[18,8,18,9],[173,10,174,12],[174,5,174,7],[278,10,278,11],[277,7,278,9],[278,5,278,6],[277,5,277,6],[121,2,121,16],[122,15,122,16],[329,0,331,0],[18,20,18,22],[18,23,18,24],[18,25,18,27],[69,12,70,14],[69,15,70,16],[18,10,18,12],[18,13,18,14],[18,15,18,17],[18,18,18,19],[121,23,122,25],[121,17,122,19],[225,2,226,3],[122,5,122,6],[122,10,122,11],[122,12,122,14],[173,2,174,4],[173,5,173,7],[173,8,174,9],[277,0,279,0],[277,1,279,1],[277,2,278,4],[1317,0,1319,0],[1317,1,1319,1],[798,17,798,19],[1317,2,1318,4],[1317,13,1318,15],[1317,16,1318,18],[1317,5,1317,12],[1318,5,1318,6],[1318,7,1318,8],[1318,9,1318,10],[1318,11,1318,12],[849,8,850,9],[849,2,850,4],[849,5,850,7],[1109,0,1111,0],[901,0,903,0],[953,0,955,0],[1109,1,1111,1],[901,1,903,1],[953,1,955,1],[1005,1,1007,1],[1057,1,1059,1],[1161,10,1162,12],[1213,10,1214,12],[69,30,70,32],[69,33,70,34],[69,20,70,22],[69,23,70,24],[69,25,70,27],[69,28,70,29],[18,28,18,29],[69,0,71,0],[69,1,71,1],[69,2,70,4],[69,5,70,6],[69,7,70,9],[69,10,70,11]]}
["Генеральна прокуратура України"]
[]
["Управління організаційного забезпечення Єдиного реєстру досудових розслідувань \nта інформаційно - аналітичної роботи"]
[]
[]
[]
["статистичної інформації органів досудового розслідування\n(прокуратура)"]
[]
["за 12 місяців 2017 року"]
[]
[]
["по Україні"]
["(у розрізі областей)"]
[]
[{"$f":"D20","v":2017}]
["Таблиця 1. Результати розслідування кримінальних правопорушень"]
[]
["Код","Прокуратура","Знаходилось кримінальних проваджень",null,null,"з них:"]
[null,null,null,null,null,"Залишок",null,null,"Питома вага",null,"Розпочато",null,null,"Питома вага",null,"Відновленно раніше закритих",null,null,"Питома вага",null,"Відновленно зупинені",null,null,"Питома вага",null,"Надійшло від інших органів",null,null,"Питома вага"]
[null,null,2016,2017," %",{"$f":"$C$20","v":2016},{"$f":"$D$20","v":2017}," %",{"$f":"$C$20","v":2016},{"$f":"$D$20","v":2017},{"$f":"$C$20","v":2016},{"$f":"$D$20","v":2017}," %",{"$f":"$C$20","v":2016},{"$f":"$D$20","v":2017},{"$f":"$C$20","v":2016},{"$f":"$D$20","v":2017}," %",{"$f":"$C$20","v":2016},{"$f":"$D$20","v":2017},{"$f":"$C$20","v":2016},{"$f":"$D$20","v":2017}," %",{"$f":"$C$20","v":2016},{"$f":"$D$20","v":2017},{"$f":"$C$20","v":2016},{"$f":"$D$20","v":2017}," %",{"$f":"$C$20","v":2016},{"$f":"$D$20","v":2017}]
[1,"АР Крим",315,447,{"$f":"IF(C21=0,0,IF(D21=0,\"-100,0\",IF(D21*100/C21<200,ROUND(D21*100/C21-100,1),ROUND(D21/C21,1)&\" р\")))","v":41.9},23,68,{"$f":"IF(F21=0,0,IF(G21=0,\"-100,0\",IF(G21*100/F21<200,ROUND(G21*100/F21-100,1),ROUND(G21/F21,1)&\" р\")))","v":"3 р"},{"$f":"IF($C21=0,0,F21*100/$C21)","v":7.3015873015873014},{"$f":"IF($D21=0,0,G21*100/$D21)","v":15.212527964205817},13,57,{"$f":"IF(K21=0,0,IF(L21=0,\"-100,0\",IF(L21*100/K21<200,ROUND(L21*100/K21-100,1),ROUND(L21/K21,1)&\" р\")))","v":"4,4 р"},{"$f":"IF($C21=0,0,K21*100/$C21)","v":4.1269841269841274},{"$f":"IF($D21=0,0,L21*100/$D21)","v":12.751677852348994},13,55,{"$f":"IF(P21=0,0,IF(Q21=0,\"-100,0\",IF(Q21*100/P21<200,ROUND(Q21*100/P21-100,1),ROUND(Q21/P21,1)&\" р\")))","v":"4,2 р"},{"$f":"IF($C21=0,0,P21*100/$C21)","v":4.1269841269841274},{"$f":"IF($D21=0,0,Q21*100/$D21)","v":12.304250559284116},13,57,{"$f":"IF(U21=0,0,IF(V21=0,\"-100,0\",IF(V21*100/U21<200,ROUND(V21*100/U21-100,1),ROUND(V21/U21,1)&\" р\")))","v":"4,4 р"},{"$f":"IF($C21=0,0,U21*100/$C21)","v":4.1269841269841274},{"$f":"IF($D21=0,0,V21*100/$D21)","v":12.751677852348994},13,55,{"$f":"IF(Z21=0,0,IF(AA21=0,\"-100,0\",IF(AA21*100/Z21<200,ROUND(AA21*100/Z21-100,1),ROUND(AA21/Z21,1)&\" р\")))","v":"4,2 р"},{"$f":"IF($C21=0,0,Z21*100/$C21)","v":4.1269841269841274},{"$f":"IF($D21=0,0,AA21*100/$D21)","v":12.304250559284116}]
[2,"Вінницької області",561,558,-0.5,327,251,-23.2,{"$f":"IF($C22=0,0,F22*100/$C22)","v":58.288770053475936},{"$f":"IF($D22=0,0,G22*100/$D22)","v":44.982078853046595},12,4,{"$f":"IF(K22=0,0,IF(L22=0,\"-100,0\",IF(L22*100/K22<200,ROUND(L22*100/K22-100,1),ROUND(L22/K22,1)&\" р\")))","v":-66.7},{"$f":"IF($C22=0,0,K22*100/$C22)","v":2.1390374331550803},{"$f":"IF($D22=0,0,L22*100/$D22)","v":0.71684587813620071},27,30,11.1,{"$f":"IF($C22=0,0,P22*100/$C22)","v":4.8128342245989302},{"$f":"IF($D22=0,0,Q22*100/$D22)","v":5.376344086021505},12,4,{"$f":"IF(U22=0,0,IF(V22=0,\"-100,0\",IF(V22*100/U22<200,ROUND(V22*100/U22-100,1),ROUND(V22/U22,1)&\" р\")))","v":-66.7},{"$f":"IF($C22=0,0,U22*100/$C22)","v":2.1390374331550803},{"$f":"IF($D22=0,0,V22*100/$D22)","v":0.71684587813620071},27,30,11.1,{"$f":"IF($C22=0,0,Z22*100/$C22)","v":4.8128342245989302},{"$f":"IF($D22=0,0,AA22*100/$D22)","v":5.376344086021505}]
[3,"Волинської області",419,623,48.7,229,294,28.4,54.653937947494036,47.19101123595506,8,8,0,1.909307875894988,1.2841091492776886,31,36,16.100000000000001,7.3985680190930792,5.7784911717495984,8,8,0,1.909307875894988,1.2841091492776886,31,36,16.100000000000001,7.3985680190930792,5.7784911717495984]
[4,"Дніпропетровської області",1573,2425,54.2,1060,1194,12.6,67.387158296249211,49.237113402061858,17,30,76.5,1.080737444373808,1.2371134020618557,77,132,71.400000000000006,4.895104895104895,5.4432989690721651,17,30,76.5,1.080737444373808,1.2371134020618557,77,132,71.400000000000006,4.895104895104895,5.4432989690721651]
[5,"Донецької області",1715,1583,-7.7,854,861,0.8,49.795918367346935,54.390397978521797,39,35,-10.3,2.2740524781341107,2.2109917877447884,93,114,22.6,5.4227405247813412,7.2015161086544532,39,35,-10.3,2.2740524781341107,2.2109917877447884,93,114,22.6,5.4227405247813412,7.2015161086544532]
[6,"Житомирської області",312,274,-12.2,175,134,-23.4,56.089743589743591,48.905109489051092,1,4,"4 р",0.32051282051282054,1.4598540145985401,17,24,41.2,5.4487179487179489,8.7591240875912408,1,4,"4 р",0.32051282051282054,1.4598540145985401,17,24,41.2,5.4487179487179489,8.7591240875912408]
[7,"Закарпатської області",466,623,33.700000000000003,286,191,-33.200000000000003,61.373390557939913,30.658105939004816,1,3,"3 р",0.21459227467811159,0.48154093097913325,37,39,5.4,7.9399141630901289,6.260032102728732,1,3,"3 р",0.21459227467811159,0.48154093097913325,37,39,5.4,7.9399141630901289,6.260032102728732]
[8,"Запорізької області",683,1123,64.400000000000006,392,677,72.7,57.393850658857978,60.284951024042741,13,21,61.5,1.9033674963396778,1.8699910952804986,29,76,"2,6 р",4.2459736456808201,6.7675868210151382,13,21,61.5,1.9033674963396778,1.8699910952804986,29,76,"2,6 р",4.2459736456808201,6.7675868210151382]
[9,"Івано-Франківської області",280,223,-20.399999999999999,126,111,-11.9,45,49.775784753363226,3,2,-33.299999999999997,1.0714285714285714,0.89686098654708524,30,25,-16.7,10.714285714285714,11.210762331838565,3,2,-33.299999999999997,1.0714285714285714,0.89686098654708524,30,25,-16.7,10.714285714285714,11.210762331838565]
[10,"Київської області",1017,1086,6.8,402,304,-24.4,39.528023598820056,27.992633517495396,23,14,-39.1,2.2615535889872174,1.2891344383057091,56,52,-7.1,5.5063913470993118,4.7882136279926337,23,14,-39.1,2.2615535889872174,1.2891344383057091,56,52,-7.1,5.5063913470993118,4.7882136279926337]
[11,"міста Києва",2678,2558,-4.5,1675,1318,-21.3,62.546676624346524,51.524628616106334,34,33,-2.9,1.2696041822255415,1.2900703674745895,77,103,33.799999999999997,2.8752800597460793,4.0265832681782641,34,33,-2.9,1.2696041822255415,1.2900703674745895,77,103,33.799999999999997,2.8752800597460793,4.0265832681782641]
[12,"Кіровоградської області",464,466,0.4,272,180,-33.799999999999997,58.620689655172413,38.626609442060087,9,9,0,1.9396551724137931,1.9313304721030042,15,19,26.7,3.2327586206896552,4.0772532188841204,9,9,0,1.9396551724137931,1.9313304721030042,15,19,26.7,3.2327586206896552,4.0772532188841204]
[13,"Луганської області",447,521,16.600000000000001,230,239,3.9,51.454138702460853,45.873320537428022,1,2,"2 р",0.22371364653243847,0.38387715930902111,40,49,22.5,8.9485458612975393,9.4049904030710181,1,2,"2 р",0.22371364653243847,0.38387715930902111,40,49,22.5,8.9485458612975393,9.4049904030710181]
[14,"Львівської області",536,658,22.8,362,392,8.3000000000000007,67.537313432835816,59.574468085106382,11,10,-9.1,2.0522388059701493,1.5197568389057752,58,71,22.4,10.82089552238806,10.790273556231003,11,10,-9.1,2.0522388059701493,1.5197568389057752,58,71,22.4,10.82089552238806,10.790273556231003]
[15,"Миколаївської області",645,571,-11.5,368,295,-19.8,57.054263565891475,51.66374781085814,10,10,0,1.5503875968992249,1.7513134851138354,23,32,39.1,3.5658914728682172,5.6042031523642732,10,10,0,1.5503875968992249,1.7513134851138354,23,32,39.1,3.5658914728682172,5.6042031523642732]
[16,"Одеської області",1489,2226,49.5,898,1039,15.7,60.308932169241103,46.675651392632524,34,33,-2.9,2.2834116856950972,1.4824797843665769,74,78,5.4,4.9697783747481532,3.5040431266846359,34,33,-2.9,2.2834116856950972,1.4824797843665769,74,78,5.4,4.9697783747481532,3.5040431266846359]
[17,"Полтавської області",459,477,3.9,344,277,-19.5,74.945533769063175,58.071278825995805,6,8,33.299999999999997,1.3071895424836601,1.6771488469601676,27,38,40.700000000000003,5.882352941176471,7.9664570230607969,6,8,33.299999999999997,1.3071895424836601,1.6771488469601676,27,38,40.700000000000003,5.882352941176471,7.9664570230607969]
[18,"Рівненської області",348,326,-6.3,213,222,4.2,61.206896551724135,68.098159509202461,5,3,-40,1.4367816091954022,0.92024539877300615,21,22,4.8,6.0344827586206895,6.7484662576687118,5,3,-40,1.4367816091954022,0.92024539877300615,21,22,4.8,6.0344827586206895,6.7484662576687118]
[19,"Сумської області",467,548,17.3,264,296,12.1,56.531049250535332,54.014598540145982,8,11,37.5,1.7130620985010707,2.0072992700729926,35,46,31.4,7.4946466809421839,8.3941605839416056,8,11,37.5,1.7130620985010707,2.0072992700729926,35,46,31.4,7.4946466809421839,8.3941605839416056]
[20,"Тернопільської області",296,428,44.6,195,253,29.7,65.878378378378372,59.112149532710283,5,1,-80,1.6891891891891893,0.23364485981308411,13,20,53.8,4.3918918918918921,4.6728971962616823,5,1,-80,1.6891891891891893,0.23364485981308411,13,20,53.8,4.3918918918918921,4.6728971962616823]
[21,"Харківської області",2104,2143,1.9,1396,1290,-7.6,66.349809885931563,60.195986934204385,14,22,57.1,0.66539923954372626,1.026598226784881,101,143,41.6,4.8003802281368824,6.6728884741017263,14,22,57.1,0.66539923954372626,1.026598226784881,101,143,41.6,4.8003802281368824,6.6728884741017263]
[22,"Херсонської області",475,507,6.7,308,305,-1,64.84210526315789,60.157790927021694,7,9,28.6,1.4736842105263157,1.7751479289940828,20,25,25,4.2105263157894735,4.9309664694280082,7,9,28.6,1.4736842105263157,1.7751479289940828,20,25,25,4.2105263157894735,4.9309664694280082]
[23,"Хмельницької області",260,353,35.799999999999997,163,164,0.6,62.692307692307693,46.458923512747873,7,6,-14.3,2.6923076923076925,1.6997167138810199,27,26,-3.7,10.384615384615385,7.3654390934844196,7,6,-14.3,2.6923076923076925,1.6997167138810199,27,26,-3.7,10.384615384615385,7.3654390934844196]
[24,"Черкаської області",436,407,-6.7,316,300,-5.0999999999999996,72.477064220183493,73.710073710073715,1,4,"4 р",0.22935779816513763,0.98280098280098283,33,26,-21.2,7.568807339449541,6.3882063882063882,1,4,"4 р",0.22935779816513763,0.98280098280098283,33,26,-21.2,7.568807339449541,6.3882063882063882]
[25,"Чернівецької області",331,385,{"$f":"IF(C45=0,0,IF(D45=0,\"-100,0\",IF(D45*100/C45<200,ROUND(D45*100/C45-100,1),ROUND(D45/C45,1)&\" р\")))","v":16.3},165,165,{"$f":"IF(F45=0,0,IF(G45=0,\"-100,0\",IF(G45*100/F45<200,ROUND(G45*100/F45-100,1),ROUND(G45/F45,1)&\" р\")))","v":0},49.848942598187314,42.857142857142854,3,3,{"$f":"IF(K45=0,0,IF(L45=0,\"-100,0\",IF(L45*100/K45<200,ROUND(L45*100/K45-100,1),ROUND(L45/K45,1)&\" р\")))","v":0},0.90634441087613293,0.77922077922077926,24,24,{"$f":"IF(P45=0,0,IF(Q45=0,\"-100,0\",IF(Q45*100/P45<200,ROUND(Q45*100/P45-100,1),ROUND(Q45/P45,1)&\" р\")))","v":0},7.2507552870090635,6.2337662337662341,3,3,{"$f":"IF(U45=0,0,IF(V45=0,\"-100,0\",IF(V45*100/U45<200,ROUND(V45*100/U45-100,1),ROUND(V45/U45,1)&\" р\")))","v":0},0.90634441087613293,0.77922077922077926,24,24,{"$f":"IF(Z45=0,0,IF(AA45=0,\"-100,0\",IF(AA45*100/Z45<200,ROUND(AA45*100/Z45-100,1),ROUND(AA45/Z45,1)&\" р\")))","v":0},7.2507552870090635,6.2337662337662341]
[26,"Чернігівської області",551,501,-9.1,368,288,-21.7,66.787658802177859,57.485029940119759,9,2,-77.8,1.633393829401089,0.39920159680638723,37,35,-5.4,6.7150635208711433,6.9860279441117763,9,2,{"$f":"IF(U46=0,0,IF(V46=0,\"-100,0\",IF(V46*100/U46<200,ROUND(V46*100/U46-100,1),ROUND(V46/U46,1)&\" р\")))","v":-77.8},1.633393829401089,0.39920159680638723,37,35,{"$f":"IF(Z46=0,0,IF(AA46=0,\"-100,0\",IF(AA46*100/Z46<200,ROUND(AA46*100/Z46-100,1),ROUND(AA46/Z46,1)&\" р\")))","v":-5.4},6.7150635208711433,6.9860279441117763]
[27,"Усього (без ЦА)",19327,22040,14,11411,11108,-2.7,59.041755057691311,50.399274047186935,294,344,17,1.5211879753712423,1.5607985480943738,1035,1340,29.5,5.3552025663579448,6.0798548094373865,294,344,17,1.5211879753712423,1.5607985480943738,1035,1340,29.5,5.3552025663579448,6.0798548094373865]
[28,"Центральний апарат",2681,3718,{"$f":"IF(C48=0,0,IF(D48=0,\"-100,0\",IF(D48*100/C48<200,ROUND(D48*100/C48-100,1),ROUND(D48/C48,1)&\" р\")))","v":38.700000000000003},298,478,{"$f":"IF(F48=0,0,IF(G48=0,\"-100,0\",IF(G48*100/F48<200,ROUND(G48*100/F48-100,1),ROUND(G48/F48,1)&\" р\")))","v":60.4},11.115255501678478,12.856374394835933,158,199,{"$f":"IF(K48=0,0,IF(L48=0,\"-100,0\",IF(L48*100/K48<200,ROUND(L48*100/K48-100,1),ROUND(L48/K48,1)&\" р\")))","v":25.9},5.8933233867959718,5.3523399677245829,139,240,{"$f":"IF(P48=0,0,IF(Q48=0,\"-100,0\",IF(Q48*100/P48<200,ROUND(Q48*100/P48-100,1),ROUND(Q48/P48,1)&\" р\")))","v":72.7},5.1846325997762026,6.4550833781603014,158,199,{"$f":"IF(U48=0,0,IF(V48=0,\"-100,0\",IF(V48*100/U48<200,ROUND(V48*100/U48-100,1),ROUND(V48/U48,1)&\" р\")))","v":25.9},5.8933233867959718,5.3523399677245829,139,240,{"$f":"IF(Z48=0,0,IF(AA48=0,\"-100,0\",IF(AA48*100/Z48<200,ROUND(AA48*100/Z48-100,1),ROUND(AA48/Z48,1)&\" р\")))","v":72.7},5.1846325997762026,6.4550833781603014]
[29,"№14",0,24,null,null,2,null,0,8.3333333333333339,null,null,null,0,0,null,2,null,0,8.3333333333333339,null,null,null,0,0,null,2,null,0,8.3333333333333339]
[30,"№17",1314,1369,{"$f":"IF(C50=0,0,IF(D50=0,\"-100,0\",IF(D50*100/C50<200,ROUND(D50*100/C50-100,1),ROUND(D50/C50,1)&\" р\")))","v":4.2},178,215,{"$f":"IF(F50=0,0,IF(G50=0,\"-100,0\",IF(G50*100/F50<200,ROUND(G50*100/F50-100,1),ROUND(G50/F50,1)&\" р\")))","v":20.8},13.546423135464231,15.704894083272462,95,53,{"$f":"IF(K50=0,0,IF(L50=0,\"-100,0\",IF(L50*100/K50<200,ROUND(L50*100/K50-100,1),ROUND(L50/K50,1)&\" р\")))","v":-44.2},7.2298325722983261,3.8714390065741418,65,72,{"$f":"IF(P50=0,0,IF(Q50=0,\"-100,0\",IF(Q50*100/P50<200,ROUND(Q50*100/P50-100,1),ROUND(Q50/P50,1)&\" р\")))","v":10.8},4.9467275494672753,5.2593133674214751,95,53,{"$f":"IF(U50=0,0,IF(V50=0,\"-100,0\",IF(V50*100/U50<200,ROUND(V50*100/U50-100,1),ROUND(V50/U50,1)&\" р\")))","v":-44.2},7.2298325722983261,3.8714390065741418,65,72,{"$f":"IF(Z50=0,0,IF(AA50=0,\"-100,0\",IF(AA50*100/Z50<200,ROUND(AA50*100/Z50-100,1),ROUND(AA50/Z50,1)&\" р\")))","v":10.8},4.9467275494672753,5.2593133674214751]
[31,"№26",408,473,{"$f":"IF(C51=0,0,IF(D51=0,\"-100,0\",IF(D51*100/C51<200,ROUND(D51*100/C51-100,1),ROUND(D51/C51,1)&\" р\")))","v":15.9},18,104,{"$f":"IF(F51=0,0,IF(G51=0,\"-100,0\",IF(G51*100/F51<200,ROUND(G51*100/F51-100,1),ROUND(G51/F51,1)&\" р\")))","v":"5,8 р"},4.4117647058823533,21.987315010570825,16,102,"6,4 р",3.9215686274509802,21.56448202959831,18,102,"5,7 р",4.4117647058823533,21.56448202959831,16,102,"6,4 р",3.9215686274509802,21.56448202959831,18,102,"5,7 р",4.4117647058823533,21.56448202959831]
[32,"№07",41,0,"-100,0",4,null,"-100,0",9.7560975609756095,0,3,null,"-100,0",7.3170731707317076,0,3,null,"-100,0",7.3170731707317076,0,3,null,"-100,0",7.3170731707317076,0,3,null,"-100,0",7.3170731707317076,0]
[33,"№07/1",319,623,95.3,37,81,"2,2 р",11.598746081504702,13.001605136436597,21,13,-38.1,6.5830721003134798,2.086677367576244,21,29,38.1,6.5830721003134798,4.6548956661316208,21,13,-38.1,6.5830721003134798,2.086677367576244,21,29,38.1,6.5830721003134798,4.6548956661316208]
[34,"№29",27,0,"-100,0",3,null,"-100,0",11.111111111111111,0,2,null,"-100,0",7.4074074074074074,0,2,null,"-100,0",7.4074074074074074,0,2,null,"-100,0",7.4074074074074074,0,2,null,"-100,0",7.4074074074074074,0]
[35,"№29/1",88,33,-62.5,31,null,"-100,0",35.227272727272727,0,7,null,"-100,0",7.9545454545454541,0,8,null,"-100,0",9.0909090909090917,0,7,null,"-100,0",7.9545454545454541,0,8,null,"-100,0",9.0909090909090917,0]
[36,"№23",435,704,61.8,26,33,26.9,5.9770114942528734,4.6875,13,18,38.5,2.9885057471264367,2.5568181818181817,21,23,9.5,4.8275862068965516,3.2670454545454546,13,18,38.5,2.9885057471264367,2.5568181818181817,21,23,9.5,4.8275862068965516,3.2670454545454546]
[37,"№25",0,235,0,null,35,0,0,14.893617021276595,null,8,null,0,3.4042553191489362,null,9,0,0,3.8297872340425534,null,8,null,0,3.4042553191489362,null,9,0,0,3.8297872340425534]
[38,"№30",49,257,"5,2 р",1,8,"8 р",2.0408163265306123,3.1128404669260701,1,5,null,2.0408163265306123,1.9455252918287937,1,3,"3 р",2.0408163265306123,1.1673151750972763,1,5,null,2.0408163265306123,1.9455252918287937,1,3,"3 р",2.0408163265306123,1.1673151750972763]
[39,"Усього (без ВП)",22008,25758,17,11709,11586,-1.1000000000000001,53.203380588876769,44.980200326112275,452,543,20.100000000000001,2.0537986186841151,2.1080829256929885,1174,1580,34.6,5.3344238458742277,6.1340166161969094,452,543,{"$f":"IF(U59=0,0,IF(V59=0,\"-100,0\",IF(V59*100/U59<200,ROUND(V59*100/U59-100,1),ROUND(V59/U59,1)&\" р\")))","v":20.100000000000001},2.0537986186841151,2.1080829256929885,1174,1580,34.6,5.3344238458742277,6.1340166161969094]
[40,"Апарат ГВП",1058,755,-28.6,103,66,-35.9,9.7353497164461249,8.741721854304636,57,42,-26.3,5.3875236294896034,5.5629139072847682,81,52,-35.799999999999997,7.655954631379962,6.887417218543046,57,42,-26.3,5.3875236294896034,5.5629139072847682,81,52,-35.799999999999997,7.655954631379962,6.887417218543046]
[41,"Західного регіону",3889,2651,-31.8,1143,1241,8.6,29.390588840318848,46.812523576009056,29,32,10.3,0.74569298020056574,1.2070916635231987,621,754,21.4,15.968115196708666,28.44209732176537,29,32,10.3,0.74569298020056574,1.2070916635231987,621,754,21.4,15.968115196708666,28.44209732176537]
[42,"Південного регіону",5363,8409,56.8,1966,1773,-9.8000000000000007,36.658586611970911,21.084552265429895,46,40,-13,0.85772888308782402,0.47568081817100727,1340,1302,-2.8,24.986015289949655,15.483410631466286,46,40,-13,0.85772888308782402,0.47568081817100727,1340,1302,-2.8,24.986015289949655,15.483410631466286]
[43,"Центрального регіону",5896,5027,-14.7,1463,1354,-7.5,24.813432835820894,26.934553411577483,35,33,-5.7,0.59362279511533245,0.65645514223194745,1019,978,-4,17.282903663500679,19.454943306146806,35,33,-5.7,0.59362279511533245,0.65645514223194745,1019,978,-4,17.282903663500679,19.454943306146806]
[44,"Сил АТО",5156,3459,-32.9,1659,1489,-10.199999999999999,32.176105508145852,43.047123446082686,79,42,-46.8,1.5321955003878975,1.2142237640936686,1131,1036,-8.4,21.935608999224204,29.950852847643826,79,42,-46.8,1.5321955003878975,1.2142237640936686,1131,1036,-8.4,21.935608999224204,29.950852847643826]
[45,"Усього по ВП",21362,20301,-5,6334,5923,-6.5,29.650781762007302,29.175902664893353,246,189,-23.2,1.1515775676434792,0.93098862125018467,4192,4122,-1.7,19.623630746184816,20.304418501551648,246,189,-23.2,1.1515775676434792,0.93098862125018467,4192,4122,-1.7,19.623630746184816,20.304418501551648]
[46,"Усього по Україні",43370,46059,6.2,18043,17509,-3,41.60249020059949,38.014286024446903,698,732,4.9000000000000004,1.6094074244869725,1.5892659415098027,5366,5702,6.3,12.37260779340558,12.379773768427452,698,732,4.9000000000000004,1.6094074244869725,1.5892659415098027,5366,5702,6.3,12.37260779340558,12.379773768427452]
[]
["Таблиця 1. Результати розслідування кримінальних правопорушень (продовження)"]
[]
["Код","Прокуратура","Закінчено кримінальних проваджень (з повторно закінченими)",null,null,"Питома вага",null,"закінчено проваджень у строки понад 2 місяці",null,null,"Питома вага",null,"Направлено до суду проваджень з обвинувальним актом",null,null,"Питома вага"]
[]
[null,null,{"$f":"$C$20","v":2016},{"$f":"$D$20","v":2017}," %",{"$f":"$C$20","v":2016},{"$f":"$D$20","v":2017},{"$f":"$C$20","v":2016},{"$f":"$D$20","v":2017}," %",{"$f":"$C$20","v":2016},{"$f":"$D$20","v":2017},{"$f":"$C$20","v":2016},{"$f":"$D$20","v":2017}," %",{"$f":"$C$20","v":2016},{"$f":"$D$20","v":2017}]
[1,"АР Крим",23,68,{"$f":"IF(C73=0,0,IF(D73=0,\"-100,0\",IF(D73*100/C73<200,ROUND(D73*100/C73-100,1),ROUND(D73/C73,1)&\" р\")))","v":"3 р"},{"$f":"IF(C21=0,0,C73*100/C21)","v":7.3015873015873014},{"$f":"IF(D21=0,0,D73*100/D21)","v":15.212527964205817},13,57,{"$f":"IF(H73=0,0,IF(I73=0,\"-100,0\",IF(I73*100/H73<200,ROUND(I73*100/H73-100,1),ROUND(I73/H73,1)&\" р\")))","v":"4,4 р"},{"$f":"IF(C73=0,0,H73*100/C73)","v":56.521739130434781},{"$f":"IF(D73=0,0,I73*100/D73)","v":83.82352941176471},13,55,{"$f":"IF(M73=0,0,IF(N73=0,\"-100,0\",IF(N73*100/M73<200,ROUND(N73*100/M73-100,1),ROUND(N73/M73,1)&\" р\")))","v":"4,2 р"},{"$f":"IF(C73=0,0,M73*100/C73)","v":56.521739130434781},{"$f":"IF(D73=0,0,N73*100/D73)","v":80.882352941176464}]
[2,"Вінницької області",327,251,-23.2,{"$f":"IF(C22=0,0,C74*100/C22)","v":58.288770053475936},44.982078853046595,12,4,{"$f":"IF(H74=0,0,IF(I74=0,\"-100,0\",IF(I74*100/H74<200,ROUND(I74*100/H74-100,1),ROUND(I74/H74,1)&\" р\")))","v":-66.7},3.669724770642202,1.593625498007968,27,30,11.1,8.2568807339449535,11.952191235059761]
[3,"Волинської області",229,294,28.4,{"$f":"IF(C23=0,0,C75*100/C23)","v":54.653937947494036},47.19101123595506,8,8,0,3.4934497816593888,2.7210884353741496,31,36,16.100000000000001,13.537117903930131,12.244897959183673]
[4,"Дніпропетровської області",1060,1194,12.6,{"$f":"IF(C24=0,0,C76*100/C24)","v":67.387158296249211},49.237113402061858,17,30,76.5,1.6037735849056605,2.512562814070352,77,132,71.400000000000006,7.2641509433962268,11.055276381909549]
[5,"Донецької області",854,861,0.8,{"$f":"IF(C25=0,0,C77*100/C25)","v":49.795918367346935},54.390397978521797,39,35,-10.3,4.5667447306791571,4.0650406504065044,93,114,22.6,10.889929742388759,13.240418118466899]
[6,"Житомирської області",175,134,-23.4,{"$f":"IF(C26=0,0,C78*100/C26)","v":56.089743589743591},48.905109489051092,1,4,"4 р",0.5714285714285714,2.9850746268656718,17,24,41.2,9.7142857142857135,17.910447761194028]
[7,"Закарпатської області",286,191,-33.200000000000003,{"$f":"IF(C27=0,0,C79*100/C27)","v":61.373390557939913},30.658105939004816,1,3,"3 р",0.34965034965034963,1.5706806282722514,37,39,5.4,12.937062937062937,20.418848167539267]
[8,"Запорізької області",392,677,72.7,{"$f":"IF(C28=0,0,C80*100/C28)","v":57.393850658857978},60.284951024042741,13,21,61.5,3.3163265306122449,3.1019202363367797,29,76,"2,6 р",7.3979591836734695,11.225997045790251]
[9,"Івано-Франківської області",126,111,-11.9,{"$f":"IF(C29=0,0,C81*100/C29)","v":45},49.775784753363226,3,2,-33.299999999999997,2.3809523809523809,1.8018018018018018,30,25,-16.7,23.80952380952381,22.522522522522522]
[10,"Київської області",402,304,-24.4,{"$f":"IF(C30=0,0,C82*100/C30)","v":39.528023598820056},27.992633517495396,23,14,-39.1,5.721393034825871,4.6052631578947372,56,52,-7.1,13.930348258706468,17.105263157894736]
[11,"міста Києва",1675,1318,-21.3,{"$f":"IF(C31=0,0,C83*100/C31)","v":62.546676624346524},51.524628616106334,34,33,-2.9,2.0298507462686568,2.5037936267071319,77,103,33.799999999999997,4.5970149253731343,7.8148710166919573]
[12,"Кіровоградської області",272,180,-33.799999999999997,{"$f":"IF(C32=0,0,C84*100/C32)","v":58.620689655172413},38.626609442060087,9,9,0,3.3088235294117645,5,15,19,26.7,5.5147058823529411,10.555555555555555]
[13,"Луганської області",230,239,3.9,{"$f":"IF(C33=0,0,C85*100/C33)","v":51.454138702460853},45.873320537428022,1,2,"2 р",0.43478260869565216,0.83682008368200833,40,49,22.5,17.391304347826086,20.502092050209207]
[14,"Львівської області",362,392,8.3000000000000007,{"$f":"IF(C34=0,0,C86*100/C34)","v":67.537313432835816},59.574468085106382,11,10,-9.1,3.0386740331491713,2.5510204081632653,58,71,22.4,16.022099447513813,18.112244897959183]
[15,"Миколаївської області",368,295,-19.8,{"$f":"IF(C35=0,0,C87*100/C35)","v":57.054263565891475},51.66374781085814,10,10,0,2.7173913043478262,3.3898305084745761,23,32,39.1,6.25,10.847457627118644]
[16,"Одеської області",898,1039,15.7,{"$f":"IF(C36=0,0,C88*100/C36)","v":60.308932169241103},46.675651392632524,34,33,-2.9,3.7861915367483294,3.176130895091434,74,78,5.4,8.2405345211581285,7.507218479307026]
[17,"Полтавської області",344,277,-19.5,{"$f":"IF(C37=0,0,C89*100/C37)","v":74.945533769063175},58.071278825995805,6,8,33.299999999999997,1.7441860465116279,2.8880866425992782,27,38,40.700000000000003,7.8488372093023253,13.71841155234657]
[18,"Рівненської області",213,222,4.2,{"$f":"IF(C38=0,0,C90*100/C38)","v":61.206896551724135},68.098159509202461,5,3,-40,2.347417840375587,1.3513513513513513,21,22,4.8,9.8591549295774641,9.9099099099099099]
[19,"Сумської області",264,296,12.1,{"$f":"IF(C39=0,0,C91*100/C39)","v":56.531049250535332},54.014598540145982,8,11,37.5,3.0303030303030303,3.7162162162162162,35,46,31.4,13.257575757575758,15.54054054054054]
[20,"Тернопільської області",195,253,29.7,{"$f":"IF(C40=0,0,C92*100/C40)","v":65.878378378378372},59.112149532710283,5,1,-80,2.5641025641025643,0.39525691699604742,13,20,53.8,6.666666666666667,7.9051383399209483]
[21,"Харківської області",1396,1290,-7.6,{"$f":"IF(C41=0,0,C93*100/C41)","v":66.349809885931563},60.195986934204385,14,22,57.1,1.002865329512894,1.7054263565891472,101,143,41.6,7.2349570200573066,11.085271317829458]
[22,"Херсонської області",308,305,-1,{"$f":"IF(C42=0,0,C94*100/C42)","v":64.84210526315789},60.157790927021694,7,9,28.6,2.2727272727272729,2.9508196721311477,20,25,25,6.4935064935064934,8.1967213114754092]
[23,"Хмельницької області",163,164,0.6,{"$f":"IF(C43=0,0,C95*100/C43)","v":62.692307692307693},46.458923512747873,7,6,-14.3,4.294478527607362,3.6585365853658538,27,26,-3.7,16.564417177914109,15.853658536585366]
[24,"Черкаської області",316,300,-5.0999999999999996,{"$f":"IF(C44=0,0,C96*100/C44)","v":72.477064220183493},73.710073710073715,1,4,"4 р",0.31645569620253167,1.3333333333333333,33,26,-21.2,10.443037974683545,8.6666666666666661]
[25,"Чернівецької області",165,165,0,{"$f":"IF(C45=0,0,C97*100/C45)","v":49.848942598187314},42.857142857142854,3,3,{"$f":"IF(H97=0,0,IF(I97=0,\"-100,0\",IF(I97*100/H97<200,ROUND(I97*100/H97-100,1),ROUND(I97/H97,1)&\" р\")))","v":0},1.8181818181818181,1.8181818181818181,24,24,{"$f":"IF(M97=0,0,IF(N97=0,\"-100,0\",IF(N97*100/M97<200,ROUND(N97*100/M97-100,1),ROUND(N97/M97,1)&\" р\")))","v":0},14.545454545454545,14.545454545454545]
[26,"Чернігівської області",368,288,-21.7,{"$f":"IF(C46=0,0,C98*100/C46)","v":66.787658802177859},57.485029940119759,9,2,{"$f":"IF(H98=0,0,IF(I98=0,\"-100,0\",IF(I98*100/H98<200,ROUND(I98*100/H98-100,1),ROUND(I98/H98,1)&\" р\")))","v":-77.8},2.4456521739130435,0.69444444444444442,37,35,{"$f":"IF(M98=0,0,IF(N98=0,\"-100,0\",IF(N98*100/M98<200,ROUND(N98*100/M98-100,1),ROUND(N98/M98,1)&\" р\")))","v":-5.4},10.054347826086957,12.152777777777779]
[27,"Усього (без ЦА)",11411,11108,-2.7,{"$f":"IF(C47=0,0,C99*100/C47)","v":59.041755057691311},50.399274047186935,294,344,17,2.5764613092629918,3.0968671227943823,1035,1340,29.5,9.0701954254666557,12.063377745768815]
[28,"Центральний апарат",298,478,60.4,{"$f":"IF(C48=0,0,C100*100/C48)","v":11.115255501678478},12.856374394835933,158,199,{"$f":"IF(H100=0,0,IF(I100=0,\"-100,0\",IF(I100*100/H100<200,ROUND(I100*100/H100-100,1),ROUND(I100/H100,1)&\" р\")))","v":25.9},53.020134228187921,41.631799163179913,139,240,{"$f":"IF(M100=0,0,IF(N100=0,\"-100,0\",IF(N100*100/M100<200,ROUND(N100*100/M100-100,1),ROUND(N100/M100,1)&\" р\")))","v":72.7},46.644295302013425,50.2092050209205]
[29,"№14",null,2,null,{"$f":"IF(C49=0,0,C101*100/C49)","v":0},8.3333333333333339,null,null,null,null,null,null,2]
[30,"№17",178,215,{"$f":"IF(C102=0,0,IF(D102=0,\"-100,0\",IF(D102*100/C102<200,ROUND(D102*100/C102-100,1),ROUND(D102/C102,1)&\" р\")))","v":20.8},{"$f":"IF(C50=0,0,C102*100/C50)","v":13.546423135464231},15.704894083272462,95,53,{"$f":"IF(H102=0,0,IF(I102=0,\"-100,0\",IF(I102*100/H102<200,ROUND(I102*100/H102-100,1),ROUND(I102/H102,1)&\" р\")))","v":-44.2},{"$f":"IF(C102=0,0,H102*100/C102)","v":53.370786516853933},{"$f":"IF(D102=0,0,I102*100/D102)","v":24.651162790697676},65,72,{"$f":"IF(M102=0,0,IF(N102=0,\"-100,0\",IF(N102*100/M102<200,ROUND(N102*100/M102-100,1),ROUND(N102/M102,1)&\" р\")))","v":10.8},{"$f":"IF(C102=0,0,M102*100/C102)","v":36.516853932584269},33.488372093023258]
[31,"№26",18,104,"5,8 р",{"$f":"IF(C51=0,0,C103*100/C51)","v":4.4117647058823533},21.987315010570825,16,102,"6,4 р",88.888888888888886,98.07692307692308,18,102,"5,7 р",100,98.07692307692308]
[32,"№07",4,null,"-100,0",{"$f":"IF(C52=0,0,C104*100/C52)","v":9.7560975609756095},0,3,null,"-100,0",75,0,3,null,"-100,0",75,0]
[33,"№07/1",37,81,"2,2 р",{"$f":"IF(C53=0,0,C105*100/C53)","v":11.598746081504702},13.001605136436597,21,13,-38.1,56.756756756756758,16.049382716049383,21,29,38.1,null,{"$f":"IF(D105=0,0,N105*100/D105)","v":35.802469135802468}]
[34,"№29",3,null,"-100,0",{"$f":"IF(C54=0,0,C106*100/C54)","v":11.111111111111111},0,2,null,"-100,0",66.666666666666671,0,2,null,"-100,0",null,{"$f":"IF(D106=0,0,N106*100/D106)","v":0}]
[35,"№29/1",31,null,"-100,0",{"$f":"IF(C55=0,0,C107*100/C55)","v":35.227272727272727},0,7,null,"-100,0",22.580645161290324,0,8,null,"-100,0",null,{"$f":"IF(D107=0,0,N107*100/D107)","v":0}]
[36,"№23",26,33,26.9,{"$f":"IF(C56=0,0,C108*100/C56)","v":5.9770114942528734},4.6875,13,18,38.5,50,54.545454545454547,21,23,9.5,null,{"$f":"IF(D108=0,0,N108*100/D108)","v":69.696969696969703}]
[37,"№25",null,35,0,{"$f":"IF(C57=0,0,C109*100/C57)","v":0},14.893617021276595,null,8,null,0,22.857142857142858,null,9,0]
[38,"№30",1,8,"8 р",{"$f":"IF(C58=0,0,C110*100/C58)","v":2.0408163265306123},3.1128404669260701,1,5,null,100,62.5,1,3,"3 р"]
[39,"Усього (без ВП)",11709,11586,-1.1000000000000001,{"$f":"IF(C59=0,0,C111*100/C59)","v":53.203380588876769},44.980200326112275,452,543,{"$f":"IF(H111=0,0,IF(I111=0,\"-100,0\",IF(I111*100/H111<200,ROUND(I111*100/H111-100,1),ROUND(I111/H111,1)&\" р\")))","v":20.100000000000001},3.8602784183107013,4.6866908337648887,1174,1580,34.6,{"$f":"IF(C111=0,0,M111*100/C111)","v":10.026475360833548},13.637148282409806]
[40,"Апарат ГВП",103,66,-35.9,{"$f":"IF(C60=0,0,C112*100/C60)","v":9.7353497164461249},8.741721854304636,57,42,-26.3,55.339805825242721,63.636363636363633,81,52,-35.799999999999997,78.640776699029132,78.787878787878782]
[41,"Західного регіону",1143,1241,8.6,{"$f":"IF(C61=0,0,C113*100/C61)","v":29.390588840318848},46.812523576009056,29,32,10.3,2.537182852143482,2.5785656728444803,621,754,21.4,54.330708661417326,60.757453666398064]
[42,"Південного регіону",1966,1773,-9.8000000000000007,{"$f":"IF(C62=0,0,C114*100/C62)","v":36.658586611970911},21.084552265429895,46,40,-13,2.3397761953204474,2.2560631697687534,1340,1302,-2.8,68.158697863682605,73.434856175972925]
[43,"Центрального регіону",1463,1354,-7.5,{"$f":"IF(C63=0,0,C115*100/C63)","v":24.813432835820894},26.934553411577483,35,33,-5.7,2.3923444976076556,2.4372230428360413,1019,978,-4,69.651401230348597,72.230428360413583]
[44,"Сил АТО",1659,1489,-10.199999999999999,{"$f":"IF(C64=0,0,C116*100/C64)","v":32.176105508145852},43.047123446082686,79,42,-46.8,4.7619047619047619,2.8206850235057086,1131,1036,-8.4,68.173598553345386,69.576897246474147]
[45,"Усього по ВП",6334,5923,-6.5,{"$f":"IF(C65=0,0,C117*100/C65)","v":29.650781762007302},29.175902664893353,246,189,-23.2,3.8838017050836755,3.1909505318250888,4192,4122,-1.7,66.182507104515309,69.593111598851934]
[46,"Усього по Україні",18043,17509,-3,{"$f":"IF(C66=0,0,C118*100/C66)","v":41.60249020059949},38.014286024446903,698,732,4.9000000000000004,3.8685362744554674,4.1807070649380318,5366,5702,6.3,29.740065399323836,32.566108858301448]
[]
["Таблиця 2. Результати розслідування кримінальних правопорушень"]
[]
["Код","Прокуратура","Направлено до суду обвинувальних актів",null,null,null,null,null,null,null,null,null,null,null,null,null,null,"Направлено до суду клопотань про звільнення підозрюваного від крим. відповідальності"]
[null,null,"з угодою про примирення",null,null,"питома вага",null,"з угодою про визнання винуватості",null,null,"питома вага",null,"У яких здійснювалося спеціальне досудове розслідування",null,null,"питома вага"]
[null,null,{"$f":"$C$20","v":2016},{"$f":"$D$20","v":2017}," %",{"$f":"$C$20","v":2016},{"$f":"$D$20","v":2017},{"$f":"$C$20","v":2016},{"$f":"$D$20","v":2017}," %",{"$f":"$C$20","v":2016},{"$f":"$D$20","v":2017},{"$f":"$C$20","v":2016},{"$f":"$D$20","v":2017}," %",{"$f":"$C$20","v":2016},{"$f":"$D$20","v":2017},{"$f":"$C$20","v":2016},{"$f":"$D$20","v":2017}," %"]
[1,"АР Крим",null,null,{"$f":"IF(C125=0,0,IF(D125=0,\"-100,0\",IF(D125*100/C125<200,ROUND(D125*100/C125-100,1),ROUND(D125/C125,1)&\" р\")))","v":0},{"$f":"IF(P21=0,0,C125*100/P21)","v":0},{"$f":"IF(Q21=0,0,D125*100/Q21)","v":0},null,1,{"$f":"IF(H125=0,0,IF(I125=0,\"-100,0\",IF(I125*100/H125<200,ROUND(I125*100/H125-100,1),ROUND(I125/H125,1)&\" р\")))","v":0},{"$f":"IF(P21=0,0,H125*100/P21)","v":0},{"$f":"IF(Q21=0,0,I125*100/Q21)","v":1.8181818181818181},1,1,{"$f":"IF(M125=0,0,IF(N125=0,\"-100,0\",IF(N125*100/M125<200,ROUND(N125*100/M125-100,1),ROUND(N125/M125,1)&\" р\")))","v":0},{"$f":"IF(C125=0,0,M125*100/C125)","v":0},{"$f":"IF(D125=0,0,N125*100/D125)","v":0},1,1,{"$f":"IF(R125=0,0,IF(S125=0,\"-100,0\",IF(S125*100/R125<200,ROUND(S125*100/R125-100,1),ROUND(S125/R125,1)&\" р\")))","v":0}]
[2,"Вінницької області",null,null,0,0,0,3,9,"3 р",11.111111111111111,30,null,null,0,0,0,null,null,0]
[3,"Волинської області",null,null,0,0,0,10,10,0,32.258064516129032,27.777777777777779,null,null,0,0,0,null,null,0]
[4,"Дніпропетровської області",null,1,0,0,0.75757575757575757,16,21,31.3,20.779220779220779,15.909090909090908,null,1,0,0,100,null,1,0]
[5,"Донецької області",null,null,0,0,0,8,10,25,8.6021505376344081,8.7719298245614041,null,2,0,0,0,null,2,0]
[6,"Житомирської області",1,null,"-100,0",5.882352941176471,0,5,2,-60,29.411764705882351,8.3333333333333339,null,2,0,0,0,null,2,0]
[7,"Закарпатської області",null,null,0,0,0,4,5,25,10.810810810810811,12.820512820512821,null,2,0,0,0,null,2,0]
[8,"Запорізької області",2,null,"-100,0",6.8965517241379306,0,7,13,85.7,24.137931034482758,17.105263157894736,1,null,"-100,0",50,0,1,null,"-100,0"]
[9,"Івано-Франківської області",null,null,0,0,0,null,3,0,0,12,null,null,0,0,0,null,null,0]
[10,"Київської області",1,1,0,1.7857142857142858,1.9230769230769231,11,7,-36.4,19.642857142857142,13.461538461538462,null,null,0,0,0,null,null,0]
[11,"міста Києва",1,4,"4 р",1.2987012987012987,3.883495145631068,4,16,"4 р",5.1948051948051948,15.533980582524272,null,4,0,0,100,null,4,0]
[12,"Кіровоградської області",null,null,0,0,0,null,2,0,0,10.526315789473685,null,null,0,0,0,null,null,0]
[13,"Луганської області",1,null,"-100,0",2.5,0,4,8,"2 р",10,16.326530612244898,1,null,"-100,0",100,0,1,null,"-100,0"]
[14,"Львівської області",1,null,"-100,0",1.7241379310344827,0,6,14,"2,3 р",10.344827586206897,19.718309859154928,null,null,0,0,0,null,null,0]
[15,"Миколаївської області",null,null,0,0,0,7,9,28.6,30.434782608695652,28.125,null,null,0,0,0,null,null,0]
[16,"Одеської області",1,null,"-100,0",1.3513513513513513,0,3,5,66.7,4.0540540540540544,6.4102564102564106,null,5,0,0,0,null,5,0]
[17,"Полтавської області",null,null,0,0,0,6,15,"2,5 р",22.222222222222221,39.473684210526315,null,null,0,0,0,null,null,0]
[18,"Рівненської області",null,1,0,0,4.5454545454545459,5,10,"2 р",23.80952380952381,45.454545454545453,null,null,0,0,0,null,null,0]
[19,"Сумської області",1,null,"-100,0",2.8571428571428572,0,5,2,-60,14.285714285714286,4.3478260869565215,null,null,0,0,0,null,null,0]
[20,"Тернопільської області",null,null,0,0,0,3,5,66.7,23.076923076923077,25,null,null,0,0,0,null,null,0]
[21,"Харківської області",null,null,0,0,0,18,13,-27.8,17.821782178217823,9.0909090909090917,null,null,0,0,0,null,null,0]
[22,"Херсонської області",1,1,0,5,4,4,5,25,20,20,null,1,0,0,100,null,1,0]
[23,"Хмельницької області",null,null,0,0,0,null,4,0,0,15.384615384615385,null,null,0,0,0,null,null,0]
[24,"Черкаської області",null,null,0,0,0,2,4,"2 р",6.0606060606060606,15.384615384615385,null,3,0,0,0,null,3,0]
[25,"Чернівецької області",null,null,0,0,0,17,7,-58.8,70.833333333333329,29.166666666666668,null,null,0,0,0,null,null,0]
[26,"Чернігівської області",null,null,0,0,0,4,3,-25,10.810810810810811,8.5714285714285712,null,null,0,0,0,null,null,0]
[27,"Усього (без ЦА)",10,8,-20,0.96618357487922701,0.59701492537313428,152,203,33.6,14.685990338164251,15.149253731343284,3,21,"7 р",30,262.5,3,21,"7 р"]
[28,"Центральний апарат",1,2,"2 р",0.71942446043165464,0.83333333333333337,28,36,28.6,20.14388489208633,15,4,15,"3,8 р",400,750,4,15,"3,8 р"]
[29,"№14",null,null,null,null,null,null,2]
[30,"№17",1,1,0,{"$f":"IF(P50=0,0,C154*100/P50)","v":1.5384615384615385},1.3888888888888888,11,21,90.9,{"$f":"IF(P50=0,0,H154*100/P50)","v":16.923076923076923},29.166666666666668,null,6,0,{"$f":"IF(C154=0,0,M154*100/C154)","v":0},600,null,6,{"$f":"IF(R154=0,0,IF(S154=0,\"-100,0\",IF(S154*100/R154<200,ROUND(S154*100/R154-100,1),ROUND(S154/R154,1)&\" р\")))","v":0}]
[31,"№26",null,null,0,0,0,2,2,0,11.111111111111111,1.9607843137254901,null,null,0,0,0,null,null,0]
[32,"№07",null,null,0,0,0,null,null,0,0,0,null,null,0,0,0,null,null,0]
[33,"№07/1",null,null,0,0,0,11,7,-36.4,52.38095238095238,24.137931034482758,3,2,-33.299999999999997,null,{"$f":"IF(D157=0,0,N157*100/D157)","v":0},3,2,-33.299999999999997]
[34,"№29",null,null,0,0,0,null,null,0,0,0,null,null,0,null,{"$f":"IF(D158=0,0,N158*100/D158)","v":0},null,null,0]
[35,"№29/1",null,null,0,0,0,1,null,"-100,0",12.5,0,null,null,0,null,{"$f":"IF(D159=0,0,N159*100/D159)","v":0},null,null,0]
[36,"№23",null,1,0,0,4.3478260869565215,3,3,0,14.285714285714286,13.043478260869565,1,3,"3 р",null,{"$f":"IF(D160=0,0,N160*100/D160)","v":300},1,3,"3 р"]
[37,"№25",null,null,null,null,null,null,1]
[38,"№30",null,null,null,null,null,null,null,null,null,null,null,4,null,null,null,null,4]
[39,"Усього (без ВП)",11,10,-9.1,{"$f":"IF(P59=0,0,C163*100/P59)","v":0.93696763202725719},0.63291139240506333,180,239,32.799999999999997,{"$f":"IF(P59=0,0,H163*100/P59)","v":15.332197614991482},15.126582278481013,7,36,"5,1 р",{"$f":"IF(C163=0,0,M163*100/C163)","v":63.636363636363633},360,7,36,{"$f":"IF(R163=0,0,IF(S163=0,\"-100,0\",IF(S163*100/R163<200,ROUND(S163*100/R163-100,1),ROUND(S163/R163,1)&\" р\")))","v":"5,1 р"}]
[40,"Апарат ГВП",null,null,0,0,0,48,11,-77.099999999999994,59.25925925925926,21.153846153846153,4,3,-25,0,0,4,3,-25]
[41,"Західного регіону",null,1,0,0,0.13262599469496023,102,212,"2,1 р",16.425120772946858,28.116710875331567,5,16,"3,2 р",0,1600,5,16,"3,2 р"]
[42,"Південного регіону",3,1,-66.7,0.22388059701492538,7.6804915514592939E-2,156,85,-45.5,11.64179104477612,6.5284178187403992,24,2,-91.7,800,200,24,2,-91.7]
[43,"Центрального регіону",null,null,0,0,0,35,15,-57.1,3.4347399411187438,1.5337423312883436,15,13,-13.3,0,0,15,13,-13.3]
[44,"Сил АТО",2,1,-50,0.17683465959328029,9.6525096525096526E-2,289,146,-49.5,25.552608311229001,14.092664092664092,null,5,0,0,500,null,5,0]
[45,"Усього по ВП",5,3,-40,0.11927480916030535,7.2780203784570591E-2,630,469,-25.6,15.028625954198473,11.377971858321203,48,39,-18.8,960,1300,48,39,-18.8]
[46,"Усього по Україні",16,13,-18.8,0.29817368617219531,0.22799017888460191,810,708,-12.6,15.095042862467388,12.41669589617678,55,75,36.4,343.75,576.92307692307691,55,75,36.4]
[]
["Таблиця 3. Результати розслідування кримінальних правопорушень"]
[]
["Код","Прокуратура","Закрито кримінальних проваджень",null,null,"з них:",null,null,"Питома вага",null,"Зупинено кримінальних проваджень",null,null,"Направлено кримінальних проваджень за підслідністю",null,null,"Приєднано кримінальних проваджень до інших проваджень"]
[null,null,null,null,null,"закрито прокурором"]
[null,null,{"$f":"$C$20","v":2016},{"$f":"$D$20","v":2017}," %",{"$f":"$C$20","v":2016},{"$f":"$D$20","v":2017}," %",{"$f":"$C$20","v":2016},{"$f":"$D$20","v":2017},{"$f":"$C$20","v":2016},{"$f":"$D$20","v":2017}," %",{"$f":"$C$20","v":2016},{"$f":"$D$20","v":2017}," %",{"$f":"$C$20","v":2016},{"$f":"$D$20","v":2017}," %"]
[1,"АР Крим",9,12,{"$f":"IF(C177=0,0,IF(D177=0,\"-100,0\",IF(D177*100/C177<200,ROUND(D177*100/C177-100,1),ROUND(D177/C177,1)&\" р\")))","v":33.299999999999997},null,2,{"$f":"IF(F177=0,0,IF(G177=0,\"-100,0\",IF(G177*100/F177<200,ROUND(G177*100/F177-100,1),ROUND(G177/F177,1)&\" р\")))","v":0},{"$f":"IF(C177=0,0,F177*100/C177)","v":0},{"$f":"IF(D177=0,0,G177*100/D177)","v":16.666666666666668},223,270,{"$f":"IF(K177=0,0,IF(L177=0,\"-100,0\",IF(L177*100/K177<200,ROUND(L177*100/K177-100,1),ROUND(L177/K177,1)&\" р\")))","v":21.1},15,11,{"$f":"IF(N177=0,0,IF(O177=0,\"-100,0\",IF(O177*100/N177<200,ROUND(O177*100/N177-100,1),ROUND(O177/N177,1)&\" р\")))","v":-26.7},23,21,{"$f":"IF(Q177=0,0,IF(R177=0,\"-100,0\",IF(R177*100/Q177<200,ROUND(R177*100/Q177-100,1),ROUND(R177/Q177,1)&\" р\")))","v":-8.6999999999999993}]
[2,"Вінницької області",300,221,{"$f":"IF(C178=0,0,IF(D178=0,\"-100,0\",IF(D178*100/C178<200,ROUND(D178*100/C178-100,1),ROUND(D178/C178,1)&\" р\")))","v":-26.3},null,1,0,{"$f":"IF(C178=0,0,F178*100/C178)","v":0},{"$f":"IF(D178=0,0,G178*100/D178)","v":0.45248868778280543},2,7,"3,5 р",26,35,34.6,112,114,1.8]
[3,"Волинської області",198,258,30.3,null,null,0,0,0,1,4,"4 р",39,48,23.1,99,189,90.9]
[4,"Дніпропетровської області",983,1061,7.9,6,2,-66.7,0.61037639877924721,0.1885014137606032,33,28,-15.2,37,149,"4 р",215,466,"2,2 р"]
[5,"Донецької області",761,745,-2.1,1,null,"-100,0",0.13140604467805519,0,45,82,82.2,121,65,-46.3,504,231,-54.2]
[6,"Житомирської області",158,108,-31.6,1,3,"3 р",0.63291139240506333,2.7777777777777777,8,1,-87.5,16,9,-43.8,59,56,-5.0999999999999996]
[7,"Закарпатської області",249,150,-39.799999999999997,2,1,-50,0.80321285140562249,0.66666666666666663,13,36,"2,8 р",64,61,-4.7,40,100,"2,5 р"]
[8,"Запорізької області",362,601,66,null,2,0,0,0.33277870216306155,1,33,"33 р",33,116,"3,5 р",29,120,"4,1 р"]
[9,"Івано-Франківської області",96,86,-10.4,null,null,0,0,0,2,1,-50,38,28,-26.3,53,32,-39.6]
[10,"Київської області",346,252,-27.2,null,1,0,0,0.3968253968253968,12,4,-66.7,124,81,-34.700000000000003,161,139,-13.7]
[11,"міста Києва",1598,1211,-24.2,4,3,-25,0.25031289111389238,0.2477291494632535,51,40,-21.6,226,107,-52.7,381,467,22.6]
[12,"Кіровоградської області",257,161,-37.4,1,2,"2 р",0.38910505836575876,1.2422360248447204,6,3,-50,28,20,-28.6,82,113,37.799999999999997]
[13,"Луганської області",189,190,0.5,null,null,0,0,0,16,22,37.5,33,43,30.3,89,121,36]
[14,"Львівської області",304,321,5.6,1,4,"4 р",0.32894736842105265,1.2461059190031152,7,12,71.400000000000006,30,35,16.7,82,87,6.1]
[15,"Миколаївської області",345,263,-23.8,null,1,0,0,0.38022813688212925,4,6,50,35,60,71.400000000000006,71,50,-29.6]
[16,"Одеської області",824,956,16,2,1,-50,0.24271844660194175,0.10460251046025104,26,19,-26.9,70,46,-34.299999999999997,224,399,78.099999999999994]
[17,"Полтавської області",316,239,-24.4,null,1,0,0,0.41841004184100417,8,2,-75,22,53,"2,4 р",16,37,"2,3 р"]
[18,"Рівненської області",192,200,4.2,2,2,0,1.0416666666666667,1,1,1,0,34,21,-38.200000000000003,61,26,-57.4]
[19,"Сумської області",229,250,9.1999999999999993,null,null,0,0,0,11,11,0,66,44,-33.299999999999997,50,39,-22]
[20,"Тернопільської області",182,233,28,5,2,-60,2.7472527472527473,0.85836909871244638,null,null,0,15,33,"2,2 р",33,37,12.1]
[21,"Харківської області",1295,1147,-11.4,2,1,-50,0.15444015444015444,8.7183958151700089E-2,26,37,42.3,107,48,-55.1,262,330,26]
[22,"Херсонської області",288,279,-3.1,3,null,"-100,0",1.0416666666666667,0,5,4,-20,42,52,23.8,49,39,-20.399999999999999]
[23,"Хмельницької області",136,138,1.5,null,1,0,0,0.72463768115942029,6,4,-33.299999999999997,9,28,"3,1 р",17,38,"2,2 р"]
[24,"Черкаської області",283,271,-4.2,null,1,0,0,0.36900369003690037,10,5,-50,20,23,15,8,3,-62.5]
[25,"Чернівецької області",141,141,0,3,null,"-100,0",2.1276595744680851,0,1,1,0,16,28,75,68,71,4.4000000000000004]
[26,"Чернігівської області",331,253,-23.6,null,null,0,0,0,13,2,-84.6,16,25,56.3,65,97,49.2]
[27,"Усього (без ЦА)",10372,9747,-6,33,31,-6.1,0.31816428846895489,0.31804657843439005,531,635,19.600000000000001,1282,1269,-1,2853,3422,19.899999999999999]
[28,"Центральний апарат",155,223,43.9,3,9,"3 р",1.935483870967742,4.0358744394618835,419,300,-28.4,508,510,0.4,908,1534,68.900000000000006]
[29,"№14",null,null,null,null,null,null,null,null,null,2,null,null,1,null,null,16]
[30,"№17",113,137,21.2,2,1,-50,1.7699115044247788,0.72992700729927007,55,67,21.8,307,140,-54.4,546,554,1.5]
[31,"№26",null,2,0,null,2,0,0,100,325,149,-54.2,15,97,"6,5 р",33,85,"2,6 р"]
[32,"№07",1,null,"-100,0",null,null,0,0,0,null,null,0,23,null,"-100,0",14,null,"-100,0"]
[33,"№07/1",13,50,"3,8 р",null,2,0,0,4,1,27,"27 р",77,104,35.1,111,220,98.2]
[34,"№29",1,null,"-100,0",null,null,0,0,0,null,null,0,23,null,"-100,0",1,null,"-100,0"]
[35,"№29/1",23,null,"-100,0",null,null,0,0,0,1,null,"-100,0",13,33,"2,5 р",10,null,"-100,0"]
[36,"№23",4,7,75,1,4,"4 р",25,57.142857142857146,25,29,16,48,64,33.299999999999997,181,490,"2,7 р"]
[37,"№25",null,26,null,null,null,null,null,null,null,2,null,null,31,null,null,36]
[38,"№30",null,1,null,null,null,null,null,null,12,24,null,2,40,null,12,133]
[39,"Усього (без ВП)",10527,9970,-5.3,36,40,11.1,0.34197777144485608,0.4012036108324975,950,935,-1.6,1790,1779,-0.6,3761,4956,31.8]
[40,"Апарат ГВП",18,11,-38.9,1,null,"-100,0",5.5555555555555554,0,56,87,55.4,74,63,-14.9,731,478,-34.6]
[41,"Західного регіону",517,471,-8.9,23,9,-60.9,4.4487427466150873,1.910828025477707,1161,333,-71.3,480,270,-43.8,718,255,-64.5]
[42,"Південного регіону",600,468,-22,126,153,21.4,21,32.692307692307693,2561,3685,43.9,321,2166,"6,7 р",231,220,-4.8]
[43,"Центрального регіону",429,363,-15.4,50,39,-22,11.655011655011656,10.743801652892563,3445,2596,-24.6,520,491,-5.6,61,40,-34.4]
[44,"Сил АТО",527,448,-15,21,23,9.5,3.9848197343453511,5.1339285714285712,1617,334,-79.3,1071,342,-68.099999999999994,370,297,-19.7]
[45,"Усього по ВП",2091,1761,-15.8,221,224,1.4,10.56910569105691,12.720045428733673,8840,7035,-20.399999999999999,2466,3332,35.1,2111,1290,-38.9]
[46,"Усього по Україні",12618,11731,-7,257,264,2.7,2.036772864162308,2.2504475321796948,9790,7970,-18.600000000000001,4256,5111,20.100000000000001,5872,6246,6.4]
[]
["Таблиця 4. Дані про виправданих осіб, та осіб стосовно яких кримінальне провадження закрито (без повторних) за реабілітуючих підстав"]
[]
["Код","Прокуратура","Кількість підозрюваних осіб, стосовно яких крим. провад. закрито прокурором",null,"з них:",null,null,null,"Кількість виправданих осіб судами",null,"з них:",null,null,null,"Кількість осіб, стосовно яких провадження закриті судом у зв’язку з відмовою прокурора",null,"з них:"]
[null,null,null,null,"трималися під вартою",null,"перебували під домашнім арештом",null,null,null,"трималися під вартою",null,"перебували під домашнім арештом",null,null,null,"трималися під вартою",null,"перебували під домашнім арештом"]
[null,null,{"$f":"$C$20","v":2016},{"$f":"$D$20","v":2017},{"$f":"$C$20","v":2016},{"$f":"$D$20","v":2017},{"$f":"$C$20","v":2016},{"$f":"$D$20","v":2017},{"$f":"$C$20","v":2016},{"$f":"$D$20","v":2017},{"$f":"$C$20","v":2016},{"$f":"$D$20","v":2017},{"$f":"$C$20","v":2016},{"$f":"$D$20","v":2017},{"$f":"$C$20","v":2016},{"$f":"$D$20","v":2017},{"$f":"$C$20","v":2016},{"$f":"$D$20","v":2017},{"$f":"$C$20","v":2016},{"$f":"$D$20","v":2017}]
[1,"АР Крим"]
[2,"Вінницької області",null,2]
[3,"Волинської області",null,null,null,null,null,null,5,4,null,null,1]
[4,"Дніпропетровської області",2,null,null,null,null,null,null,4,null,2,null,null,null,1]
[5,"Донецької області",4,1,null,null,null,null,null,6,null,2]
[6,"Житомирської області",null,null,null,null,null,null,4,1]
[7,"Закарпатської області",1,null,null,null,null,null,1,1,null,null,null,null,null,1]
[8,"Запорізької області",null,null,null,null,null,null,null,1]
[9,"Івано-Франківської області"]
[10,"Київської області",4,9,null,null,null,null,2,8,null,2,null,2,null,1,null,null,null,1]
[11,"міста Києва",6,14,1,null,null,null,3,2,null,null,1]
[12,"Кіровоградської області",null,2,null,null,null,null,2]
[13,"Луганської області",null,null,null,null,null,null,null,1]
[14,"Львівської області",null,null,null,null,null,null,1,1,1]
[15,"Миколаївської області",null,1,null,null,null,null,null,3]
[16,"Одеської області",2,2,1,null,null,null,7,5,1,3,2]
[17,"Полтавської області",null,null,null,null,null,null,5,1]
[18,"Рівненської області",null,null,null,null,null,null,2,null,null,null,1]
[19,"Сумської області",null,null,null,null,null,null,2,2]
[20,"Тернопільської області",3]
[21,"Харківської області",2,null,null,null,2,null,2,null,null,null,null,null,null,1]
[22,"Херсонської області",3,1,2]
[23,"Хмельницької області",null,null,null,null,null,null,1]
[24,"Черкаської області",null,null,null,null,null,null,2,5,null,2,1]
[25,"Чернівецької області"]
[26,"Чернігівської області",null,null,null,null,null,null,null,2]
[27,"Усього (без ЦА)",27,32,4,0,2,0,39,47,2,11,6,2,0,4,0,0,0,1]
[28,"Центральний апарат",12,11,1,1,0,1,0,1,0,0,0,0,0,0,0,0,0,0]
[29,"№14"]
[30,"№17",8,1,null,null,null,null,null,1]
[31,"№26",3,2,null,null,null,1]
[32,"№07"]
[33,"№07/1",null,4,null,1]
[34,"№29"]
[35,"№29/1"]
[36,"№23",1,1,1]
[37,"№25",null,3]
[38,"№30"]
[39,"Усього (без ВП)",39,43,5,1,2,1,39,48,2,11,6,2,0,4,0,0,0,1]
[40,"Апарат ГВП",4,null,null,null,3]
[41,"Західного регіону",2,8,1,5,null,1,1,null,null,null,null,null,null,1]
[42,"Південного регіону",null,null,null,null,null,null,null,1,null,1,null,null,1]
[43,"Центрального регіону",1,1,null,null,null,null,2,1,null,1]
[44,"Сил АТО",1,3,null,3,null,null,null,1,null,1]
[45,"Усього по ВП",8,12,1,8,3,1,3,3,0,3,0,0,1,1,0,0,0,0]
[46,"Усього по Україні",47,55,6,9,5,2,42,51,2,14,6,2,1,5,0,0,0,1]
[]
["Таблиця 5. Дані про виправданих осіб, та осіб стосовно яких кримінальне провадження закрито (без повторних) за реабілітуючих підстав  (за кримінальними справами, розслідуваними до 20.11.2012)"]
[]
["Код","Прокуратура","Кількість обвинувачених та підозрюваних, стосовно яких провадження закрито",null,null,"з них:",null,"Кількість виправданих і осіб, стосовно яких справи закриті судом за відсутністю події або складу злочину",null,null,"з них:",null,"Кількість осіб, стосовно яких кримінальні справи закриті судом у зв’язку з відмовою прокурора від підтримання державного обвинувачення",null,null,"з них:"]
[null,null,null,null,null,"трималися під вартою",null,null,null,null,"трималися під вартою",null,null,null,null,"трималися під вартою"]
[null,null,{"$f":"$C$20","v":2016},{"$f":"$D$20","v":2017}," %",{"$f":"$C$20","v":2016},{"$f":"$D$20","v":2017},{"$f":"$C$20","v":2016},{"$f":"$D$20","v":2017}," %",{"$f":"$C$20","v":2016},{"$f":"$D$20","v":2017},{"$f":"$C$20","v":2016},{"$f":"$D$20","v":2017}," %",{"$f":"$C$20","v":2016},{"$f":"$D$20","v":2017}]
[1,"АР Крим",null,null,{"$f":"IF(C281=0,0,IF(D281=0,\"-100,0\",IF(D281*100/C281<200,ROUND(D281*100/C281-100,1),ROUND(D281/C281,1)&\" р\")))","v":0},null,null,null,null,{"$f":"IF(H281=0,0,IF(I281=0,\"-100,0\",IF(I281*100/H281<200,ROUND(I281*100/H281-100,1),ROUND(I281/H281,1)&\" р\")))","v":0},null,null,null,null,{"$f":"IF(M281=0,0,IF(N281=0,\"-100,0\",IF(N281*100/M281<200,ROUND(N281*100/M281-100,1),ROUND(N281/M281,1)&\" р\")))","v":0}]
[2,"Вінницької області",null,1,0,null,null,3,null,"-100,0",null,null,null,null,0]
[3,"Волинської області",null,null,0,null,null,null,null,0,null,null,null,null,0]
[4,"Дніпропетровської області",2,4,"2 р",null,null,2,null,"-100,0",null,null,null,1,0]
[5,"Донецької області",null,null,0,null,null,2,null,"-100,0",null,null,null,1,0]
[6,"Житомирської області",null,null,0,null,null,1,null,"-100,0",null,null,null,null,0]
[7,"Закарпатської області",1,null,"-100,0",null,null,null,null,0,null,null,null,null,0]
[8,"Запорізької області",null,null,0,null,null,null,null,0,null,null,null,null,0]
[9,"Івано-Франківської області",null,null,0,null,null,2,null,"-100,0",null,null,null,null,0]
[10,"Київської області",null,null,0,null,null,null,2,0,null,null,null,null,0]
[11,"міста Києва",null,null,0,null,null,null,2,0,null,null,null,null,0]
[12,"Кіровоградської області",null,null,0,null,null,null,1,0,null,null,null,null,0]
[13,"Луганської області",null,null,0,null,null,null,null,0,null,null,null,null,0]
[14,"Львівської області",null,null,0,null,null,4,2,-50,null,null,null,null,0]
[15,"Миколаївської області",null,null,0,null,null,null,null,0,null,null,null,null,0]
[16,"Одеської області",4,4,0,null,null,1,null,"-100,0",null,null,null,1,0]
[17,"Полтавської області",null,null,0,null,null,null,null,0,null,null,null,null,0]
[18,"Рівненської області",1,1,0,null,null,1,null,"-100,0",null,null,null,null,0]
[19,"Сумської області",1,null,"-100,0",1,null,null,null,0,null,null,null,null,0]
[20,"Тернопільської області",3,1,-66.7,null,null,1,1,0,null,null,null,null,0]
[21,"Харківської області",null,null,0,null,null,null,1,0,null,null,null,null,0]
[22,"Херсонської області",null,null,0,null,null,null,null,0,null,null,null,null,0]
[23,"Хмельницької області",null,null,0,null,null,null,null,0,null,null,null,null,0]
[24,"Черкаської області",null,1,0,null,null,null,2,0,null,null,null,null,0]
[25,"Чернівецької області",null,null,0,null,null,null,null,0,null,null,1,null,"-100,0"]
[26,"Чернігівської області",null,null,0,null,null,null,null,0,null,null,null,null,0]
[27,"Усього (без ЦА)",12,12,0,1,0,17,11,-35.299999999999997,0,0,1,3,"3 р",0,0]
[28,"Центральний апарат",0,0,0,0,0,1,3,"3 р",0,0,0,0,0,0,0]
[29,"№14"]
[30,"№17",null,null,0,null,null,1,3,"3 р",null,null,null,null,0]
[31,"№26",null,null,0,null,null,null,null,0,null,null,null,null,0]
[32,"№07",null,null,0,null,null,null,null,0,null,null,null,null,0]
[33,"№07/1",null,null,0,null,null,null,null,0,null,null,null,null,0]
[34,"№29",null,null,0,null,null,null,null,0,null,null,null,null,0]
[35,"№29/1",null,null,0,null,null,null,null,0,null,null,null,null,0]
[36,"№23",null,null,0,null,null,null,null,0,null,null,null,null,0]
[37,"№25"]
[38,"№30"]
[39,"Усього (без ВП)",12,12,0,1,0,18,14,-22.2,0,0,1,3,"3 р",0,0]
[40,"Апарат ГВП",null,null,0,null,null,null,null,0,null,null,null,null,0]
[41,"Західного регіону",null,null,0,null,null,null,null,0,null,null,null,null,0]
[42,"Південного регіону",null,null,0,null,null,null,null,0,null,null,null,null,0]
[43,"Центрального регіону",null,null,0,null,null,null,null,0,null,null,null,null,0]
[44,"Сил АТО",null,null,0,null,null,null,null,0,null,null,null,null,0]
[45,"Усього по ВП",0,0,0,0,0,0,0,0,0,0,0,0,0,0,0]
[46,"Усього по Україні",12,12,0,1,0,18,14,-22.2,0,0,1,3,"3 р",0,0]
[]
["Таблиця 6 Кримінальні провадження, у яких закінчено досудове розслідування (без повторних)"]
[]
["Код","Прокуратура","Закінчено кримінальних проваджень (без повторно закінчених)",null,null,"Направлено до суду кримінальних проваджень з обвинувальним актом (без повторних)",null,null,"Питома вага",null,"Провадження про корупційні правопорушення ",null,null,"Питома вага",null,"Стосовно якої кількості осіб"]
[]
[null,null,{"$f":"$C$20","v":2016},{"$f":"$D$20","v":2017}," %",{"$f":"$C$20","v":2016},{"$f":"$D$20","v":2017}," %",{"$f":"$C$20","v":2016},{"$f":"$D$20","v":2017},{"$f":"$C$20","v":2016},{"$f":"$D$20","v":2017}," %",{"$f":"$C$20","v":2016},{"$f":"$D$20","v":2017},{"$f":"$C$20","v":2016},{"$f":"$D$20","v":2017}," %"]
[1,"АР Крим",22,66,{"$f":"IF(C333=0,0,IF(D333=0,\"-100,0\",IF(D333*100/C333<200,ROUND(D333*100/C333-100,1),ROUND(D333/C333,1)&\" р\")))","v":"3 р"},12,55,{"$f":"IF(F333=0,0,IF(G333=0,\"-100,0\",IF(G333*100/F333<200,ROUND(G333*100/F333-100,1),ROUND(G333/F333,1)&\" р\")))","v":"4,6 р"},{"$f":"IF(C333=0,0,F333*100/C333)","v":54.545454545454547},{"$f":"IF(D333=0,0,G333*100/D333)","v":83.333333333333329},null,5,{"$f":"IF(K333=0,0,IF(L333=0,\"-100,0\",IF(L333*100/K333<200,ROUND(L333*100/K333-100,1),ROUND(L333/K333,1)&\" р\")))","v":0},{"$f":"IF(F333=0,0,K333*100/F333)","v":0},{"$f":"IF(G333=0,0,L333*100/G333)","v":9.0909090909090917},null,6,{"$f":"IF(P333=0,0,IF(Q333=0,\"-100,0\",IF(Q333*100/P333<200,ROUND(Q333*100/P333-100,1),ROUND(Q333/P333,1)&\" р\")))","v":0}]
[2,"Вінницької області",285,232,-18.600000000000001,27,30,11.1,9.473684210526315,12.931034482758621,14,14,0,51.851851851851855,46.666666666666664,18,14,-22.2]
[3,"Волинської області",186,204,9.6999999999999993,29,35,20.7,15.591397849462366,17.156862745098039,15,26,73.3,51.724137931034484,74.285714285714292,18,30,66.7]
[4,"Дніпропетровської області",970,998,2.9,71,124,74.599999999999994,7.3195876288659791,12.424849699398798,26,40,53.8,36.619718309859152,32.258064516129032,32,50,56.3]
[5,"Донецької області",778,726,-6.7,89,112,25.8,11.439588688946015,15.426997245179063,19,36,89.5,21.348314606741575,32.142857142857146,30,53,76.7]
[6,"Житомирської області",125,126,0.8,17,23,35.299999999999997,13.6,18.253968253968253,7,14,"2 р",41.176470588235297,60.869565217391305,9,18,"2 р"]
[7,"Закарпатської області",197,164,-16.8,32,39,21.9,16.243654822335024,23.780487804878049,19,18,-5.3,59.375,46.153846153846153,22,20,-9.1]
[8,"Запорізької області",320,601,87.8,29,74,"2,6 р",9.0625,12.312811980033278,11,26,"2,4 р",37.931034482758619,35.135135135135137,12,35,"2,9 р"]
[9,"Івано-Франківської області",105,97,-7.6,30,25,-16.7,28.571428571428573,25.773195876288661,16,14,-12.5,53.333333333333336,56,18,16,-11.1]
[10,"Київської області",353,303,-14.2,50,51,2,14.164305949008499,16.831683168316832,31,23,-25.8,62,45.098039215686278,36,28,-22.2]
[11,"міста Києва",1351,1105,-18.2,73,96,31.5,5.4034048852701702,8.6877828054298636,31,36,16.100000000000001,42.465753424657535,37.5,39,49,25.6]
[12,"Кіровоградської області",236,165,-30.1,15,19,26.7,6.3559322033898304,11.515151515151516,10,12,20,66.666666666666671,63.157894736842103,12,12,0]
[13,"Луганської області",230,239,3.9,40,49,22.5,17.391304347826086,20.502092050209207,11,14,27.3,27.5,28.571428571428573,13,17,30.8]
[14,"Львівської області",301,308,2.2999999999999998,58,71,22.4,19.269102990033222,23.051948051948052,29,35,20.7,50,49.29577464788732,38,48,26.3]
[15,"Миколаївської області",295,263,-10.8,23,31,34.799999999999997,7.7966101694915251,11.787072243346008,11,19,72.7,47.826086956521742,61.29032258064516,11,21,90.9]
[16,"Одеської області",744,833,12,71,69,-2.8,9.543010752688172,8.2833133253301323,50,42,-16,70.422535211267601,60.869565217391305,70,51,-27.1]
[17,"Полтавської області",288,235,-18.399999999999999,26,38,46.2,9.0277777777777786,16.170212765957448,11,18,63.6,42.307692307692307,47.368421052631582,11,25,"2,3 р"]
[18,"Рівненської області",194,181,-6.7,20,21,5,10.309278350515465,11.602209944751381,13,11,-15.4,65,52.38095238095238,19,12,-36.799999999999997]
[19,"Сумської області",205,229,11.7,35,45,28.6,17.073170731707318,19.650655021834062,26,26,0,74.285714285714292,57.777777777777779,28,27,-3.6]
[20,"Тернопільської області",156,201,28.8,12,18,50,7.6923076923076925,8.9552238805970141,7,4,-42.9,58.333333333333336,22.222222222222221,8,4,-50]
[21,"Харківської області",848,1006,18.600000000000001,96,136,41.7,11.320754716981131,13.518886679920477,40,43,7.5,41.666666666666664,31.617647058823529,46,64,39.1]
[22,"Херсонської області",248,254,2.4,19,23,21.1,7.661290322580645,9.0551181102362204,6,11,83.3,31.578947368421051,47.826086956521742,6,13,"2,2 р"]
[23,"Хмельницької області",123,137,11.4,24,25,4.2,19.512195121951219,18.248175182481752,13,12,-7.7,54.166666666666664,48,17,13,-23.5]
[24,"Черкаської області",208,185,-11.1,32,26,-18.8,15.384615384615385,14.054054054054054,15,17,13.3,46.875,65.384615384615387,17,25,47.1]
[25,"Чернівецької області",122,130,6.6,24,24,0,{"$f":"IF(C357=0,0,F357*100/C357)","v":19.672131147540984},18.46153846153846,10,11,10,41.666666666666664,45.833333333333336,10,11,10]
[26,"Чернігівської області",299,236,-21.1,35,34,-2.9,11.705685618729097,14.40677966101695,16,14,-12.5,45.714285714285715,41.176470588235297,21,20,-4.8]
[27,"Усього (без ЦА)",9189,9224,0.4,989,1293,30.7,{"$f":"IF(C359=0,0,F359*100/C359)","v":10.762868647295679},14.017779705117086,457,541,18.399999999999999,46.208291203235589,41.840680587780355,561,682,21.6]
[28,"Центральний апарат",279,437,56.6,135,233,72.599999999999994,48.387096774193552,53.318077803203664,50,49,-2,37.037037037037038,21.030042918454935,63,67,6.3]
[29,"№14",null,2,null,null,2]
[30,"№17",165,190,15.2,63,71,12.7,38.18181818181818,37.368421052631582,25,29,16,39.682539682539684,40.845070422535208,32,42,31.3]
[31,"№26",18,104,"5,8 р",18,102,"5,7 р",100,98.07692307692308,null,null,0,0,0,null,null,0]
[32,"№07",4,null,"-100,0",3,null,"-100,0",75,0,2,null,"-100,0",66.666666666666671,0,2,null,"-100,0"]
[33,"№07/1",35,77,"2,2 р",20,26,30,null,33.766233766233768,14,9,-35.700000000000003,70,34.615384615384613,15,12,-20]
[34,"№29",3,null,"-100,0",2,null,"-100,0",null,0,2,null,"-100,0",100,0,4,null,"-100,0"]
[35,"№29/1",29,null,"-100,0",8,null,"-100,0",null,0,5,null,"-100,0",62.5,0,6,null,"-100,0"]
[36,"№23",24,25,4.2,20,20,0,null,80,2,2,0,10,10,4,3,-25]
[37,"№25",null,35,null,null,9,null,null,null,null,7,null,null,null,null,8]
[38,"№30",1,4,null,1,3,null,null,null,null,2,null,null,null,null,2]
[39,"Усього (без ВП)",9468,9661,2,1124,1526,35.799999999999997,11.87156738487537,15.795466307835628,507,590,16.399999999999999,45.106761565836301,38.663171690694625,624,749,20]
[40,"Апарат ГВП",99,63,-36.4,79,52,-34.200000000000003,79.797979797979792,82.539682539682545,23,14,-39.1,29.11392405063291,26.923076923076923,29,24,-17.2]
[41,"Західного регіону",1082,1157,6.9,607,753,24.1,56.099815157116453,65.082108902333616,92,78,-15.2,15.156507413509061,10.358565737051793,98,82,-16.3]
[42,"Південного регіону",1899,1682,-11.4,1327,1297,-2.2999999999999998,69.878883622959449,77.110582639714622,102,84,-17.600000000000001,7.6865109269027885,6.4764841942945255,120,97,-19.2]
[43,"Центрального регіону",1422,1304,-8.3000000000000007,1004,975,-2.9,70.604781997187061,74.769938650306742,77,58,-24.7,7.6693227091633469,5.9487179487179489,86,67,-22.1]
[44,"Сил АТО",1609,1462,-9.1,1121,1032,-7.9,null,70.588235294117652,44,36,-18.2,3.9250669045495092,3.4883720930232558,60,39,-35]
[45,"Усього по ВП",6111,5668,-7.2,4138,4109,-0.7,67.713958435607921,72.494707127734657,338,270,-20.100000000000001,8.168197196713388,6.5709418349963498,393,309,-21.4]
[46,"Усього по Україні",15579,15329,-1.6,5262,5635,7.1,33.776237242441745,36.760388805531996,845,860,1.8,16.058532877232992,15.261756876663709,1017,1058,4]
[]
["Таблиця 7. Направлено до суду кримінальних проваджень з обвинувальним актом (без повторних)."]
[]
["Код","Прокуратура","Провадження про правопорушення, вчинені ОГ та ЗО",null,null,"Стосовно якої кількості осіб",null,"Провадження про правопорушення, вчинені у сфері земельних правовідносин",null,null,"Стосовно якої кількості осіб",null,"Провадження про правопорушення, вчинені у бюджетній системі",null,null,"Стосовно якої кількості осіб"]
[]
[null,null,{"$f":"$C$20","v":2016},{"$f":"$D$20","v":2017}," %",{"$f":"$C$20","v":2016},{"$f":"$D$20","v":2017},{"$f":"$C$20","v":2016},{"$f":"$D$20","v":2017}," %",{"$f":"$C$20","v":2016},{"$f":"$D$20","v":2017},{"$f":"$C$20","v":2016},{"$f":"$D$20","v":2017}," %",{"$f":"$C$20","v":2016},{"$f":"$D$20","v":2017}]
[1,"АР Крим",null,null,{"$f":"IF(C385=0,0,IF(D385=0,\"-100,0\",IF(D385*100/C385<200,ROUND(D385*100/C385-100,1),ROUND(D385/C385,1)&\" р\")))","v":0},null,null,null,null,{"$f":"IF(H385=0,0,IF(I385=0,\"-100,0\",IF(I385*100/H385<200,ROUND(I385*100/H385-100,1),ROUND(I385/H385,1)&\" р\")))","v":0},null,null,null,null,{"$f":"IF(M385=0,0,IF(N385=0,\"-100,0\",IF(N385*100/M385<200,ROUND(N385*100/M385-100,1),ROUND(N385/M385,1)&\" р\")))","v":0}]
[2,"Вінницької області",1,null,"-100,0",4,null,null,1,0,null,1,null,null,0]
[3,"Волинської області",null,null,0,null,null,null,2,0,null,2,1,7,"7 р",1,7]
[4,"Дніпропетровської області",1,2,"2 р",3,2,1,4,"4 р",1,5,5,14,"2,8 р",5,15]
[5,"Донецької області",1,1,0,7,4,null,1,0,null,2,null,2,0,null,6]
[6,"Житомирської області",1,1,0,1,8,null,null,0,null,null,1,2,"2 р",2,2]
[7,"Закарпатської області",null,null,0,null,null,2,2,0,3,2,1,null,"-100,0",1]
[8,"Запорізької області",2,1,-50,6,6,null,1,0,null,1,null,1,0,null,1]
[9,"Івано-Франківської області",2,null,"-100,0",4,null,4,1,-75,6,2,2,null,"-100,0",2]
[10,"Київської області",null,null,0,null,null,5,5,0,7,5,2,4,"2 р",2,4]
[11,"міста Києва",null,3,0,null,14,null,1,0,null,4,1,1,0,1,2]
[12,"Кіровоградської області",null,1,0,null,4,2,1,-50,2,1,null,null,0]
[13,"Луганської області",null,null,0,null,null,1,2,"2 р",1,4,1,6,"6 р",3,6]
[14,"Львівської області",null,1,0,null,4,null,1,0,null,1,2,1,-50,10,1]
[15,"Миколаївської області",null,null,0,null,null,null,null,0,null,null,null,null,0]
[16,"Одеської області",null,null,0,null,null,null,null,0,null,null,2,1,-50,4,1]
[17,"Полтавської області",null,1,0,null,3,null,1,0,null,3,null,null,0]
[18,"Рівненської області",null,1,0,null,6,null,1,0,null,1,1,null,"-100,0",1]
[19,"Сумської області",1,null,"-100,0",2,null,null,2,0,null,2,8,4,-50,9,5]
[20,"Тернопільської області",null,1,0,null,4,null,null,0,null,null,null,null,0]
[21,"Харківської області",null,2,0,null,9,1,3,"3 р",1,9,4,null,"-100,0",7]
[22,"Херсонської області",null,1,0,null,4,null,null,0,null,null,null,null,0]
[23,"Хмельницької області",null,1,0,null,3,1,2,"2 р",2,2,null,1,0,null,1]
[24,"Черкаської області",null,null,0,null,null,1,null,"-100,0",1,null,null,1,0,null,1]
[25,"Чернівецької області",null,null,0,null,null,1,1,0,1,1,null,null,0]
[26,"Чернігівської області",1,null,"-100,0",4,null,null,1,0,null,2,1,3,"3 р",1,3]
[27,"Усього (без ЦА)",10,17,70,31,71,19,33,73.7,25,50,32,48,50,49,55]
[28,"Центральний апарат",2,4,"2 р",3,12,3,7,"2,3 р",21,17,2,1,-50,6,1]
[29,"№14",null,2,null,null,2]
[30,"№17",1,2,"2 р",1,10,2,1,-50,2,9,null,null,0]
[31,"№26",null,null,0,null,null,null,null,0,null,null,null,null,0]
[32,"№07",1,null,"-100,0",2,null,null,null,0,null,null,null,null,0]
[33,"№07/1",null,null,0,null,null,null,3,0,null,3,null,1,0,null,1]
[34,"№29",null,null,0,null,null,null,null,0,null,null,null,null,0]
[35,"№29/1",null,null,0,null,null,null,null,0,null,null,null,null,0]
[36,"№23",null,null,0,null,null,1,1,0,19,3,2,null,"-100,0",6]
[37,"№25"]
[38,"№30",null,null,null,null,null,null,2,null,null,2]
[39,"Усього (без ВП)",12,21,75,34,83,22,40,81.8,46,67,34,49,44.1,55,56]
[40,"Апарат ГВП",4,null,"-100,0",29,null,null,null,0,null,null,null,null,0]
[41,"Західного регіону",null,1,0,null,6,1,2,"2 р",1,2,14,9,-35.700000000000003,15,9]
[42,"Південного регіону",3,1,-66.7,13,10,1,1,0,1,1,7,6,-14.3,7,6]
[43,"Центрального регіону",2,null,"-100,0",6,null,1,3,"3 р",1,4,9,6,-33.299999999999997,9,7]
[44,"Сил АТО",null,2,0,null,5,null,null,0,null,null,1,1,0,1,1]
[45,"Усього по ВП",9,4,-55.6,48,21,3,6,"2 р",3,7,31,22,-29,32,23]
[46,"Усього по Україні",21,25,19,82,104,25,46,84,49,74,65,71,9.1999999999999993,87,79]
[]
["Таблиця 8. Направлено до суду кримінальних проваджень з обвинувальним актом (без повторних)."]
[]
["Код","Прокуратура","Крим. правопорушення, вчинені особами посади яких до ч.1 ст. 9 Закону України «Про державну службу»  віднесено до 1-2 категорії (крім працівників правоох. органів)",null,null,"з них: у сфері службової діяльності ",null,null,"у т.ч.:"]
[null,null,null,null,null,null,null,null,"зловживання владою або службовим становищем (ст. 364)",null,null,"службова недбалість (ст. 367)",null,null,"злочини щодо хабарництва (ст.ст. 368-370)",null,null,"інші кримінальні правопорушення, не пов’язані із службовою діяльністю"]
[null,null,{"$f":"$C$20","v":2016},{"$f":"$D$20","v":2017}," %",{"$f":"$C$20","v":2016},{"$f":"$D$20","v":2017}," %",{"$f":"$C$20","v":2016},{"$f":"$D$20","v":2017}," %",{"$f":"$C$20","v":2016},{"$f":"$D$20","v":2017}," %",{"$f":"$C$20","v":2016},{"$f":"$D$20","v":2017}," %",{"$f":"$C$20","v":2016},{"$f":"$D$20","v":2017}," %"]
[1,"АР Крим",null,null,{"$f":"IF(C437=0,0,IF(D437=0,\"-100,0\",IF(D437*100/C437<200,ROUND(D437*100/C437-100,1),ROUND(D437/C437,1)&\" р\")))","v":0},null,null,{"$f":"IF(F437=0,0,IF(G437=0,\"-100,0\",IF(G437*100/F437<200,ROUND(G437*100/F437-100,1),ROUND(G437/F437,1)&\" р\")))","v":0},null,null,{"$f":"IF(I437=0,0,IF(J437=0,\"-100,0\",IF(J437*100/I437<200,ROUND(J437*100/I437-100,1),ROUND(J437/I437,1)&\" р\")))","v":0},null,null,{"$f":"IF(L437=0,0,IF(M437=0,\"-100,0\",IF(M437*100/L437<200,ROUND(M437*100/L437-100,1),ROUND(M437/L437,1)&\" р\")))","v":0},null,null,{"$f":"IF(O437=0,0,IF(P437=0,\"-100,0\",IF(P437*100/O437<200,ROUND(P437*100/O437-100,1),ROUND(P437/O437,1)&\" р\")))","v":0},null,null,{"$f":"IF(R437=0,0,IF(S437=0,\"-100,0\",IF(S437*100/R437<200,ROUND(S437*100/R437-100,1),ROUND(S437/R437,1)&\" р\")))","v":0}]
[2,"Вінницької області",null,2,0,null,1,0,null,null,0,null,null,0,null,1,0,null,null,0]
[3,"Волинської області",null,null,0,null,null,0,null,null,0,null,null,0,null,null,0,null,null,0]
[4,"Дніпропетровської області",1,null,"-100,0",1,null,"-100,0",1,null,"-100,0",null,null,0,null,null,0,null,null,0]
[5,"Донецької області",null,null,0,null,null,0,null,null,0,null,null,0,null,null,0,null,null,0]
[6,"Житомирської області",null,null,0,null,null,0,null,null,0,null,null,0,null,null,0,null,null,0]
[7,"Закарпатської області",null,null,0,null,null,0,null,null,0,null,null,0,null,null,0,null,null,0]
[8,"Запорізької області",null,null,0,null,null,0,null,null,0,null,null,0,null,null,0,null,null,0]
[9,"Івано-Франківської області",null,null,0,null,null,0,null,null,0,null,null,0,null,null,0,null,null,0]
[10,"Київської області",null,null,0,null,null,0,null,null,0,null,null,0,null,null,0,null,null,0]
[11,"міста Києва",null,null,0,null,null,0,null,null,0,null,null,0,null,null,0,null,null,0]
[12,"Кіровоградської області",null,null,0,null,null,0,null,null,0,null,null,0,null,null,0,null,null,0]
[13,"Луганської області",null,null,0,null,null,0,null,null,0,null,null,0,null,null,0,null,null,0]
[14,"Львівської області",null,null,0,null,null,0,null,null,0,null,null,0,null,null,0,null,null,0]
[15,"Миколаївської області",null,null,0,null,null,0,null,null,0,null,null,0,null,null,0,null,null,0]
[16,"Одеської області",null,null,0,null,null,0,null,null,0,null,null,0,null,null,0,null,null,0]
[17,"Полтавської області",null,null,0,null,null,0,null,null,0,null,null,0,null,null,0,null,null,0]
[18,"Рівненської області",null,null,0,null,null,0,null,null,0,null,null,0,null,null,0,null,null,0]
[19,"Сумської області",null,null,0,null,null,0,null,null,0,null,null,0,null,null,0,null,null,0]
[20,"Тернопільської області",null,null,0,null,null,0,null,null,0,null,null,0,null,null,0,null,null,0]
[21,"Харківської області",null,null,0,null,null,0,null,null,0,null,null,0,null,null,0,null,null,0]
[22,"Херсонської області",null,null,0,null,null,0,null,null,0,null,null,0,null,null,0,null,null,0]
[23,"Хмельницької області",null,null,0,null,null,0,null,null,0,null,null,0,null,null,0,null,null,0]
[24,"Черкаської області",null,1,0,null,1,0,null,null,0,null,1,0,null,null,0,null,null,0]
[25,"Чернівецької області",null,null,0,null,null,0,null,null,0,null,null,0,null,null,0,null,null,0]
[26,"Чернігівської області",null,null,0,null,null,0,null,null,0,null,null,0,null,null,0,null,null,0]
[27,"Усього (без ЦА)",1,3,"3 р",1,2,"2 р",1,0,"-100,0",0,1,0,0,1,0,0,0,0]
[28,"Центральний апарат",5,4,-20,5,3,-40,0,0,0,0,0,0,3,0,"-100,0",2,3,50]
[29,"№14"]
[30,"№17",3,3,0,3,3,0,null,null,0,null,null,0,3,null,"-100,0",null,3,0]
[31,"№26",null,null,0,null,null,0,null,null,0,null,null,0,null,null,0,null,null,0]
[32,"№07",null,null,0,null,null,0,null,null,0,null,null,0,null,null,0,null,null,0]
[33,"№07/1",null,null,0,null,null,0,null,null,0,null,null,0,null,null,0,null,null,0]
[34,"№29",null,null,0,null,null,0,null,null,0,null,null,0,null,null,0,null,null,0]
[35,"№29/1",null,null,0,null,null,0,null,null,0,null,null,0,null,null,0,null,null,0]
[36,"№23",2,null,"-100,0",2,null,"-100,0",null,null,0,null,null,0,null,null,0,2,null,"-100,0"]
[37,"№25"]
[38,"№30",null,1]
[39,"Усього (без ВП)",6,7,16.7,6,5,-16.7,1,0,"-100,0",0,1,0,3,1,-66.7,2,3,50]
[40,"Апарат ГВП",null,null,0,null,null,0,null,null,0,null,null,0,null,null,0,null,null,0]
[41,"Західного регіону",null,null,0,null,null,0,null,null,0,null,null,0,null,null,0,null,null,0]
[42,"Південного регіону",null,null,0,null,null,0,null,null,0,null,null,0,null,null,0,null,null,0]
[43,"Центрального регіону",null,null,0,null,null,0,null,null,0,null,null,0,null,null,0,null,null,0]
[44,"Сил АТО",null,null,0,null,null,0,null,null,0,null,null,0,null,null,0,null,null,0]
[45,"Усього по ВП",0,0,0,0,0,0,0,0,0,0,0,0,0,0,0,0,0,0]
[46,"Усього по Україні",6,7,16.7,6,5,-16.7,1,0,"-100,0",0,1,0,3,1,-66.7,2,3,50]
[]
["Таблиця 9. Направлено до суду кримінальних проваджень з обвинувальним актом (без повторних)."]
[]
["Код","Прокуратура","Крим. правопорушення, вчинені особами посади яких згідно зі ст. 25 Закону України «Про держ. службу» віднесено до 3 категорії посад (крім праців. правоох. органів та суддів)",null,null,"з них: у сфері службової діяльності ",null,null,"у т.ч.:"]
[null,null,null,null,null,null,null,null,"зловживання владою або службовим становищем (ст. 364)",null,null,"службова недбалість (ст. 367)",null,null,"злочини щодо хабарництва (ст.ст. 368-370)",null,null,"інші кримінальні правопорушення, не пов’язані із службовою діяльністю"]
[null,null,{"$f":"$C$20","v":2016},{"$f":"$D$20","v":2017}," %",{"$f":"$C$20","v":2016},{"$f":"$D$20","v":2017}," %",{"$f":"$C$20","v":2016},{"$f":"$D$20","v":2017}," %",{"$f":"$C$20","v":2016},{"$f":"$D$20","v":2017}," %",{"$f":"$C$20","v":2016},{"$f":"$D$20","v":2017}," %",{"$f":"$C$20","v":2016},{"$f":"$D$20","v":2017}," %"]
[1,"АР Крим",null,null,{"$f":"IF(C489=0,0,IF(D489=0,\"-100,0\",IF(D489*100/C489<200,ROUND(D489*100/C489-100,1),ROUND(D489/C489,1)&\" р\")))","v":0},null,null,{"$f":"IF(F489=0,0,IF(G489=0,\"-100,0\",IF(G489*100/F489<200,ROUND(G489*100/F489-100,1),ROUND(G489/F489,1)&\" р\")))","v":0},null,null,{"$f":"IF(I489=0,0,IF(J489=0,\"-100,0\",IF(J489*100/I489<200,ROUND(J489*100/I489-100,1),ROUND(J489/I489,1)&\" р\")))","v":0},null,null,{"$f":"IF(L489=0,0,IF(M489=0,\"-100,0\",IF(M489*100/L489<200,ROUND(M489*100/L489-100,1),ROUND(M489/L489,1)&\" р\")))","v":0},null,null,{"$f":"IF(O489=0,0,IF(P489=0,\"-100,0\",IF(P489*100/O489<200,ROUND(P489*100/O489-100,1),ROUND(P489/O489,1)&\" р\")))","v":0},null,null,{"$f":"IF(R489=0,0,IF(S489=0,\"-100,0\",IF(S489*100/R489<200,ROUND(S489*100/R489-100,1),ROUND(S489/R489,1)&\" р\")))","v":0}]
[2,"Вінницької області",null,1,0,null,1,0,null,null,0,null,null,0,null,1,0,null,null,0]
[3,"Волинської області",null,null,0,null,null,0,null,null,0,null,null,0,null,null,0,null,null,0]
[4,"Дніпропетровської області",2,1,-50,2,1,-50,null,null,0,null,null,0,1,1,0,1,null,"-100,0"]
[5,"Донецької області",null,null,0,null,null,0,null,null,0,null,null,0,null,null,0,null,null,0]
[6,"Житомирської області",null,2,0,null,2,0,null,null,0,null,null,0,null,2,0,null,null,0]
[7,"Закарпатської області",null,null,0,null,null,0,null,null,0,null,null,0,null,null,0,null,null,0]
[8,"Запорізької області",null,null,0,null,null,0,null,null,0,null,null,0,null,null,0,null,null,0]
[9,"Івано-Франківської області",null,null,0,null,null,0,null,null,0,null,null,0,null,null,0,null,null,0]
[10,"Київської області",1,1,0,1,1,0,null,null,0,null,null,0,1,1,0,null,null,0]
[11,"міста Києва",2,1,-50,1,1,0,null,1,0,null,null,0,1,null,"-100,0",null,null,0]
[12,"Кіровоградської області",null,null,0,null,null,0,null,null,0,null,null,0,null,null,0,null,null,0]
[13,"Луганської області",null,6,0,null,6,0,null,null,0,null,null,0,null,3,0,null,3,0]
[14,"Львівської області",null,null,0,null,null,0,null,null,0,null,null,0,null,null,0,null,null,0]
[15,"Миколаївської області",null,null,0,null,null,0,null,null,0,null,null,0,null,null,0,null,null,0]
[16,"Одеської області",null,null,0,null,null,0,null,null,0,null,null,0,null,null,0,null,null,0]
[17,"Полтавської області",1,null,"-100,0",1,null,"-100,0",null,null,0,null,null,0,1,null,"-100,0",null,null,0]
[18,"Рівненської області",null,null,0,null,null,0,null,null,0,null,null,0,null,null,0,null,null,0]
[19,"Сумської області",1,null,"-100,0",1,null,"-100,0",null,null,0,null,null,0,null,null,0,1,null,"-100,0"]
[20,"Тернопільської області",null,null,0,null,null,0,null,null,0,null,null,0,null,null,0,null,null,0]
[21,"Харківської області",null,null,0,null,null,0,null,null,0,null,null,0,null,null,0,null,null,0]
[22,"Херсонської області",null,null,0,null,null,0,null,null,0,null,null,0,null,null,0,null,null,0]
[23,"Хмельницької області",null,null,0,null,null,0,null,null,0,null,null,0,null,null,0,null,null,0]
[24,"Черкаської області",null,null,0,null,null,0,null,null,0,null,null,0,null,null,0,null,null,0]
[25,"Чернівецької області",null,null,0,null,null,0,null,null,0,null,null,0,null,null,0,null,null,0]
[26,"Чернігівської області",null,null,0,null,null,0,null,null,0,null,null,0,null,null,0,null,null,0]
[27,"Усього (без ЦА)",7,12,71.400000000000006,6,12,"2 р",0,1,0,0,0,0,4,8,"2 р",2,3,50]
[28,"Центральний апарат",1,2,"2 р",1,2,"2 р",0,1,0,0,0,0,1,0,"-100,0",0,1,0]
[29,"№14"]
[30,"№17",1,null,"-100,0",1,null,"-100,0",null,null,0,null,null,0,1,null,"-100,0",null,null,0]
[31,"№26",null,null,0,null,null,0,null,null,0,null,null,0,null,null,0,null,null,0]
[32,"№07",null,null,0,null,null,0,null,null,0,null,null,0,null,null,0,null,null,0]
[33,"№07/1",null,null,0,null,null,0,null,null,0,null,null,0,null,null,0,null,null,0]
[34,"№29",null,null,0,null,null,0,null,null,0,null,null,0,null,null,0,null,null,0]
[35,"№29/1",null,null,0,null,null,0,null,null,0,null,null,0,null,null,0,null,null,0]
[36,"№23",null,1,0,null,1,0,null,null,0,null,null,0,null,null,0,null,1,0]
[37,"№25"]
[38,"№30",null,1,null,null,1,null,null,1]
[39,"Усього (без ВП)",8,14,75,7,14,"2 р",0,2,0,0,0,0,5,8,60,2,4,"2 р"]
[40,"Апарат ГВП",null,null,0,null,null,0,null,null,0,null,null,0,null,null,0,null,null,0]
[41,"Західного регіону",null,null,0,null,null,0,null,null,0,null,null,0,null,null,0,null,null,0]
[42,"Південного регіону",null,null,0,null,null,0,null,null,0,null,null,0,null,null,0,null,null,0]
[43,"Центрального регіону",null,null,0,null,null,0,null,null,0,null,null,0,null,null,0,null,null,0]
[44,"Сил АТО",null,null,0,null,null,0,null,null,0,null,null,0,null,null,0,null,null,0]
[45,"Усього по ВП",0,0,0,0,0,0,0,0,0,0,0,0,0,0,0,0,0,0]
[46,"Усього по Україні",8,14,75,7,14,"2 р",0,2,0,0,0,0,5,8,60,2,4,"2 р"]
[]
["Таблиця 10. Направлено до суду кримінальних проваджень з обвинувальним актом (без повторних)."]
[]
["Код","Прокуратура","Кримінальні правопорушення, вчинені працівниками правоохоронних органів",null,null,"з них:"]
[null,null,null,null,null,"органів внутрішніх справ",null,null,"у т.ч.\nНаціональної  гвардії",null,null,"органів прокуратури",null,null,"Служби безпеки України",null,null,"Державної податкової служби"]
[null,null,{"$f":"$C$20","v":2016},{"$f":"$D$20","v":2017}," %",{"$f":"$C$20","v":2016},{"$f":"$D$20","v":2017}," %",{"$f":"$C$20","v":2016},{"$f":"$D$20","v":2017}," %",{"$f":"$C$20","v":2016},{"$f":"$D$20","v":2017}," %",{"$f":"$C$20","v":2016},{"$f":"$D$20","v":2017}," %",{"$f":"$C$20","v":2016},{"$f":"$D$20","v":2017}," %"]
[1,"АР Крим",null,4,{"$f":"IF(C541=0,0,IF(D541=0,\"-100,0\",IF(D541*100/C541<200,ROUND(D541*100/C541-100,1),ROUND(D541/C541,1)&\" р\")))","v":0},null,null,{"$f":"IF(F541=0,0,IF(G541=0,\"-100,0\",IF(G541*100/F541<200,ROUND(G541*100/F541-100,1),ROUND(G541/F541,1)&\" р\")))","v":0},null,null,{"$f":"IF(I541=0,0,IF(J541=0,\"-100,0\",IF(J541*100/I541<200,ROUND(J541*100/I541-100,1),ROUND(J541/I541,1)&\" р\")))","v":0},null,2,{"$f":"IF(L541=0,0,IF(M541=0,\"-100,0\",IF(M541*100/L541<200,ROUND(M541*100/L541-100,1),ROUND(M541/L541,1)&\" р\")))","v":0},null,null,{"$f":"IF(O541=0,0,IF(P541=0,\"-100,0\",IF(P541*100/O541<200,ROUND(P541*100/O541-100,1),ROUND(P541/O541,1)&\" р\")))","v":0},null,1,{"$f":"IF(R541=0,0,IF(S541=0,\"-100,0\",IF(S541*100/R541<200,ROUND(S541*100/R541-100,1),ROUND(S541/R541,1)&\" р\")))","v":0}]
[2,"Вінницької області",20,22,10,15,20,33.299999999999997,null,null,0,null,null,0,null,null,0,1,1,0]
[3,"Волинської області",29,23,-20.7,9,5,-44.4,null,null,0,1,null,"-100,0",null,null,0,4,1,-75]
[4,"Дніпропетровської області",56,63,12.5,38,34,-10.5,null,null,0,null,2,0,null,null,0,9,9,0]
[5,"Донецької області",70,67,-4.3,56,46,-17.899999999999999,null,null,0,3,1,-66.7,null,null,0,3,7,"2,3 р"]
[6,"Житомирської області",10,17,70,6,11,83.3,null,null,0,1,null,"-100,0",null,null,0,null,null,0]
[7,"Закарпатської області",20,21,5,6,8,33.299999999999997,null,null,0,null,1,0,null,null,0,1,1,0]
[8,"Запорізької області",26,59,"2,3 р",15,35,"2,3 р",null,null,0,null,null,0,null,null,0,3,8,"2,7 р"]
[9,"Івано-Франківської області",17,17,0,4,12,"3 р",null,null,0,null,null,0,null,null,0,null,2,0]
[10,"Київської області",32,23,-28.1,20,13,-35,null,null,0,null,2,0,null,null,0,5,4,-20]
[11,"міста Києва",60,54,-10,46,44,-4.3,2,null,"-100,0",null,null,0,null,null,0,8,2,-75]
[12,"Кіровоградської області",14,9,-35.700000000000003,5,6,20,null,null,0,null,null,0,null,null,0,1,1,0]
[13,"Луганської області",34,28,-17.600000000000001,22,16,-27.3,null,1,0,null,null,0,null,null,0,3,3,0]
[14,"Львівської області",51,62,21.6,28,32,14.3,null,null,0,null,1,0,null,null,0,3,1,-66.7]
[15,"Миколаївської області",15,19,26.7,12,13,8.3000000000000007,null,null,0,null,null,0,null,null,0,null,1,0]
[16,"Одеської області",65,64,-1.5,35,26,-25.7,null,null,0,2,2,0,null,null,0,7,8,14.3]
[17,"Полтавської області",20,26,30,15,18,20,1,null,"-100,0",1,null,"-100,0",null,1,0,3,2,-33.299999999999997]
[18,"Рівненської області",16,21,31.3,12,11,-8.3000000000000007,null,null,0,null,1,0,1,null,"-100,0",null,1,0]
[19,"Сумської області",25,23,-8,11,10,-9.1,null,null,0,null,2,0,null,null,0,1,3,"3 р"]
[20,"Тернопільської області",10,16,60,3,10,"3,3 р",null,null,0,1,null,"-100,0",null,null,0,1,null,"-100,0"]
[21,"Харківської області",79,113,43,55,86,56.4,null,1,0,1,null,"-100,0",null,null,0,7,14,"2 р"]
[22,"Херсонської області",19,17,-10.5,13,10,-23.1,null,null,0,null,null,0,null,null,0,null,1,0]
[23,"Хмельницької області",20,13,-35,13,11,-15.4,null,null,0,null,null,0,null,null,0,2,null,"-100,0"]
[24,"Черкаської області",29,18,-37.9,20,11,-45,null,null,0,null,null,0,null,null,0,5,null,"-100,0"]
[25,"Чернівецької області",16,17,6.3,1,6,"6 р",null,null,0,null,null,0,null,null,0,1,null,"-100,0"]
[26,"Чернігівської області",31,31,0,18,15,-16.7,1,null,"-100,0",null,null,0,null,null,0,null,1,0]
[27,"Усього (без ЦА)",784,847,8,478,509,6.5,4,2,-50,10,14,40,1,1,0,68,72,5.9]
[28,"Центральний апарат",57,42,-26.3,22,15,-31.8,0,0,0,13,17,30.8,2,0,"-100,0",14,6,-57.1]
[29,"№14"]
[30,"№17",27,16,-40.700000000000003,10,4,-60,null,null,0,3,3,0,1,null,"-100,0",10,6,-40]
[31,"№26",null,null,0,null,null,0,null,null,0,null,null,0,null,null,0,null,null,0]
[32,"№07",1,null,"-100,0",null,null,0,null,null,0,null,null,0,null,null,0,1,null,"-100,0"]
[33,"№07/1",11,8,-27.3,4,3,-25,null,null,0,null,4,0,1,null,"-100,0",3,null,"-100,0"]
[34,"№29",2,null,"-100,0",null,null,0,null,null,0,2,null,"-100,0",null,null,0,null,null,0]
[35,"№29/1",7,null,"-100,0",null,null,0,null,null,0,7,null,"-100,0",null,null,0,null,null,0]
[36,"№23",8,9,12.5,7,8,14.3,null,null,0,1,1,0,null,null,0,null,null,0]
[37,"№25",null,9,null,null,null,null,null,null,null,null,9]
[38,"№30",1,null,null,1]
[39,"Усього (без ВП)",841,889,5.7,500,524,4.8,4,2,-50,23,31,34.799999999999997,3,1,-66.7,82,78,-4.9000000000000004]
[40,"Апарат ГВП",14,2,-85.7,5,1,-80,2,1,-50,2,null,"-100,0",2,1,-50,null,null,0]
[41,"Західного регіону",107,96,-10.3,30,17,-43.3,18,8,-55.6,null,null,0,4,4,0,null,null,0]
[42,"Південного регіону",200,144,-28,98,85,-13.3,74,64,-13.5,2,2,0,4,4,0,null,null,0]
[43,"Центрального регіону",129,95,-26.4,67,47,-29.9,59,38,-35.6,null,null,0,10,11,10,null,null,0]
[44,"Сил АТО",163,100,-38.700000000000003,97,69,-28.9,90,69,-23.3,null,null,0,13,3,-76.900000000000006,null,null,0]
[45,"Усього по ВП",613,437,-28.7,297,219,-26.3,243,180,-25.9,4,2,-50,33,23,-30.3,0,0,0]
[46,"Усього по Україні",1454,1326,-8.8000000000000007,797,743,-6.8,247,182,-26.3,27,33,22.2,36,24,-33.299999999999997,82,78,-4.9000000000000004]
[]
["Таблиця 11. Направлено до суду кримінальних проваджень з обвинувальним актом (без повторних)."]
[]
["Код","Прокуратура","з них:"]
[null,null,"митної служби",null,null,"працівниками пенітенціарної системи",null,null,"працівниками органів Держфінінспекції",null,null,"працівниками державної лісової охорони",null,null,"співробітниками Військової служби правопорядку у ЗСУ",null,null,"прикордонниками"]
[null,null,{"$f":"$C$20","v":2016},{"$f":"$D$20","v":2017}," %",{"$f":"$C$20","v":2016},{"$f":"$D$20","v":2017}," %",{"$f":"$C$20","v":2016},{"$f":"$D$20","v":2017}," %",{"$f":"$C$20","v":2016},{"$f":"$D$20","v":2017}," %",{"$f":"$C$20","v":2016},{"$f":"$D$20","v":2017}," %",{"$f":"$C$20","v":2016},{"$f":"$D$20","v":2017}," %"]
[1,"АР Крим",null,1,{"$f":"IF(C593=0,0,IF(D593=0,\"-100,0\",IF(D593*100/C593<200,ROUND(D593*100/C593-100,1),ROUND(D593/C593,1)&\" р\")))","v":0},null,null,{"$f":"IF(F593=0,0,IF(G593=0,\"-100,0\",IF(G593*100/F593<200,ROUND(G593*100/F593-100,1),ROUND(G593/F593,1)&\" р\")))","v":0},null,null,{"$f":"IF(I593=0,0,IF(J593=0,\"-100,0\",IF(J593*100/I593<200,ROUND(J593*100/I593-100,1),ROUND(J593/I593,1)&\" р\")))","v":0},null,null,{"$f":"IF(L593=0,0,IF(M593=0,\"-100,0\",IF(M593*100/L593<200,ROUND(M593*100/L593-100,1),ROUND(M593/L593,1)&\" р\")))","v":0},null,null,{"$f":"IF(O593=0,0,IF(P593=0,\"-100,0\",IF(P593*100/O593<200,ROUND(P593*100/O593-100,1),ROUND(P593/O593,1)&\" р\")))","v":0},null,null,{"$f":"IF(R593=0,0,IF(S593=0,\"-100,0\",IF(S593*100/R593<200,ROUND(S593*100/R593-100,1),ROUND(S593/R593,1)&\" р\")))","v":0}]
[2,"Вінницької області",null,null,0,4,1,-75,null,null,0,null,null,0,null,null,0,null,null,0]
[3,"Волинської області",6,11,83.3,null,2,0,null,null,0,7,4,-42.9,null,null,0,null,null,0]
[4,"Дніпропетровської області",2,5,"2,5 р",5,5,0,null,null,0,null,6,0,null,null,0,null,null,0]
[5,"Донецької області",null,2,0,6,5,-16.7,null,null,0,null,2,0,null,null,0,null,null,0]
[6,"Житомирської області",null,1,0,1,3,"3 р",null,null,0,1,2,"2 р",null,null,0,null,null,0]
[7,"Закарпатської області",6,4,-33.299999999999997,null,null,0,null,null,0,4,7,75,null,null,0,2,null,"-100,0"]
[8,"Запорізької області",1,2,"2 р",2,3,50,1,null,"-100,0",1,1,0,1,null,"-100,0",null,null,0]
[9,"Івано-Франківської області",1,null,"-100,0",2,null,"-100,0",null,null,0,10,3,-70,null,null,0,null,null,0]
[10,"Київської області",null,3,0,3,1,-66.7,null,null,0,1,null,"-100,0",null,null,0,null,null,0]
[11,"міста Києва",3,2,-33.299999999999997,2,1,-50,null,null,0,null,null,0,null,null,0,null,null,0]
[12,"Кіровоградської області",null,null,0,1,2,"2 р",null,null,0,null,null,0,null,null,0,null,null,0]
[13,"Луганської області",5,1,-80,1,null,"-100,0",null,null,0,1,7,"7 р",null,null,0,null,null,0]
[14,"Львівської області",3,10,"3,3 р",1,2,"2 р",null,null,0,12,11,-8.3000000000000007,null,null,0,null,null,0]
[15,"Миколаївської області",null,null,0,2,2,0,null,null,0,1,1,0,null,null,0,null,null,0]
[16,"Одеської області",6,7,16.7,1,2,"2 р",null,null,0,null,1,0,null,null,0,1,null,"-100,0"]
[17,"Полтавської області",null,2,0,1,1,0,null,null,0,null,2,0,null,null,0,null,null,0]
[18,"Рівненської області",1,2,"2 р",2,2,0,null,null,0,null,1,0,null,null,0,null,null,0]
[19,"Сумської області",5,4,-20,5,4,-20,null,null,0,null,null,0,null,null,0,null,null,0]
[20,"Тернопільської області",null,null,0,1,null,"-100,0",null,null,0,null,5,0,null,null,0,null,null,0]
[21,"Харківської області",6,2,-66.7,3,3,0,null,null,0,3,2,-33.299999999999997,null,null,0,null,null,0]
[22,"Херсонської області",2,1,-50,2,3,50,null,null,0,null,null,0,null,null,0,1,1,0]
[23,"Хмельницької області",1,null,"-100,0",2,2,0,null,null,0,null,null,0,null,null,0,null,null,0]
[24,"Черкаської області",null,null,0,2,null,"-100,0",null,null,0,null,6,0,null,null,0,null,null,0]
[25,"Чернівецької області",1,2,"2 р",1,null,"-100,0",null,null,0,12,7,-41.7,null,null,0,null,1,0]
[26,"Чернігівської області",2,1,-50,3,5,66.7,null,null,0,null,5,0,null,null,0,4,null,"-100,0"]
[27,"Усього (без ЦА)",51,63,23.5,53,49,-7.5,1,0,"-100,0",53,73,37.700000000000003,1,0,"-100,0",8,2,-75]
[28,"Центральний апарат",1,2,"2 р",0,0,0,0,0,0,0,0,0,0,0,0,3,1,-66.7]
[29,"№14"]
[30,"№17",1,2,"2 р",null,null,0,null,null,0,null,null,0,null,null,0,null,null,0]
[31,"№26",null,null,0,null,null,0,null,null,0,null,null,0,null,null,0,null,null,0]
[32,"№07",null,null,0,null,null,0,null,null,0,null,null,0,null,null,0,null,null,0]
[33,"№07/1",null,null,0,null,null,0,null,null,0,null,null,0,null,null,0,3,1,-66.7]
[34,"№29",null,null,0,null,null,0,null,null,0,null,null,0,null,null,0,null,null,0]
[35,"№29/1",null,null,0,null,null,0,null,null,0,null,null,0,null,null,0,null,null,0]
[36,"№23",null,null,0,null,null,0,null,null,0,null,null,0,null,null,0,null,null,0]
[37,"№25"]
[38,"№30"]
[39,"Усього (без ВП)",52,65,25,53,49,-7.5,1,0,"-100,0",53,73,37.700000000000003,1,0,"-100,0",11,3,-72.7]
[40,"Апарат ГВП",null,null,0,null,null,0,null,null,0,null,null,0,null,null,0,null,null,0]
[41,"Західного регіону",null,null,0,null,null,0,null,null,0,null,null,0,null,null,0,48,51,6.3]
[42,"Південного регіону",null,null,0,null,null,0,null,null,0,null,null,0,4,4,0,76,30,-60.5]
[43,"Центрального регіону",null,null,0,null,null,0,null,null,0,null,null,0,3,3,0,18,20,11.1]
[44,"Сил АТО",null,null,0,null,null,0,null,null,0,null,null,0,3,1,-66.7,45,27,-40]
[45,"Усього по ВП",0,0,0,0,0,0,0,0,0,0,0,0,10,8,-20,187,128,-31.6]
[46,"Усього по Україні",52,65,25,53,49,-7.5,1,0,"-100,0",53,73,37.700000000000003,11,8,-27.3,198,131,-33.799999999999997]
[]
["Таблиця 12. Направлено до суду кримінальних проваджень з обвинувальним актом (без повторних) про кримінальні правопорушення, вчинені працівниками правоохоронних органів"]
[]
["Код","Прокуратура","У сфері службової діяльності ",null,null,"з них:"]
[null,null,null,null,null,"зловживання владою або службовим становищем (ст. 364)",null,null,"перевищення влади або службових повноважень (ст. 365)",null,null,"службова недбалість (ст. 367)",null,null,"злочини щодо хабарництва (ст.ст. 368-370)",null,null,"інші кримінальні правопорушення, вчинені у сфері службової діяльності"]
[null,null,{"$f":"$C$20","v":2016},{"$f":"$D$20","v":2017}," %",{"$f":"$C$20","v":2016},{"$f":"$D$20","v":2017}," %",{"$f":"$C$20","v":2016},{"$f":"$D$20","v":2017}," %",{"$f":"$C$20","v":2016},{"$f":"$D$20","v":2017}," %",{"$f":"$C$20","v":2016},{"$f":"$D$20","v":2017}," %",{"$f":"$C$20","v":2016},{"$f":"$D$20","v":2017}," %"]
[1,"АР Крим",null,2,{"$f":"IF(C645=0,0,IF(D645=0,\"-100,0\",IF(D645*100/C645<200,ROUND(D645*100/C645-100,1),ROUND(D645/C645,1)&\" р\")))","v":0},null,1,{"$f":"IF(F645=0,0,IF(G645=0,\"-100,0\",IF(G645*100/F645<200,ROUND(G645*100/F645-100,1),ROUND(G645/F645,1)&\" р\")))","v":0},null,null,{"$f":"IF(I645=0,0,IF(J645=0,\"-100,0\",IF(J645*100/I645<200,ROUND(J645*100/I645-100,1),ROUND(J645/I645,1)&\" р\")))","v":0},null,null,{"$f":"IF(L645=0,0,IF(M645=0,\"-100,0\",IF(M645*100/L645<200,ROUND(M645*100/L645-100,1),ROUND(M645/L645,1)&\" р\")))","v":0},null,1,{"$f":"IF(O645=0,0,IF(P645=0,\"-100,0\",IF(P645*100/O645<200,ROUND(P645*100/O645-100,1),ROUND(P645/O645,1)&\" р\")))","v":0},null,null,{"$f":"IF(R645=0,0,IF(S645=0,\"-100,0\",IF(S645*100/R645<200,ROUND(S645*100/R645-100,1),ROUND(S645/R645,1)&\" р\")))","v":0}]
[2,"Вінницької області",17,13,-23.5,1,null,"-100,0",4,1,-75,null,null,0,11,8,-27.3,1,4,"4 р"]
[3,"Волинської області",21,21,0,2,5,"2,5 р",2,1,-50,2,null,"-100,0",13,11,-15.4,2,4,"2 р"]
[4,"Дніпропетровської області",37,38,2.7,6,3,-50,8,5,-37.5,1,6,"6 р",17,11,-35.299999999999997,5,13,"2,6 р"]
[5,"Донецької області",31,26,-16.100000000000001,4,null,"-100,0",5,1,-80,null,null,0,17,24,41.2,5,1,-80]
[6,"Житомирської області",8,9,12.5,null,null,0,2,1,-50,null,null,0,6,6,0,null,2,0]
[7,"Закарпатської області",16,15,-6.3,2,1,-50,1,null,"-100,0",2,2,0,7,7,0,4,5,25]
[8,"Запорізької області",17,43,"2,5 р",null,1,0,2,6,"3 р",null,1,0,13,24,84.6,2,11,"5,5 р"]
[9,"Івано-Франківської області",15,15,0,1,null,"-100,0",1,4,"4 р",10,2,-80,1,7,"7 р",2,2,0]
[10,"Київської області",21,17,-19,null,2,0,null,1,0,null,null,0,18,8,-55.6,3,6,"2 р"]
[11,"міста Києва",40,35,-12.5,2,2,0,7,2,-71.400000000000006,null,1,0,23,16,-30.4,8,14,75]
[12,"Кіровоградської області",12,6,-50,null,null,0,null,null,0,null,null,0,10,5,-50,2,1,-50]
[13,"Луганської області",14,18,28.6,null,null,0,6,null,"-100,0",null,1,0,5,2,-60,3,15,"5 р"]
[14,"Львівської області",39,46,17.899999999999999,2,3,50,2,4,"2 р",9,3,-66.7,24,23,-4.2,2,13,"6,5 р"]
[15,"Миколаївської області",11,16,45.5,null,null,0,3,2,-33.299999999999997,null,null,0,6,7,16.7,2,7,"3,5 р"]
[16,"Одеської області",54,53,-1.9,2,3,50,null,2,0,4,4,0,40,39,-2.5,8,5,-37.5]
[17,"Полтавської області",16,20,25,1,null,"-100,0",2,1,-50,3,1,-66.7,7,13,85.7,3,5,66.7]
[18,"Рівненської області",14,15,7.1,null,null,0,1,null,"-100,0",null,null,0,11,10,-9.1,2,5,"2,5 р"]
[19,"Сумської області",20,19,-5,5,null,"-100,0",2,3,50,null,null,0,12,13,8.3000000000000007,1,3,"3 р"]
[20,"Тернопільської області",7,9,28.6,null,null,0,null,1,0,null,3,0,7,3,-57.1,null,2,0]
[21,"Харківської області",71,62,-12.7,3,1,-66.7,28,17,-39.299999999999997,1,null,"-100,0",33,35,6.1,6,9,50]
[22,"Херсонської області",6,10,66.7,null,null,0,null,1,0,null,null,0,6,7,16.7,null,2,0]
[23,"Хмельницької області",14,8,-42.9,null,null,0,3,1,-66.7,null,1,0,9,4,-55.6,2,2,0]
[24,"Черкаської області",24,17,-29.2,6,4,-33.299999999999997,5,2,-60,4,null,"-100,0",9,9,0,null,2,0]
[25,"Чернівецької області",16,13,-18.8,null,null,0,null,null,0,8,2,-75,4,7,75,4,4,0]
[26,"Чернігівської області",19,18,-5.3,1,3,"3 р",4,null,"-100,0",null,null,0,14,7,-50,null,8,0]
[27,"Усього (без ЦА)",560,564,0.7,38,29,-23.7,88,56,-36.4,44,27,-38.6,323,307,-5,67,145,"2,2 р"]
[28,"Центральний апарат",48,36,-25,3,2,-33.299999999999997,10,7,-30,2,0,"-100,0",27,18,-33.299999999999997,6,9,50]
[29,"№14"]
[30,"№17",21,16,-23.8,3,2,-33.299999999999997,6,2,-66.7,2,null,"-100,0",9,9,0,1,3,"3 р"]
[31,"№26",null,null,0,null,null,0,null,null,0,null,null,0,null,null,0,null,null,0]
[32,"№07",1,null,"-100,0",null,null,0,null,null,0,null,null,0,1,null,"-100,0",null,null,0]
[33,"№07/1",11,4,-63.6,null,null,0,null,null,0,null,null,0,10,2,-80,1,2,"2 р"]
[34,"№29",2,null,"-100,0",null,null,0,null,null,0,null,null,0,2,null,"-100,0",null,null,0]
[35,"№29/1",5,null,"-100,0",null,null,0,null,null,0,null,null,0,5,null,"-100,0",null,null,0]
[36,"№23",8,9,12.5,null,null,0,4,5,25,null,null,0,null,null,0,4,4,0]
[37,"№25",null,7,null,null,null,null,null,null,null,null,null,null,null,7]
[38,"№30"]
[39,"Усього (без ВП)",608,600,-1.3,41,31,-24.4,98,63,-35.700000000000003,46,27,-41.3,350,325,-7.1,73,154,"2,1 р"]
[40,"Апарат ГВП",14,12,-14.3,2,2,0,null,null,0,null,3,0,12,6,-50,null,1,0]
[41,"Західного регіону",107,76,-29,3,1,-66.7,1,null,"-100,0",1,4,"4 р",79,71,-10.1,23,null,"-100,0"]
[42,"Південного регіону",200,81,-59.5,null,2,0,1,1,0,1,1,0,97,74,-23.7,101,3,-97]
[43,"Центрального регіону",129,48,-62.8,null,null,0,null,null,0,null,1,0,58,45,-22.4,71,2,-97.2]
[44,"Сил АТО",163,37,-77.3,null,1,0,3,null,"-100,0",null,null,0,39,35,-10.3,121,1,-99.2]
[45,"Усього по ВП",613,254,-58.6,5,6,20,5,1,-80,2,9,"4,5 р",285,231,-18.899999999999999,316,7,-97.8]
[46,"Усього по Україні",1221,854,-30.1,46,37,-19.600000000000001,103,64,-37.9,48,36,-25,635,556,-12.4,389,161,-58.6]
[]
["Таблиця 13. Направлено до суду кримінальних проваджень з обвинувальним актом (без повторних)."]
[]
["Код","Прокуратура","Кримінальні правопорушення, вчинені суддями",null,null,"з них: у сфері здійснення правосуддя",null,null,"у т.ч.:"]
[null,null,null,null,null,null,null,null,"постановлення завідомо неправосудного вироку, рішення або ухвали (ст.375)",null,null,"злочини щодо хабарництва (ст.ст. 368-370)",null,null,"інші крим. правопор., вчинені у сфері службової діяльності щодо здійснення правосуддя"]
[null,null,{"$f":"$C$20","v":2016},{"$f":"$D$20","v":2017}," %",{"$f":"$C$20","v":2016},{"$f":"$D$20","v":2017}," %",{"$f":"$C$20","v":2016},{"$f":"$D$20","v":2017}," %",{"$f":"$C$20","v":2016},{"$f":"$D$20","v":2017}," %",{"$f":"$C$20","v":2016},{"$f":"$D$20","v":2017}," %"]
[1,"АР Крим",null,1,{"$f":"IF(C697=0,0,IF(D697=0,\"-100,0\",IF(D697*100/C697<200,ROUND(D697*100/C697-100,1),ROUND(D697/C697,1)&\" р\")))","v":0},null,1,{"$f":"IF(F697=0,0,IF(G697=0,\"-100,0\",IF(G697*100/F697<200,ROUND(G697*100/F697-100,1),ROUND(G697/F697,1)&\" р\")))","v":0},null,1,{"$f":"IF(I697=0,0,IF(J697=0,\"-100,0\",IF(J697*100/I697<200,ROUND(J697*100/I697-100,1),ROUND(J697/I697,1)&\" р\")))","v":0},null,null,{"$f":"IF(L697=0,0,IF(M697=0,\"-100,0\",IF(M697*100/L697<200,ROUND(M697*100/L697-100,1),ROUND(M697/L697,1)&\" р\")))","v":0},null,null,{"$f":"IF(O697=0,0,IF(P697=0,\"-100,0\",IF(P697*100/O697<200,ROUND(P697*100/O697-100,1),ROUND(P697/O697,1)&\" р\")))","v":0}]
[2,"Вінницької області",2,null,"-100,0",2,null,"-100,0",2,null,"-100,0",null,null,0,null,null,0]
[3,"Волинської області",null,null,0,null,null,0,null,null,0,null,null,0,null,null,0]
[4,"Дніпропетровської області",3,1,-66.7,2,null,"-100,0",1,null,"-100,0",1,null,"-100,0",null,null,0]
[5,"Донецької області",2,6,"3 р",1,null,"-100,0",null,null,0,1,null,"-100,0",null,null,0]
[6,"Житомирської області",1,1,0,null,1,0,null,1,0,null,null,0,null,null,0]
[7,"Закарпатської області",1,null,"-100,0",null,null,0,null,null,0,null,null,0,null,null,0]
[8,"Запорізької області",null,2,0,null,2,0,null,2,0,null,null,0,null,null,0]
[9,"Івано-Франківської області",null,null,0,null,null,0,null,null,0,null,null,0,null,null,0]
[10,"Київської області",2,null,"-100,0",2,null,"-100,0",2,null,"-100,0",null,null,0,null,null,0]
[11,"міста Києва",null,null,0,null,null,0,null,null,0,null,null,0,null,null,0]
[12,"Кіровоградської області",null,null,0,null,null,0,null,null,0,null,null,0,null,null,0]
[13,"Луганської області",null,6,0,null,null,0,null,null,0,null,null,0,null,null,0]
[14,"Львівської області",null,null,0,null,null,0,null,null,0,null,null,0,null,null,0]
[15,"Миколаївської області",null,1,0,null,1,0,null,null,0,null,1,0,null,null,0]
[16,"Одеської області",2,1,-50,2,1,-50,2,1,-50,null,null,0,null,null,0]
[17,"Полтавської області",null,null,0,null,null,0,null,null,0,null,null,0,null,null,0]
[18,"Рівненської області",null,null,0,null,null,0,null,null,0,null,null,0,null,null,0]
[19,"Сумської області",null,null,0,null,null,0,null,null,0,null,null,0,null,null,0]
[20,"Тернопільської області",null,null,0,null,null,0,null,null,0,null,null,0,null,null,0]
[21,"Харківської області",null,null,0,null,null,0,null,null,0,null,null,0,null,null,0]
[22,"Херсонської області",null,null,0,null,null,0,null,null,0,null,null,0,null,null,0]
[23,"Хмельницької області",null,null,0,null,null,0,null,null,0,null,null,0,null,null,0]
[24,"Черкаської області",1,null,"-100,0",1,null,"-100,0",1,null,"-100,0",null,null,0,null,null,0]
[25,"Чернівецької області",null,null,0,null,null,0,null,null,0,null,null,0,null,null,0]
[26,"Чернігівської області",null,null,0,null,null,0,null,null,0,null,null,0,null,null,0]
[27,"Усього (без ЦА)",14,19,35.700000000000003,10,6,-40,8,5,-37.5,2,1,-50,0,0,0]
[28,"Центральний апарат",21,105,"5 р",5,5,0,0,0,0,5,3,-40,0,2,0]
[29,"№14"]
[30,"№17",4,1,-75,4,1,-75,null,null,0,4,1,-75,null,null,0]
[31,"№26",16,100,"6,3 р",null,null,0,null,null,0,null,null,0,null,null,0]
[32,"№07",1,null,"-100,0",1,null,"-100,0",null,null,0,1,null,"-100,0",null,null,0]
[33,"№07/1",null,4,0,null,4,0,null,null,0,null,2,0,null,2,0]
[34,"№29",null,null,0,null,null,0,null,null,0,null,null,0,null,null,0]
[35,"№29/1",null,null,0,null,null,0,null,null,0,null,null,0,null,null,0]
[36,"№23",null,null,0,null,null,0,null,null,0,null,null,0,null,null,0]
[37,"№25"]
[38,"№30"]
[39,"Усього (без ВП)",35,124,"3,5 р",15,11,-26.7,8,5,-37.5,7,4,-42.9,0,2,0]
[40,"Апарат ГВП",null,null,0,null,null,0,null,null,0,null,null,0,null,null,0]
[41,"Західного регіону",null,null,0,null,null,0,null,null,0,null,null,0,null,null,0]
[42,"Південного регіону",null,null,0,null,null,0,null,null,0,null,null,0,null,null,0]
[43,"Центрального регіону",null,null,0,null,null,0,null,null,0,null,null,0,null,null,0]
[44,"Сил АТО",null,null,0,null,null,0,null,null,0,null,null,0,null,null,0]
[45,"Усього по ВП",0,0,0,0,0,0,0,0,0,0,0,0,0,0,0]
[46,"Усього по Україні",35,124,"3,5 р",15,11,-26.7,8,5,-37.5,7,4,-42.9,0,2,0]
[]
["Таблиця 14. Кримінальні провадження, у яких закінчено досудове розслідування (без повторних)"]
[]
["Код","Прокуратура","Закінчено кримінальних проваджень (без повторно закінчених)",null,null,"Направлено клопотань до суду для звільнення від кримінальної відповідальності (без повторних)",null,null,"Питома вага",null,"Усього закрито кримінальних проваджень (без повторних)",null,null,"Питома вага",null,"Закрито кримінальних проваджень за  п.п. 1-3 ч. 1 ст.284 КПК",null,null,"Питома вага"]
[]
[null,null,{"$f":"$C$20","v":2016},{"$f":"$D$20","v":2017}," %",{"$f":"$C$20","v":2016},{"$f":"$D$20","v":2017}," %",{"$f":"$C$20","v":2016},{"$f":"$D$20","v":2017},{"$f":"$C$20","v":2016},{"$f":"$D$20","v":2017}," %",{"$f":"$C$20","v":2016},{"$f":"$D$20","v":2017},{"$f":"$C$20","v":2016},{"$f":"$D$20","v":2017}," %",{"$f":"$C$20","v":2016},{"$f":"$D$20","v":2017}]
[1,"АР Крим",22,66,{"$f":"IF(C749=0,0,IF(D749=0,\"-100,0\",IF(D749*100/C749<200,ROUND(D749*100/C749-100,1),ROUND(D749/C749,1)&\" р\")))","v":"3 р"},1,null,{"$f":"IF(F749=0,0,IF(G749=0,\"-100,0\",IF(G749*100/F749<200,ROUND(G749*100/F749-100,1),ROUND(G749/F749,1)&\" р\")))","v":"-100,0"},{"$f":"IF(C749=0,0,F749*100/C749)","v":4.5454545454545459},{"$f":"IF(D749=0,0,G749*100/D749)","v":0},9,11,{"$f":"IF(K749=0,0,IF(L749=0,\"-100,0\",IF(L749*100/K749<200,ROUND(L749*100/K749-100,1),ROUND(L749/K749,1)&\" р\")))","v":22.2},{"$f":"IF(C749=0,0,K749*100/C749)","v":40.909090909090907},{"$f":"IF(D749=0,0,L749*100/D749)","v":16.666666666666668},9,10,{"$f":"IF(P749=0,0,IF(Q749=0,\"-100,0\",IF(Q749*100/P749<200,ROUND(Q749*100/P749-100,1),ROUND(Q749/P749,1)&\" р\")))","v":11.1},{"$f":"IF(C749=0,0,P749*100/C749)","v":40.909090909090907},{"$f":"IF(D749=0,0,Q749*100/D749)","v":15.151515151515152}]
[2,"Вінницької області",285,232,-18.600000000000001,null,null,0,{"$f":"IF(C750=0,0,F750*100/C750)","v":0},0,258,202,-21.7,{"$f":"IF(C750=0,0,K750*100/C750)","v":90.526315789473685},{"$f":"IF(D750=0,0,L750*100/D750)","v":87.068965517241381},258,202,-21.7,{"$f":"IF(C750=0,0,P750*100/C750)","v":90.526315789473685},{"$f":"IF(D750=0,0,Q750*100/D750)","v":87.068965517241381}]
[3,"Волинської області",186,204,9.6999999999999993,null,null,0,0,0,157,169,7.6,84.408602150537632,82.843137254901961,157,169,7.6,84.408602150537632,82.843137254901961]
[4,"Дніпропетровської області",970,998,2.9,null,1,0,0,0.10020040080160321,899,873,-2.9,92.680412371134025,87.474949899799597,898,873,-2.8,92.577319587628864,87.474949899799597]
[5,"Донецької області",778,726,-6.7,null,1,0,0,0.13774104683195593,689,613,-11,88.560411311053983,84.435261707988985,688,613,-10.9,88.431876606683801,84.435261707988985]
[6,"Житомирської області",125,126,0.8,null,2,0,0,1.5873015873015872,108,101,-6.5,86.4,80.158730158730165,107,100,-6.5,85.6,79.365079365079367]
[7,"Закарпатської області",197,164,-16.8,null,1,0,0,0.6097560975609756,165,124,-24.8,83.756345177664969,75.609756097560975,164,124,-24.4,83.248730964467001,75.609756097560975]
[8,"Запорізької області",320,601,87.8,null,null,0,0,0,291,527,81.099999999999994,90.9375,87.687188019966726,291,526,80.8,90.9375,87.520798668885192]
[9,"Івано-Франківської області",105,97,-7.6,null,null,0,0,0,75,72,-4,71.428571428571431,74.226804123711347,75,72,-4,71.428571428571431,74.226804123711347]
[10,"Київської області",353,303,-14.2,null,null,0,0,0,303,252,-16.8,85.835694050991506,83.168316831683171,303,252,-16.8,85.835694050991506,83.168316831683171]
[11,"міста Києва",1351,1105,-18.2,null,4,0,0,0.36199095022624433,1278,1005,-21.4,94.596595114729823,90.950226244343895,1278,1005,-21.4,94.596595114729823,90.950226244343895]
[12,"Кіровоградської області",236,165,-30.1,null,null,0,0,0,221,146,-33.9,93.644067796610173,88.484848484848484,221,146,-33.9,93.644067796610173,88.484848484848484]
[13,"Луганської області",230,239,3.9,1,null,"-100,0",0.43478260869565216,0,189,190,0.5,82.173913043478265,79.4979079497908,188,190,1.1000000000000001,81.739130434782609,79.4979079497908]
[14,"Львівської області",301,308,2.2999999999999998,null,null,0,0,0,243,237,-2.5,80.730897009966782,76.948051948051955,243,236,-2.9,80.730897009966782,76.623376623376629]
[15,"Миколаївської області",295,263,-10.8,null,null,0,0,0,272,232,-14.7,92.20338983050847,88.212927756653997,272,232,-14.7,92.20338983050847,88.212927756653997]
[16,"Одеської області",744,833,12,null,4,0,0,0.48019207683073228,673,760,12.9,90.456989247311824,91.23649459783914,673,760,12.9,90.456989247311824,91.23649459783914]
[17,"Полтавської області",288,235,-18.399999999999999,null,null,0,0,0,261,197,-24.5,90.625,83.829787234042556,261,196,-24.9,90.625,83.40425531914893]
[18,"Рівненської області",194,181,-6.7,null,null,0,0,0,174,160,-8,89.69072164948453,88.39779005524862,173,159,-8.1,89.175257731958766,87.845303867403317]
[19,"Сумської області",205,229,11.7,null,null,0,0,0,170,184,8.1999999999999993,82.926829268292678,80.349344978165945,169,184,8.9,82.439024390243901,80.349344978165945]
[20,"Тернопільської області",156,201,28.8,null,null,0,0,0,144,183,27.1,92.307692307692307,91.044776119402982,144,182,26.4,92.307692307692307,90.547263681592042]
[21,"Харківської області",848,1006,18.600000000000001,null,null,0,0,0,752,870,15.7,88.679245283018872,86.48111332007953,751,869,15.7,88.561320754716988,86.381709741550694]
[22,"Херсонської області",248,254,2.4,null,null,0,0,0,229,231,0.9,92.338709677419359,90.944881889763778,228,231,1.3,91.935483870967744,90.944881889763778]
[23,"Хмельницької області",123,137,11.4,null,null,0,0,0,99,112,13.1,80.487804878048777,81.751824817518255,99,111,12.1,80.487804878048777,81.021897810218974]
[24,"Черкаської області",208,185,-11.1,null,2,0,0,1.0810810810810811,176,157,-10.8,84.615384615384613,84.86486486486487,176,157,-10.8,84.615384615384613,84.86486486486487]
[25,"Чернівецької області",122,130,6.6,null,null,0,0,0,98,106,8.1999999999999993,80.327868852459019,81.538461538461533,98,106,8.1999999999999993,80.327868852459019,81.538461538461533]
[26,"Чернігівської області",299,236,-21.1,null,null,0,0,0,264,202,-23.5,88.294314381270908,85.593220338983045,264,202,-23.5,88.294314381270908,85.593220338983045]
[27,"Усього (без ЦА)",9189,9224,0.4,2,15,"7,5 р",2.1765153988464469E-2,0.16261925411968778,8197,7916,-3.4,89.204483621721621,85.819601040763231,8188,7907,-3.4,89.106540428773528,85.722029488291412]
[28,"Центральний апарат",279,437,56.6,3,1,-66.7,1.075268817204301,0.2288329519450801,141,203,44,50.537634408602152,46.453089244851256,139,200,43.9,49.820788530465947,45.766590389016017]
[29,"№14",null,2]
[30,"№17",165,190,15.2,null,null,0,0,0,102,119,16.7,61.81818181818182,62.631578947368418,102,118,15.7,61.81818181818182,62.10526315789474]
[31,"№26",18,104,"5,8 р",null,null,0,0,0,null,2,0,0,1.9230769230769231,null,1,0,0,0.96153846153846156]
[32,"№07",4,null,"-100,0",null,null,0,0,0,1,null,"-100,0",25,0,1,null,"-100,0",25,0]
[33,"№07/1",35,77,"2,2 р",3,1,-66.7,8.5714285714285712,1.2987012987012987,12,50,"4,2 р",34.285714285714285,64.935064935064929,11,50,"4,5 р",31.428571428571427,64.935064935064929]
[34,"№29",3,null,"-100,0",null,null,0,0,0,1,null,"-100,0",33.333333333333336,0,1,null,"-100,0",33.333333333333336,0]
[35,"№29/1",29,null,"-100,0",null,null,0,0,0,21,null,"-100,0",72.41379310344827,0,21,null,"-100,0",72.41379310344827,0]
[36,"№23",24,25,4.2,null,null,0,0,0,4,5,25,16.666666666666668,20,3,4,33.299999999999997,12.5,16]
[37,"№25",null,35,null,null,null,null,null,null,null,26,null,null,null,null,26]
[38,"№30",1,4,null,null,null,null,null,null,null,1,null,null,null,null,1]
[39,"Усього (без ВП)",9468,9661,2,5,16,"3,2 р",5.2809463455851288E-2,0.16561432563916778,8338,8119,-2.6,88.065061258977607,84.038919366525207,8327,8107,-2.6,87.948880439374733,83.914708622295834]
[40,"Апарат ГВП",99,63,-36.4,4,null,"-100,0",4.0404040404040407,0,16,11,-31.3,16.161616161616163,17.460317460317459,16,11,-31.3,16.161616161616163,17.460317460317459]
[41,"Західного регіону",1082,1157,6.9,3,15,"5 р",0.27726432532347506,1.2964563526361279,472,389,-17.600000000000001,43.622920517560075,33.62143474503025,455,381,-16.3,42.051756007393713,32.92999135695765]
[42,"Південного регіону",1899,1682,-11.4,24,2,-91.7,1.2638230647709321,0.11890606420927467,546,383,-29.9,28.751974723538705,22.770511296076101,510,356,-30.2,26.856240126382307,21.165279429250891]
[43,"Центрального регіону",1422,1304,-8.3000000000000007,12,11,-8.3000000000000007,0.84388185654008441,0.84355828220858897,406,318,-21.7,28.551336146272856,24.386503067484664,397,306,-22.9,27.918424753867793,23.466257668711656]
[44,"Сил АТО",1609,1462,-9.1,null,5,0,0,0.34199726402188785,487,425,-12.7,30.26724673710379,29.069767441860463,476,404,-15.1,29.583592293349906,27.633378932968537]
[45,"Усього по ВП",6111,5668,-7.2,43,33,-23.3,0.70364915725740473,0.58221594918842623,1927,1526,-20.8,31.533300605465556,26.923076923076923,1854,1458,-21.4,30.338733431516935,25.723359209597742]
[46,"Усього по Україні",15579,15329,-1.6,48,49,2.1,0.30810706720585401,0.31965555483071301,10265,9645,-6,65.889980101418573,62.919955639637287,10181,9565,-6.1,65.350792733808333,62.398069019505513]
[]
["Таблиця 15. Робота слідчого апарату органів прокуратури."]
[]
["Код","Прокуратура","Залишок незакінчених кримінальних проваджень",null,null,"з них:",null,null,"особу повідомлено про підозру у вчиненні кримінального правопорушення, зі строком розслідування",null,null,null,null,null,"Число осіб, які тримаються під вартою за незакінченими кримінальними провадженнями",null,null,"у т.ч. зі строком:"]
[null,null,null,null,null,"з повідомленням особи про підозру у вчиненні кримінального правопорушення",null,null,"понад 2 місяці, але не більше 6 місяців",null,null,"понад 6 місяців, але не більше 1 року",null,null,null,null,null,"понад шістдесят днів"]
[null,null,{"$f":"$C$20","v":2016},{"$f":"$D$20","v":2017}," %",{"$f":"$C$20","v":2016},{"$f":"$D$20","v":2017}," %",{"$f":"$C$20","v":2016},{"$f":"$D$20","v":2017}," %",{"$f":"$C$20","v":2016},{"$f":"$D$20","v":2017}," %",{"$f":"$C$20","v":2016},{"$f":"$D$20","v":2017}," %",{"$f":"$C$20","v":2016},{"$f":"$D$20","v":2017}," %"]
[1,"АР Крим",31,77,{"$f":"IF(C801=0,0,IF(D801=0,\"-100,0\",IF(D801*100/C801<200,ROUND(D801*100/C801-100,1),ROUND(D801/C801,1)&\" р\")))","v":"2,5 р"},2,3,{"$f":"IF(F801=0,0,IF(G801=0,\"-100,0\",IF(G801*100/F801<200,ROUND(G801*100/F801-100,1),ROUND(G801/F801,1)&\" р\")))","v":50},2,1,{"$f":"IF(I801=0,0,IF(J801=0,\"-100,0\",IF(J801*100/I801<200,ROUND(J801*100/I801-100,1),ROUND(J801/I801,1)&\" р\")))","v":-50},null,1,{"$f":"IF(L801=0,0,IF(M801=0,\"-100,0\",IF(M801*100/L801<200,ROUND(M801*100/L801-100,1),ROUND(M801/L801,1)&\" р\")))","v":0},null,null,{"$f":"IF(O801=0,0,IF(P801=0,\"-100,0\",IF(P801*100/O801<200,ROUND(P801*100/O801-100,1),ROUND(P801/O801,1)&\" р\")))","v":0},0,0,{"$f":"IF(R801=0,0,IF(S801=0,\"-100,0\",IF(S801*100/R801<200,ROUND(S801*100/R801-100,1),ROUND(S801/R801,1)&\" р\")))","v":0}]
[2,"Вінницької області",94,151,60.6,5,5,0,4,3,-25,1,null,"-100,0",1,null,"-100,0",0,0,0]
[3,"Волинської області",51,88,72.5,5,8,60,null,2,0,null,null,0,null,null,0,0,0,0]
[4,"Дніпропетровської області",228,588,"2,6 р",7,26,"3,7 р",null,9,0,null,null,0,2,3,50,0,2,0]
[5,"Донецької області",191,344,80.099999999999994,11,12,9.1,5,8,60,null,null,0,null,4,0,0,3,0]
[6,"Житомирської області",54,74,37,4,1,-75,1,1,0,1,null,"-100,0",null,1,0,0,1,0]
[7,"Закарпатської області",63,235,"3,7 р",1,5,"5 р",null,3,0,null,null,0,null,null,0,0,0,0]
[8,"Запорізької області",228,177,-22.4,9,4,-55.6,3,null,"-100,0",null,null,0,null,null,0,0,0,0]
[9,"Івано-Франківської області",61,51,-16.399999999999999,3,3,0,1,null,"-100,0",null,null,0,2,1,-50,0,0,0]
[10,"Київської області",318,558,75.5,7,7,0,2,3,50,3,null,"-100,0",2,1,-50,0,1,0]
[11,"міста Києва",345,626,81.400000000000006,18,20,11.1,6,9,50,null,6,0,16,5,-68.8,8,5,-37.5]
[12,"Кіровоградської області",76,150,97.4,5,4,-20,2,2,0,null,1,0,2,null,"-100,0",0,0,0]
[13,"Луганської області",79,96,21.5,4,9,"2,3 р",null,null,0,null,null,0,null,null,0,0,0,0]
[14,"Львівської області",55,132,"2,4 р",6,9,50,1,2,"2 р",null,null,0,3,1,-66.7,0,1,0]
[15,"Миколаївської області",167,160,-4.2,8,7,-12.5,3,2,-33.299999999999997,null,null,0,null,null,0,0,0,0]
[16,"Одеської області",271,723,"2,7 р",14,17,21.4,7,6,-14.3,null,null,0,null,2,0,0,0,0]
[17,"Полтавської області",69,108,56.5,6,5,-16.7,1,4,"4 р",null,null,0,null,null,0,0,0,0]
[18,"Рівненської області",39,56,43.6,1,1,0,null,null,0,null,null,0,null,null,0,0,0,0]
[19,"Сумської області",76,158,"2,1 р",6,8,33.299999999999997,1,4,"4 р",null,null,0,null,2,0,0,0,0]
[20,"Тернопільської області",53,105,98.1,null,null,0,null,null,0,null,null,0,null,null,0,0,0,0]
[21,"Харківської області",313,438,39.9,13,21,61.5,null,3,0,null,null,0,null,null,0,0,0,0]
[22,"Херсонської області",71,107,50.7,3,3,0,2,2,0,null,null,0,null,null,0,0,0,0]
[23,"Хмельницької області",65,119,83.1,2,1,-50,null,null,0,null,null,0,null,null,0,0,0,0]
[24,"Черкаської області",82,76,-7.3,4,5,25,1,1,0,null,null,0,null,null,0,0,0,0]
[25,"Чернівецької області",81,120,48.1,7,2,-71.400000000000006,1,2,"2 р",null,null,0,null,null,0,0,0,0]
[26,"Чернігівської області",89,89,0,1,3,"3 р",1,1,0,null,null,0,null,1,0,0,1,0]
[27,"Усього (без ЦА)",3250,5606,72.5,152,189,24.3,44,68,54.5,5,8,60,28,21,-25,8,14,75]
[28,"Центральний апарат",548,902,64.599999999999994,49,73,49,25,46,84,7,8,14.3,11,9,-18.2,9,4,-55.6]
[29,"№14",null,3,null,null,null,null,null,null,null,null,null,null,null,null,null,0,0]
[30,"№17",228,393,72.400000000000006,15,28,86.7,6,25,"4,2 р",1,null,"-100,0",null,3,0,0,0,0]
[31,"№26",17,38,"2,2 р",2,null,"-100,0",null,null,0,null,null,0,null,null,0,0,0,0]
[32,"№07",null,null,0,null,null,0,null,null,0,null,null,0,null,null,0,0,0,0]
[33,"№07/1",93,191,"2,1 р",11,18,63.6,9,6,-33.299999999999997,2,2,0,7,2,-71.400000000000006,6,1,-83.3]
[34,"№29",null,null,0,null,null,0,null,null,0,null,null,0,null,null,0,0,0,0]
[35,"№29/1",33,null,"-100,0",5,null,"-100,0",2,null,"-100,0",null,null,0,null,null,0,0,0,0]
[36,"№23",155,94,-39.4,13,16,23.1,7,8,14.3,4,5,25,3,4,33.299999999999997,2,3,50]
[37,"№25",null,131,null,null,8,null,null,5,null,null,null,null,null,null,null,0,0]
[38,"№30",22,52,null,3,3,null,1,2,null,null,1,null,1,null,null,1,0]
[39,"Усього (без ВП)",3798,6508,71.400000000000006,201,262,30.3,69,114,65.2,12,16,33.299999999999997,39,30,-23.1,17,18,5.9]
[40,"Апарат ГВП",94,61,-35.1,15,7,-53.3,7,2,-71.400000000000006,3,4,33.299999999999997,13,6,-53.8,11,5,-54.5]
[41,"Західного регіону",387,552,42.6,27,19,-29.6,8,7,-12.5,null,null,0,2,2,0,0,0,0]
[42,"Південного регіону",284,565,98.9,17,55,"3,2 р",3,16,"5,3 р",null,null,0,18,4,-77.8,9,2,-77.8]
[43,"Центрального регіону",407,546,34.200000000000003,16,21,31.3,3,1,-66.7,null,1,0,3,7,"2,3 р",0,2,0]
[44,"Сил АТО",439,997,"2,3 р",25,33,32,12,11,-8.3000000000000007,1,2,"2 р",4,20,"5 р",3,5,66.7]
[45,"Усього по ВП",1611,2721,68.900000000000006,100,135,35,33,37,12.1,4,7,75,40,39,-2.5,23,14,-39.1]
[46,"Усього по Україні",5409,9229,70.599999999999994,301,397,31.9,102,151,48,16,23,43.8,79,69,-12.7,40,32,-20]
[]
["Таблиця 16. Затримання осіб як підозрюваних"]
[]
["Код","Прокуратура","Затримано осіб у порядку, передбаченому ст.ст. 207, 208 КПК України ",null,null,"Усього звільнено осіб",null,null,"Питома вага звільнених осіб",null,"звільнено осіб безпосередньо слідчим (прокурором) без застосування запобіжного заходу",null,"за непідтвердженням підозри у вчиненні правопорушення",null,"у зв’язку з відмовою прок. підтр. клопотання про застос. запобіжного заходу – тримання під вартою ",null,"через відмову суду в обранні запобіжного заходу у вигляді тримання під вартою",null,"у зв’язку із скасуванням апеляційним судом постанови суду про тримання під вартою"]
[]
[null,null,{"$f":"$C$20","v":2016},{"$f":"$D$20","v":2017}," %",{"$f":"$C$20","v":2016},{"$f":"$D$20","v":2017}," %",{"$f":"$C$20","v":2016},{"$f":"$D$20","v":2017},{"$f":"$C$20","v":2016},{"$f":"$D$20","v":2017},{"$f":"$C$20","v":2016},{"$f":"$D$20","v":2017},{"$f":"$C$20","v":2016},{"$f":"$D$20","v":2017},{"$f":"$C$20","v":2016},{"$f":"$D$20","v":2017},{"$f":"$C$20","v":2016},{"$f":"$D$20","v":2017}]
[1,"АР Крим",1,7,{"$f":"IF(C853=0,0,IF(D853=0,\"-100,0\",IF(D853*100/C853<200,ROUND(D853*100/C853-100,1),ROUND(D853/C853,1)&\" р\")))","v":"7 р"},null,7,{"$f":"IF(F853=0,0,IF(G853=0,\"-100,0\",IF(G853*100/F853<200,ROUND(G853*100/F853-100,1),ROUND(G853/F853,1)&\" р\")))","v":0},{"$f":"IF(C853=0,0,F853*100/C853)","v":0},{"$f":"IF(D853=0,0,G853*100/D853)","v":100},null,2,null,null,null,null,null,3]
[2,"Вінницької області",16,20,25,null,3,0,0,15,null,1,null,null,null,null,null,2]
[3,"Волинської області",14,23,64.3,12,21,75,85.714285714285708,91.304347826086953,null,null,null,null,null,null,12,18]
[4,"Дніпропетровської області",26,42,61.5,14,37,"2,6 р",53.846153846153847,88.095238095238102,9,16,null,null,null,null,null,5,1,4]
[5,"Донецької області",41,39,-4.9000000000000004,2,7,"3,5 р",4.8780487804878048,17.948717948717949,null,3,null,null,null,null,2,4]
[6,"Житомирської області",12,16,33.299999999999997,9,8,-11.1,75,50,7,3,null,1,null,null,2,5]
[7,"Закарпатської області",12,36,"3 р",12,34,"2,8 р",100,94.444444444444443,null,1,null,null,null,null,5,8]
[8,"Запорізької області",27,34,25.9,26,27,3.8,96.296296296296291,79.411764705882348,4,6,null,null,null,null,10,8]
[9,"Івано-Франківської області",17,7,-58.8,3,1,-66.7,17.647058823529413,14.285714285714286,3,1]
[10,"Київської області",32,27,-15.6,2,16,"8 р",6.25,59.25925925925926,1,null,null,null,null,null,1,10]
[11,"міста Києва",50,79,58,19,33,73.7,38,41.77215189873418,5,7,null,null,null,null,14,24,null,2]
[12,"Кіровоградської області",26,20,-23.1,null,16,0,0,80,null,11,null,null,null,null,null,2,null,3]
[13,"Луганської області",5,13,"2,6 р",4,13,"3,3 р",80,100,null,4,null,null,null,null,null,1]
[14,"Львівської області",22,44,"2 р",22,11,-50,100,25,null,5,null,null,null,null,4,6]
[15,"Миколаївської області",14,11,-21.4,2,5,"2,5 р",14.285714285714286,45.454545454545453,1,null,1,null,null,null,1,5]
[16,"Одеської області",76,46,-39.5,20,2,-90,26.315789473684209,4.3478260869565215,4,1,null,null,null,null,14,1,2]
[17,"Полтавської області",14,26,85.7,2,24,"12 р",14.285714285714286,92.307692307692307,2,2,null,null,null,null,null,4]
[18,"Рівненської області",5,6,20,5,5,0,100,83.333333333333329,null,null,null,null,null,null,1,3]
[19,"Сумської області",4,6,50,4,4,0,100,66.666666666666671,null,null,null,null,null,null,3,3,null,1]
[20,"Тернопільської області",8,4,-50,8,4,-50,100,100,6,1,null,null,null,null,1,3]
[21,"Харківської області",27,42,55.6,7,23,"3,3 р",25.925925925925927,54.761904761904759,1,7,null,null,null,null,6,16]
[22,"Херсонської області",7,13,85.7,7,13,85.7,100,100,null,null,null,null,null,null,4,4]
[23,"Хмельницької області",13,16,23.1,12,10,-16.7,92.307692307692307,62.5,null,1,null,null,null,null,null,4]
[24,"Черкаської області",14,17,21.4,11,12,9.1,78.571428571428569,70.588235294117652,null,null,null,null,null,null,11,4]
[25,"Чернівецької області",6,9,50,6,9,50,100,100,4,null,null,null,null,null,null,1]
[26,"Чернігівської області",10,8,-20,9,6,-33.299999999999997,90,75,null,2,null,null,null,null,1,4]
[27,"Усього (без ЦА)",499,611,22.4,218,351,61,43.687374749499,57.446808510638299,47,74,1,1,0,0,92,148,3,10]
[28,"Центральний апарат",71,112,57.7,32,69,"2,2 р",45.070422535211264,61.607142857142854,1,12,1,1,0,0,9,53,0,0]
[29,"№14"]
[30,"№17",32,67,"2,1 р",8,33,"4,1 р",25,49.253731343283583,1,7,1,1,null,null,5,22]
[31,"№26",null,null,0,null,null,0,0,0]
[32,"№07",null,null,0,null,null,0,0,0]
[33,"№07/1",31,26,-16.100000000000001,24,21,-12.5,77.41935483870968,80.769230769230774,null,null,null,null,null,null,4,21]
[34,"№29",null,null,0,null,null,0,0,0]
[35,"№29/1",7,null,"-100,0",null,null,0,0,0]
[36,"№23",1,null,"-100,0",null,null,0,0,0]
[37,"№25",null,19,null,null,15,null,null,null,null,5,null,null,null,null,null,10]
[38,"№30"]
[39,"Усього (без ВП)",570,723,26.8,250,420,68,43.859649122807021,58.091286307053942,48,86,2,2,0,0,101,201,3,10]
[40,"Апарат ГВП",42,31,-26.2,1,null,"-100,0",2.3809523809523809,0,null,null,null,null,null,null,1]
[41,"Західного регіону",72,49,-31.9,52,45,-13.5,72.222222222222229,91.836734693877546,10,12,null,null,null,null,11,12]
[42,"Південного регіону",119,112,-5.9,26,31,19.2,21.84873949579832,27.678571428571427,7,5,null,null,null,null,17,23,2,3]
[43,"Центрального регіону",162,92,-43.2,95,50,-47.4,58.641975308641975,54.347826086956523,17,4,null,null,null,null,40,27,3,1]
[44,"Сил АТО",50,61,22,27,27,0,54,44.26229508196721,8,3,null,null,null,null,10,21]
[45,"Усього по ВП",445,345,-22.5,201,153,-23.9,45.168539325842694,44.347826086956523,42,24,0,0,0,0,79,83,5,4]
[46,"Усього по Україні",1015,1068,5.2,451,573,27.1,44.433497536945815,53.651685393258425,90,110,2,2,0,0,180,284,8,14]
[]
["Таблиця 17. Повернення судом кримінальних проваджень, обвинувальних актів, клопотань прокурору та результати їх розслідування"]
[]
["Код","Прокуратура","Усього надійшло кримінальних проваджень із судів",null,null,null,null,null,null,null,"направлено до суду в звітному періоді без проведення досудового розслідування"]
[null,null,"обвинувальних актів (п.3 ч. 3 ст. 314 КПК)",null,"клопотань про застосування примусових заходів мед. характеру (п.3 ч. 3 ст. 314 КПК)",null,"клопотань про звільнення особи від кримінальної відповідальності (п. 4 ст. 288 КПК)",null,"проваджень на підставі п. 1 ч. 3 ст. 314,  п.2 ч.2 ст. 407 КПК",null,"обвинувальних актів (п.3 ч. 3 ст. 314 КПК)",null,"клопотань про застосування примусових заходів мед. характеру (п.3 ч. 3 ст. 314 КПК)",null,"клопотань про звільнення особи від кримінальної відповідальності (п. 4 ст. 288 КПК)",null,"проваджень на підставі п. 1 ч. 3 ст. 314,  п.2 ч.2 ст. 407 КПК"]
[null,null,{"$f":"$C$20","v":2016},{"$f":"$D$20","v":2017},{"$f":"$C$20","v":2016},{"$f":"$D$20","v":2017},{"$f":"$C$20","v":2016},{"$f":"$D$20","v":2017},{"$f":"$C$20","v":2016},{"$f":"$D$20","v":2017},{"$f":"$C$20","v":2016},{"$f":"$D$20","v":2017},{"$f":"$C$20","v":2016},{"$f":"$D$20","v":2017},{"$f":"$C$20","v":2016},{"$f":"$D$20","v":2017},{"$f":"$C$20","v":2016},{"$f":"$D$20","v":2017}]
[1,"АР Крим",1,null,null,null,null,1,null,null,1,null,null,null,null,1]
[2,"Вінницької області",null,null,null,null,null,null,null,1]
[3,"Волинської області",2,null,null,null,null,null,2]
[4,"Дніпропетровської області",5,8,null,null,null,null,null,1,5,5,null,null,null,null,null,1]
[5,"Донецької області",6,5,null,null,null,null,null,null,1]
[6,"Житомирської області",null,null,null,null,null,1,null,null,null,null,null,null,null,1]
[7,"Закарпатської області",13,1,null,null,1,null,2,null,9,1,null,null,null,null,2]
[8,"Запорізької області",null,2]
[9,"Івано-Франківської області"]
[10,"Київської області",4,6,null,null,null,null,2,null,4,1]
[11,"міста Києва",4,7,null,null,null,null,null,null,3,6]
[12,"Кіровоградської області"]
[13,"Луганської області"]
[14,"Львівської області",1,1,null,null,null,null,1,null,1,1,null,null,null,null,1]
[15,"Миколаївської області",null,1,null,null,null,null,null,2,null,1,null,null,null,null,null,1]
[16,"Одеської області",4,18,null,null,null,null,null,1,3,8]
[17,"Полтавської області",1,null,null,null,null,null,null,null,1]
[18,"Рівненської області",1,1,null,null,null,null,null,null,1]
[19,"Сумської області",null,1,null,null,null,null,null,null,null,1]
[20,"Тернопільської області",1,1,null,null,null,null,null,1,null,null,null,null,null,null,null,1]
[21,"Харківської області",1,6,null,null,null,null,5,3,null,1,null,null,null,null,4,1]
[22,"Херсонської області",5,1,null,null,null,1,1,1,3,1]
[23,"Хмельницької області",2,1,null,null,null,null,null,1,2,null,null,null,null,null,null,1]
[24,"Черкаської області",3,1,null,null,null,2,null,null,3,1]
[25,"Чернівецької області"]
[26,"Чернігівської області",1,1,null,null,null,null,null,null,1,1]
[27,"Усього (без ЦА)",55,62,0,0,1,5,13,11,38,28,0,0,0,2,7,5]
[28,"Центральний апарат",11,6,0,0,0,0,3,5,8,3,0,0,0,0,0,1]
[29,"№14"]
[30,"№17",6,2,null,null,null,null,2,1,5,2]
[31,"№26"]
[32,"№07"]
[33,"№07/1",3,null,null,null,null,null,null,2,2]
[34,"№29"]
[35,"№29/1"]
[36,"№23",2,3,null,null,null,null,1,2,1,null,null,null,null,null,null,1]
[37,"№25"]
[38,"№30",null,1,null,null,null,null,null,null,null,1]
[39,"Усього (без ВП)",66,68,0,0,1,5,16,16,46,31,0,0,0,2,7,6]
[40,"Апарат ГВП",6,1,null,null,null,1,null,1,2,null,null,null,null,null,null,1]
[41,"Західного регіону",11,8,null,null,1,2,8,3,5,8,null,null,null,1,1,3]
[42,"Південного регіону",11,6,null,1,null,null,null,2,6,4,null,1,null,null,null,1]
[43,"Центрального регіону",14,6,null,null,3,1,4,2,4,3,null,null,2,1,1]
[44,"Сил АТО",12,3,null,null,null,null,5,20,5,2,null,null,null,null,null,3]
[45,"Усього по ВП",54,24,0,1,4,4,17,28,22,17,0,1,2,2,2,8]
[46,"Усього по Україні",120,92,0,1,5,9,33,44,68,48,0,1,2,4,9,14]
[]
["Таблиця 18. Повернення судом кримінальних проваджень, обвинувальних актів, клопотань прокурору та результати їх розслідування"]
[]
["Код","Прокуратура","Перебувало кримінальних проваджень у слідчого у звітному періоді",null,null,null,null,null,null,null,"направлено кримінальних проваджень до суду з обвинувальним актом"]
[null,null,"обвинувальних актів (п.3 ч. 3 ст. 314 КПК)",null,"клопотань про застосування примусових заходів мед. характеру (п.3 ч. 3 ст. 314 КПК)",null,"клопотань про звільнення особи від кримінальної відповідальності (п. 4 ст. 288 КПК)",null,"проваджень на підставі п. 1 ч. 3 ст. 314,  п.2 ч.2 ст. 407 КПК",null,"обвинувальних актів (п.3 ч. 3 ст. 314 КПК)",null,"клопотань про застосування примусових заходів мед. характеру (п.3 ч. 3 ст. 314 КПК)",null,"клопотань про звільнення особи від кримінальної відповідальності (п. 4 ст. 288 КПК)",null,"проваджень на підставі п. 1 ч. 3 ст. 314,  п.2 ч.2 ст. 407 КПК"]
[null,null,{"$f":"$C$20","v":2016},{"$f":"$D$20","v":2017},{"$f":"$C$20","v":2016},{"$f":"$D$20","v":2017},{"$f":"$C$20","v":2016},{"$f":"$D$20","v":2017},{"$f":"$C$20","v":2016},{"$f":"$D$20","v":2017},{"$f":"$C$20","v":2016},{"$f":"$D$20","v":2017},{"$f":"$C$20","v":2016},{"$f":"$D$20","v":2017},{"$f":"$C$20","v":2016},{"$f":"$D$20","v":2017},{"$f":"$C$20","v":2016},{"$f":"$D$20","v":2017}]
[1,"АР Крим"]
[2,"Вінницької області",null,null,null,null,null,null,null,1]
[3,"Волинської області",2,null,null,null,null,null,2,null,2]
[4,"Дніпропетровської області",null,3,null,null,null,null,null,null,null,2]
[5,"Донецької області",5,5,null,null,null,null,null,null,4,4]
[6,"Житомирської області"]
[7,"Закарпатської області",4,null,null,null,1,null,null,null,4]
[8,"Запорізької області",null,2,null,null,null,null,null,null,null,2]
[9,"Івано-Франківської області"]
[10,"Київської області",null,5,null,null,null,null,2,null,null,null,null,null,null,null,1]
[11,"міста Києва",1,1,null,null,null,null,null,null,1,6]
[12,"Кіровоградської області"]
[13,"Луганської області"]
[14,"Львівської області"]
[15,"Миколаївської області",null,null,null,null,null,null,null,1,null,null,null,null,null,null,null,1]
[16,"Одеської області",1,10,null,null,null,null,null,1,3,3,null,null,null,null,null,1]
[17,"Полтавської області"]
[18,"Рівненської області",null,1]
[19,"Сумської області"]
[20,"Тернопільської області",1,1,null,null,null,null,null,null,1,1]
[21,"Харківської області",1,5,null,null,null,null,1,2,1,5,null,null,null,null,1,2]
[22,"Херсонської області",2,null,null,null,null,1,1,1,null,null,null,null,null,1,null,1]
[23,"Хмельницької області",null,1]
[24,"Черкаської області",null,null,null,null,null,2]
[25,"Чернівецької області"]
[26,"Чернігівської області"]
[27,"Усього (без ЦА)",17,34,0,0,1,3,6,6,16,23,0,0,0,1,2,5]
[28,"Центральний апарат",3,3,0,0,0,0,3,4,1,2,0,0,0,0,2,4]
[29,"№14"]
[30,"№17",1,null,null,null,null,null,2,1,null,null,null,null,null,null,1,1]
[31,"№26"]
[32,"№07"]
[33,"№07/1",1,null,null,null,null,null,null,2,1,null,null,null,null,null,null,2]
[34,"№29"]
[35,"№29/1"]
[36,"№23",1,3,null,null,null,null,1,1,null,2,null,null,null,null,1,1]
[37,"№25"]
[38,"№30"]
[39,"Усього (без ВП)",20,37,0,0,1,3,9,10,17,25,0,0,0,1,4,9]
[40,"Апарат ГВП",4,1,null,null,null,1,null,null,4,1]
[41,"Західного регіону",6,null,null,null,1,1,7,null,4,null,null,null,null,1,7]
[42,"Південного регіону",5,2,null,null,null,null,null,1,3,1,null,null,null,null,null,1]
[43,"Центрального регіону",10,3,null,null,1,null,3,2,7,1,null,null,null,null,2,2]
[44,"Сил АТО",7,1,null,null,null,null,5,17,7,1,null,null,null,null,5,6]
[45,"Усього по ВП",32,7,0,0,2,2,15,20,25,4,0,0,0,1,14,9]
[46,"Усього по Україні",52,44,0,0,3,5,24,30,42,29,0,0,0,2,18,18]
[]
["Таблиця 19. Повернення судом кримінальних проваджень, обвинувальних актів, клопотань прокурору та результати їх розслідування"]
[]
["Код","Прокуратура","усього закрито",null,null,null,null,null,null,null,"закрито за п.п. 1-3 ст. 284 КПК України"]
[null,null,"обвинувальних актів (п.3 ч. 3 ст. 314 КПК)",null,"клопотань про застосування примусових заходів мед. характеру (п.3 ч. 3 ст. 314 КПК)",null,"клопотань про звільнення особи від кримінальної відповідальності (п. 4 ст. 288 КПК)",null,"проваджень на підставі п. 1 ч. 3 ст. 314,  п.2 ч.2 ст. 407 КПК",null,"обвинувальних актів (п.3 ч. 3 ст. 314 КПК)",null,"клопотань про застосування примусових заходів мед. характеру (п.3 ч. 3 ст. 314 КПК)",null,"клопотань про звільнення особи від кримінальної відповідальності (п. 4 ст. 288 КПК)",null,"проваджень на підставі п. 1 ч. 3 ст. 314,  п.2 ч.2 ст. 407 КПК"]
[null,null,{"$f":"$C$20","v":2016},{"$f":"$D$20","v":2017},{"$f":"$C$20","v":2016},{"$f":"$D$20","v":2017},{"$f":"$C$20","v":2016},{"$f":"$D$20","v":2017},{"$f":"$C$20","v":2016},{"$f":"$D$20","v":2017},{"$f":"$C$20","v":2016},{"$f":"$D$20","v":2017},{"$f":"$C$20","v":2016},{"$f":"$D$20","v":2017},{"$f":"$C$20","v":2016},{"$f":"$D$20","v":2017},{"$f":"$C$20","v":2016},{"$f":"$D$20","v":2017}]
[1,"АР Крим"]
[2,"Вінницької області"]
[3,"Волинської області"]
[4,"Дніпропетровської області"]
[5,"Донецької області"]
[6,"Житомирської області"]
[7,"Закарпатської області",null,null,null,null,1,null,null,null,null,null,null,null,1]
[8,"Запорізької області"]
[9,"Івано-Франківської області"]
[10,"Київської області"]
[11,"міста Києва"]
[12,"Кіровоградської області"]
[13,"Луганської області"]
[14,"Львівської області"]
[15,"Миколаївської області"]
[16,"Одеської області",null,1,null,null,null,null,null,null,null,1]
[17,"Полтавської області"]
[18,"Рівненської області"]
[19,"Сумської області"]
[20,"Тернопільської області"]
[21,"Харківської області"]
[22,"Херсонської області",2,null,null,null,null,null,null,null,2]
[23,"Хмельницької області"]
[24,"Черкаської області"]
[25,"Чернівецької області"]
[26,"Чернігівської області"]
[27,"Усього (без ЦА)",2,1,0,0,1,0,0,0,2,1,0,0,1,0,0,0]
[28,"Центральний апарат",0,0,0,0,0,0,0,0,0,0,0,0,0,0,0,0]
[29,"№14"]
[30,"№17"]
[31,"№26"]
[32,"№07"]
[33,"№07/1"]
[34,"№29"]
[35,"№29/1"]
[36,"№23"]
[37,"№25"]
[38,"№30"]
[39,"Усього (без ВП)",2,1,0,0,1,0,0,0,2,1,0,0,1,0,0,0]
[40,"Апарат ГВП"]
[41,"Західного регіону",null,null,null,null,1,null,null,null,null,null,null,null,1]
[42,"Південного регіону"]
[43,"Центрального регіону",1,null,null,null,null,null,null,null,1]
[44,"Сил АТО"]
[45,"Усього по ВП",1,0,0,0,1,0,0,0,1,0,0,0,1,0,0,0]
[46,"Усього по Україні",3,1,0,0,2,0,0,0,3,1,0,0,2,0,0,0]
[]
["Таблиця 20. Повернення судом кримінальних проваджень, обвинувальних актів, клопотань прокурору та результати їх розслідування"]
[]
["Код","Прокуратура","направлено до суду клопотань  для звільнення від кримінальної відповідальності",null,null,null,null,null,null,null,"направлено до суду клопотань про застосування заходів медичного характеру"]
[null,null,"обвинувальних актів (п.3 ч. 3 ст. 314 КПК)",null,"клопотань про застосування примусових заходів мед. характеру (п.3 ч. 3 ст. 314 КПК)",null,"клопотань про звільнення особи від кримінальної відповідальності (п. 4 ст. 288 КПК)",null,"проваджень на підставі п. 1 ч. 3 ст. 314,  п.2 ч.2 ст. 407 КПК",null,"обвинувальних актів (п.3 ч. 3 ст. 314 КПК)",null,"клопотань про застосування примусових заходів мед. характеру (п.3 ч. 3 ст. 314 КПК)",null,"клопотань про звільнення особи від кримінальної відповідальності (п. 4 ст. 288 КПК)",null,"проваджень на підставі п. 1 ч. 3 ст. 314,  п.2 ч.2 ст. 407 КПК"]
[null,null,{"$f":"$C$20","v":2016},{"$f":"$D$20","v":2017},{"$f":"$C$20","v":2016},{"$f":"$D$20","v":2017},{"$f":"$C$20","v":2016},{"$f":"$D$20","v":2017},{"$f":"$C$20","v":2016},{"$f":"$D$20","v":2017},{"$f":"$C$20","v":2016},{"$f":"$D$20","v":2017},{"$f":"$C$20","v":2016},{"$f":"$D$20","v":2017},{"$f":"$C$20","v":2016},{"$f":"$D$20","v":2017},{"$f":"$C$20","v":2016},{"$f":"$D$20","v":2017}]
[1,"АР Крим"]
[2,"Вінницької області"]
[3,"Волинської області"]
[4,"Дніпропетровської області"]
[5,"Донецької області"]
[6,"Житомирської області"]
[7,"Закарпатської області"]
[8,"Запорізької області"]
[9,"Івано-Франківської області"]
[10,"Київської області"]
[11,"міста Києва"]
[12,"Кіровоградської області"]
[13,"Луганської області"]
[14,"Львівської області"]
[15,"Миколаївської області"]
[16,"Одеської області"]
[17,"Полтавської області"]
[18,"Рівненської області"]
[19,"Сумської області"]
[20,"Тернопільської області"]
[21,"Харківської області"]
[22,"Херсонської області"]
[23,"Хмельницької області"]
[24,"Черкаської області",null,null,null,null,null,1]
[25,"Чернівецької області"]
[26,"Чернігівської області"]
[27,"Усього (без ЦА)",0,0,0,0,0,1,0,0,0,0,0,0,0,0,0,0]
[28,"Центральний апарат",0,0,0,0,0,0,0,0,0,0,0,0,0,0,0,0]
[29,"№14"]
[30,"№17"]
[31,"№26"]
[32,"№07"]
[33,"№07/1"]
[34,"№29"]
[35,"№29/1"]
[36,"№23"]
[37,"№25"]
[38,"№30"]
[39,"Усього (без ВП)",0,0,0,0,0,1,0,0,0,0,0,0,0,0,0,0]
[40,"Апарат ГВП",null,null,null,null,null,1]
[41,"Західного регіону"]
[42,"Південного регіону"]
[43,"Центрального регіону",null,null,null,null,1]
[44,"Сил АТО"]
[45,"Усього по ВП",0,0,0,0,1,1,0,0,0,0,0,0,0,0,0,0]
[46,"Усього по Україні",0,0,0,0,1,2,0,0,0,0,0,0,0,0,0,0]
[]
["Таблиця 21. Забезпечення відшкодування збитків за закінченими кримінальними провадженнями"]
[]
["Код","Прокуратура","Установлено збитків на суму (у тис. грн.)",null,null,"Відшкодовано збитків на суму (у тис. грн.)",null,null,"Питома вага",null,"Сума, на яку пред’явлено позови ( у тис. грн.)"]
[]
[null,null,{"$f":"$C$20","v":2016},{"$f":"$D$20","v":2017}," %",{"$f":"$C$20","v":2016},{"$f":"$D$20","v":2017}," %",{"$f":"$C$20","v":2016},{"$f":"$D$20","v":2017},{"$f":"$C$20","v":2016},{"$f":"$D$20","v":2017}," %"]
[1,"АР Крим",null,260,{"$f":"IF(C1113=0,0,IF(D1113=0,\"-100,0\",IF(D1113*100/C1113<200,ROUND(D1113*100/C1113-100,1),ROUND(D1113/C1113,1)&\" р\")))","v":0},0,0,{"$f":"IF(F1113=0,0,IF(G1113=0,\"-100,0\",IF(G1113*100/F1113<200,ROUND(G1113*100/F1113-100,1),ROUND(G1113/F1113,1)&\" р\")))","v":0},{"$f":"IF(C1113=0,0,F1113*100/C1113)","v":0},{"$f":"IF(D1113=0,0,G1113*100/D1113)","v":0},null,null,{"$f":"IF(K1113=0,0,IF(L1113=0,\"-100,0\",IF(L1113*100/K1113<200,ROUND(L1113*100/K1113-100,1),ROUND(L1113/K1113,1)&\" р\")))","v":0}]
[2,"Вінницької області",636,181,-71.5,101,119,17.8,15.880503144654089,65.745856353591165,null,null,0]
[3,"Волинської області",3977,15709,"3,9 р",478,24,-95,12.019109881820468,0.15277866191355274,3028,544,-82]
[4,"Дніпропетровської області",120670,101923,-15.5,87081,17311,-80.099999999999994,72.164581088920201,16.984390176898248,6768,65030,"9,6 р"]
[5,"Донецької області",89636,6692,-92.5,42672,1965,-95.4,47.605872640456958,29.363419007770471,408,19,-95.3]
[6,"Житомирської області",54,3243,"60,1 р",34,312,"9,2 р",62.962962962962962,9.6207215541165585,20,2931,"146,6 р"]
[7,"Закарпатської області",5058,1336,-73.599999999999994,4771,1331,-72.099999999999994,94.325820482404112,99.625748502994014,null,null,0]
[8,"Запорізької області",248,2806,"11,3 р",44,177,"4 р",17.741935483870968,6.3079116179615111,null,null,0]
[9,"Івано-Франківської області",3191,814,-74.5,97,43,-55.7,3.0397994359135065,5.2825552825552826,3034,771,-74.599999999999994]
[10,"Київської області",33623,3568,-89.4,4,823,"205,8 р",1.1896618386223716E-2,23.066143497757846,null,null,0]
[11,"міста Києва",933,210028,"225,1 р",657,110398,"168 р",70.418006430868161,52.563467728112443,75,null,"-100,0"]
[12,"Кіровоградської області",21,25,19,21,10,-52.4,100,40,null,15,0]
[13,"Луганської області",1076,9550,"8,9 р",189,1427,"7,6 р",17.565055762081784,14.942408376963352,602,8123,"13,5 р"]
[14,"Львівської області",32717,9010,-72.5,1768,1086,-38.6,5.4039184521808235,12.053274139844618,27357,3566,-87]
[15,"Миколаївської області",1241,45,-96.4,0,5,0,0,11.111111111111111,1239,2,-99.8]
[16,"Одеської області",12905,21128,63.7,5251,19676,"3,7 р",40.689655172413794,93.127603180613406,7654,1078,-85.9]
[17,"Полтавської області",1288,1722,33.700000000000003,0,1719,0,0,99.825783972125436,null,null,0]
[18,"Рівненської області",859,64,-92.5,5,64,"12,8 р",0.58207217694994184,100,851,null,"-100,0"]
[19,"Сумської області",5935,7062,19,1123,3883,"3,5 р",18.921651221566975,54.984423676012462,4787,1885,-60.6]
[20,"Тернопільської області",26,363,"14 р",0,363,0,0,100,null,null,0]
[21,"Харківської області",16129,129377,"8 р",706,680,-3.7,4.3772087544175085,0.52559573958276973,4496,47968,"10,7 р"]
[22,"Херсонської області",89,10,-88.8,34,10,-70.599999999999994,38.202247191011239,100,55,null,"-100,0"]
[23,"Хмельницької області",261,166,-36.4,256,137,-46.5,98.084291187739467,82.53012048192771,null,null,0]
[24,"Черкаської області",26122,3564,-86.4,125,336,"2,7 р",0.47852384962866551,9.4276094276094273,262,null,"-100,0"]
[25,"Чернівецької області",685,570,-16.8,176,150,-14.8,25.693430656934307,26.315789473684209,null,null,0]
[26,"Чернігівської області",238,10630,"44,7 р",51,277,"5,4 р",21.428571428571427,2.605832549388523,null,5602,0]
[27,"Усього (без ЦА)",357618,539846,51,145644,162326,11.5,40.726137946076541,30.06894558818626,60636,137534,"2,3 р"]
[28,"Центральний апарат",702145,5555272,"7,9 р",121080,148203,22.4,17.244301390738379,2.667790164009971,562153,551511,-1.9]
[29,"№14",null,5,null,0,5]
[30,"№17",207797,3955105,"19 р",0,109810,0,0,2.7764117513947166,188885,551401,"2,9 р"]
[31,"№26",null,null,0,0,0,0,0,0,null,null,0]
[32,"№07",null,null,0,0,0,0,0,0,null,null,0]
[33,"№07/1",121075,79680,-34.200000000000003,121075,38323,-68.3,100,48.096134538152612,null,null,0]
[34,"№29",null,null,0,0,0,0,0,0,null,null,0]
[35,"№29/1",null,null,0,0,0,0,0,0,null,null,0]
[36,"№23",373273,71352,-80.900000000000006,5,65,"13 р",1.3395021874070721E-3,9.10976566879695E-2,373268,110,-100]
[37,"№25",null,null,null,0,0]
[38,"№30",null,1449130,null,0,0]
[39,"Усього (без ВП)",1059763,6095118,"5,8 р",266724,310529,16.399999999999999,25.168268754429057,5.0947167880917155,622789,689045,10.6]
[40,"Апарат ГВП",12120107,8295183,-31.6,154783,26000,-83.2,1.2770761842284066,0.31343491759012432,54966,null,"-100,0"]
[41,"Західного регіону",159300,2943,-98.2,129842,1615,-98.8,81.507846829880734,54.875976894325518,23730,1013,-95.7]
[42,"Південного регіону",6036,3724,-38.299999999999997,3902,771,-80.2,64.645460569913851,20.703544575725026,2134,1679,-21.3]
[43,"Центрального регіону",64232,5637,-91.2,2343,1140,-51.3,3.6477145348113091,20.223523150612028,61449,3353,-94.5]
[44,"Сил АТО",2634,2461,-6.6,2086,150,-92.8,79.195140470766901,6.0950832994717592,260,1029,"4 р"]
[45,"Усього по ВП",12352309,8309948,-32.700000000000003,292956,29676,-89.9,2.371669944461396,0.35711414800670233,142539,7074,-95]
[46,"Усього по Україні",13412072,14405066,7.4,559680,340205,-39.200000000000003,4.1729570196163577,2.3617038616831052,765328,696119,-9]
[]
["Таблиця 22. Забезпечення відшкодування збитків за закінченими кримінальними провадженнями інтересам держави та територіальних громад"]
[]
["Код","Прокуратура","Установлено збитків на суму (у тис. грн.)",null,null,"Відшкодовано збитків на суму (у тис. грн.)",null,null,"Питома вага",null,"Сума, на яку пред’явлено позови ( у тис. грн.)"]
[]
[null,null,{"$f":"$C$20","v":2016},{"$f":"$D$20","v":2017}," %",{"$f":"$C$20","v":2016},{"$f":"$D$20","v":2017}," %",{"$f":"$C$20","v":2016},{"$f":"$D$20","v":2017},{"$f":"$C$20","v":2016},{"$f":"$D$20","v":2017}," %"]
[1,"АР Крим",null,null,{"$f":"IF(C1165=0,0,IF(D1165=0,\"-100,0\",IF(D1165*100/C1165<200,ROUND(D1165*100/C1165-100,1),ROUND(D1165/C1165,1)&\" р\")))","v":0},0,0,{"$f":"IF(F1165=0,0,IF(G1165=0,\"-100,0\",IF(G1165*100/F1165<200,ROUND(G1165*100/F1165-100,1),ROUND(G1165/F1165,1)&\" р\")))","v":0},{"$f":"IF(C1165=0,0,F1165*100/C1165)","v":0},{"$f":"IF(D1165=0,0,G1165*100/D1165)","v":0},null,null,{"$f":"IF(K1165=0,0,IF(L1165=0,\"-100,0\",IF(L1165*100/K1165<200,ROUND(L1165*100/K1165-100,1),ROUND(L1165/K1165,1)&\" р\")))","v":0}]
[2,"Вінницької області",460,null,"-100,0",0,0,0,0,0,null,null,0]
[3,"Волинської області",3976,14871,"3,7 р",478,0,"-100,0",12.022132796780683,0,3027,544,-82]
[4,"Дніпропетровської області",26065,79908,"3,1 р",641,6153,"9,6 р",2.4592365240744294,7.7001051208890221,4059,55978,"13,8 р"]
[5,"Донецької області",null,5838,0,0,1652,0,0,28.297362110311752,null,19,0]
[6,"Житомирської області",29,3243,"111,8 р",9,312,"34,7 р",31.03448275862069,9.6207215541165585,20,2931,"146,6 р"]
[7,"Закарпатської області",5058,1321,-73.900000000000006,4771,1321,-72.3,94.325820482404112,100,null,null,0]
[8,"Запорізької області",null,314,0,0,0,0,0,0,null,null,0]
[9,"Івано-Франківської області",3191,811,-74.599999999999994,97,40,-58.8,3.0397994359135065,4.9321824907521581,3034,771,-74.599999999999994]
[10,"Київської області",33619,1987,-94.1,0,823,0,0,41.419224962254653,null,null,0]
[11,"міста Києва",null,195484,0,0,109983,0,0,56.261893556505903,null,null,0]
[12,"Кіровоградської області",null,10,0,0,10,0,0,100,null,null,0]
[13,"Луганської області",175,9549,"54,6 р",0,1427,0,0,14.943973190910043,175,8122,"46,4 р"]
[14,"Львівської області",32600,6484,-80.099999999999994,1768,1086,-38.6,5.4233128834355826,16.748920419494141,27357,3566,-87]
[15,"Миколаївської області",2,25,"12,5 р",0,5,0,0,20,null,2,0]
[16,"Одеської області",12784,20499,60.3,5220,19676,"3,8 р",40.832290362953692,95.985170008293082,7564,500,-93.4]
[17,"Полтавської області",null,1557,0,0,1557,0,0,100,null,null,0]
[18,"Рівненської області",854,null,"-100,0",0,0,0,0,0,851,null,"-100,0"]
[19,"Сумської області",5843,6010,2.9,1098,3842,"3,5 р",18.791716583946602,63.926788685524123,4730,1885,-60.1]
[20,"Тернопільської області",null,340,0,0,340,0,0,100,null,null,0]
[21,"Харківської області",15860,25906,63.3,662,0,"-100,0",4.1740226986128626,0,4496,null,"-100,0"]
[22,"Херсонської області",81,8,-90.1,26,8,-69.2,32.098765432098766,100,55,null,"-100,0"]
[23,"Хмельницької області",null,136,0,0,136,0,0,100,null,null,0]
[24,"Черкаської області",25745,3401,-86.8,0,336,0,0,9.8794472214054689,260,null,"-100,0"]
[25,"Чернівецької області",649,479,-26.2,159,59,-62.9,24.499229583975346,12.31732776617954,null,null,0]
[26,"Чернігівської області",118,10610,"89,9 р",0,257,0,0,2.4222431668237512,null,5602,0]
[27,"Усього (без ЦА)",167109,388791,"2,3 р",14929,149023,"10 р",8.9336899867750983,38.329848170353735,55628,79920,43.7]
[28,"Центральний апарат",509300,5479291,"10,8 р",121075,147718,22,23.772825446691538,2.6959327402030664,374742,551401,47.1]
[29,"№14",null,5,null,0,5]
[30,"№17",15629,3955105,"253,1 р",0,109810,0,0,2.7764117513947166,2146,551401,"256,9 р"]
[31,"№26",null,null,0,0,0,0,0,0,null,null,0]
[32,"№07",null,null,0,0,0,0,0,0,null,null,0]
[33,"№07/1",121075,75051,-38,121075,37903,-68.7,100,50.502991299249842,null,null,0]
[34,"№29",null,null,0,0,0,0,0,0,null,null,0]
[35,"№29/1",null,null,0,0,0,0,0,0,null,null,0]
[36,"№23",372596,null,"-100,0",0,0,0,0,0,372596,null,"-100,0"]
[37,"№25",null,null,null,0,0]
[38,"№30",null,1449130,null,0,0]
[39,"Усього (без ВП)",676409,5868082,"8,7 р",136004,296741,"2,2 р",20.106769720686746,5.0568652585291067,430370,631321,46.7]
[40,"Апарат ГВП",6201705,8293564,33.700000000000003,154716,26000,-83.2,2.4947333031803351,0.31349610372573239,54966,null,"-100,0"]
[41,"Західного регіону",49901,2828,-94.3,20448,1591,-92.2,40.977134726758983,56.258840169731258,23730,1013,-95.7]
[42,"Південного регіону",6025,2443,-59.5,3897,763,-80.400000000000006,64.680497925311201,31.232091690544411,2128,1679,-21.1]
[43,"Центрального регіону",63875,5341,-91.6,2046,1137,-44.4,3.2031311154598825,21.288148286837671,61449,3313,-94.6]
[44,"Сил АТО",2368,2461,3.9,2071,150,-92.8,87.457770270270274,6.0950832994717592,260,1029,"4 р"]
[45,"Усього по ВП",6323874,8306637,31.4,183178,29641,-83.8,2.8966105270282108,0.35683514279003647,142533,7034,-95.1]
[46,"Усього по Україні",7000283,14174719,"2 р",319182,326382,2.2999999999999998,4.5595585207055205,2.3025641637058203,572903,638355,11.4]
[]
["Таблиця 23. Забезпечення відшкодування збитків за закінченими кримінальними провадженнями про земельні правовідносини"]
[]
["Код","Прокуратура","Установлено збитків на суму (у тис. грн.)",null,null,"Відшкодовано збитків на суму (у тис. грн.)",null,null,"Питома вага",null,"Сума, на яку пред’явлено позови ( у тис. грн.)"]
[]
[null,null,{"$f":"$C$20","v":2016},{"$f":"$D$20","v":2017}," %",{"$f":"$C$20","v":2016},{"$f":"$D$20","v":2017}," %",{"$f":"$C$20","v":2016},{"$f":"$D$20","v":2017},{"$f":"$C$20","v":2016},{"$f":"$D$20","v":2017}," %"]
[1,"АР Крим",null,null,{"$f":"IF(C1217=0,0,IF(D1217=0,\"-100,0\",IF(D1217*100/C1217<200,ROUND(D1217*100/C1217-100,1),ROUND(D1217/C1217,1)&\" р\")))","v":0},0,0,{"$f":"IF(F1217=0,0,IF(G1217=0,\"-100,0\",IF(G1217*100/F1217<200,ROUND(G1217*100/F1217-100,1),ROUND(G1217/F1217,1)&\" р\")))","v":0},{"$f":"IF(C1217=0,0,F1217*100/C1217)","v":0},{"$f":"IF(D1217=0,0,G1217*100/D1217)","v":0},null,null,{"$f":"IF(K1217=0,0,IF(L1217=0,\"-100,0\",IF(L1217*100/K1217<200,ROUND(L1217*100/K1217-100,1),ROUND(L1217/K1217,1)&\" р\")))","v":0}]
[2,"Вінницької області",null,null,0,0,0,0,0,0,null,null,0]
[3,"Волинської області",null,11258,0,0,0,0,0,0,null,null,0]
[4,"Дніпропетровської області",2709,null,"-100,0",0,0,0,0,0,2709,null,"-100,0"]
[5,"Донецької області",null,633,0,0,0,0,0,0,null,null,0]
[6,"Житомирської області",null,null,0,0,0,0,0,0,null,null,0]
[7,"Закарпатської області",null,null,0,0,0,0,0,0,null,null,0]
[8,"Запорізької області",null,null,0,0,0,0,0,0,null,null,0]
[9,"Івано-Франківської області",null,null,0,0,0,0,0,0,null,null,0]
[10,"Київської області",null,851,0,0,0,0,0,0,null,null,0]
[11,"міста Києва",null,82000,0,0,0,0,0,0,null,null,0]
[12,"Кіровоградської області",null,null,0,0,0,0,0,0,null,null,0]
[13,"Луганської області",null,null,0,0,0,0,0,0,null,null,0]
[14,"Львівської області",null,null,0,0,0,0,0,0,null,null,0]
[15,"Миколаївської області",null,null,0,0,0,0,0,0,null,null,0]
[16,"Одеської області",null,null,0,0,0,0,0,0,null,null,0]
[17,"Полтавської області",null,1504,0,0,1504,0,0,100,null,null,0]
[18,"Рівненської області",null,null,0,0,0,0,0,0,null,null,0]
[19,"Сумської області",null,null,0,0,0,0,0,0,null,null,0]
[20,"Тернопільської області",null,null,0,0,0,0,0,0,null,null,0]
[21,"Харківської області",195,25776,"132,2 р",0,0,0,0,0,null,null,0]
[22,"Херсонської області",null,null,0,0,0,0,0,0,null,null,0]
[23,"Хмельницької області",null,null,0,0,0,0,0,0,null,null,0]
[24,"Черкаської області",25000,null,"-100,0",0,0,0,0,0,null,null,0]
[25,"Чернівецької області",null,null,0,0,0,0,0,0,null,null,0]
[26,"Чернігівської області",null,null,0,0,0,0,0,0,null,null,0]
[27,"Усього (без ЦА)",27904,122022,"4,4 р",0,1504,0,0,1.2325646194948452,2709,0,"-100,0"]
[28,"Центральний апарат",13287,2198164,"165,4 р",0,0,0,0,0,0,0,0]
[29,"№14",null,null,null,0,0]
[30,"№17",13287,716188,"53,9 р",0,0,0,0,0,null,null,0]
[31,"№26",null,null,0,0,0,0,0,0,null,null,0]
[32,"№07",null,null,0,0,0,0,0,0,null,null,0]
[33,"№07/1",null,4113,0,0,0,0,0,0,null,null,0]
[34,"№29",null,null,0,0,0,0,0,0,null,null,0]
[35,"№29/1",null,null,0,0,0,0,0,0,null,null,0]
[36,"№23",null,28733,0,0,0,0,0,0,null,null,0]
[37,"№25",null,null,null,0,0]
[38,"№30",null,1449130,null,0,0]
[39,"Усього (без ВП)",41191,2320186,"56,3 р",0,1504,0,0,6.4822389239483386E-2,2709,0,"-100,0"]
[40,"Апарат ГВП",null,null,0,0,0,0,0,0,null,null,0]
[41,"Західного регіону",20084,15,-99.9,20084,0,"-100,0",100,0,null,null,0]
[42,"Південного регіону",1017,null,"-100,0",77,0,"-100,0",7.5712881022615539,0,940,null,"-100,0"]
[43,"Центрального регіону",null,null,0,0,0,0,0,0,null,null,0]
[44,"Сил АТО",null,null,0,0,0,0,0,0,null,null,0]
[45,"Усього по ВП",21101,15,-99.9,20161,0,"-100,0",95.545234822994175,0,940,0,"-100,0"]
[46,"Усього по Україні",62292,2320201,"37,2 р",20161,1504,-92.5,32.365311757529057,6.482197016551583E-2,3649,0,"-100,0"]
[]
["Таблиця 24. Повернення справ судом для проведення додаткового розслідування відповідно до пункту 12 Перехідних положень КПК України"]
[]
["Код","Прокуратура","Повернуто справ судом для проведення додаткового розс.",null,"направлено до суду з обвинувальним актом",null,"у т. ч. ",null,null,null,"закрито",null,"у т. ч. "]
[null,null,null,null,null,null,"з угодами про примирення",null,"з угодами про визнання винуватості",null,null,null,"за п. п. 1-3 ст. 284 КПК України"]
[null,null,{"$f":"$C$20","v":2016},{"$f":"$D$20","v":2017},{"$f":"$C$20","v":2016},{"$f":"$D$20","v":2017},{"$f":"$C$20","v":2016},{"$f":"$D$20","v":2017},{"$f":"$C$20","v":2016},{"$f":"$D$20","v":2017},{"$f":"$C$20","v":2016},{"$f":"$D$20","v":2017},{"$f":"$C$20","v":2016},{"$f":"$D$20","v":2017}]
[1,"АР Крим"]
[2,"Вінницької області",1]
[3,"Волинської області"]
[4,"Дніпропетровської області",2,1,1]
[5,"Донецької області"]
[6,"Житомирської області"]
[7,"Закарпатської області"]
[8,"Запорізької області",1]
[9,"Івано-Франківської області",1]
[10,"Київської області",1]
[11,"міста Києва",1]
[12,"Кіровоградської області",null,1]
[13,"Луганської області"]
[14,"Львівської області",3,3,1,1]
[15,"Миколаївської області",1]
[16,"Одеської області",6,2,null,null,null,null,null,null,2,null,2]
[17,"Полтавської області"]
[18,"Рівненської області",2,1]
[19,"Сумської області"]
[20,"Тернопільської області",1,1,null,null,null,null,null,null,1,1,1,1]
[21,"Харківської області"]
[22,"Херсонської області",3]
[23,"Хмельницької області"]
[24,"Черкаської області",5,2]
[25,"Чернівецької області"]
[26,"Чернігівської області"]
[27,"Усього (без ЦА)",28,11,2,1,0,0,0,0,3,1,3,1]
[28,"Центральний апарат",0,0,0,0,0,0,0,0,0,0,0,0]
[29,"№14"]
[30,"№17"]
[31,"№26"]
[32,"№07"]
[33,"№07/1"]
[34,"№29"]
[35,"№29/1"]
[36,"№23"]
[37,"№25"]
[38,"№30"]
[39,"Усього (без ВП)",28,11,2,1,0,0,0,0,3,1,3,1]
[40,"Апарат ГВП"]
[41,"Західного регіону"]
[42,"Південного регіону"]
[43,"Центрального регіону"]
[44,"Сил АТО"]
[45,"Усього по ВП",0,0,0,0,0,0,0,0,0,0,0,0]
[46,"Усього по Україні",28,11,2,1,0,0,0,0,3,1,3,1]
[]
["Таблиця 25. Кримінальні провадження про злочини, вчинені працівниками правоохоронних органів щодо застосування катувань та іншого жорстокого поводження (без повторних)"]
[]
["Код","Прокуратура","Направлено до суду кримінальних проваджень з обвинувальним актом",null,null,"у т.ч. стосовно працівників",null,null,null,null,null,null,null,"Кількість осіб, стосовно яких кримінальні провадження направлені до суду з обвинувальним актом",null,null,"Закрито кримінальних проваджень"]
[null,null,null,null,null,"МВС",null,"ДПС",null,"СБУ",null,"ДПтС"]
[null,null,{"$f":"$C$20","v":2016},{"$f":"$D$20","v":2017}," %",{"$f":"$C$20","v":2016},{"$f":"$D$20","v":2017},{"$f":"$C$20","v":2016},{"$f":"$D$20","v":2017},{"$f":"$C$20","v":2016},{"$f":"$D$20","v":2017},{"$f":"$C$20","v":2016},{"$f":"$D$20","v":2017},{"$f":"$C$20","v":2016},{"$f":"$D$20","v":2017}," %",{"$f":"$C$20","v":2016},{"$f":"$D$20","v":2017}," %"]
[1,"АР Крим",null,null,{"$f":"IF(C1321=0,0,IF(D1321=0,\"-100,0\",IF(D1321*100/C1321<200,ROUND(D1321*100/C1321-100,1),ROUND(D1321/C1321,1)&\" р\")))","v":0},null,null,null,null,null,null,null,null,null,null,{"$f":"IF(N1321=0,0,IF(O1321=0,\"-100,0\",IF(O1321*100/N1321<200,ROUND(O1321*100/N1321-100,1),ROUND(O1321/N1321,1)&\" р\")))","v":0},null,null,{"$f":"IF(Q1321=0,0,IF(R1321=0,\"-100,0\",IF(R1321*100/Q1321<200,ROUND(R1321*100/Q1321-100,1),ROUND(R1321/Q1321,1)&\" р\")))","v":0}]
[2,"Вінницької області",3,1,-66.7,3,1,null,null,null,null,null,null,4,3,-25,62,39,-37.1]
[3,"Волинської області",1,null,"-100,0",1,null,null,null,null,null,null,null,3,null,"-100,0",10,41,"4,1 р"]
[4,"Дніпропетровської області",7,5,-28.6,7,5,null,null,null,null,null,null,9,8,-11.1,212,197,-7.1]
[5,"Донецької області",null,1,0,null,1,null,null,null,null,null,null,null,1,0,306,322,5.2]
[6,"Житомирської області",1,null,"-100,0",1,null,null,null,null,null,null,null,2,null,"-100,0",18,13,-27.8]
[7,"Закарпатської області",null,null,0,null,null,null,null,null,null,null,null,null,null,0,4,2,-50]
[8,"Запорізької області",2,7,"3,5 р",2,6,null,null,null,null,null,null,3,8,"2,7 р",100,143,43]
[9,"Івано-Франківської області",1,4,"4 р",1,4,null,null,null,null,null,null,1,4,"4 р",13,23,76.900000000000006]
[10,"Київської області",null,3,0,null,3,null,null,null,null,null,null,null,6,0,14,23,64.3]
[11,"міста Києва",null,1,0,null,1,null,null,null,null,null,null,null,1,0,51,7,-86.3]
[12,"Кіровоградської області",null,1,0,null,1,null,null,null,null,null,null,null,4,0,22,16,-27.3]
[13,"Луганської області",1,null,"-100,0",1,null,null,null,null,null,null,null,1,null,"-100,0",28,9,-67.900000000000006]
[14,"Львівської області",2,4,"2 р",2,4,null,null,null,null,null,null,3,10,"3,3 р",24,45,87.5]
[15,"Миколаївської області",3,2,-33.299999999999997,3,2,null,null,null,null,null,null,7,null,"-100,0",68,43,-36.799999999999997]
[16,"Одеської області",2,1,-50,2,1,null,null,null,null,null,null,7,1,-85.7,44,56,27.3]
[17,"Полтавської області",2,1,-50,2,1,null,null,null,null,null,null,3,1,-66.7,89,51,-42.7]
[18,"Рівненської області",null,null,0,null,null,null,null,null,null,null,null,null,null,0,1,null,"-100,0"]
[19,"Сумської області",2,2,0,2,2,null,null,null,null,null,null,2,2,0,26,35,34.6]
[20,"Тернопільської області",null,1,0,null,1,null,null,null,null,null,null,null,null,0,22,22,0]
[21,"Харківської області",10,2,-80,9,2,null,null,null,null,1,null,18,4,-77.8,65,22,-66.2]
[22,"Херсонської області",null,null,0,null,null,null,null,null,null,null,null,null,null,0,37,24,-35.1]
[23,"Хмельницької області",3,1,-66.7,2,1,null,null,null,null,1,null,5,2,-60,43,36,-16.3]
[24,"Черкаської області",2,2,0,2,2,null,null,null,null,null,null,4,6,50,26,12,-53.8]
[25,"Чернівецької області",null,null,0,null,null,null,null,null,null,null,null,null,null,0,1,1,0]
[26,"Чернігівської області",2,null,"-100,0",2,null,null,null,null,null,null,null,3,null,"-100,0",15,4,-73.3]
[27,"Усього (без ЦА)",44,39,-11.4,42,38,0,0,0,0,2,0,75,61,-18.7,1301,1186,-8.8000000000000007]
[28,"Центральний апарат",3,5,66.7,3,5,0,0,0,0,0,0,20,14,-30,2,0,"-100,0"]
[29,"№14"]
[30,"№17",null,null,0,null,null,null,null,null,null,null,null,null,null,0,2,null,"-100,0"]
[31,"№26",null,null,0,null,null,null,null,null,null,null,null,null,null,0,null,null,0]
[32,"№07",null,null,0,null,null,null,null,null,null,null,null,null,null,0,null,null,0]
[33,"№07/1",null,null,0,null,null,null,null,null,null,null,null,null,null,0,null,null,0]
[34,"№29",null,null,0,null,null,null,null,null,null,null,null,null,null,0,null,null,0]
[35,"№29/1",null,null,0,null,null,null,null,null,null,null,null,null,null,0,null,null,0]
[36,"№23",3,5,66.7,3,5,null,null,null,null,null,null,20,14,-30,null,null,0]
[37,"№25"]
[38,"№30"]
[39,"Усього (без ВП)",47,44,-6.4,45,43,0,0,0,0,2,0,95,75,-21.1,1303,1186,-9]
[40,"Апарат ГВП",1,null,"-100,0",1,null,null,null,null,null,null,null,6,null,"-100,0",null,null,0]
[41,"Західного регіону",null,null,0,null,null,null,null,null,null,null,null,null,null,0,null,null,0]
[42,"Південного регіону",1,null,"-100,0",1,null,null,null,null,null,null,null,6,null,"-100,0",5,6,20]
[43,"Центрального регіону",null,null,0,null,null,null,null,null,null,null,null,null,null,0,1,null,"-100,0"]
[44,"Сил АТО",1,null,"-100,0",null,null,null,null,null,null,null,null,2,null,"-100,0",14,15,7.1]
[45,"Усього по ВП",3,0,"-100,0",2,0,0,0,0,0,0,0,14,0,"-100,0",20,21,5]
[46,"Усього по Україні",50,44,-12,47,43,0,0,0,0,2,0,109,75,-31.2,1323,1207,-8.8000000000000007]

{"sheet":"Довідки1","index":8,"n_rows":114,"n_cols":8,"rows_kept":114,"cut":false,"hidden":true,"merged":[[29,0,29,3],[28,0,28,3],[44,0,44,3],[45,1,45,3],[48,1,48,3],[20,0,20,3],[41,0,41,3],[17,1,17,3],[9,0,19,0],[16,1,16,3],[11,1,11,3],[19,1,19,3],[32,0,33,0],[33,1,33,3],[37,0,38,0],[38,1,38,3],[36,0,36,3],[23,1,23,3],[37,1,37,3],[27,0,27,3],[18,2,18,3],[21,0,26,0],[21,1,21,3],[35,1,35,3],[68,0,69,2],[66,2,67,2],[62,1,67,1],[57,0,57,3],[47,0,47,3],[53,0,53,3],[42,0,43,0],[42,1,42,3],[43,1,43,3],[50,1,50,3],[49,1,49,3],[56,0,56,3],[51,1,51,3],[48,0,51,0],[46,0,46,3],[52,0,52,3],[39,0,39,3],[40,1,40,3],[0,0,0,7],[1,0,1,7],[2,0,2,7],[3,0,3,7],[5,0,5,3],[6,0,6,3],[8,0,8,3],[9,1,9,3],[14,2,14,3],[15,2,15,3],[12,1,12,3],[10,1,10,3],[7,0,7,3],[26,1,26,3],[31,0,31,3],[30,0,30,3],[25,1,25,3],[22,1,22,3],[24,1,24,3],[34,0,34,3],[32,1,32,3],[13,2,13,3],[72,1,77,1],[113,0,113,3],[110,0,110,3],[111,0,111,3],[112,0,112,3],[109,0,109,3],[98,0,99,2],[100,0,107,0],[102,1,107,1],[106,2,107,2],[108,0,108,3],[102,2,103,2],[104,2,105,2],[100,1,101,2],[72,2,73,2],[13,1,15,1],[84,2,85,2],[54,0,54,3],[94,2,95,2],[64,2,65,2],[78,0,79,2],[60,0,67,0],[92,2,93,2],[90,2,91,2],[88,2,89,2],[86,2,87,2],[80,1,81,2],[82,1,97,1],[96,2,97,2],[80,0,97,0],[76,2,77,2],[82,2,83,2],[55,0,55,3],[58,0,59,2],[74,2,75,2],[62,2,63,2],[60,1,61,2],[70,1,71,2],[70,0,77,0]]}
["ДОВІДКА"]
["про слідчу роботу"]
["в органах прокуратури України (Усього без ВП)"]
[{"$f":"Довідки!$A$10","v":0}]
[]
[null,null,null,null,"Рядок",{"$f":"Довідки!C20","v":2016},{"$f":"Довідки!D20","v":2017},"Дин. %"]
["а",null,null,null,"б",1,2,3]
["Знаходилось кримінальних проваджень",null,null,null,1,22008,25758,{"$f":"IF(F8=0,0,IF(G8=0,\"-100,0\",IF(G8*100/F8<200,ROUND(G8*100/F8-100,1),ROUND(G8/F8,1)&\" р\")))","v":17}]
["Закінчено кримінальних проваджень (з повторно закінченими)",null,null,null,2,11709,11586,{"$f":"IF(F9=0,0,IF(G9=0,\"-100,0\",IF(G9*100/F9<200,ROUND(G9*100/F9-100,1),ROUND(G9/F9,1)&\" р\")))","v":-1.1000000000000001}]
["з них:","закінчено кримінальних проваджень у строки понад 2 місяці",null,null,3,452,543,{"$f":"IF(F10=0,0,IF(G10=0,\"-100,0\",IF(G10*100/F10<200,ROUND(G10*100/F10-100,1),ROUND(G10/F10,1)&\" р\")))","v":20.100000000000001}]
[null,"питома вага закінчених кримінальних проваджень у строки понад 2 місяці",null,null,4,{"$f":"IF($F$9=0,0,F10*100/$F$9)","v":3.8602784183107013},{"$f":"IF($G$9=0,0,G10*100/$G$9)","v":4.6866908337648887}]
[null,"направлено до суду проваджень з обвинувальним актом",null,null,5,1174,1580,{"$f":"IF(F12=0,0,IF(G12=0,\"-100,0\",IF(G12*100/F12<200,ROUND(G12*100/F12-100,1),ROUND(G12/F12,1)&\" р\")))","v":34.6}]
[null,"питома вага направлених до суду проваджень до числа закінчених",null,null,6,{"$f":"IF($F$9=0,0,F12*100/$F$9)","v":10.026475360833548},{"$f":"IF($G$9=0,0,G12*100/$G$9)","v":13.637148282409806}]
[null,"у т.ч.:","у яких здійснювалося спеціальне досудове розслідування",null,7,11,10,{"$f":"IF(F14=0,0,IF(G14=0,\"-100,0\",IF(G14*100/F14<200,ROUND(G14*100/F14-100,1),ROUND(G14/F14,1)&\" р\")))","v":-9.1}]
[null,null,"з угодою про примирення",null,8,11,10,-9.1]
[null,null,"з угодою про визнання винуватості",null,9,180,239,32.799999999999997]
[null,"направлено до суду клопотань про звільнення підозрюваного від кримінальної відповідальності",null,null,10,7,36,"5,1 р"]
[null,"закрито кримінальних проваджень із числа закінчених",null,null,11,10527,9970,-5.3]
[null,"з них:","закрито прокурором",null,12,36,40,11.1]
[null,"питома вага",null,null,13,{"$f":"IF(F18=0,0,F19*100/F18)","v":0.34197777144485608},{"$f":"IF(G18=0,0,G19*100/G18)","v":0.4012036108324975}]
["Закінчено кримінальних проваджень (без повторно закінчених)",null,null,null,14,9468,9661,{"$f":"IF(F21=0,0,IF(G21=0,\"-100,0\",IF(G21*100/F21<200,ROUND(G21*100/F21-100,1),ROUND(G21/F21,1)&\" р\")))","v":2}]
["з них:","направлено до суду кримінальних проваджень з обвинувальним актом",null,null,15,1124,1526,{"$f":"IF(F22=0,0,IF(G22=0,\"-100,0\",IF(G22*100/F22<200,ROUND(G22*100/F22-100,1),ROUND(G22/F22,1)&\" р\")))","v":35.799999999999997}]
[null,"питома вага до числа закінчених проваджень (без повторних)",null,null,16,{"$f":"IF($F$21=0,0,F22*100/$F$21)","v":11.87156738487537},{"$f":"IF($G$21=0,0,G22*100/$G$21)","v":15.795466307835628}]
[null,"закрито кримінальних проваджень (без повторних)",null,null,17,8338,8119,{"$f":"IF(F24=0,0,IF(G24=0,\"-100,0\",IF(G24*100/F24<200,ROUND(G24*100/F24-100,1),ROUND(G24/F24,1)&\" р\")))","v":-2.6}]
[null,"питома вага до числа закінчених проваджень (без повторних)",null,null,18,{"$f":"IF($F$21=0,0,F24*100/$F$21)","v":88.065061258977607},{"$f":"IF($G$21=0,0,G24*100/$G$21)","v":84.038919366525207}]
[null,"закрито кримінальних проваджень за  п.п. 1-3 ч. 1 ст.284 КПК",null,null,19,8327,8107,{"$f":"IF(F26=0,0,IF(G26=0,\"-100,0\",IF(G26*100/F26<200,ROUND(G26*100/F26-100,1),ROUND(G26/F26,1)&\" р\")))","v":-2.6}]
[null,"питома вага закритих проваджень до закінчених",null,null,20,{"$f":"IF($F$21=0,0,F26*100/$F$21)","v":87.948880439374733},{"$f":"IF($G$21=0,0,G26*100/$G$21)","v":83.914708622295834}]
["Затримано осіб у порядку, передбаченому ст.ст. 207, 208 КПК України ",null,null,null,21,570,723,{"$f":"IF(F28=0,0,IF(G28=0,\"-100,0\",IF(G28*100/F28<200,ROUND(G28*100/F28-100,1),ROUND(G28/F28,1)&\" р\")))","v":26.8}]
["Усього звільнено осіб",null,null,null,22,250,420,{"$f":"IF(F29=0,0,IF(G29=0,\"-100,0\",IF(G29*100/F29<200,ROUND(G29*100/F29-100,1),ROUND(G29/F29,1)&\" р\")))","v":68}]
["Питома вага звільнених осіб до числа затриманих",null,null,null,23,{"$f":"IF(F28=0,0,F29*100/F28)","v":43.859649122807021},{"$f":"IF(G28=0,0,G29*100/G28)","v":58.091286307053942}]
["Звільнено осіб за непідтвердженням підозри у вчиненні злочину",null,null,null,24,2,2,{"$f":"IF(F31=0,0,IF(G31=0,\"-100,0\",IF(G31*100/F31<200,ROUND(G31*100/F31-100,1),ROUND(G31/F31,1)&\" р\")))","v":0}]
["Кількість підозрюваних осіб, стосовно яких кримінальне провадження закрито прокурором на підставі п.п. 1-3 ч.1 ст. 284 КПК України",null,null,null,25,39,43,10.3]
["з них:","трималися під вартою",null,null,26,5,1,-80]
[null,"перебували під домашнім арештом",null,null,27,2,1,-50]
["Кількість обвинувачених та підозрюваних, стосовно яких провадження закрито за реабілітуючими підставами (за к/справами, розслідуваними до 20.11.2012)",null,null,null,28,12,12,{"$f":"IF(F35=0,0,IF(G35=0,\"-100,0\",IF(G35*100/F35<200,ROUND(G35*100/F35-100,1),ROUND(G35/F35,1)&\" р\")))","v":0}]
["з них:","трималися під вартою",null,null,29,1,0,{"$f":"IF(F36=0,0,IF(G36=0,\"-100,0\",IF(G36*100/F36<200,ROUND(G36*100/F36-100,1),ROUND(G36/F36,1)&\" р\")))","v":"-100,0"}]
["Кількість виправданих осіб судами",null,null,null,30,39,48,23.1]
["з них:","трималися під вартою",null,null,31,2,11,"5,5 р"]
[null,"перебували під домашнім арештом",null,null,32,6,2,-66.7]
["Кількість виправданих і осіб, стосовно яких справи закриті судом за відсутністю події або складу злочину і за недоведеністю обвинувачення (за кримінальними справами, направленими до суду до 20.11.2012)",null,null,null,33,18,14,-22.2]
["з них:","трималися під вартою",null,null,34,0,0,0]
["Кількість осіб, стосовно яких провадження закриті судом у зв’язку з відмовою прокурора від підтримання державного обвинувачення",null,null,null,35,0,4,0]
["з них:","трималися під вартою",null,null,36,0,0,{"$f":"IF(F43=0,0,IF(G43=0,\"-100,0\",IF(G43*100/F43<200,ROUND(G43*100/F43-100,1),ROUND(G43/F43,1)&\" р\")))","v":0}]
[null,"перебували під домашнім арештом",null,null,37,0,1,{"$f":"IF(F44=0,0,IF(G44=0,\"-100,0\",IF(G44*100/F44<200,ROUND(G44*100/F44-100,1),ROUND(G44/F44,1)&\" р\")))","v":0}]
["Кількість осіб, стосовно яких кримінальні справи закриті судом у зв’язку з відмовою прокурора від підтримання державного обвинувачення (за кримінальними справами, направленими до суду до 20.11.2012)",null,null,null,38,1,3,{"$f":"IF(F45=0,0,IF(G45=0,\"-100,0\",IF(G45*100/F45<200,ROUND(G45*100/F45-100,1),ROUND(G45/F45,1)&\" р\")))","v":"3 р"}]
["з них:","трималися під вартою",null,null,39,0,0,{"$f":"IF(F46=0,0,IF(G46=0,\"-100,0\",IF(G46*100/F46<200,ROUND(G46*100/F46-100,1),ROUND(G46/F46,1)&\" р\")))","v":0}]
["Усього надійшло кримінальних проваджень із судів",null,null,null,40,{"$f":"SUM(F49:F52)","v":83},{"$f":"SUM(G49:G52)","v":89},7.2]
["Питома вага",null,null,null,41,{"$f":"IF(F22=0,0,F47*100/F22)","v":7.3843416370106763},{"$f":"IF(G22=0,0,G47*100/G22)","v":5.8322411533420704}]
["з них:","обвинувальних актів (п.3 ч. 3 ст. 314 КПК)",null,null,42,66,68,3]
[null,"клопотань про застосування примусових заходів медичного характеру\n (п.3 ч. 3 ст. 314 КПК)",null,null,43,0,0,0]
[null,"клопотань про звільнення особи від кримінальної відповідальності\n(п. 4 ст. 288 КПК)",null,null,44,1,5,"5 р"]
[null,"проваджень на підставі п. 1 ч. 3 ст. 314,  п.2 ч.2 ст. 407 КПК",null,null,45,16,16,0]
["Залишок незакінчених кримінальних проваджень ",null,null,null,46,3798,6508,{"$f":"IF(F53=0,0,IF(G53=0,\"-100,0\",IF(G53*100/F53<200,ROUND(G53*100/F53-100,1),ROUND(G53/F53,1)&\" р\")))","v":71.400000000000006}]
["Установлено збитків за закінченими кримінальними провадженнями (у тис. грн.)",null,null,null,47,1059763,6095118,{"$f":"IF(F54=0,0,IF(G54=0,\"-100,0\",IF(G54*100/F54<200,ROUND(G54*100/F54-100,1),ROUND(G54/F54,1)&\" р\")))","v":"5,8 р"}]
["Відшкодовано збитків за закінченими кримінальними провадженнями (у тис. грн.)",null,null,null,48,266724,310529,{"$f":"IF(F55=0,0,IF(G55=0,\"-100,0\",IF(G55*100/F55<200,ROUND(G55*100/F55-100,1),ROUND(G55/F55,1)&\" р\")))","v":16.399999999999999}]
["Питома вага відшкодування (%)",null,null,null,49,{"$f":"IF(F54=0,0,F55*100/F54)","v":25.168268754429057},{"$f":"IF(G54=0,0,G55*100/G54)","v":5.0947167880917155}]
["Відшкодовано збитків заподіяних інтересам держави та територіальних громад\n(у тис. грн.)",null,null,null,50,136004,296741,{"$f":"IF(F57=0,0,IF(G57=0,\"-100,0\",IF(G57*100/F57<200,ROUND(G57*100/F57-100,1),ROUND(G57/F57,1)&\" р\")))","v":"2,2 р"}]
["Відшкодовано збитків про земельні правовідносини (у тис. грн.)",null,null,null,51,0,1504,{"$f":"IF(F58=0,0,IF(G58=0,\"-100,0\",IF(G58*100/F58<200,ROUND(G58*100/F58-100,1),ROUND(G58/F58,1)&\" р\")))","v":0}]
["Крим. правопорушення, вчинені особами посади яких згідно зі ч.1 ст. 9 Закону України «Про державну службу» та посади яких відповідно до цього Закону віднесено до 1-2 категорії (крім працівників правоохоронних органів)",null,null,"направлено до суду",52,6,7,{"$f":"IF(F59=0,0,IF(G59=0,\"-100,0\",IF(G59*100/F59<200,ROUND(G59*100/F59-100,1),ROUND(G59/F59,1)&\" р\")))","v":16.7}]
[null,null,null,"закрито за  п.п. 1-3 ч. 1 ст.284 КПК",53,16,27,68.8]
["з них:","У сфері службової діяльності ",null,"направлено до суду",54,6,5,-16.7]
[null,null,null,"закрито за  п.п. 1-3 ч. 1 ст.284 КПК",55,10,10,0]
[null,"у т.ч.:","зловживання владою або службовим становищем (ст. 364)","направлено до суду",56,1,0,{"$f":"IF(F63=0,0,IF(G63=0,\"-100,0\",IF(G63*100/F63<200,ROUND(G63*100/F63-100,1),ROUND(G63/F63,1)&\" р\")))","v":"-100,0"}]
[null,null,null,"закрито за  п.п. 1-3 ч. 1 ст.284 КПК",57,1,2,"2 р"]
[null,null,"службова недбалість (ст. 367)","направлено до суду",58,0,1,0]
[null,null,null,"закрито за  п.п. 1-3 ч. 1 ст.284 КПК",59,2,3,50]
[null,null,"злочини щодо хабарництва (ст.ст. 368-370)","направлено до суду",60,3,1,-66.7]
[null,null,null,"закрито за  п.п. 1-3 ч. 1 ст.284 КПК",61,2,1,-50]
["Крим. правопорушення, вчинені особами посади яких згідно зі ст. 25 Закону України «Про державну службу» віднесено до 3 категорії посад (крім працівників правоох. органів та суддів)",null,null,"направлено до суду",62,8,14,{"$f":"IF(F69=0,0,IF(G69=0,\"-100,0\",IF(G69*100/F69<200,ROUND(G69*100/F69-100,1),ROUND(G69/F69,1)&\" р\")))","v":75}]
[null,null,null,"закрито за  п.п. 1-3 ч. 1 ст.284 КПК",63,20,20,0]
["з них:","У сфері службової діяльності ",null,"направлено до суду",64,7,14,"2 р"]
[null,null,null,"закрито за  п.п. 1-3 ч. 1 ст.284 КПК",65,16,16,0]
[null,"у т.ч.:","зловживання владою або службовим становищем (ст. 364)","направлено до суду",66,0,2,0]
[null,null,null,"закрито за  п.п. 1-3 ч. 1 ст.284 КПК",67,3,3,0]
[null,null,"службова недбалість (ст. 367)","направлено до суду",68,0,0,{"$f":"IF(F75=0,0,IF(G75=0,\"-100,0\",IF(G75*100/F75<200,ROUND(G75*100/F75-100,1),ROUND(G75/F75,1)&\" р\")))","v":0}]
[null,null,null,"закрито за  п.п. 1-3 ч. 1 ст.284 КПК",69,1,2,"2 р"]
[null,null,"злочини щодо хабарництва (ст.ст. 368-370)","направлено до суду",70,5,8,60]
[null,null,null,"закрито за  п.п. 1-3 ч. 1 ст.284 КПК",71,3,3,0]
["Кримінальні правопорушення, вчинені працівниками правоохоронних органів",null,null,"направлено до суду",72,841,889,5.7]
[null,null,null,"закрито за  п.п. 1-3 ч. 1 ст.284 КПК",73,7495,6756,-9.9]
["з них:","У сфері службової діяльності ",null,"направлено до суду",74,608,600,-1.3]
[null,null,null,"закрито за  п.п. 1-3 ч. 1 ст.284 КПК",75,6517,5998,-8]
[null,"у т.ч.:","органів внутрішніх справ","направлено до суду",76,500,524,4.8]
[null,null,null,"закрито за  п.п. 1-3 ч. 1 ст.284 КПК",77,5619,4904,-12.7]
[null,null,"у т.ч. Національної  гвардії","направлено до суду",78,4,2,{"$f":"IF(F85=0,0,IF(G85=0,\"-100,0\",IF(G85*100/F85<200,ROUND(G85*100/F85-100,1),ROUND(G85/F85,1)&\" р\")))","v":-50}]
[null,null,null,"закрито за  п.п. 1-3 ч. 1 ст.284 КПК",79,7,0,"-100,0"]
[null,null,"органів прокуратури","направлено до суду",80,23,31,34.799999999999997]
[null,null,null,"закрито за  п.п. 1-3 ч. 1 ст.284 КПК",81,745,733,-1.6]
[null,null,"Служби безпеки України","направлено до суду",82,3,1,-66.7]
[null,null,null,"закрито за  п.п. 1-3 ч. 1 ст.284 КПК",83,41,51,24.4]
[null,null,"Державної податкової служби","направлено до суду",84,82,78,-4.9000000000000004]
[null,null,null,"закрито за  п.п. 1-3 ч. 1 ст.284 КПК",85,504,465,-7.7]
[null,null,"митної служби","направлено до суду",86,52,65,25]
[null,null,null,"закрито за  п.п. 1-3 ч. 1 ст.284 КПК",87,211,141,-33.200000000000003]
[null,null,"працівниками пенітенціарної системи","направлено до суду",88,53,49,-7.5]
[null,null,null,"закрито за  п.п. 1-3 ч. 1 ст.284 КПК",89,199,238,19.600000000000001]
[null,null,"прикордонниками","направлено до суду",90,11,3,{"$f":"IF(F97=0,0,IF(G97=0,\"-100,0\",IF(G97*100/F97<200,ROUND(G97*100/F97-100,1),ROUND(G97/F97,1)&\" р\")))","v":-72.7}]
[null,null,null,"закрито за  п.п. 1-3 ч. 1 ст.284 КПК",91,5,3,{"$f":"IF(F98=0,0,IF(G98=0,\"-100,0\",IF(G98*100/F98<200,ROUND(G98*100/F98-100,1),ROUND(G98/F98,1)&\" р\")))","v":-40}]
["Кримінальні правопорушення, вчинені суддями",null,null,"направлено до суду",92,35,124,{"$f":"IF(F99=0,0,IF(G99=0,\"-100,0\",IF(G99*100/F99<200,ROUND(G99*100/F99-100,1),ROUND(G99/F99,1)&\" р\")))","v":"3,5 р"}]
[null,null,null,"закрито за  п.п. 1-3 ч. 1 ст.284 КПК",93,367,332,-9.5]
["з них:","У сфері здійснення правосуддя",null,"направлено до суду",94,15,11,-26.7]
[null,null,null,"закрито за  п.п. 1-3 ч. 1 ст.284 КПК",95,358,316,-11.7]
[null,"у т.ч.:","постановлення завідомо неправосудного вироку, рішення або ухвали (ст.375)","направлено до суду",96,8,5,-37.5]
[null,null,null,"закрито за  п.п. 1-3 ч. 1 ст.284 КПК",97,278,225,-19.100000000000001]
[null,null,"злочини щодо хабарництва (ст.ст. 368-370)","направлено до суду",98,7,4,-42.9]
[null,null,null,"закрито за  п.п. 1-3 ч. 1 ст.284 КПК",99,23,15,-34.799999999999997]
[null,null,"інші крим. правопор., вчинені у сфері служб. діяльності щодо здійснення правосуддя","направлено до суду",100,0,2,0]
[null,null,null,"закрито за  п.п. 1-3 ч. 1 ст.284 КПК",101,57,76,33.299999999999997]
["Направлено до суду кримінальних проваджень про корупційні правопорушення",null,null,null,102,507,590,{"$f":"IF(F109=0,0,IF(G109=0,\"-100,0\",IF(G109*100/F109<200,ROUND(G109*100/F109-100,1),ROUND(G109/F109,1)&\" р\")))","v":16.399999999999999}]
["Питома вага до всіх направлених до суду з обвинувальним висновком",null,null,null,103,{"$f":"IF($F$22=0,0,F109*100/$F$22)","v":45.106761565836301},{"$f":"IF($G$22=0,0,G109*100/$G$22)","v":38.663171690694625}]
["Притягнуто до відповідальності осіб (про корупційні правопорушення)",null,null,null,104,624,749,{"$f":"IF(F111=0,0,IF(G111=0,\"-100,0\",IF(G111*100/F111<200,ROUND(G111*100/F111-100,1),ROUND(G111/F111,1)&\" р\")))","v":20}]
["Направлено до суду кримінальних проваджень про правопорушення, вчинені ОГ та ЗО",null,null,null,105,12,21,{"$f":"IF(F112=0,0,IF(G112=0,\"-100,0\",IF(G112*100/F112<200,ROUND(G112*100/F112-100,1),ROUND(G112/F112,1)&\" р\")))","v":75}]
["Направлено до суду кримінальних проваджень про правопорушення, вчинені у сфері земельних правовідносин",null,null,null,106,22,40,{"$f":"IF(F113=0,0,IF(G113=0,\"-100,0\",IF(G113*100/F113<200,ROUND(G113*100/F113-100,1),ROUND(G113/F113,1)&\" р\")))","v":81.8}]
["Направлено до суду кримінальних проваджень про правопорушення, вчинені у бюджетній системі",null,null,null,107,34,49,{"$f":"IF(F114=0,0,IF(G114=0,\"-100,0\",IF(G114*100/F114<200,ROUND(G114*100/F114-100,1),ROUND(G114/F114,1)&\" р\")))","v":44.1}]

{"sheet":"Довідки2","index":9,"n_rows":114,"n_cols":8,"rows_kept":114,"cut":false,"hidden":true,"merged":[[0,0,0,7],[1,0,1,7],[2,0,2,7],[3,0,3,7],[5,0,5,3],[6,0,6,3],[7,0,7,3],[8,0,8,3],[9,0,19,0],[9,1,9,3],[10,1,10,3],[11,1,11,3],[12,1,12,3],[14,2,14,3],[15,2,15,3],[16,1,16,3],[17,1,17,3],[18,2,18,3],[19,1,19,3],[13,2,13,3],[13,1,15,1],[20,0,20,3],[21,0,26,0],[21,1,21,3],[22,1,22,3],[23,1,23,3],[24,1,24,3],[31,0,31,3],[32,0,33,0],[32,1,32,3],[33,1,33,3],[34,0,34,3],[35,1,35,3],[25,1,25,3],[26,1,26,3],[27,0,27,3],[28,0,28,3],[29,0,29,3],[30,0,30,3],[41,0,41,3],[42,0,43,0],[42,1,42,3],[43,1,43,3],[44,0,44,3],[45,1,45,3],[36,0,36,3],[37,0,38,0],[37,1,37,3],[38,1,38,3],[39,0,39,3],[40,1,40,3],[52,0,52,3],[53,0,53,3],[54,0,54,3],[55,0,55,3],[56,0,56,3],[57,0,57,3],[46,0,46,3],[47,0,47,3],[48,0,51,0],[48,1,48,3],[49,1,49,3],[50,1,50,3],[51,1,51,3],[68,0,69,2],[70,0,77,0],[70,1,71,2],[72,1,77,1],[72,2,73,2],[74,2,75,2],[76,2,77,2],[58,0,59,2],[60,0,67,0],[60,1,61,2],[62,1,67,1],[62,2,63,2],[64,2,65,2],[66,2,67,2],[78,0,79,2],[80,0,97,0],[80,1,81,2],[82,1,97,1],[82,2,83,2],[84,2,85,2],[86,2,87,2],[88,2,89,2],[90,2,91,2],[92,2,93,2],[108,0,108,3],[109,0,109,3],[110,0,110,3],[111,0,111,3],[112,0,112,3],[113,0,113,3],[94,2,95,2],[96,2,97,2],[98,0,99,2],[100,0,107,0],[100,1,101,2],[102,1,107,1],[102,2,103,2],[104,2,105,2],[106,2,107,2]]}
["ДОВІДКА"]
["про слідчу роботу"]
["в органах прокуратури України (Усього по Україні)"]
[{"$f":"Довідки!$A$10","v":0}]
[]
[null,null,null,null,"Рядок",{"$f":"Довідки!C20","v":2016},{"$f":"Довідки!D20","v":2017},"Дин. %"]
["а",null,null,null,"б",1,2,3]
["Знаходилось кримінальних проваджень",null,null,null,1,43370,46059,{"$f":"IF(F8=0,0,IF(G8=0,\"-100,0\",IF(G8*100/F8<200,ROUND(G8*100/F8-100,1),ROUND(G8/F8,1)&\" р\")))","v":6.2}]
["Закінчено кримінальних проваджень (з повторно закінченими)",null,null,null,2,18043,17509,{"$f":"IF(F9=0,0,IF(G9=0,\"-100,0\",IF(G9*100/F9<200,ROUND(G9*100/F9-100,1),ROUND(G9/F9,1)&\" р\")))","v":-3}]
["з них:","закінчено кримінальних проваджень у строки понад 2 місяці",null,null,3,698,732,{"$f":"IF(F10=0,0,IF(G10=0,\"-100,0\",IF(G10*100/F10<200,ROUND(G10*100/F10-100,1),ROUND(G10/F10,1)&\" р\")))","v":4.9000000000000004}]
[null,"питома вага закінчених кримінальних проваджень у строки понад 2 місяці",null,null,4,{"$f":"IF($F$9=0,0,F10*100/$F$9)","v":3.8685362744554674},{"$f":"IF($G$9=0,0,G10*100/$G$9)","v":4.1807070649380318}]
[null,"направлено до суду проваджень з обвинувальним актом",null,null,5,5366,5702,{"$f":"IF(F12=0,0,IF(G12=0,\"-100,0\",IF(G12*100/F12<200,ROUND(G12*100/F12-100,1),ROUND(G12/F12,1)&\" р\")))","v":6.3}]
[null,"питома вага направлених до суду проваджень до числа закінчених",null,null,6,{"$f":"IF($F$9=0,0,F12*100/$F$9)","v":29.740065399323836},{"$f":"IF($G$9=0,0,G12*100/$G$9)","v":32.566108858301448}]
[null,"у т.ч.:","у яких здійснювалося спеціальне досудове розслідування",null,7,16,13,{"$f":"IF(F14=0,0,IF(G14=0,\"-100,0\",IF(G14*100/F14<200,ROUND(G14*100/F14-100,1),ROUND(G14/F14,1)&\" р\")))","v":-18.8}]
[null,null,"з угодою про примирення",null,8,16,13,-18.8]
[null,null,"з угодою про визнання винуватості",null,9,810,708,-12.6]
[null,"направлено до суду клопотань про звільнення підозрюваного від кримінальної відповідальності",null,null,10,55,75,36.4]
[null,"закрито кримінальних проваджень із числа закінчених",null,null,11,12618,11731,-7]
[null,"з них:","закрито прокурором",null,12,257,264,2.7]
[null,"питома вага",null,null,13,{"$f":"IF(F18=0,0,F19*100/F18)","v":2.036772864162308},{"$f":"IF(G18=0,0,G19*100/G18)","v":2.2504475321796948}]
["Закінчено кримінальних проваджень (без повторно закінчених)",null,null,null,14,15579,15329,{"$f":"IF(F21=0,0,IF(G21=0,\"-100,0\",IF(G21*100/F21<200,ROUND(G21*100/F21-100,1),ROUND(G21/F21,1)&\" р\")))","v":-1.6}]
["з них:","направлено до суду кримінальних проваджень з обвинувальним актом",null,null,15,5262,5635,{"$f":"IF(F22=0,0,IF(G22=0,\"-100,0\",IF(G22*100/F22<200,ROUND(G22*100/F22-100,1),ROUND(G22/F22,1)&\" р\")))","v":7.1}]
[null,"питома вага до числа закінчених проваджень (без повторних)",null,null,16,{"$f":"IF($F$21=0,0,F22*100/$F$21)","v":33.776237242441745},{"$f":"IF($G$21=0,0,G22*100/$G$21)","v":36.760388805531996}]
[null,"закрито кримінальних проваджень (без повторних)",null,null,17,10265,9645,{"$f":"IF(F24=0,0,IF(G24=0,\"-100,0\",IF(G24*100/F24<200,ROUND(G24*100/F24-100,1),ROUND(G24/F24,1)&\" р\")))","v":-6}]
[null,"питома вага до числа закінчених проваджень (без повторних)",null,null,18,{"$f":"IF($F$21=0,0,F24*100/$F$21)","v":65.889980101418573},{"$f":"IF($G$21=0,0,G24*100/$G$21)","v":62.919955639637287}]
[null,"закрито кримінальних проваджень за  п.п. 1-3 ч. 1 ст.284 КПК",null,null,19,10181,9565,{"$f":"IF(F26=0,0,IF(G26=0,\"-100,0\",IF(G26*100/F26<200,ROUND(G26*100/F26-100,1),ROUND(G26/F26,1)&\" р\")))","v":-6.1}]
[null,"питома вага закритих проваджень до закінчених",null,null,20,{"$f":"IF($F$21=0,0,F26*100/$F$21)","v":65.350792733808333},{"$f":"IF($G$21=0,0,G26*100/$G$21)","v":62.398069019505513}]
["Затримано осіб у порядку, передбаченому ст.ст. 207, 208 КПК України ",null,null,null,21,1015,1068,{"$f":"IF(F28=0,0,IF(G28=0,\"-100,0\",IF(G28*100/F28<200,ROUND(G28*100/F28-100,1),ROUND(G28/F28,1)&\" р\")))","v":5.2}]
["Усього звільнено осіб",null,null,null,22,451,573,{"$f":"IF(F29=0,0,IF(G29=0,\"-100,0\",IF(G29*100/F29<200,ROUND(G29*100/F29-100,1),ROUND(G29/F29,1)&\" р\")))","v":27.1}]
["Питома вага звільнених осіб до числа затриманих",null,null,null,23,{"$f":"IF(F28=0,0,F29*100/F28)","v":44.433497536945815},{"$f":"IF(G28=0,0,G29*100/G28)","v":53.651685393258425}]
["Звільнено осіб за непідтвердженням підозри у вчиненні злочину",null,null,null,24,2,2,{"$f":"IF(F31=0,0,IF(G31=0,\"-100,0\",IF(G31*100/F31<200,ROUND(G31*100/F31-100,1),ROUND(G31/F31,1)&\" р\")))","v":0}]
["Кількість підозрюваних осіб, стосовно яких кримінальне провадження закрито прокурором на підставі п.п. 1-3 ч.1 ст. 284 КПК України",null,null,null,25,47,55,17]
["з них:","трималися під вартою",null,null,26,6,9,50]
[null,"перебували під домашнім арештом",null,null,27,5,2,-60]
["Кількість обвинувачених та підозрюваних, стосовно яких провадження закрито за реабілітуючими підставами (за к/справами, розслідуваними до 20.11.2012)",null,null,null,28,12,12,{"$f":"IF(F35=0,0,IF(G35=0,\"-100,0\",IF(G35*100/F35<200,ROUND(G35*100/F35-100,1),ROUND(G35/F35,1)&\" р\")))","v":0}]
["з них:","трималися під вартою",null,null,29,1,0,{"$f":"IF(F36=0,0,IF(G36=0,\"-100,0\",IF(G36*100/F36<200,ROUND(G36*100/F36-100,1),ROUND(G36/F36,1)&\" р\")))","v":"-100,0"}]
["Кількість виправданих осіб судами",null,null,null,30,42,51,21.4]
["з них:","трималися під вартою",null,null,31,2,14,"7 р"]
[null,"перебували під домашнім арештом",null,null,32,6,2,-66.7]
["Кількість виправданих і осіб, стосовно яких справи закриті судом за відсутністю події або складу злочину і за недоведеністю обвинувачення (за кримінальними справами, направленими до суду до 20.11.2012)",null,null,null,33,18,14,-22.2]
["з них:","трималися під вартою",null,null,34,0,0,0]
["Кількість осіб, стосовно яких провадження закриті судом у зв’язку з відмовою прокурора від підтримання державного обвинувачення",null,null,null,35,1,5,"5 р"]
["з них:","трималися під вартою",null,null,36,0,0,{"$f":"IF(F43=0,0,IF(G43=0,\"-100,0\",IF(G43*100/F43<200,ROUND(G43*100/F43-100,1),ROUND(G43/F43,1)&\" р\")))","v":0}]
[null,"перебували під домашнім арештом",null,null,37,0,1,{"$f":"IF(F44=0,0,IF(G44=0,\"-100,0\",IF(G44*100/F44<200,ROUND(G44*100/F44-100,1),ROUND(G44/F44,1)&\" р\")))","v":0}]
["Кількість осіб, стосовно яких кримінальні справи закриті судом у зв’язку з відмовою прокурора від підтримання державного обвинувачення (за кримінальними справами, направленими до суду до 20.11.2012)",null,null,null,38,1,3,{"$f":"IF(F45=0,0,IF(G45=0,\"-100,0\",IF(G45*100/F45<200,ROUND(G45*100/F45-100,1),ROUND(G45/F45,1)&\" р\")))","v":"3 р"}]
["з них:","трималися під вартою",null,null,39,0,0,{"$f":"IF(F46=0,0,IF(G46=0,\"-100,0\",IF(G46*100/F46<200,ROUND(G46*100/F46-100,1),ROUND(G46/F46,1)&\" р\")))","v":0}]
["Усього надійшло кримінальних проваджень із судів",null,null,null,40,{"$f":"SUM(F49:F52)","v":158},{"$f":"SUM(G49:G52)","v":146},-7.6]
["Питома вага",null,null,null,41,{"$f":"IF(F22=0,0,F47*100/F22)","v":3.0026605853287722},{"$f":"IF(G22=0,0,G47*100/G22)","v":2.5909494232475598}]
["з них:","обвинувальних актів (п.3 ч. 3 ст. 314 КПК)",null,null,42,120,92,-23.3]
[null,"клопотань про застосування примусових заходів медичного характеру\n (п.3 ч. 3 ст. 314 КПК)",null,null,43,0,1,0]
[null,"клопотань про звільнення особи від кримінальної відповідальності\n(п. 4 ст. 288 КПК)",null,null,44,5,9,80]
[null,"проваджень на підставі п. 1 ч. 3 ст. 314,  п.2 ч.2 ст. 407 КПК",null,null,45,33,44,33.299999999999997]
["Залишок незакінчених кримінальних проваджень ",null,null,null,46,5409,9229,{"$f":"IF(F53=0,0,IF(G53=0,\"-100,0\",IF(G53*100/F53<200,ROUND(G53*100/F53-100,1),ROUND(G53/F53,1)&\" р\")))","v":70.599999999999994}]
["Установлено збитків за закінченими кримінальними провадженнями (у тис. грн.)",null,null,null,47,13412072,14405066,{"$f":"IF(F54=0,0,IF(G54=0,\"-100,0\",IF(G54*100/F54<200,ROUND(G54*100/F54-100,1),ROUND(G54/F54,1)&\" р\")))","v":7.4}]
["Відшкодовано збитків за закінченими кримінальними провадженнями (у тис. грн.)",null,null,null,48,559680,340205,{"$f":"IF(F55=0,0,IF(G55=0,\"-100,0\",IF(G55*100/F55<200,ROUND(G55*100/F55-100,1),ROUND(G55/F55,1)&\" р\")))","v":-39.200000000000003}]
["Питома вага відшкодування (%)",null,null,null,49,{"$f":"IF(F54=0,0,F55*100/F54)","v":4.1729570196163577},{"$f":"IF(G54=0,0,G55*100/G54)","v":2.3617038616831052}]
["Відшкодовано збитків заподіяних інтересам держави та територіальних громад\n(у тис. грн.)",null,null,null,50,319182,326382,{"$f":"IF(F57=0,0,IF(G57=0,\"-100,0\",IF(G57*100/F57<200,ROUND(G57*100/F57-100,1),ROUND(G57/F57,1)&\" р\")))","v":2.2999999999999998}]
["Відшкодовано збитків про земельні правовідносини (у тис. грн.)",null,null,null,51,20161,1504,{"$f":"IF(F58=0,0,IF(G58=0,\"-100,0\",IF(G58*100/F58<200,ROUND(G58*100/F58-100,1),ROUND(G58/F58,1)&\" р\")))","v":-92.5}]
["Крим. правопорушення, вчинені особами посади яких згідно зі ч.1 ст. 9 Закону України «Про державну службу» та посади яких відповідно до цього Закону віднесено до 1-2 категорії (крім працівників правоохоронних органів)",null,null,"направлено до суду",52,6,7,{"$f":"IF(F59=0,0,IF(G59=0,\"-100,0\",IF(G59*100/F59<200,ROUND(G59*100/F59-100,1),ROUND(G59/F59,1)&\" р\")))","v":16.7}]
[null,null,null,"закрито за  п.п. 1-3 ч. 1 ст.284 КПК",53,16,27,68.8]
["з них:","У сфері службової діяльності ",null,"направлено до суду",54,6,5,-16.7]
[null,null,null,"закрито за  п.п. 1-3 ч. 1 ст.284 КПК",55,10,10,0]
[null,"у т.ч.:","зловживання владою або службовим становищем (ст. 364)","направлено до суду",56,1,0,"-100,0"]
[null,null,null,"закрито за  п.п. 1-3 ч. 1 ст.284 КПК",57,1,2,"2 р"]
[null,null,"службова недбалість (ст. 367)","направлено до суду",58,0,1,0]
[null,null,null,"закрито за  п.п. 1-3 ч. 1 ст.284 КПК",59,2,3,50]
[null,null,"злочини щодо хабарництва (ст.ст. 368-370)","направлено до суду",60,3,1,-66.7]
[null,null,null,"закрито за  п.п. 1-3 ч. 1 ст.284 КПК",61,2,1,-50]
["Крим. правопорушення, вчинені особами посади яких згідно зі ст. 25 Закону України «Про державну службу» віднесено до 3 категорії посад (крім працівників правоох. органів та суддів)",null,null,"направлено до суду",62,8,14,75]
[null,null,null,"закрито за  п.п. 1-3 ч. 1 ст.284 КПК",63,20,20,0]
["з них:","У сфері службової діяльності ",null,"направлено до суду",64,7,14,"2 р"]
[null,null,null,"закрито за  п.п. 1-3 ч. 1 ст.284 КПК",65,16,16,0]
[null,"у т.ч.:","зловживання владою або службовим становищем (ст. 364)","направлено до суду",66,0,2,0]
[null,null,null,"закрито за  п.п. 1-3 ч. 1 ст.284 КПК",67,3,3,0]
[null,null,"службова недбалість (ст. 367)","направлено до суду",68,0,0,0]
[null,null,null,"закрито за  п.п. 1-3 ч. 1 ст.284 КПК",69,1,2,"2 р"]
[null,null,"злочини щодо хабарництва (ст.ст. 368-370)","направлено до суду",70,5,8,60]
[null,null,null,"закрито за  п.п. 1-3 ч. 1 ст.284 КПК",71,3,3,0]
["Кримінальні правопорушення, вчинені працівниками правоохоронних органів",null,null,"направлено до суду",72,1454,1326,-8.8000000000000007]
[null,null,null,"закрито за  п.п. 1-3 ч. 1 ст.284 КПК",73,8139,7241,-11]
["з них:","У сфері службової діяльності ",null,"направлено до суду",74,1221,854,-30.1]
[null,null,null,"закрито за  п.п. 1-3 ч. 1 ст.284 КПК",75,7161,6439,-10.1]
[null,"у т.ч.:","органів внутрішніх справ","направлено до суду",76,797,743,-6.8]
[null,null,null,"закрито за  п.п. 1-3 ч. 1 ст.284 КПК",77,5808,5036,-13.3]
[null,null,"у т.ч. Національної  гвардії","направлено до суду",78,247,182,-26.3]
[null,null,null,"закрито за  п.п. 1-3 ч. 1 ст.284 КПК",79,157,90,-42.7]
[null,null,"органів прокуратури","направлено до суду",80,27,33,22.2]
[null,null,null,"закрито за  п.п. 1-3 ч. 1 ст.284 КПК",81,767,754,-1.7]
[null,null,"Служби безпеки України","направлено до суду",82,36,24,-33.299999999999997]
[null,null,null,"закрито за  п.п. 1-3 ч. 1 ст.284 КПК",83,215,185,-14]
[null,null,"Державної податкової служби","направлено до суду",84,82,78,-4.9000000000000004]
[null,null,null,"закрито за  п.п. 1-3 ч. 1 ст.284 КПК",85,504,465,-7.7]
[null,null,"митної служби","направлено до суду",86,52,65,25]
[null,null,null,"закрито за  п.п. 1-3 ч. 1 ст.284 КПК",87,211,141,-33.200000000000003]
[null,null,"працівниками пенітенціарної системи","направлено до суду",88,53,49,-7.5]
[null,null,null,"закрито за  п.п. 1-3 ч. 1 ст.284 КПК",89,199,238,19.600000000000001]
[null,null,"прикордонниками","направлено до суду",90,198,131,{"$f":"IF(F97=0,0,IF(G97=0,\"-100,0\",IF(G97*100/F97<200,ROUND(G97*100/F97-100,1),ROUND(G97/F97,1)&\" р\")))","v":-33.799999999999997}]
[null,null,null,"закрито за  п.п. 1-3 ч. 1 ст.284 КПК",91,199,145,{"$f":"IF(F98=0,0,IF(G98=0,\"-100,0\",IF(G98*100/F98<200,ROUND(G98*100/F98-100,1),ROUND(G98/F98,1)&\" р\")))","v":-27.1}]
["Кримінальні правопорушення, вчинені суддями",null,null,"направлено до суду",92,35,124,{"$f":"IF(F99=0,0,IF(G99=0,\"-100,0\",IF(G99*100/F99<200,ROUND(G99*100/F99-100,1),ROUND(G99/F99,1)&\" р\")))","v":"3,5 р"}]
[null,null,null,"закрито за  п.п. 1-3 ч. 1 ст.284 КПК",93,367,332,-9.5]
["з них:","У сфері здійснення правосуддя",null,"направлено до суду",94,15,11,-26.7]
[null,null,null,"закрито за  п.п. 1-3 ч. 1 ст.284 КПК",95,358,316,-11.7]
[null,"у т.ч.:","постановлення завідомо неправосудного вироку, рішення або ухвали (ст.375)","направлено до суду",96,8,5,-37.5]
[null,null,null,"закрито за  п.п. 1-3 ч. 1 ст.284 КПК",97,278,225,-19.100000000000001]
[null,null,"злочини щодо хабарництва (ст.ст. 368-370)","направлено до суду",98,7,4,-42.9]
[null,null,null,"закрито за  п.п. 1-3 ч. 1 ст.284 КПК",99,23,15,-34.799999999999997]
[null,null,"інші крим. правопор., вчинені у сфері служб. діяльності щодо здійснення правосуддя","направлено до суду",100,0,2,0]
[null,null,null,"закрито за  п.п. 1-3 ч. 1 ст.284 КПК",101,57,76,33.299999999999997]
["Направлено до суду кримінальних проваджень про корупційні правопорушення",null,null,null,102,845,860,{"$f":"IF(F109=0,0,IF(G109=0,\"-100,0\",IF(G109*100/F109<200,ROUND(G109*100/F109-100,1),ROUND(G109/F109,1)&\" р\")))","v":1.8}]
["Питома вага до всіх направлених до суду з обвинувальним висновком",null,null,null,103,{"$f":"IF($F$22=0,0,F109*100/$F$22)","v":16.058532877232992},{"$f":"IF($G$22=0,0,G109*100/$G$22)","v":15.261756876663709}]
["Притягнуто до відповідальності осіб (про корупційні правопорушення)",null,null,null,104,1017,1058,{"$f":"IF(F111=0,0,IF(G111=0,\"-100,0\",IF(G111*100/F111<200,ROUND(G111*100/F111-100,1),ROUND(G111/F111,1)&\" р\")))","v":4}]
["Направлено до суду кримінальних проваджень про правопорушення, вчинені ОГ та ЗО",null,null,null,105,21,25,{"$f":"IF(F112=0,0,IF(G112=0,\"-100,0\",IF(G112*100/F112<200,ROUND(G112*100/F112-100,1),ROUND(G112/F112,1)&\" р\")))","v":19}]
["Направлено до суду кримінальних проваджень про правопорушення, вчинені у сфері земельних правовідносин",null,null,null,106,25,46,{"$f":"IF(F113=0,0,IF(G113=0,\"-100,0\",IF(G113*100/F113<200,ROUND(G113*100/F113-100,1),ROUND(G113/F113,1)&\" р\")))","v":84}]
["Направлено до суду кримінальних проваджень про правопорушення, вчинені у бюджетній системі",null,null,null,107,65,71,{"$f":"IF(F114=0,0,IF(G114=0,\"-100,0\",IF(G114*100/F114<200,ROUND(G114*100/F114-100,1),ROUND(G114/F114,1)&\" р\")))","v":9.1999999999999993}]

{"sheet":"Довідки3","index":10,"n_rows":114,"n_cols":9,"rows_kept":114,"cut":false,"hidden":true,"merged":[[7,0,7,3],[8,0,8,3],[12,1,12,3],[17,1,17,3],[15,2,15,3],[18,2,18,3],[0,0,0,8],[2,0,2,8],[3,0,3,8],[1,0,1,8],[5,0,5,3],[6,0,6,3],[14,2,14,3],[9,0,19,0],[9,1,9,3],[10,1,10,3],[11,1,11,3],[16,1,16,3],[19,1,19,3],[13,2,13,3],[13,1,15,1],[20,0,20,3],[28,0,28,3],[21,1,21,3],[23,1,23,3],[22,1,22,3],[21,0,26,0],[33,1,33,3],[30,0,30,3],[29,0,29,3],[27,0,27,3],[25,1,25,3],[66,2,67,2],[62,2,63,2],[45,1,45,3],[46,0,46,3],[47,0,47,3],[48,0,51,0],[50,1,50,3],[51,1,51,3],[56,0,56,3],[57,0,57,3],[58,0,59,2],[60,0,67,0],[60,1,61,2],[62,1,67,1],[39,0,39,3],[40,1,40,3],[43,1,43,3],[42,1,42,3],[42,0,43,0],[55,0,55,3],[53,0,53,3],[54,0,54,3],[64,2,65,2],[82,2,83,2],[112,0,112,3],[113,0,113,3],[94,2,95,2],[96,2,97,2],[24,1,24,3],[44,0,44,3],[108,0,108,3],[26,1,26,3],[31,0,31,3],[34,0,34,3],[32,0,33,0],[32,1,32,3],[35,1,35,3],[36,0,36,3],[102,2,103,2],[48,1,48,3],[49,1,49,3],[52,0,52,3],[68,0,69,2],[38,1,38,3],[41,0,41,3],[37,0,38,0],[37,1,37,3],[70,1,71,2],[76,2,77,2],[72,2,73,2],[74,2,75,2],[110,0,110,3],[70,0,77,0],[72,1,77,1],[78,0,79,2],[111,0,111,3],[98,0,99,2],[84,2,85,2],[86,2,87,2],[88,2,89,2],[90,2,91,2],[109,0,109,3],[92,2,93,2],[100,0,107,0],[100,1,101,2],[102,1,107,1],[104,2,105,2],[106,2,107,2],[80,0,97,0],[80,1,81,2],[82,1,97,1]]}
["ДОВІДКА"]
["про слідчу роботу"]
["Усього по Україні"]
["за 12 місяців 2017 року"]
[]
[null,null,null,null,"Рядок",2016,2017,"Дин. %","Дин. % (по Укр. без ВП)"]
["а",null,null,null,"б",1,2,3,4]
["Знаходилось кримінальних проваджень",null,null,null,1,43370,46059,{"$f":"IF(F8=0,0,IF(G8=0,\"-100,0\",IF(G8*100/F8<200,ROUND(G8*100/F8-100,1),ROUND(G8/F8,1)&\" р\")))","v":6.2},{"$f":"Довідки1!H8","v":17}]
["Закінчено кримінальних проваджень (з повторно закінченими)",null,null,null,2,18043,17509,{"$f":"IF(F9=0,0,IF(G9=0,\"-100,0\",IF(G9*100/F9<200,ROUND(G9*100/F9-100,1),ROUND(G9/F9,1)&\" р\")))","v":-3},{"$f":"Довідки1!H9","v":-1.1000000000000001}]
["з них:","закінчено кримінальних проваджень у строки понад 2 місяці",null,null,3,698,732,{"$f":"IF(F10=0,0,IF(G10=0,\"-100,0\",IF(G10*100/F10<200,ROUND(G10*100/F10-100,1),ROUND(G10/F10,1)&\" р\")))","v":4.9000000000000004},{"$f":"Довідки1!H10","v":20.100000000000001}]
[null,"питома вага закінчених кримінальних проваджень у строки понад 2 місяці",null,null,4,{"$f":"IF($F$9=0,0,F10*100/$F$9)","v":3.8685362744554674},{"$f":"IF($G$9=0,0,G10*100/$G$9)","v":4.1807070649380318},null,{"$f":"Довідки1!G11","v":4.6866908337648887}]
[null,"направлено до суду проваджень з обвинувальним актом",null,null,5,5366,5702,{"$f":"IF(F12=0,0,IF(G12=0,\"-100,0\",IF(G12*100/F12<200,ROUND(G12*100/F12-100,1),ROUND(G12/F12,1)&\" р\")))","v":6.3},{"$f":"Довідки1!H12","v":34.6}]
[null,"питома вага направлених до суду проваджень до числа закінчених",null,null,6,{"$f":"IF($F$9=0,0,F12*100/$F$9)","v":29.740065399323836},{"$f":"IF($G$9=0,0,G12*100/$G$9)","v":32.566108858301448},null,{"$f":"Довідки1!G13","v":13.637148282409806}]
[null,"у т.ч.:","у яких здійснювалося спеціальне досудове розслідування",null,7,16,13,{"$f":"IF(F14=0,0,IF(G14=0,\"-100,0\",IF(G14*100/F14<200,ROUND(G14*100/F14-100,1),ROUND(G14/F14,1)&\" р\")))","v":-18.8},{"$f":"Довідки1!H14","v":-9.1}]
[null,null,"з угодою про примирення",null,8,16,13,-18.8,{"$f":"Довідки1!H15","v":-9.1}]
[null,null,"з угодою про визнання винуватості",null,9,810,708,-12.6,{"$f":"Довідки1!H16","v":32.799999999999997}]
[null,"направлено до суду клопотань про звільнення підозрюваного від кримінальної відповідальності",null,null,10,55,75,36.4,{"$f":"Довідки1!H17","v":"5,1 р"}]
[null,"закрито кримінальних проваджень із числа закінчених",null,null,11,12618,11731,-7,{"$f":"Довідки1!H18","v":-5.3}]
[null,"з них:","закрито прокурором",null,12,257,264,2.7,{"$f":"Довідки1!H19","v":11.1}]
[null,"питома вага",null,null,13,{"$f":"IF(F18=0,0,F19*100/F18)","v":2.036772864162308},{"$f":"IF(G18=0,0,G19*100/G18)","v":2.2504475321796948},null,{"$f":"Довідки1!G20","v":0.4012036108324975}]
["Закінчено кримінальних проваджень (без повторно закінчених)",null,null,null,14,15579,15329,{"$f":"IF(F21=0,0,IF(G21=0,\"-100,0\",IF(G21*100/F21<200,ROUND(G21*100/F21-100,1),ROUND(G21/F21,1)&\" р\")))","v":-1.6},{"$f":"Довідки1!H21","v":2}]
["з них:","направлено до суду кримінальних проваджень з обвинувальним актом",null,null,15,5262,5635,{"$f":"IF(F22=0,0,IF(G22=0,\"-100,0\",IF(G22*100/F22<200,ROUND(G22*100/F22-100,1),ROUND(G22/F22,1)&\" р\")))","v":7.1},{"$f":"Довідки1!H22","v":35.799999999999997}]
[null,"питома вага до числа закінчених проваджень (без повторних)",null,null,16,{"$f":"IF($F$21=0,0,F22*100/$F$21)","v":33.776237242441745},{"$f":"IF($G$21=0,0,G22*100/$G$21)","v":36.760388805531996},null,{"$f":"Довідки1!G23","v":15.795466307835628}]
[null,"закрито кримінальних проваджень (без повторних)",null,null,17,10265,9645,{"$f":"IF(F24=0,0,IF(G24=0,\"-100,0\",IF(G24*100/F24<200,ROUND(G24*100/F24-100,1),ROUND(G24/F24,1)&\" р\")))","v":-6},{"$f":"Довідки1!H24","v":-2.6}]
[null,"питома вага до числа закінчених проваджень (без повторних)",null,null,18,{"$f":"IF($F$21=0,0,F24*100/$F$21)","v":65.889980101418573},{"$f":"IF($G$21=0,0,G24*100/$G$21)","v":62.919955639637287},null,{"$f":"Довідки1!G25","v":84.038919366525207}]
[null,"закрито кримінальних проваджень за  п.п. 1-3 ч. 1 ст.284 КПК",null,null,19,10181,9565,{"$f":"IF(F26=0,0,IF(G26=0,\"-100,0\",IF(G26*100/F26<200,ROUND(G26*100/F26-100,1),ROUND(G26/F26,1)&\" р\")))","v":-6.1},{"$f":"Довідки1!H26","v":-2.6}]
[null,"питома вага закритих проваджень до закінчених",null,null,20,{"$f":"IF($F$21=0,0,F26*100/$F$21)","v":65.350792733808333},{"$f":"IF($G$21=0,0,G26*100/$G$21)","v":62.398069019505513},null,{"$f":"Довідки1!G27","v":83.914708622295834}]
["Затримано осіб у порядку, передбаченому ст.ст. 207, 208 КПК України ",null,null,null,21,1015,1068,{"$f":"IF(F28=0,0,IF(G28=0,\"-100,0\",IF(G28*100/F28<200,ROUND(G28*100/F28-100,1),ROUND(G28/F28,1)&\" р\")))","v":5.2},{"$f":"Довідки1!H28","v":26.8}]
["Усього звільнено осіб",null,null,null,22,451,573,{"$f":"IF(F29=0,0,IF(G29=0,\"-100,0\",IF(G29*100/F29<200,ROUND(G29*100/F29-100,1),ROUND(G29/F29,1)&\" р\")))","v":27.1},{"$f":"Довідки1!H29","v":68}]
["Питома вага звільнених осіб до числа затриманих",null,null,null,23,{"$f":"IF(F28=0,0,F29*100/F28)","v":44.433497536945815},{"$f":"IF(G28=0,0,G29*100/G28)","v":53.651685393258425},null,{"$f":"Довідки1!G30","v":58.091286307053942}]
["Звільнено осіб за непідтвердженням підозри у вчиненні злочину",null,null,null,24,2,2,{"$f":"IF(F31=0,0,IF(G31=0,\"-100,0\",IF(G31*100/F31<200,ROUND(G31*100/F31-100,1),ROUND(G31/F31,1)&\" р\")))","v":0},{"$f":"Довідки1!H31","v":0}]
["Кількість підозрюваних осіб, стосовно яких кримінальне провадження закрито прокурором на підставі п.п. 1-3 ч.1 ст. 284 КПК України",null,null,null,25,47,55,17,{"$f":"Довідки1!H32","v":10.3}]
["з них:","трималися під вартою",null,null,26,6,9,50,{"$f":"Довідки1!H33","v":-80}]
[null,"перебували під домашнім арештом",null,null,27,5,2,-60,{"$f":"Довідки1!H34","v":-50}]
["Кількість обвинувачених та підозрюваних, стосовно яких провадження закрито за реабілітуючими підставами (за к/справами, розслідуваними до 20.11.2012)",null,null,null,28,12,12,{"$f":"IF(F35=0,0,IF(G35=0,\"-100,0\",IF(G35*100/F35<200,ROUND(G35*100/F35-100,1),ROUND(G35/F35,1)&\" р\")))","v":0},{"$f":"Довідки1!H35","v":0}]
["з них:","трималися під вартою",null,null,29,1,0,{"$f":"IF(F36=0,0,IF(G36=0,\"-100,0\",IF(G36*100/F36<200,ROUND(G36*100/F36-100,1),ROUND(G36/F36,1)&\" р\")))","v":"-100,0"},{"$f":"Довідки1!H36","v":"-100,0"}]
["Кількість виправданих осіб судами",null,null,null,30,42,51,21.4,{"$f":"Довідки1!H37","v":23.1}]
["з них:","трималися під вартою",null,null,31,2,14,"7 р",{"$f":"Довідки1!H38","v":"5,5 р"}]
[null,"перебували під домашнім арештом",null,null,32,6,2,-66.7,{"$f":"Довідки1!H39","v":-66.7}]
["Кількість виправданих і осіб, стосовно яких справи закриті судом за відсутністю події або складу злочину і за недоведеністю обвинувачення (за кримінальними справами, направленими до суду до 20.11.2012)",null,null,null,33,18,14,-22.2,{"$f":"Довідки1!H40","v":-22.2}]
["з них:","трималися під вартою",null,null,34,0,0,0,{"$f":"Довідки1!H41","v":0}]
["Кількість осіб, стосовно яких провадження закриті судом у зв’язку з відмовою прокурора від підтримання державного обвинувачення",null,null,null,35,1,5,"5 р",{"$f":"Довідки1!H42","v":0}]
["з них:","трималися під вартою",null,null,36,0,0,{"$f":"IF(F43=0,0,IF(G43=0,\"-100,0\",IF(G43*100/F43<200,ROUND(G43*100/F43-100,1),ROUND(G43/F43,1)&\" р\")))","v":0},{"$f":"Довідки1!H43","v":0}]
[null,"перебували під домашнім арештом",null,null,37,0,1,{"$f":"IF(F44=0,0,IF(G44=0,\"-100,0\",IF(G44*100/F44<200,ROUND(G44*100/F44-100,1),ROUND(G44/F44,1)&\" р\")))","v":0},{"$f":"Довідки1!H44","v":0}]
["Кількість осіб, стосовно яких кримінальні справи закриті судом у зв’язку з відмовою прокурора від підтримання державного обвинувачення (за кримінальними справами, направленими до суду до 20.11.2012)",null,null,null,38,1,3,{"$f":"IF(F45=0,0,IF(G45=0,\"-100,0\",IF(G45*100/F45<200,ROUND(G45*100/F45-100,1),ROUND(G45/F45,1)&\" р\")))","v":"3 р"},{"$f":"Довідки1!H45","v":"3 р"}]
["з них:","трималися під вартою",null,null,39,0,0,{"$f":"IF(F46=0,0,IF(G46=0,\"-100,0\",IF(G46*100/F46<200,ROUND(G46*100/F46-100,1),ROUND(G46/F46,1)&\" р\")))","v":0},{"$f":"Довідки1!H46","v":0}]
["Усього надійшло кримінальних проваджень із судів",null,null,null,40,{"$f":"SUM(F49:F52)","v":158},{"$f":"SUM(G49:G52)","v":146},-7.6,{"$f":"Довідки1!H47","v":7.2}]
["Питома вага",null,null,null,41,{"$f":"IF(F22=0,0,F47*100/F22)","v":3.0026605853287722},{"$f":"IF(G22=0,0,G47*100/G22)","v":2.5909494232475598},null,{"$f":"Довідки1!G48","v":5.8322411533420704}]
["з них:","обвинувальних актів (п.3 ч. 3 ст. 314 КПК)",null,null,42,120,92,-23.3,{"$f":"Довідки1!H49","v":3}]
[null,"клопотань про застосування примусових заходів медичного характеру\n (п.3 ч. 3 ст. 314 КПК)",null,null,43,0,1,0,{"$f":"Довідки1!H50","v":0}]
[null,"клопотань про звільнення особи від кримінальної відповідальності\n(п. 4 ст. 288 КПК)",null,null,44,5,9,80,{"$f":"Довідки1!H51","v":"5 р"}]
[null,"проваджень на підставі п. 1 ч. 3 ст. 314,  п.2 ч.2 ст. 407 КПК",null,null,45,33,44,33.299999999999997,{"$f":"Довідки1!H52","v":0}]
["Залишок незакінчених кримінальних проваджень ",null,null,null,46,5409,9229,{"$f":"IF(F53=0,0,IF(G53=0,\"-100,0\",IF(G53*100/F53<200,ROUND(G53*100/F53-100,1),ROUND(G53/F53,1)&\" р\")))","v":70.599999999999994},{"$f":"Довідки1!H53","v":71.400000000000006}]
["Установлено збитків за закінченими кримінальними провадженнями (у тис. грн.)",null,null,null,47,13412072,14405066,{"$f":"IF(F54=0,0,IF(G54=0,\"-100,0\",IF(G54*100/F54<200,ROUND(G54*100/F54-100,1),ROUND(G54/F54,1)&\" р\")))","v":7.4},{"$f":"Довідки1!H54","v":"5,8 р"}]
["Відшкодовано збитків за закінченими кримінальними провадженнями (у тис. грн.)",null,null,null,48,559680,340205,{"$f":"IF(F55=0,0,IF(G55=0,\"-100,0\",IF(G55*100/F55<200,ROUND(G55*100/F55-100,1),ROUND(G55/F55,1)&\" р\")))","v":-39.200000000000003},{"$f":"Довідки1!H55","v":16.399999999999999}]
["Питома вага відшкодування (%)",null,null,null,49,{"$f":"IF(F54=0,0,F55*100/F54)","v":4.1729570196163577},{"$f":"IF(G54=0,0,G55*100/G54)","v":2.3617038616831052},null,{"$f":"Довідки1!G56","v":5.0947167880917155}]
["Відшкодовано збитків заподіяних інтересам держави та територіальних громад\n(у тис. грн.)",null,null,null,50,319182,326382,{"$f":"IF(F57=0,0,IF(G57=0,\"-100,0\",IF(G57*100/F57<200,ROUND(G57*100/F57-100,1),ROUND(G57/F57,1)&\" р\")))","v":2.2999999999999998},{"$f":"Довідки1!H57","v":"2,2 р"}]
["Відшкодовано збитків про земельні правовідносини (у тис. грн.)",null,null,null,51,20161,1504,{"$f":"IF(F58=0,0,IF(G58=0,\"-100,0\",IF(G58*100/F58<200,ROUND(G58*100/F58-100,1),ROUND(G58/F58,1)&\" р\")))","v":-92.5},{"$f":"Довідки1!H58","v":0}]
["Крим. правопорушення, вчинені особами посади яких згідно зі ч.1 ст. 9 Закону України «Про державну службу» та посади яких відповідно до цього Закону віднесено до 1-2 категорії (крім працівників правоохоронних органів)",null,null,"направлено до суду",52,6,7,{"$f":"IF(F59=0,0,IF(G59=0,\"-100,0\",IF(G59*100/F59<200,ROUND(G59*100/F59-100,1),ROUND(G59/F59,1)&\" р\")))","v":16.7},{"$f":"Довідки1!H59","v":16.7}]
[null,null,null,"закрито за  п.п. 1-3 ч. 1 ст.284 КПК",53,16,27,68.8,{"$f":"Довідки1!H60","v":68.8}]
["з них:","У сфері службової діяльності ",null,"направлено до суду",54,6,5,-16.7,{"$f":"Довідки1!H61","v":-16.7}]
[null,null,null,"закрито за  п.п. 1-3 ч. 1 ст.284 КПК",55,10,10,0,{"$f":"Довідки1!H62","v":0}]
[null,"у т.ч.:","зловживання владою або службовим становищем (ст. 364)","направлено до суду",56,1,0,"-100,0",{"$f":"Довідки1!H63","v":"-100,0"}]
[null,null,null,"закрито за  п.п. 1-3 ч. 1 ст.284 КПК",57,1,2,"2 р",{"$f":"Довідки1!H64","v":"2 р"}]
[null,null,"службова недбалість (ст. 367)","направлено до суду",58,0,1,0,{"$f":"Довідки1!H65","v":0}]
[null,null,null,"закрито за  п.п. 1-3 ч. 1 ст.284 КПК",59,2,3,50,{"$f":"Довідки1!H66","v":50}]
[null,null,"злочини щодо хабарництва (ст.ст. 368-370)","направлено до суду",60,3,1,-66.7,{"$f":"Довідки1!H67","v":-66.7}]
[null,null,null,"закрито за  п.п. 1-3 ч. 1 ст.284 КПК",61,2,1,-50,{"$f":"Довідки1!H68","v":-50}]
["Крим. правопорушення, вчинені особами посади яких згідно зі ст. 25 Закону України «Про державну службу» віднесено до 3 категорії посад (крім працівників правоох. органів та суддів)",null,null,"направлено до суду",62,8,14,75,{"$f":"Довідки1!H69","v":75}]
[null,null,null,"закрито за  п.п. 1-3 ч. 1 ст.284 КПК",63,20,20,0,{"$f":"Довідки1!H70","v":0}]
["з них:","У сфері службової діяльності ",null,"направлено до суду",64,7,14,"2 р",{"$f":"Довідки1!H71","v":"2 р"}]
[null,null,null,"закрито за  п.п. 1-3 ч. 1 ст.284 КПК",65,16,16,0,{"$f":"Довідки1!H72","v":0}]
[null,"у т.ч.:","зловживання владою або службовим становищем (ст. 364)","направлено до суду",66,0,2,0,{"$f":"Довідки1!H73","v":0}]
[null,null,null,"закрито за  п.п. 1-3 ч. 1 ст.284 КПК",67,3,3,0,{"$f":"Довідки1!H74","v":0}]
[null,null,"службова недбалість (ст. 367)","направлено до суду",68,0,0,0,{"$f":"Довідки1!H75","v":0}]
[null,null,null,"закрито за  п.п. 1-3 ч. 1 ст.284 КПК",69,1,2,"2 р",{"$f":"Довідки1!H76","v":"2 р"}]
[null,null,"злочини щодо хабарництва (ст.ст. 368-370)","направлено до суду",70,5,8,60,{"$f":"Довідки1!H77","v":60}]
[null,null,null,"закрито за  п.п. 1-3 ч. 1 ст.284 КПК",71,3,3,0,{"$f":"Довідки1!H78","v":0}]
["Кримінальні правопорушення, вчинені працівниками правоохоронних органів",null,null,"направлено до суду",72,1454,1326,-8.8000000000000007,{"$f":"Довідки1!H79","v":5.7}]
[null,null,null,"закрито за  п.п. 1-3 ч. 1 ст.284 КПК",73,8139,7241,-11,{"$f":"Довідки1!H80","v":-9.9}]
["з них:","У сфері службової діяльності ",null,"направлено до суду",74,1221,854,-30.1,{"$f":"Довідки1!H81","v":-1.3}]
[null,null,null,"закрито за  п.п. 1-3 ч. 1 ст.284 КПК",75,7161,6439,-10.1,{"$f":"Довідки1!H82","v":-8}]
[null,"у т.ч.:","органів внутрішніх справ","направлено до суду",76,797,743,-6.8,{"$f":"Довідки1!H83","v":4.8}]
[null,null,null,"закрито за  п.п. 1-3 ч. 1 ст.284 КПК",77,5808,5036,-13.3,{"$f":"Довідки1!H84","v":-12.7}]
[null,null,"у т.ч. Національної  гвардії","направлено до суду",78,247,182,-26.3,{"$f":"Довідки1!H85","v":-50}]
[null,null,null,"закрито за  п.п. 1-3 ч. 1 ст.284 КПК",79,157,90,-42.7,{"$f":"Довідки1!H86","v":"-100,0"}]
[null,null,"органів прокуратури","направлено до суду",80,27,33,22.2,{"$f":"Довідки1!H87","v":34.799999999999997}]
[null,null,null,"закрито за  п.п. 1-3 ч. 1 ст.284 КПК",81,767,754,-1.7,{"$f":"Довідки1!H88","v":-1.6}]
[null,null,"Служби безпеки України","направлено до суду",82,36,24,-33.299999999999997,{"$f":"Довідки1!H89","v":-66.7}]
[null,null,null,"закрито за  п.п. 1-3 ч. 1 ст.284 КПК",83,215,185,-14,{"$f":"Довідки1!H90","v":24.4}]
[null,null,"Державної податкової служби","направлено до суду",84,82,78,-4.9000000000000004,{"$f":"Довідки1!H91","v":-4.9000000000000004}]
[null,null,null,"закрито за  п.п. 1-3 ч. 1 ст.284 КПК",85,504,465,-7.7,{"$f":"Довідки1!H92","v":-7.7}]
[null,null,"митної служби","направлено до суду",86,52,65,25,{"$f":"Довідки1!H93","v":25}]
[null,null,null,"закрито за  п.п. 1-3 ч. 1 ст.284 КПК",87,211,141,-33.200000000000003,{"$f":"Довідки1!H94","v":-33.200000000000003}]
[null,null,"працівниками пенітенціарної системи","направлено до суду",88,53,49,-7.5,{"$f":"Довідки1!H95","v":-7.5}]
[null,null,null,"закрито за  п.п. 1-3 ч. 1 ст.284 КПК",89,199,238,19.600000000000001,{"$f":"Довідки1!H96","v":19.600000000000001}]
[null,null,"прикордонниками","направлено до суду",90,198,131,{"$f":"IF(F97=0,0,IF(G97=0,\"-100,0\",IF(G97*100/F97<200,ROUND(G97*100/F97-100,1),ROUND(G97/F97,1)&\" р\")))","v":-33.799999999999997},{"$f":"Довідки1!H97","v":-72.7}]
[null,null,null,"закрито за  п.п. 1-3 ч. 1 ст.284 КПК",91,199,145,{"$f":"IF(F98=0,0,IF(G98=0,\"-100,0\",IF(G98*100/F98<200,ROUND(G98*100/F98-100,1),ROUND(G98/F98,1)&\" р\")))","v":-27.1},{"$f":"Довідки1!H98","v":-40}]
["Кримінальні правопорушення, вчинені суддями",null,null,"направлено до суду",92,35,124,{"$f":"IF(F99=0,0,IF(G99=0,\"-100,0\",IF(G99*100/F99<200,ROUND(G99*100/F99-100,1),ROUND(G99/F99,1)&\" р\")))","v":"3,5 р"},{"$f":"Довідки1!H99","v":"3,5 р"}]
[null,null,null,"закрито за  п.п. 1-3 ч. 1 ст.284 КПК",93,367,332,-9.5,{"$f":"Довідки1!H100","v":-9.5}]
["з них:","У сфері здійснення правосуддя",null,"направлено до суду",94,15,11,-26.7,{"$f":"Довідки1!H101","v":-26.7}]
[null,null,null,"закрито за  п.п. 1-3 ч. 1 ст.284 КПК",95,358,316,-11.7,{"$f":"Довідки1!H102","v":-11.7}]
[null,"у т.ч.:","постановлення завідомо неправосудного вироку, рішення або ухвали (ст.375)","направлено до суду",96,8,5,-37.5,{"$f":"Довідки1!H103","v":-37.5}]
[null,null,null,"закрито за  п.п. 1-3 ч. 1 ст.284 КПК",97,278,225,-19.100000000000001,{"$f":"Довідки1!H104","v":-19.100000000000001}]
[null,null,"злочини щодо хабарництва (ст.ст. 368-370)","направлено до суду",98,7,4,-42.9,{"$f":"Довідки1!H105","v":-42.9}]
[null,null,null,"закрито за  п.п. 1-3 ч. 1 ст.284 КПК",99,23,15,-34.799999999999997,{"$f":"Довідки1!H106","v":-34.799999999999997}]
[null,null,"інші крим. правопор., вчинені у сфері служб. діяльності щодо здійснення правосуддя","направлено до суду",100,0,2,0,{"$f":"Довідки1!H107","v":0}]
[null,null,null,"закрито за  п.п. 1-3 ч. 1 ст.284 КПК",101,57,76,33.299999999999997,{"$f":"Довідки1!H108","v":33.299999999999997}]
["Направлено до суду кримінальних проваджень про корупційні правопорушення",null,null,null,102,845,860,{"$f":"IF(F109=0,0,IF(G109=0,\"-100,0\",IF(G109*100/F109<200,ROUND(G109*100/F109-100,1),ROUND(G109/F109,1)&\" р\")))","v":1.8},{"$f":"Довідки1!H109","v":16.399999999999999}]
["Питома вага до всіх направлених до суду з обвинувальним висновком",null,null,null,103,{"$f":"IF($F$22=0,0,F109*100/$F$22)","v":16.058532877232992},{"$f":"IF($G$22=0,0,G109*100/$G$22)","v":15.261756876663709},null,{"$f":"Довідки1!G110","v":38.663171690694625}]
["Притягнуто до відповідальності осіб (про корупційні правопорушення)",null,null,null,104,1017,1058,{"$f":"IF(F111=0,0,IF(G111=0,\"-100,0\",IF(G111*100/F111<200,ROUND(G111*100/F111-100,1),ROUND(G111/F111,1)&\" р\")))","v":4},{"$f":"Довідки1!H111","v":20}]
["Направлено до суду кримінальних проваджень про правопорушення, вчинені ОГ та ЗО",null,null,null,105,21,25,{"$f":"IF(F112=0,0,IF(G112=0,\"-100,0\",IF(G112*100/F112<200,ROUND(G112*100/F112-100,1),ROUND(G112/F112,1)&\" р\")))","v":19},{"$f":"Довідки1!H112","v":75}]
["Направлено до суду кримінальних проваджень про правопорушення, вчинені у сфері земельних правовідносин",null,null,null,106,25,46,{"$f":"IF(F113=0,0,IF(G113=0,\"-100,0\",IF(G113*100/F113<200,ROUND(G113*100/F113-100,1),ROUND(G113/F113,1)&\" р\")))","v":84},{"$f":"Довідки1!H113","v":81.8}]
["Направлено до суду кримінальних проваджень про правопорушення, вчинені у бюджетній системі",null,null,null,107,65,71,{"$f":"IF(F114=0,0,IF(G114=0,\"-100,0\",IF(G114*100/F114<200,ROUND(G114*100/F114-100,1),ROUND(G114/F114,1)&\" р\")))","v":9.1999999999999993},{"$f":"Довідки1!H114","v":44.1}]